Workbook

Sheet I.kcs.-U8-P-F elo
A1: =[1]Altalanos!$A$6 -> Somogy Vármegyei Tenisz DO B kategória - Fiú | E1: Egyéni főtábla
B2: Versenyszám: | C2: =[1]Altalanos!$A$8 -> I.kcs.-U8-P-F | E2: ELŐKÉSZÍTŐ LISTA
A3: NE TÖRÖLD KI EZT AZ OLDALT! | N3: Versenybíró aláírása
A4: Dátum | C4: Város | D4: Kategória | H4: Versenybíró
A5: =[1]Altalanos!$A$10 -> 46135 | C5: =[1]Altalanos!$C$10 -> Balatonboglár | D5: =[1]Altalanos!$D$10 | H5: =[1]Altalanos!$E$10 -> Nagyistók-Nádasi Judit
A6: Sor | B6: Családi név | C6: Keresztnév | D6: Egyesület | E6: Kódszám | F6: Nevezett Igen | G6: Aláírás | H6: Nevezési rangsor | J6: NatSort if not Seed | K6: NatSort | L6: Seed Sort | M6: AccBasic | N6: Elfogadási státusz | O6: Sorsolási rangsor | P6: AccSort | Q6: Kiemelés
A7: 1 | B7: Ecsődi | C7: Zsombor | D7: Boglári Ált.Isk.és AMI | E7: 180725
A8: 2 | B8: Lovász | C8: Dávid | D8: B.lelle-Karádi Ált.Isk.és AMI | E8: 180313
A9: 3 | B9: Magyar | C9: Zétény | D9: Marcali Mikszáth K. Ált. Isk. | E9: 180726
A10: 4
A11: 5
A12: 6
A13: 7
A14: 8
A15: 9
A16: 10
A17: 11
A18: 12
A19: 13
A20: 14
A21: 15
... A39: 33
A40: 34 | J40: =IF(AND(Q40="",#REF!>0,#REF!<5),K40,) -> #REF! | K40: =IF(D40="","ZZZ9",IF(AND(#REF!>0,#REF!<5),D40&#REF!,D40&"9")) -> ZZZ9 | L40: =IF(Q40="",999,Q40) -> 999 | M40: =IF(P40=999,999,1) -> 999 | P40: =IF(N40="DA",1,IF(N40="WC",2,IF(N40="SE",3,IF(N40="Q",4,IF(N40="LL",5,999))))) -> 999
A41: 35 | J41: =IF(AND(Q41="",#REF!>0,#REF!<5),K41,) -> #REF! | K41: =IF(D41="","ZZZ9",IF(AND(#REF!>0,#REF!<5),D41&#REF!,D41&"9")) -> ZZZ9 | L41: =IF(Q41="",999,Q41) -> 999 | M41: =IF(P41=999,999,1) -> 999 | P41: =IF(N41="DA",1,IF(N41="WC",2,IF(N41="SE",3,IF(N41="Q",4,IF(N41="LL",5,999))))) -> 999
A42: 36 | J42: =IF(AND(Q42="",#REF!>0,#REF!<5),K42,) -> #REF! | K42: =IF(D42="","ZZZ9",IF(AND(#REF!>0,#REF!<5),D42&#REF!,D42&"9")) -> ZZZ9 | L42: =IF(Q42="",999,Q42) -> 999 | M42: =IF(P42=999,999,1) -> 999 | P42: =IF(N42="DA",1,IF(N42="WC",2,IF(N42="SE",3,IF(N42="Q",4,IF(N42="LL",5,999))))) -> 999
A43: 37 | J43: =IF(AND(Q43="",#REF!>0,#REF!<5),K43,) -> #REF! | K43: =IF(D43="","ZZZ9",IF(AND(#REF!>0,#REF!<5),D43&#REF!,D43&"9")) -> ZZZ9 | L43: =IF(Q43="",999,Q43) -> 999 | M43: =IF(P43=999,999,1) -> 999 | P43: =IF(N43="DA",1,IF(N43="WC",2,IF(N43="SE",3,IF(N43="Q",4,IF(N43="LL",5,999))))) -> 999
A44: 38 | J44: =IF(AND(Q44="",#REF!>0,#REF!<5),K44,) -> #REF! | K44: =IF(D44="","ZZZ9",IF(AND(#REF!>0,#REF!<5),D44&#REF!,D44&"9")) -> ZZZ9 | L44: =IF(Q44="",999,Q44) -> 999 | M44: =IF(P44=999,999,1) -> 999 | P44: =IF(N44="DA",1,IF(N44="WC",2,IF(N44="SE",3,IF(N44="Q",4,IF(N44="LL",5,999))))) -> 999
A45: 39 | J45: =IF(AND(Q45="",#REF!>0,#REF!<5),K45,) -> #REF! | K45: =IF(D45="","ZZZ9",IF(AND(#REF!>0,#REF!<5),D45&#REF!,D45&"9")) -> ZZZ9 | L45: =IF(Q45="",999,Q45) -> 999 | M45: =IF(P45=999,999,1) -> 999 | P45: =IF(N45="DA",1,IF(N45="WC",2,IF(N45="SE",3,IF(N45="Q",4,IF(N45="LL",5,999))))) -> 999
A46: 40 | J46: =IF(AND(Q46="",#REF!>0,#REF!<5),K46,) -> #REF! | K46: =IF(D46="","ZZZ9",IF(AND(#REF!>0,#REF!<5),D46&#REF!,D46&"9")) -> ZZZ9 | L46: =IF(Q46="",999,Q46) -> 999 | M46: =IF(P46=999,999,1) -> 999 | P46: =IF(N46="DA",1,IF(N46="WC",2,IF(N46="SE",3,IF(N46="Q",4,IF(N46="LL",5,999))))) -> 999
A47: 41 | J47: =IF(AND(Q47="",#REF!>0,#REF!<5),K47,) -> #REF! | K47: =IF(D47="","ZZZ9",IF(AND(#REF!>0,#REF!<5),D47&#REF!,D47&"9")) -> ZZZ9 | L47: =IF(Q47="",999,Q47) -> 999 | M47: =IF(P47=999,999,1) -> 999 | P47: =IF(N47="DA",1,IF(N47="WC",2,IF(N47="SE",3,IF(N47="Q",4,IF(N47="LL",5,999))))) -> 999
A48: 42 | J48: =IF(AND(Q48="",#REF!>0,#REF!<5),K48,) -> #REF! | K48: =IF(D48="","ZZZ9",IF(AND(#REF!>0,#REF!<5),D48&#REF!,D48&"9")) -> ZZZ9 | L48: =IF(Q48="",999,Q48) -> 999 | M48: =IF(P48=999,999,1) -> 999 | P48: =IF(N48="DA",1,IF(N48="WC",2,IF(N48="SE",3,IF(N48="Q",4,IF(N48="LL",5,999))))) -> 999
A49: 43 | J49: =IF(AND(Q49="",#REF!>0,#REF!<5),K49,) -> #REF! | K49: =IF(D49="","ZZZ9",IF(AND(#REF!>0,#REF!<5),D49&#REF!,D49&"9")) -> ZZZ9 | L49: =IF(Q49="",999,Q49) -> 999 | M49: =IF(P49=999,999,1) -> 999 | P49: =IF(N49="DA",1,IF(N49="WC",2,IF(N49="SE",3,IF(N49="Q",4,IF(N49="LL",5,999))))) -> 999
A50: 44 | J50: =IF(AND(Q50="",#REF!>0,#REF!<5),K50,) -> #REF! | K50: =IF(D50="","ZZZ9",IF(AND(#REF!>0,#REF!<5),D50&#REF!,D50&"9")) -> ZZZ9 | L50: =IF(Q50="",999,Q50) -> 999 | M50: =IF(P50=999,999,1) -> 999 | P50: =IF(N50="DA",1,IF(N50="WC",2,IF(N50="SE",3,IF(N50="Q",4,IF(N50="LL",5,999))))) -> 999
A51: 45 | J51: =IF(AND(Q51="",#REF!>0,#REF!<5),K51,) -> #REF! | K51: =IF(D51="","ZZZ9",IF(AND(#REF!>0,#REF!<5),D51&#REF!,D51&"9")) -> ZZZ9 | L51: =IF(Q51="",999,Q51) -> 999 | M51: =IF(P51=999,999,1) -> 999 | P51: =IF(N51="DA",1,IF(N51="WC",2,IF(N51="SE",3,IF(N51="Q",4,IF(N51="LL",5,999))))) -> 999
... A156: 150 | J156: =IF(AND(Q156="",#REF!>0,#REF!<5),K156,) -> #REF! | K156: =IF(D156="","ZZZ9",IF(AND(#REF!>0,#REF!<5),D156&#REF!,D156&"9")) -> ZZZ9 | L156: =IF(Q156="",999,Q156) -> 999 | M156: =IF(P156=999,999,1) -> 999 | P156: =IF(N156="DA",1,IF(N156="WC",2,IF(N156="SE",3,IF(N156="Q",4,IF(N156="LL",5,999))))) -> 999

Sheet II.kcs.-U10-N-L elo
A1: =[2]Altalanos!$A$6 -> Somogy Vármegyei Tenisz DO B kategória - Leány | E1: Egyéni főtábla
B2: Versenyszám: | C2: =[2]Altalanos!$A$8 -> II.kcs.-U10-N-L | E2: ELŐKÉSZÍTŐ LISTA
A3: NE TÖRÖLD KI EZT AZ OLDALT! | N3: Versenybíró aláírása
A4: Dátum | C4: Város | D4: Kategória | H4: Versenybíró
A5: =[2]Altalanos!$A$10 -> 46135 | C5: =[2]Altalanos!$C$10 -> Balatonboglár | D5: =[2]Altalanos!$D$10 | H5: =[2]Altalanos!$E$10 -> Nagyistók-Nádasi Judit
A6: Sor | B6: Családi név | C6: Keresztnév | D6: Egyesület | E6: Kódszám | F6: Nevezett Igen | G6: Aláírás | H6: Nevezési rangsor | J6: NatSort if not Seed | K6: NatSort | L6: Seed Sort | M6: AccBasic | N6: Elfogadási státusz | O6: Sorsolási rangsor | P6: AccSort | Q6: Kiemelés
A7: 1 | B7: Czene | C7: Lara | D7: Boglári Ált. Isk. és AMI | E7: 170604
A8: 2 | B8: Könnyid-Kovács | C8: Judit | D8: B.lelle-Karádi Ált.Isk. és AMI | E8: 160117
A9: 3 | B9: Mátyás | C9: Emma | D9: B.lelle-Karádi Ált.Isk. és AMI | E9: 170329
A10: 4 | B10: Steiner | C10: Luca Gréta | D10: Boglári Ált. Isk. és AMI | E10: 170313
A11: 5 | B11: Székely | C11: Lulu Sára | D11: Boglári Ált. Isk. és AMI | E11: 161130
A12: 6 | B12: Szita | C12: Róza Genovéva | D12: B.lelle-Karádi Ált.Isk. és AMI | E12: 170405
A13: 7 | B13: Torma | C13: Tamara | D13: B.lelle-Karádi Ált.Isk. és AMI | E13: 160711
A14: 8
A15: 9
A16: 10
A17: 11
A18: 12
A19: 13
A20: 14
A21: 15
A22: 16
A23: 17
A24: 18
A25: 19
... A39: 33
A40: 34 | J40: =IF(AND(Q40="",#REF!>0,#REF!<5),K40,) -> #REF! | K40: =IF(D40="","ZZZ9",IF(AND(#REF!>0,#REF!<5),D40&#REF!,D40&"9")) -> ZZZ9 | L40: =IF(Q40="",999,Q40) -> 999 | M40: =IF(P40=999,999,1) -> 999 | P40: =IF(N40="DA",1,IF(N40="WC",2,IF(N40="SE",3,IF(N40="Q",4,IF(N40="LL",5,999))))) -> 999
A41: 35 | J41: =IF(AND(Q41="",#REF!>0,#REF!<5),K41,) -> #REF! | K41: =IF(D41="","ZZZ9",IF(AND(#REF!>0,#REF!<5),D41&#REF!,D41&"9")) -> ZZZ9 | L41: =IF(Q41="",999,Q41) -> 999 | M41: =IF(P41=999,999,1) -> 999 | P41: =IF(N41="DA",1,IF(N41="WC",2,IF(N41="SE",3,IF(N41="Q",4,IF(N41="LL",5,999))))) -> 999
A42: 36 | J42: =IF(AND(Q42="",#REF!>0,#REF!<5),K42,) -> #REF! | K42: =IF(D42="","ZZZ9",IF(AND(#REF!>0,#REF!<5),D42&#REF!,D42&"9")) -> ZZZ9 | L42: =IF(Q42="",999,Q42) -> 999 | M42: =IF(P42=999,999,1) -> 999 | P42: =IF(N42="DA",1,IF(N42="WC",2,IF(N42="SE",3,IF(N42="Q",4,IF(N42="LL",5,999))))) -> 999
A43: 37 | J43: =IF(AND(Q43="",#REF!>0,#REF!<5),K43,) -> #REF! | K43: =IF(D43="","ZZZ9",IF(AND(#REF!>0,#REF!<5),D43&#REF!,D43&"9")) -> ZZZ9 | L43: =IF(Q43="",999,Q43) -> 999 | M43: =IF(P43=999,999,1) -> 999 | P43: =IF(N43="DA",1,IF(N43="WC",2,IF(N43="SE",3,IF(N43="Q",4,IF(N43="LL",5,999))))) -> 999
A44: 38 | J44: =IF(AND(Q44="",#REF!>0,#REF!<5),K44,) -> #REF! | K44: =IF(D44="","ZZZ9",IF(AND(#REF!>0,#REF!<5),D44&#REF!,D44&"9")) -> ZZZ9 | L44: =IF(Q44="",999,Q44) -> 999 | M44: =IF(P44=999,999,1) -> 999 | P44: =IF(N44="DA",1,IF(N44="WC",2,IF(N44="SE",3,IF(N44="Q",4,IF(N44="LL",5,999))))) -> 999
A45: 39 | J45: =IF(AND(Q45="",#REF!>0,#REF!<5),K45,) -> #REF! | K45: =IF(D45="","ZZZ9",IF(AND(#REF!>0,#REF!<5),D45&#REF!,D45&"9")) -> ZZZ9 | L45: =IF(Q45="",999,Q45) -> 999 | M45: =IF(P45=999,999,1) -> 999 | P45: =IF(N45="DA",1,IF(N45="WC",2,IF(N45="SE",3,IF(N45="Q",4,IF(N45="LL",5,999))))) -> 999
A46: 40 | J46: =IF(AND(Q46="",#REF!>0,#REF!<5),K46,) -> #REF! | K46: =IF(D46="","ZZZ9",IF(AND(#REF!>0,#REF!<5),D46&#REF!,D46&"9")) -> ZZZ9 | L46: =IF(Q46="",999,Q46) -> 999 | M46: =IF(P46=999,999,1) -> 999 | P46: =IF(N46="DA",1,IF(N46="WC",2,IF(N46="SE",3,IF(N46="Q",4,IF(N46="LL",5,999))))) -> 999
A47: 41 | J47: =IF(AND(Q47="",#REF!>0,#REF!<5),K47,) -> #REF! | K47: =IF(D47="","ZZZ9",IF(AND(#REF!>0,#REF!<5),D47&#REF!,D47&"9")) -> ZZZ9 | L47: =IF(Q47="",999,Q47) -> 999 | M47: =IF(P47=999,999,1) -> 999 | P47: =IF(N47="DA",1,IF(N47="WC",2,IF(N47="SE",3,IF(N47="Q",4,IF(N47="LL",5,999))))) -> 999
A48: 42 | J48: =IF(AND(Q48="",#REF!>0,#REF!<5),K48,) -> #REF! | K48: =IF(D48="","ZZZ9",IF(AND(#REF!>0,#REF!<5),D48&#REF!,D48&"9")) -> ZZZ9 | L48: =IF(Q48="",999,Q48) -> 999 | M48: =IF(P48=999,999,1) -> 999 | P48: =IF(N48="DA",1,IF(N48="WC",2,IF(N48="SE",3,IF(N48="Q",4,IF(N48="LL",5,999))))) -> 999
A49: 43 | J49: =IF(AND(Q49="",#REF!>0,#REF!<5),K49,) -> #REF! | K49: =IF(D49="","ZZZ9",IF(AND(#REF!>0,#REF!<5),D49&#REF!,D49&"9")) -> ZZZ9 | L49: =IF(Q49="",999,Q49) -> 999 | M49: =IF(P49=999,999,1) -> 999 | P49: =IF(N49="DA",1,IF(N49="WC",2,IF(N49="SE",3,IF(N49="Q",4,IF(N49="LL",5,999))))) -> 999
A50: 44 | J50: =IF(AND(Q50="",#REF!>0,#REF!<5),K50,) -> #REF! | K50: =IF(D50="","ZZZ9",IF(AND(#REF!>0,#REF!<5),D50&#REF!,D50&"9")) -> ZZZ9 | L50: =IF(Q50="",999,Q50) -> 999 | M50: =IF(P50=999,999,1) -> 999 | P50: =IF(N50="DA",1,IF(N50="WC",2,IF(N50="SE",3,IF(N50="Q",4,IF(N50="LL",5,999))))) -> 999
A51: 45 | J51: =IF(AND(Q51="",#REF!>0,#REF!<5),K51,) -> #REF! | K51: =IF(D51="","ZZZ9",IF(AND(#REF!>0,#REF!<5),D51&#REF!,D51&"9")) -> ZZZ9 | L51: =IF(Q51="",999,Q51) -> 999 | M51: =IF(P51=999,999,1) -> 999 | P51: =IF(N51="DA",1,IF(N51="WC",2,IF(N51="SE",3,IF(N51="Q",4,IF(N51="LL",5,999))))) -> 999
... A156: 150 | J156: =IF(AND(Q156="",#REF!>0,#REF!<5),K156,) -> #REF! | K156: =IF(D156="","ZZZ9",IF(AND(#REF!>0,#REF!<5),D156&#REF!,D156&"9")) -> ZZZ9 | L156: =IF(Q156="",999,Q156) -> 999 | M156: =IF(P156=999,999,1) -> 999 | P156: =IF(N156="DA",1,IF(N156="WC",2,IF(N156="SE",3,IF(N156="Q",4,IF(N156="LL",5,999))))) -> 999

Sheet III.kcs.-U11-N-L elo
A1: =[2]Altalanos!$A$6 -> Somogy Vármegyei Tenisz DO B kategória - Leány | E1: Egyéni főtábla
B2: Versenyszám: | C2: =[2]Altalanos!$B$8 -> III.kcs.-U11-N-L | E2: ELŐKÉSZÍTŐ LISTA
A3: NE TÖRÖLD KI EZT AZ OLDALT! | N3: Versenybíró aláírása
A4: Dátum | C4: Város | D4: Kategória | H4: Versenybíró
A5: =[2]Altalanos!$A$10 -> 46135 | C5: =[2]Altalanos!$C$10 -> Balatonboglár | D5: =[2]Altalanos!$D$10 | H5: =[2]Altalanos!$E$10 -> Nagyistók-Nádasi Judit
A6: Sor | B6: Családi név | C6: Keresztnév | D6: Egyesület | E6: Kódszám | F6: Nevezett Igen | G6: Aláírás | H6: Nevezési rangsor | J6: NatSort if not Seed | K6: NatSort | L6: Seed Sort | M6: AccBasic | N6: Elfogadási státusz | O6: Sorsolási rangsor | P6: AccSort | Q6: Kiemelés
A7: 1 | B7: Balázs | C7: Helka | D7: B.lelle-Karádi Ált. Isk. és AMI | E7: 151126
A8: 2 | B8: Balogh | C8: Fanni Leila | D8: B.lelle-Karádi Ált. Isk. és AMI | E8: 150111
A9: 3 | B9: Dávid | C9: Borbála | D9: B.lelle-Karádi Ált. Isk. és AMI | E9: 150923
A10: 4 | B10: Rengel | C10: Izabella | D10: Nagyboldogasszony - Kaposvár | E10: 151130
A11: 5 | B11: Szalay | C11: Boglárka | D11: Siófoki Beszédes József Ált. Isk. | E11: 150213
A12: 6 | B12: Tóth | C12: Szabina | D12: B.lelle-Karádi Ált. Isk. és AMI | E12: 150822
A13: 7
A14: 8
A15: 9 | D15: Nagyboldogasszony Római Kat. Gimn., Ált. Isk. és AMI Kaposvár
A16: 10
A17: 11
A18: 12
A19: 13
A20: 14
A21: 15
A22: 16
A23: 17
A24: 18
A25: 19
A26: 20
A27: 21
... A39: 33
A40: 34 | J40: =IF(AND(Q40="",#REF!>0,#REF!<5),K40,) -> #REF! | K40: =IF(D40="","ZZZ9",IF(AND(#REF!>0,#REF!<5),D40&#REF!,D40&"9")) -> ZZZ9 | L40: =IF(Q40="",999,Q40) -> 999 | M40: =IF(P40=999,999,1) -> 999 | P40: =IF(N40="DA",1,IF(N40="WC",2,IF(N40="SE",3,IF(N40="Q",4,IF(N40="LL",5,999))))) -> 999
A41: 35 | J41: =IF(AND(Q41="",#REF!>0,#REF!<5),K41,) -> #REF! | K41: =IF(D41="","ZZZ9",IF(AND(#REF!>0,#REF!<5),D41&#REF!,D41&"9")) -> ZZZ9 | L41: =IF(Q41="",999,Q41) -> 999 | M41: =IF(P41=999,999,1) -> 999 | P41: =IF(N41="DA",1,IF(N41="WC",2,IF(N41="SE",3,IF(N41="Q",4,IF(N41="LL",5,999))))) -> 999
A42: 36 | J42: =IF(AND(Q42="",#REF!>0,#REF!<5),K42,) -> #REF! | K42: =IF(D42="","ZZZ9",IF(AND(#REF!>0,#REF!<5),D42&#REF!,D42&"9")) -> ZZZ9 | L42: =IF(Q42="",999,Q42) -> 999 | M42: =IF(P42=999,999,1) -> 999 | P42: =IF(N42="DA",1,IF(N42="WC",2,IF(N42="SE",3,IF(N42="Q",4,IF(N42="LL",5,999))))) -> 999
A43: 37 | J43: =IF(AND(Q43="",#REF!>0,#REF!<5),K43,) -> #REF! | K43: =IF(D43="","ZZZ9",IF(AND(#REF!>0,#REF!<5),D43&#REF!,D43&"9")) -> ZZZ9 | L43: =IF(Q43="",999,Q43) -> 999 | M43: =IF(P43=999,999,1) -> 999 | P43: =IF(N43="DA",1,IF(N43="WC",2,IF(N43="SE",3,IF(N43="Q",4,IF(N43="LL",5,999))))) -> 999
A44: 38 | J44: =IF(AND(Q44="",#REF!>0,#REF!<5),K44,) -> #REF! | K44: =IF(D44="","ZZZ9",IF(AND(#REF!>0,#REF!<5),D44&#REF!,D44&"9")) -> ZZZ9 | L44: =IF(Q44="",999,Q44) -> 999 | M44: =IF(P44=999,999,1) -> 999 | P44: =IF(N44="DA",1,IF(N44="WC",2,IF(N44="SE",3,IF(N44="Q",4,IF(N44="LL",5,999))))) -> 999
A45: 39 | J45: =IF(AND(Q45="",#REF!>0,#REF!<5),K45,) -> #REF! | K45: =IF(D45="","ZZZ9",IF(AND(#REF!>0,#REF!<5),D45&#REF!,D45&"9")) -> ZZZ9 | L45: =IF(Q45="",999,Q45) -> 999 | M45: =IF(P45=999,999,1) -> 999 | P45: =IF(N45="DA",1,IF(N45="WC",2,IF(N45="SE",3,IF(N45="Q",4,IF(N45="LL",5,999))))) -> 999
A46: 40 | J46: =IF(AND(Q46="",#REF!>0,#REF!<5),K46,) -> #REF! | K46: =IF(D46="","ZZZ9",IF(AND(#REF!>0,#REF!<5),D46&#REF!,D46&"9")) -> ZZZ9 | L46: =IF(Q46="",999,Q46) -> 999 | M46: =IF(P46=999,999,1) -> 999 | P46: =IF(N46="DA",1,IF(N46="WC",2,IF(N46="SE",3,IF(N46="Q",4,IF(N46="LL",5,999))))) -> 999
A47: 41 | J47: =IF(AND(Q47="",#REF!>0,#REF!<5),K47,) -> #REF! | K47: =IF(D47="","ZZZ9",IF(AND(#REF!>0,#REF!<5),D47&#REF!,D47&"9")) -> ZZZ9 | L47: =IF(Q47="",999,Q47) -> 999 | M47: =IF(P47=999,999,1) -> 999 | P47: =IF(N47="DA",1,IF(N47="WC",2,IF(N47="SE",3,IF(N47="Q",4,IF(N47="LL",5,999))))) -> 999
A48: 42 | J48: =IF(AND(Q48="",#REF!>0,#REF!<5),K48,) -> #REF! | K48: =IF(D48="","ZZZ9",IF(AND(#REF!>0,#REF!<5),D48&#REF!,D48&"9")) -> ZZZ9 | L48: =IF(Q48="",999,Q48) -> 999 | M48: =IF(P48=999,999,1) -> 999 | P48: =IF(N48="DA",1,IF(N48="WC",2,IF(N48="SE",3,IF(N48="Q",4,IF(N48="LL",5,999))))) -> 999
A49: 43 | J49: =IF(AND(Q49="",#REF!>0,#REF!<5),K49,) -> #REF! | K49: =IF(D49="","ZZZ9",IF(AND(#REF!>0,#REF!<5),D49&#REF!,D49&"9")) -> ZZZ9 | L49: =IF(Q49="",999,Q49) -> 999 | M49: =IF(P49=999,999,1) -> 999 | P49: =IF(N49="DA",1,IF(N49="WC",2,IF(N49="SE",3,IF(N49="Q",4,IF(N49="LL",5,999))))) -> 999
A50: 44 | J50: =IF(AND(Q50="",#REF!>0,#REF!<5),K50,) -> #REF! | K50: =IF(D50="","ZZZ9",IF(AND(#REF!>0,#REF!<5),D50&#REF!,D50&"9")) -> ZZZ9 | L50: =IF(Q50="",999,Q50) -> 999 | M50: =IF(P50=999,999,1) -> 999 | P50: =IF(N50="DA",1,IF(N50="WC",2,IF(N50="SE",3,IF(N50="Q",4,IF(N50="LL",5,999))))) -> 999
A51: 45 | J51: =IF(AND(Q51="",#REF!>0,#REF!<5),K51,) -> #REF! | K51: =IF(D51="","ZZZ9",IF(AND(#REF!>0,#REF!<5),D51&#REF!,D51&"9")) -> ZZZ9 | L51: =IF(Q51="",999,Q51) -> 999 | M51: =IF(P51=999,999,1) -> 999 | P51: =IF(N51="DA",1,IF(N51="WC",2,IF(N51="SE",3,IF(N51="Q",4,IF(N51="LL",5,999))))) -> 999
... A156: 150 | J156: =IF(AND(Q156="",#REF!>0,#REF!<5),K156,) -> #REF! | K156: =IF(D156="","ZZZ9",IF(AND(#REF!>0,#REF!<5),D156&#REF!,D156&"9")) -> ZZZ9 | L156: =IF(Q156="",999,Q156) -> 999 | M156: =IF(P156=999,999,1) -> 999 | P156: =IF(N156="DA",1,IF(N156="WC",2,IF(N156="SE",3,IF(N156="Q",4,IF(N156="LL",5,999))))) -> 999

Sheet IV.kcs.-U12-L elo
A1: =[2]Altalanos!$A$6 -> Somogy Vármegyei Tenisz DO B kategória - Leány | E1: Egyéni főtábla
B2: Versenyszám: | C2: IV.kcs.-U12-L | E2: ELŐKÉSZÍTŐ LISTA
A3: NE TÖRÖLD KI EZT AZ OLDALT! | N3: Versenybíró aláírása
A4: Dátum | C4: Város | D4: Kategória | H4: Versenybíró
A5: =[2]Altalanos!$A$10 -> 46135 | C5: =[2]Altalanos!$C$10 -> Balatonboglár | D5: =[2]Altalanos!$D$10 | H5: =[2]Altalanos!$E$10 -> Nagyistók-Nádasi Judit
A6: Sor | B6: Családi név | C6: Keresztnév | D6: Egyesület | E6: Kódszám | F6: Nevezett Igen | G6: Aláírás | H6: Nevezési rangsor | J6: NatSort if not Seed | K6: NatSort | L6: Seed Sort | M6: AccBasic | N6: Elfogadási státusz | O6: Sorsolási rangsor | P6: AccSort | Q6: Kiemelés
A7: 1 | B7: Demeter | C7: Dominika | D7: B.szabadi Kincskereső Ált.Isk. | E7: 140811
A8: 2 | B8: Sólyom | C8: Emília | D8: B.lelle-Karádi Ált.Isk. és AMI | E8: 140628
A9: 3
A10: 4
A11: 5
A12: 6
A13: 7
A14: 8
A15: 9
A16: 10
A17: 11
A18: 12
A19: 13
A20: 14
... A39: 33
A40: 34 | J40: =IF(AND(Q40="",#REF!>0,#REF!<5),K40,) -> #REF! | K40: =IF(D40="","ZZZ9",IF(AND(#REF!>0,#REF!<5),D40&#REF!,D40&"9")) -> ZZZ9 | L40: =IF(Q40="",999,Q40) -> 999 | M40: =IF(P40=999,999,1) -> 999 | P40: =IF(N40="DA",1,IF(N40="WC",2,IF(N40="SE",3,IF(N40="Q",4,IF(N40="LL",5,999))))) -> 999
A41: 35 | J41: =IF(AND(Q41="",#REF!>0,#REF!<5),K41,) -> #REF! | K41: =IF(D41="","ZZZ9",IF(AND(#REF!>0,#REF!<5),D41&#REF!,D41&"9")) -> ZZZ9 | L41: =IF(Q41="",999,Q41) -> 999 | M41: =IF(P41=999,999,1) -> 999 | P41: =IF(N41="DA",1,IF(N41="WC",2,IF(N41="SE",3,IF(N41="Q",4,IF(N41="LL",5,999))))) -> 999
A42: 36 | J42: =IF(AND(Q42="",#REF!>0,#REF!<5),K42,) -> #REF! | K42: =IF(D42="","ZZZ9",IF(AND(#REF!>0,#REF!<5),D42&#REF!,D42&"9")) -> ZZZ9 | L42: =IF(Q42="",999,Q42) -> 999 | M42: =IF(P42=999,999,1) -> 999 | P42: =IF(N42="DA",1,IF(N42="WC",2,IF(N42="SE",3,IF(N42="Q",4,IF(N42="LL",5,999))))) -> 999
A43: 37 | J43: =IF(AND(Q43="",#REF!>0,#REF!<5),K43,) -> #REF! | K43: =IF(D43="","ZZZ9",IF(AND(#REF!>0,#REF!<5),D43&#REF!,D43&"9")) -> ZZZ9 | L43: =IF(Q43="",999,Q43) -> 999 | M43: =IF(P43=999,999,1) -> 999 | P43: =IF(N43="DA",1,IF(N43="WC",2,IF(N43="SE",3,IF(N43="Q",4,IF(N43="LL",5,999))))) -> 999
A44: 38 | J44: =IF(AND(Q44="",#REF!>0,#REF!<5),K44,) -> #REF! | K44: =IF(D44="","ZZZ9",IF(AND(#REF!>0,#REF!<5),D44&#REF!,D44&"9")) -> ZZZ9 | L44: =IF(Q44="",999,Q44) -> 999 | M44: =IF(P44=999,999,1) -> 999 | P44: =IF(N44="DA",1,IF(N44="WC",2,IF(N44="SE",3,IF(N44="Q",4,IF(N44="LL",5,999))))) -> 999
A45: 39 | J45: =IF(AND(Q45="",#REF!>0,#REF!<5),K45,) -> #REF! | K45: =IF(D45="","ZZZ9",IF(AND(#REF!>0,#REF!<5),D45&#REF!,D45&"9")) -> ZZZ9 | L45: =IF(Q45="",999,Q45) -> 999 | M45: =IF(P45=999,999,1) -> 999 | P45: =IF(N45="DA",1,IF(N45="WC",2,IF(N45="SE",3,IF(N45="Q",4,IF(N45="LL",5,999))))) -> 999
A46: 40 | J46: =IF(AND(Q46="",#REF!>0,#REF!<5),K46,) -> #REF! | K46: =IF(D46="","ZZZ9",IF(AND(#REF!>0,#REF!<5),D46&#REF!,D46&"9")) -> ZZZ9 | L46: =IF(Q46="",999,Q46) -> 999 | M46: =IF(P46=999,999,1) -> 999 | P46: =IF(N46="DA",1,IF(N46="WC",2,IF(N46="SE",3,IF(N46="Q",4,IF(N46="LL",5,999))))) -> 999
A47: 41 | J47: =IF(AND(Q47="",#REF!>0,#REF!<5),K47,) -> #REF! | K47: =IF(D47="","ZZZ9",IF(AND(#REF!>0,#REF!<5),D47&#REF!,D47&"9")) -> ZZZ9 | L47: =IF(Q47="",999,Q47) -> 999 | M47: =IF(P47=999,999,1) -> 999 | P47: =IF(N47="DA",1,IF(N47="WC",2,IF(N47="SE",3,IF(N47="Q",4,IF(N47="LL",5,999))))) -> 999
A48: 42 | J48: =IF(AND(Q48="",#REF!>0,#REF!<5),K48,) -> #REF! | K48: =IF(D48="","ZZZ9",IF(AND(#REF!>0,#REF!<5),D48&#REF!,D48&"9")) -> ZZZ9 | L48: =IF(Q48="",999,Q48) -> 999 | M48: =IF(P48=999,999,1) -> 999 | P48: =IF(N48="DA",1,IF(N48="WC",2,IF(N48="SE",3,IF(N48="Q",4,IF(N48="LL",5,999))))) -> 999
A49: 43 | J49: =IF(AND(Q49="",#REF!>0,#REF!<5),K49,) -> #REF! | K49: =IF(D49="","ZZZ9",IF(AND(#REF!>0,#REF!<5),D49&#REF!,D49&"9")) -> ZZZ9 | L49: =IF(Q49="",999,Q49) -> 999 | M49: =IF(P49=999,999,1) -> 999 | P49: =IF(N49="DA",1,IF(N49="WC",2,IF(N49="SE",3,IF(N49="Q",4,IF(N49="LL",5,999))))) -> 999
A50: 44 | J50: =IF(AND(Q50="",#REF!>0,#REF!<5),K50,) -> #REF! | K50: =IF(D50="","ZZZ9",IF(AND(#REF!>0,#REF!<5),D50&#REF!,D50&"9")) -> ZZZ9 | L50: =IF(Q50="",999,Q50) -> 999 | M50: =IF(P50=999,999,1) -> 999 | P50: =IF(N50="DA",1,IF(N50="WC",2,IF(N50="SE",3,IF(N50="Q",4,IF(N50="LL",5,999))))) -> 999
A51: 45 | J51: =IF(AND(Q51="",#REF!>0,#REF!<5),K51,) -> #REF! | K51: =IF(D51="","ZZZ9",IF(AND(#REF!>0,#REF!<5),D51&#REF!,D51&"9")) -> ZZZ9 | L51: =IF(Q51="",999,Q51) -> 999 | M51: =IF(P51=999,999,1) -> 999 | P51: =IF(N51="DA",1,IF(N51="WC",2,IF(N51="SE",3,IF(N51="Q",4,IF(N51="LL",5,999))))) -> 999
... A156: 150 | J156: =IF(AND(Q156="",#REF!>0,#REF!<5),K156,) -> #REF! | K156: =IF(D156="","ZZZ9",IF(AND(#REF!>0,#REF!<5),D156&#REF!,D156&"9")) -> ZZZ9 | L156: =IF(Q156="",999,Q156) -> 999 | M156: =IF(P156=999,999,1) -> 999 | P156: =IF(N156="DA",1,IF(N156="WC",2,IF(N156="SE",3,IF(N156="Q",4,IF(N156="LL",5,999))))) -> 999

Sheet V.kcs.-U14-L elo
A1: =[2]Altalanos!$A$6 -> Somogy Vármegyei Tenisz DO B kategória - Leány | E1: Egyéni főtábla
B2: Versenyszám: | C2: =[2]Altalanos!$C$8 -> V.kcs.-U14-L | E2: ELŐKÉSZÍTŐ LISTA
A3: NE TÖRÖLD KI EZT AZ OLDALT! | N3: Versenybíró aláírása
A4: Dátum | C4: Város | D4: Kategória | H4: Versenybíró
A5: =[2]Altalanos!$A$10 -> 46135 | C5: =[2]Altalanos!$C$10 -> Balatonboglár | D5: =[2]Altalanos!$D$10 | H5: =[2]Altalanos!$E$10 -> Nagyistók-Nádasi Judit
A6: Sor | B6: Családi név | C6: Keresztnév | D6: Egyesület | E6: Kódszám | F6: Nevezett Igen | G6: Aláírás | H6: Nevezési rangsor | J6: NatSort if not Seed | K6: NatSort | L6: Seed Sort | M6: AccBasic | N6: Elfogadási státusz | O6: Sorsolási rangsor | P6: AccSort | Q6: Kiemelés
A7: 1 | B7: Antal | C7: Ramóna Loretta | D7: Boglári Ált. Isk. és AMI | E7: 120601
A8: 2 | B8: Bodor | C8: Anna Boróka | D8: Boglári Ált. Isk. és AMI | E8: 120906
A9: 3 | B9: Burkhalter | C9: Lívia | D9: Marcali Mikszáth K Ált.Isk. | E9: 130326
A10: 4 | B10: Gyenis | C10: Roxána Léna | D10: Boglári Ált. Isk. és AMI | E10: 120730
A11: 5 | B11: Keszthelyi | C11: Nóra | D11: Siófoki Beszédes J.Ált.Isk. | E11: 120911
A12: 6 | B12: Ősz | C12: Blanka | D12: Siófoki Beszédes J.Ált.Isk. | E12: 120925
A13: 7 | B13: Takács | C13: Zoé | D13: Boglári Ált. Isk. és AMI | E13: 130212
A14: 8 | B14: Tóth | C14: Luca | D14: Siófoki Vak Bottyán J.Ált.Isk.és AMI | E14: 120906
A15: 9 | B15: Varga | C15: Fruzsina | D15: B.lelle-Karádi Ált.Isk.és AMI | E15: 131016
A16: 10
A17: 11
A18: 12
A19: 13
A20: 14
A21: 15
A22: 16
A23: 17
A24: 18
A25: 19
A26: 20
A27: 21
... A39: 33
A40: 34 | J40: =IF(AND(Q40="",#REF!>0,#REF!<5),K40,) -> #REF! | K40: =IF(D40="","ZZZ9",IF(AND(#REF!>0,#REF!<5),D40&#REF!,D40&"9")) -> ZZZ9 | L40: =IF(Q40="",999,Q40) -> 999 | M40: =IF(P40=999,999,1) -> 999 | P40: =IF(N40="DA",1,IF(N40="WC",2,IF(N40="SE",3,IF(N40="Q",4,IF(N40="LL",5,999))))) -> 999
A41: 35 | J41: =IF(AND(Q41="",#REF!>0,#REF!<5),K41,) -> #REF! | K41: =IF(D41="","ZZZ9",IF(AND(#REF!>0,#REF!<5),D41&#REF!,D41&"9")) -> ZZZ9 | L41: =IF(Q41="",999,Q41) -> 999 | M41: =IF(P41=999,999,1) -> 999 | P41: =IF(N41="DA",1,IF(N41="WC",2,IF(N41="SE",3,IF(N41="Q",4,IF(N41="LL",5,999))))) -> 999
A42: 36 | J42: =IF(AND(Q42="",#REF!>0,#REF!<5),K42,) -> #REF! | K42: =IF(D42="","ZZZ9",IF(AND(#REF!>0,#REF!<5),D42&#REF!,D42&"9")) -> ZZZ9 | L42: =IF(Q42="",999,Q42) -> 999 | M42: =IF(P42=999,999,1) -> 999 | P42: =IF(N42="DA",1,IF(N42="WC",2,IF(N42="SE",3,IF(N42="Q",4,IF(N42="LL",5,999))))) -> 999
A43: 37 | J43: =IF(AND(Q43="",#REF!>0,#REF!<5),K43,) -> #REF! | K43: =IF(D43="","ZZZ9",IF(AND(#REF!>0,#REF!<5),D43&#REF!,D43&"9")) -> ZZZ9 | L43: =IF(Q43="",999,Q43) -> 999 | M43: =IF(P43=999,999,1) -> 999 | P43: =IF(N43="DA",1,IF(N43="WC",2,IF(N43="SE",3,IF(N43="Q",4,IF(N43="LL",5,999))))) -> 999
A44: 38 | J44: =IF(AND(Q44="",#REF!>0,#REF!<5),K44,) -> #REF! | K44: =IF(D44="","ZZZ9",IF(AND(#REF!>0,#REF!<5),D44&#REF!,D44&"9")) -> ZZZ9 | L44: =IF(Q44="",999,Q44) -> 999 | M44: =IF(P44=999,999,1) -> 999 | P44: =IF(N44="DA",1,IF(N44="WC",2,IF(N44="SE",3,IF(N44="Q",4,IF(N44="LL",5,999))))) -> 999
A45: 39 | J45: =IF(AND(Q45="",#REF!>0,#REF!<5),K45,) -> #REF! | K45: =IF(D45="","ZZZ9",IF(AND(#REF!>0,#REF!<5),D45&#REF!,D45&"9")) -> ZZZ9 | L45: =IF(Q45="",999,Q45) -> 999 | M45: =IF(P45=999,999,1) -> 999 | P45: =IF(N45="DA",1,IF(N45="WC",2,IF(N45="SE",3,IF(N45="Q",4,IF(N45="LL",5,999))))) -> 999
A46: 40 | J46: =IF(AND(Q46="",#REF!>0,#REF!<5),K46,) -> #REF! | K46: =IF(D46="","ZZZ9",IF(AND(#REF!>0,#REF!<5),D46&#REF!,D46&"9")) -> ZZZ9 | L46: =IF(Q46="",999,Q46) -> 999 | M46: =IF(P46=999,999,1) -> 999 | P46: =IF(N46="DA",1,IF(N46="WC",2,IF(N46="SE",3,IF(N46="Q",4,IF(N46="LL",5,999))))) -> 999
A47: 41 | J47: =IF(AND(Q47="",#REF!>0,#REF!<5),K47,) -> #REF! | K47: =IF(D47="","ZZZ9",IF(AND(#REF!>0,#REF!<5),D47&#REF!,D47&"9")) -> ZZZ9 | L47: =IF(Q47="",999,Q47) -> 999 | M47: =IF(P47=999,999,1) -> 999 | P47: =IF(N47="DA",1,IF(N47="WC",2,IF(N47="SE",3,IF(N47="Q",4,IF(N47="LL",5,999))))) -> 999
A48: 42 | J48: =IF(AND(Q48="",#REF!>0,#REF!<5),K48,) -> #REF! | K48: =IF(D48="","ZZZ9",IF(AND(#REF!>0,#REF!<5),D48&#REF!,D48&"9")) -> ZZZ9 | L48: =IF(Q48="",999,Q48) -> 999 | M48: =IF(P48=999,999,1) -> 999 | P48: =IF(N48="DA",1,IF(N48="WC",2,IF(N48="SE",3,IF(N48="Q",4,IF(N48="LL",5,999))))) -> 999
A49: 43 | J49: =IF(AND(Q49="",#REF!>0,#REF!<5),K49,) -> #REF! | K49: =IF(D49="","ZZZ9",IF(AND(#REF!>0,#REF!<5),D49&#REF!,D49&"9")) -> ZZZ9 | L49: =IF(Q49="",999,Q49) -> 999 | M49: =IF(P49=999,999,1) -> 999 | P49: =IF(N49="DA",1,IF(N49="WC",2,IF(N49="SE",3,IF(N49="Q",4,IF(N49="LL",5,999))))) -> 999
A50: 44 | J50: =IF(AND(Q50="",#REF!>0,#REF!<5),K50,) -> #REF! | K50: =IF(D50="","ZZZ9",IF(AND(#REF!>0,#REF!<5),D50&#REF!,D50&"9")) -> ZZZ9 | L50: =IF(Q50="",999,Q50) -> 999 | M50: =IF(P50=999,999,1) -> 999 | P50: =IF(N50="DA",1,IF(N50="WC",2,IF(N50="SE",3,IF(N50="Q",4,IF(N50="LL",5,999))))) -> 999
A51: 45 | J51: =IF(AND(Q51="",#REF!>0,#REF!<5),K51,) -> #REF! | K51: =IF(D51="","ZZZ9",IF(AND(#REF!>0,#REF!<5),D51&#REF!,D51&"9")) -> ZZZ9 | L51: =IF(Q51="",999,Q51) -> 999 | M51: =IF(P51=999,999,1) -> 999 | P51: =IF(N51="DA",1,IF(N51="WC",2,IF(N51="SE",3,IF(N51="Q",4,IF(N51="LL",5,999))))) -> 999
... A156: 150 | J156: =IF(AND(Q156="",#REF!>0,#REF!<5),K156,) -> #REF! | K156: =IF(D156="","ZZZ9",IF(AND(#REF!>0,#REF!<5),D156&#REF!,D156&"9")) -> ZZZ9 | L156: =IF(Q156="",999,Q156) -> 999 | M156: =IF(P156=999,999,1) -> 999 | P156: =IF(N156="DA",1,IF(N156="WC",2,IF(N156="SE",3,IF(N156="Q",4,IF(N156="LL",5,999))))) -> 999

Sheet VI.kcs.-U16-L elo
A1: =[2]Altalanos!$A$6 -> Somogy Vármegyei Tenisz DO B kategória - Leány | E1: Egyéni főtábla
B2: Versenyszám: | C2: =[2]Altalanos!$D$8 -> VI.kcs.-U16-L | E2: ELŐKÉSZÍTŐ LISTA
A3: NE TÖRÖLD KI EZT AZ OLDALT! | N3: Versenybíró aláírása
A4: Dátum | C4: Város | D4: Kategória | H4: Versenybíró
A5: =[2]Altalanos!$A$10 -> 46135 | C5: =[2]Altalanos!$C$10 -> Balatonboglár | D5: =[2]Altalanos!$D$10 | H5: =[2]Altalanos!$E$10 -> Nagyistók-Nádasi Judit
A6: Sor | B6: Családi név | C6: Keresztnév | D6: Egyesület | E6: Kódszám | F6: Nevezett Igen | G6: Aláírás | H6: Nevezési rangsor | J6: NatSort if not Seed | K6: NatSort | L6: Seed Sort | M6: AccBasic | N6: Elfogadási státusz | O6: Sorsolási rangsor | P6: AccSort | Q6: Kiemelés
A7: 1 | B7: Csernák | C7: Fruzsina | D7: Kaposvári Munkácsy M. Gimn. | E7: 101102
A8: 2 | B8: Erdős | C8: Hedvig | D8: Kaposvári Táncsics M. Gimn. | E8: 101209
A9: 3 | B9: Madarász | C9: Jázmin Zoé | D9: Kaposvári Táncsics M. Gimn. | E9: 110207
A10: 4 | B10: Péterfi | C10: Zsófia | D10: Kaposvári Táncsics M. Gimn. | E10: 100924
A11: 5 | B11: Tóth | C11: Lilla | D11: Siófoki Perczel Mór Gimn. és Koll. | E11: 110326
A12: 6
A13: 7
A14: 8
A15: 9
A16: 10
A17: 11
A18: 12
A19: 13
A20: 14
A21: 15
A22: 16
A23: 17
... A39: 33
A40: 34 | J40: =IF(AND(Q40="",#REF!>0,#REF!<5),K40,) -> #REF! | K40: =IF(D40="","ZZZ9",IF(AND(#REF!>0,#REF!<5),D40&#REF!,D40&"9")) -> ZZZ9 | L40: =IF(Q40="",999,Q40) -> 999 | M40: =IF(P40=999,999,1) -> 999 | P40: =IF(N40="DA",1,IF(N40="WC",2,IF(N40="SE",3,IF(N40="Q",4,IF(N40="LL",5,999))))) -> 999
A41: 35 | J41: =IF(AND(Q41="",#REF!>0,#REF!<5),K41,) -> #REF! | K41: =IF(D41="","ZZZ9",IF(AND(#REF!>0,#REF!<5),D41&#REF!,D41&"9")) -> ZZZ9 | L41: =IF(Q41="",999,Q41) -> 999 | M41: =IF(P41=999,999,1) -> 999 | P41: =IF(N41="DA",1,IF(N41="WC",2,IF(N41="SE",3,IF(N41="Q",4,IF(N41="LL",5,999))))) -> 999
A42: 36 | J42: =IF(AND(Q42="",#REF!>0,#REF!<5),K42,) -> #REF! | K42: =IF(D42="","ZZZ9",IF(AND(#REF!>0,#REF!<5),D42&#REF!,D42&"9")) -> ZZZ9 | L42: =IF(Q42="",999,Q42) -> 999 | M42: =IF(P42=999,999,1) -> 999 | P42: =IF(N42="DA",1,IF(N42="WC",2,IF(N42="SE",3,IF(N42="Q",4,IF(N42="LL",5,999))))) -> 999
A43: 37 | J43: =IF(AND(Q43="",#REF!>0,#REF!<5),K43,) -> #REF! | K43: =IF(D43="","ZZZ9",IF(AND(#REF!>0,#REF!<5),D43&#REF!,D43&"9")) -> ZZZ9 | L43: =IF(Q43="",999,Q43) -> 999 | M43: =IF(P43=999,999,1) -> 999 | P43: =IF(N43="DA",1,IF(N43="WC",2,IF(N43="SE",3,IF(N43="Q",4,IF(N43="LL",5,999))))) -> 999
A44: 38 | J44: =IF(AND(Q44="",#REF!>0,#REF!<5),K44,) -> #REF! | K44: =IF(D44="","ZZZ9",IF(AND(#REF!>0,#REF!<5),D44&#REF!,D44&"9")) -> ZZZ9 | L44: =IF(Q44="",999,Q44) -> 999 | M44: =IF(P44=999,999,1) -> 999 | P44: =IF(N44="DA",1,IF(N44="WC",2,IF(N44="SE",3,IF(N44="Q",4,IF(N44="LL",5,999))))) -> 999
A45: 39 | J45: =IF(AND(Q45="",#REF!>0,#REF!<5),K45,) -> #REF! | K45: =IF(D45="","ZZZ9",IF(AND(#REF!>0,#REF!<5),D45&#REF!,D45&"9")) -> ZZZ9 | L45: =IF(Q45="",999,Q45) -> 999 | M45: =IF(P45=999,999,1) -> 999 | P45: =IF(N45="DA",1,IF(N45="WC",2,IF(N45="SE",3,IF(N45="Q",4,IF(N45="LL",5,999))))) -> 999
A46: 40 | J46: =IF(AND(Q46="",#REF!>0,#REF!<5),K46,) -> #REF! | K46: =IF(D46="","ZZZ9",IF(AND(#REF!>0,#REF!<5),D46&#REF!,D46&"9")) -> ZZZ9 | L46: =IF(Q46="",999,Q46) -> 999 | M46: =IF(P46=999,999,1) -> 999 | P46: =IF(N46="DA",1,IF(N46="WC",2,IF(N46="SE",3,IF(N46="Q",4,IF(N46="LL",5,999))))) -> 999
A47: 41 | J47: =IF(AND(Q47="",#REF!>0,#REF!<5),K47,) -> #REF! | K47: =IF(D47="","ZZZ9",IF(AND(#REF!>0,#REF!<5),D47&#REF!,D47&"9")) -> ZZZ9 | L47: =IF(Q47="",999,Q47) -> 999 | M47: =IF(P47=999,999,1) -> 999 | P47: =IF(N47="DA",1,IF(N47="WC",2,IF(N47="SE",3,IF(N47="Q",4,IF(N47="LL",5,999))))) -> 999
A48: 42 | J48: =IF(AND(Q48="",#REF!>0,#REF!<5),K48,) -> #REF! | K48: =IF(D48="","ZZZ9",IF(AND(#REF!>0,#REF!<5),D48&#REF!,D48&"9")) -> ZZZ9 | L48: =IF(Q48="",999,Q48) -> 999 | M48: =IF(P48=999,999,1) -> 999 | P48: =IF(N48="DA",1,IF(N48="WC",2,IF(N48="SE",3,IF(N48="Q",4,IF(N48="LL",5,999))))) -> 999
A49: 43 | J49: =IF(AND(Q49="",#REF!>0,#REF!<5),K49,) -> #REF! | K49: =IF(D49="","ZZZ9",IF(AND(#REF!>0,#REF!<5),D49&#REF!,D49&"9")) -> ZZZ9 | L49: =IF(Q49="",999,Q49) -> 999 | M49: =IF(P49=999,999,1) -> 999 | P49: =IF(N49="DA",1,IF(N49="WC",2,IF(N49="SE",3,IF(N49="Q",4,IF(N49="LL",5,999))))) -> 999
A50: 44 | J50: =IF(AND(Q50="",#REF!>0,#REF!<5),K50,) -> #REF! | K50: =IF(D50="","ZZZ9",IF(AND(#REF!>0,#REF!<5),D50&#REF!,D50&"9")) -> ZZZ9 | L50: =IF(Q50="",999,Q50) -> 999 | M50: =IF(P50=999,999,1) -> 999 | P50: =IF(N50="DA",1,IF(N50="WC",2,IF(N50="SE",3,IF(N50="Q",4,IF(N50="LL",5,999))))) -> 999
A51: 45 | J51: =IF(AND(Q51="",#REF!>0,#REF!<5),K51,) -> #REF! | K51: =IF(D51="","ZZZ9",IF(AND(#REF!>0,#REF!<5),D51&#REF!,D51&"9")) -> ZZZ9 | L51: =IF(Q51="",999,Q51) -> 999 | M51: =IF(P51=999,999,1) -> 999 | P51: =IF(N51="DA",1,IF(N51="WC",2,IF(N51="SE",3,IF(N51="Q",4,IF(N51="LL",5,999))))) -> 999
... A156: 150 | J156: =IF(AND(Q156="",#REF!>0,#REF!<5),K156,) -> #REF! | K156: =IF(D156="","ZZZ9",IF(AND(#REF!>0,#REF!<5),D156&#REF!,D156&"9")) -> ZZZ9 | L156: =IF(Q156="",999,Q156) -> 999 | M156: =IF(P156=999,999,1) -> 999 | P156: =IF(N156="DA",1,IF(N156="WC",2,IF(N156="SE",3,IF(N156="Q",4,IF(N156="LL",5,999))))) -> 999

Sheet VII.kcs-U18-L elo
A1: =[2]Altalanos!$A$6 -> Somogy Vármegyei Tenisz DO B kategória - Leány | E1: Egyéni főtábla
B2: Versenyszám: | C2: =[2]Altalanos!$E$8 -> VII.kcs.-U18-L | E2: ELŐKÉSZÍTŐ LISTA
A3: NE TÖRÖLD KI EZT AZ OLDALT! | N3: Versenybíró aláírása
A4: Dátum | C4: Város | D4: Kategória | H4: Versenybíró
A5: =[2]Altalanos!$A$10 -> 46135 | C5: =[2]Altalanos!$C$10 -> Balatonboglár | D5: =[2]Altalanos!$D$10 | H5: =[2]Altalanos!$E$10 -> Nagyistók-Nádasi Judit
A6: Sor | B6: Családi név | C6: Keresztnév | D6: Egyesület | E6: Kódszám | F6: Nevezett Igen | G6: Aláírás | H6: Nevezési rangsor | J6: NatSort if not Seed | K6: NatSort | L6: Seed Sort | M6: AccBasic | N6: Elfogadási státusz | O6: Sorsolási rangsor | P6: AccSort | Q6: Kiemelés
A7: 1 | B7: Dienes | C7: Borbála | D7: Siófoki Perczel Mór Gimn.és Koll. | E7: 081228
A8: 2 | B8: Katus | C8: Kamilla Berta | D8: Siófoki Perczel Mór Gimn.és Koll. | E8: 090407
A9: 3 | B9: Maljusin | C9: Eliza | D9: Kaposvári Táncsics M. Gimn. | E9: 080612
A10: 4 | B10: Varga | C10: Luca | D10: Siófoki Perczel Mór Gimn.és Koll. | E10: 080604
A11: 5
A12: 6
A13: 7
A14: 8
A15: 9
A16: 10
A17: 11
A18: 12
A19: 13
A20: 14
A21: 15
A22: 16
... A39: 33
A40: 34 | J40: =IF(AND(Q40="",#REF!>0,#REF!<5),K40,) -> #REF! | K40: =IF(D40="","ZZZ9",IF(AND(#REF!>0,#REF!<5),D40&#REF!,D40&"9")) -> ZZZ9 | L40: =IF(Q40="",999,Q40) -> 999 | M40: =IF(P40=999,999,1) -> 999 | P40: =IF(N40="DA",1,IF(N40="WC",2,IF(N40="SE",3,IF(N40="Q",4,IF(N40="LL",5,999))))) -> 999
A41: 35 | J41: =IF(AND(Q41="",#REF!>0,#REF!<5),K41,) -> #REF! | K41: =IF(D41="","ZZZ9",IF(AND(#REF!>0,#REF!<5),D41&#REF!,D41&"9")) -> ZZZ9 | L41: =IF(Q41="",999,Q41) -> 999 | M41: =IF(P41=999,999,1) -> 999 | P41: =IF(N41="DA",1,IF(N41="WC",2,IF(N41="SE",3,IF(N41="Q",4,IF(N41="LL",5,999))))) -> 999
A42: 36 | J42: =IF(AND(Q42="",#REF!>0,#REF!<5),K42,) -> #REF! | K42: =IF(D42="","ZZZ9",IF(AND(#REF!>0,#REF!<5),D42&#REF!,D42&"9")) -> ZZZ9 | L42: =IF(Q42="",999,Q42) -> 999 | M42: =IF(P42=999,999,1) -> 999 | P42: =IF(N42="DA",1,IF(N42="WC",2,IF(N42="SE",3,IF(N42="Q",4,IF(N42="LL",5,999))))) -> 999
A43: 37 | J43: =IF(AND(Q43="",#REF!>0,#REF!<5),K43,) -> #REF! | K43: =IF(D43="","ZZZ9",IF(AND(#REF!>0,#REF!<5),D43&#REF!,D43&"9")) -> ZZZ9 | L43: =IF(Q43="",999,Q43) -> 999 | M43: =IF(P43=999,999,1) -> 999 | P43: =IF(N43="DA",1,IF(N43="WC",2,IF(N43="SE",3,IF(N43="Q",4,IF(N43="LL",5,999))))) -> 999
A44: 38 | J44: =IF(AND(Q44="",#REF!>0,#REF!<5),K44,) -> #REF! | K44: =IF(D44="","ZZZ9",IF(AND(#REF!>0,#REF!<5),D44&#REF!,D44&"9")) -> ZZZ9 | L44: =IF(Q44="",999,Q44) -> 999 | M44: =IF(P44=999,999,1) -> 999 | P44: =IF(N44="DA",1,IF(N44="WC",2,IF(N44="SE",3,IF(N44="Q",4,IF(N44="LL",5,999))))) -> 999
A45: 39 | J45: =IF(AND(Q45="",#REF!>0,#REF!<5),K45,) -> #REF! | K45: =IF(D45="","ZZZ9",IF(AND(#REF!>0,#REF!<5),D45&#REF!,D45&"9")) -> ZZZ9 | L45: =IF(Q45="",999,Q45) -> 999 | M45: =IF(P45=999,999,1) -> 999 | P45: =IF(N45="DA",1,IF(N45="WC",2,IF(N45="SE",3,IF(N45="Q",4,IF(N45="LL",5,999))))) -> 999
A46: 40 | J46: =IF(AND(Q46="",#REF!>0,#REF!<5),K46,) -> #REF! | K46: =IF(D46="","ZZZ9",IF(AND(#REF!>0,#REF!<5),D46&#REF!,D46&"9")) -> ZZZ9 | L46: =IF(Q46="",999,Q46) -> 999 | M46: =IF(P46=999,999,1) -> 999 | P46: =IF(N46="DA",1,IF(N46="WC",2,IF(N46="SE",3,IF(N46="Q",4,IF(N46="LL",5,999))))) -> 999
A47: 41 | J47: =IF(AND(Q47="",#REF!>0,#REF!<5),K47,) -> #REF! | K47: =IF(D47="","ZZZ9",IF(AND(#REF!>0,#REF!<5),D47&#REF!,D47&"9")) -> ZZZ9 | L47: =IF(Q47="",999,Q47) -> 999 | M47: =IF(P47=999,999,1) -> 999 | P47: =IF(N47="DA",1,IF(N47="WC",2,IF(N47="SE",3,IF(N47="Q",4,IF(N47="LL",5,999))))) -> 999
A48: 42 | J48: =IF(AND(Q48="",#REF!>0,#REF!<5),K48,) -> #REF! | K48: =IF(D48="","ZZZ9",IF(AND(#REF!>0,#REF!<5),D48&#REF!,D48&"9")) -> ZZZ9 | L48: =IF(Q48="",999,Q48) -> 999 | M48: =IF(P48=999,999,1) -> 999 | P48: =IF(N48="DA",1,IF(N48="WC",2,IF(N48="SE",3,IF(N48="Q",4,IF(N48="LL",5,999))))) -> 999
A49: 43 | J49: =IF(AND(Q49="",#REF!>0,#REF!<5),K49,) -> #REF! | K49: =IF(D49="","ZZZ9",IF(AND(#REF!>0,#REF!<5),D49&#REF!,D49&"9")) -> ZZZ9 | L49: =IF(Q49="",999,Q49) -> 999 | M49: =IF(P49=999,999,1) -> 999 | P49: =IF(N49="DA",1,IF(N49="WC",2,IF(N49="SE",3,IF(N49="Q",4,IF(N49="LL",5,999))))) -> 999
A50: 44 | J50: =IF(AND(Q50="",#REF!>0,#REF!<5),K50,) -> #REF! | K50: =IF(D50="","ZZZ9",IF(AND(#REF!>0,#REF!<5),D50&#REF!,D50&"9")) -> ZZZ9 | L50: =IF(Q50="",999,Q50) -> 999 | M50: =IF(P50=999,999,1) -> 999 | P50: =IF(N50="DA",1,IF(N50="WC",2,IF(N50="SE",3,IF(N50="Q",4,IF(N50="LL",5,999))))) -> 999
A51: 45 | J51: =IF(AND(Q51="",#REF!>0,#REF!<5),K51,) -> #REF! | K51: =IF(D51="","ZZZ9",IF(AND(#REF!>0,#REF!<5),D51&#REF!,D51&"9")) -> ZZZ9 | L51: =IF(Q51="",999,Q51) -> 999 | M51: =IF(P51=999,999,1) -> 999 | P51: =IF(N51="DA",1,IF(N51="WC",2,IF(N51="SE",3,IF(N51="Q",4,IF(N51="LL",5,999))))) -> 999
... A156: 150 | J156: =IF(AND(Q156="",#REF!>0,#REF!<5),K156,) -> #REF! | K156: =IF(D156="","ZZZ9",IF(AND(#REF!>0,#REF!<5),D156&#REF!,D156&"9")) -> ZZZ9 | L156: =IF(Q156="",999,Q156) -> 999 | M156: =IF(P156=999,999,1) -> 999 | P156: =IF(N156="DA",1,IF(N156="WC",2,IF(N156="SE",3,IF(N156="Q",4,IF(N156="LL",5,999))))) -> 999

Sheet Altalanos
A1: Magyar verseny táblakészítő
A2: Ezt az oldalt soha ne töröld le !!!
A4: Töltsd ki a zöld mezőket!
A5: A verseny neve:
A6: Somogy Vármegyei Tenisz DO A kategória
B7: Versenyszám 2 | C7: Versenyszám 3 | D7: Versenyszám 4 | E7: Versenyszám 5
B8: A-V.kcs.-U14-L | C8: A-VIII.kcs.-U18+-L | D8: A-VII.kcs.-U18-L | E8: A-II.kcs-U10-N-F
A9: A verseny dátuma (éééé.hh.nn) | C9: Város | E9: Versenybíró:
A10: 46135 | C10: Balatonboglár | E10: Nagyistók-Nádasi Judit
C11: Orvos neve: | D11: Verseny rendezője: | E11: Versenyigazgató
D12: BBTC SE | E12: Paszér Éva

Sheet Nevezések
A1: Vármegyei szervezet | B1: DSB szervezet | C1: Versenykiírás | D1: Sportág | E1: Korcsoport | F1: Nem | G1: Jelleg | H1: Kategória | I1: Iskola | J1: Település | K1: Nevező | L1: Csapattag | M1: Testnevelő | N1: Felkészítő
A2: Somogy Vármegyei Diáksport Szövetség | B2: Marcali DSB | C2: Tenisz | D2: Tenisz | E2: I.kcs Tenisz U8 piros labdával, P+S szabály | F2: F | G2: E | H2: B | I2: Marcali Mikszáth Kálmán Általános Iskola | J2: Marcali | K2: Magyar Zétény | M2: Magyar Viktor
A3: Somogy Vármegyei Diáksport Szövetség | B3: Dél-Balaton DSB | C3: Tenisz | D3: Tenisz | E3: I.kcs Tenisz U8 piros labdával, P+S szabály | F3: F | G3: E | H3: B | I3: Boglári Általános Iskola és Alapfokú Művészeti Iskola | J3: Balatonboglár | K3: Ecsődi Zsombor | M3: Varga Zsolt
A4: Somogy Vármegyei Diáksport Szövetség | B4: Dél-Balaton DSB | C4: Tenisz | D4: Tenisz | E4: I.kcs Tenisz U8 piros labdával, P+S szabály | F4: F | G4: E | H4: B | I4: Balatonlelle-Karádi Általános Iskola és Alapfokú Művészeti Iskola | J4: Balatonlelle | K4: Lovász Dávid | M4: Vári Edit
A5: Somogy Vármegyei Diáksport Szövetség | B5: Dél-Balaton DSB | C5: Tenisz | D5: Tenisz | E5: I.kcs Tenisz U8 piros labdával, P+S szabály | F5: L | G5: E | H5: B | I5: Balatonlelle-Karádi Általános Iskola és Alapfokú Művészeti Iskola | J5: Balatonlelle | K5: Szita Léna | M5: Vári Edit
A6: Somogy Vármegyei Diáksport Szövetség | B6: Siófok DSB | C6: Tenisz | D6: Tenisz | E6: II.kcs Tenisz U10 narancs labdával, P+S szabály | F6: F | G6: E | H6: A | I6: Siófoki Vak Bottyán János Általános Iskola és Alapfokú Művészeti Iskola | J6: Siófok | K6: Johancsik Nimród | M6: Nágele Nóra | N6: Bálint Dávid
A7: Somogy Vármegyei Diáksport Szövetség | B7: Siófok DSB | C7: Tenisz | D7: Tenisz | E7: II.kcs Tenisz U10 narancs labdával, P+S szabály | F7: F | G7: E | H7: A | I7: Gróf Széchényi Imre Általános Iskola és Alapfokú Művészeti Iskola | J7: Balatonföldvár | K7: Illés-Maróthy Bence | M7: Szalay Brigitta
A8: Somogy Vármegyei Diáksport Szövetség | B8: Marcali DSB | C8: Tenisz | D8: Tenisz | E8: II.kcs Tenisz U10 narancs labdával, P+S szabály | F8: F | G8: E | H8: B | I8: Lorántffy Zsuzsanna Református Óvoda, Általános Iskola, Gimnázium és Kollégium | J8: Kaposvár | K8: Mázsa Zsombor | M8: Ágoston Diána
A9: Somogy Vármegyei Diáksport Szövetség | B9: Kaposvár DSB | C9: Tenisz | D9: Tenisz | E9: II.kcs Tenisz U10 narancs labdával, P+S szabály | F9: F | G9: E | H9: B | I9: Kaposvári Kodály Zoltán Központi Általános Iskola | J9: Kaposvár | K9: Jovánczai Barna | M9: Rédling-Szabó Gabriella
A10: Somogy Vármegyei Diáksport Szövetség | B10: Dél-Balaton DSB | C10: Tenisz | D10: Tenisz | E10: II.kcs Tenisz U10 narancs labdával, P+S szabály | F10: F | G10: E | H10: B | I10: Boglári Általános Iskola és Alapfokú Művészeti Iskola | J10: Balatonboglár | K10: Balogh Benett Áron | M10: Varga Zsolt
A11: Somogy Vármegyei Diáksport Szövetség | B11: Dél-Balaton DSB | C11: Tenisz | D11: Tenisz | E11: II.kcs Tenisz U10 narancs labdával, P+S szabály | F11: F | G11: E | H11: B | I11: Balatonszemesi Reich Károly Általános Iskola | J11: Balatonszemes | K11: Szalai-Szollár Máté | M11: Batki Balázs
A12: Somogy Vármegyei Diáksport Szövetség | B12: Dél-Balaton DSB | C12: Tenisz | D12: Tenisz | E12: II.kcs Tenisz U10 narancs labdával, P+S szabály | F12: F | G12: E | H12: B | I12: Balatonlelle-Karádi Általános Iskola és Alapfokú Művészeti Iskola | J12: Balatonlelle | K12: Szita Ádám | M12: Vári Edit
A13: Somogy Vármegyei Diáksport Szövetség | B13: Dél-Balaton DSB | C13: Tenisz | D13: Tenisz | E13: II.kcs Tenisz U10 narancs labdával, P+S szabály | F13: F | G13: E | H13: B | I13: Balatonlelle-Karádi Általános Iskola és Alapfokú Művészeti Iskola | J13: Balatonlelle | K13: Szántó János | M13: Vári Edit
A14: Somogy Vármegyei Diáksport Szövetség | B14: Dél-Balaton DSB | C14: Tenisz | D14: Tenisz | E14: II.kcs Tenisz U10 narancs labdával, P+S szabály | F14: F | G14: E | H14: B | I14: Balatonlelle-Karádi Általános Iskola és Alapfokú Művészeti Iskola | J14: Balatonlelle | K14: Szabó Péter Benedek | M14: Vári Edit
A15: Somogy Vármegyei Diáksport Szövetség | B15: Marcali DSB | C15: Tenisz | D15: Tenisz | E15: II.kcs Tenisz U10 narancs labdával, P+S szabály | F15: F | G15: E | H15: B | I15: Marcali Mikszáth Kálmán Általános Iskola | J15: Marcali | K15: Miseta Soma | M15: Magyar Viktor
A16: Somogy Vármegyei Diáksport Szövetség | B16: Kaposvár DSB | C16: Tenisz | D16: Tenisz | E16: II.kcs Tenisz U10 narancs labdával, P+S szabály | F16: F | G16: E | H16: B | I16: Lorántffy Zsuzsanna Református Óvoda, Általános Iskola, Gimnázium és Kollégium | J16: Kaposvár | K16: Kollár Bertalan Gábor | M16: Nádasdi Eszter
A17: Somogy Vármegyei Diáksport Szövetség | B17: Dél-Balaton DSB | C17: Tenisz | D17: Tenisz | E17: II.kcs Tenisz U10 narancs labdával, P+S szabály | F17: L | G17: E | H17: B | I17: Boglári Általános Iskola és Alapfokú Művészeti Iskola | J17: Balatonboglár | K17: Czene Lara | M17: Varga Zsolt
A18: Somogy Vármegyei Diáksport Szövetség | B18: Dél-Balaton DSB | C18: Tenisz | D18: Tenisz | E18: II.kcs Tenisz U10 narancs labdával, P+S szabály | F18: L | G18: E | H18: B | I18: Boglári Általános Iskola és Alapfokú Művészeti Iskola | J18: Balatonboglár | K18: Steiner Luca Gréta | M18: Varga Zsolt
... A23: Somogy Vármegyei Diáksport Szövetség | B23: Dél-Balaton DSB | C23: Tenisz | D23: Tenisz | E23: II.kcs Tenisz U10 narancs labdával, P+S szabály | F23: L | G23: E | H23: B | I23: Balatonlelle-Karádi Általános Iskola és Alapfokú Művészeti Iskola | J23: Balatonlelle | K23: Szita Róza Genovéva | M23: Vári Edit
A24: Somogy Vármegyei Diáksport Szövetség | B24: Siófok DSB | C24: Tenisz | D24: Tenisz | E24: III.kcs Tenisz U11 zöld labdával, P+S szabály | F24: F | G24: E | H24: B | I24: Siófoki Vak Bottyán János Általános Iskola és Alapfokú Művészeti Iskola | J24: Siófok | K24: Aradics Nolen | M24: Nágele Nóra | N24: Bálint Dávid
A25: Somogy Vármegyei Diáksport Szövetség | B25: Siófok DSB | C25: Tenisz | D25: Tenisz | E25: III.kcs Tenisz U11 zöld labdával, P+S szabály | F25: F | G25: E | H25: B | I25: Siófoki Vak Bottyán János Általános Iskola és Alapfokú Művészeti Iskola | J25: Siófok | K25: Orosz Zéta Krisztián | M25: Nágele Nóra | N25: Bálint Dávid
A26: Somogy Vármegyei Diáksport Szövetség | B26: Kaposvár DSB | C26: Tenisz | D26: Tenisz | E26: III.kcs Tenisz U11 zöld labdával, P+S szabály | F26: F | G26: E | H26: B | I26: Kaposvári Kodály Zoltán Központi Általános Iskola | J26: Kaposvár | K26: Ponekker Ákos | M26: Meggyes József Róbert
A27: Somogy Vármegyei Diáksport Szövetség | B27: Marcali DSB | C27: Tenisz | D27: Tenisz | E27: III.kcs Tenisz U11 zöld labdával, P+S szabály | F27: F | G27: E | H27: B | I27: Marcali Mikszáth Kálmán Általános Iskola | J27: Marcali | K27: Burkhalter Ármin | M27: Magyar Viktor
A28: Somogy Vármegyei Diáksport Szövetség | B28: Marcali DSB | C28: Tenisz | D28: Tenisz | E28: III.kcs Tenisz U11 zöld labdával, P+S szabály | F28: F | G28: E | H28: B | I28: Marcali Mikszáth Kálmán Általános Iskola | J28: Marcali | K28: Horváth Zalán Zoltán | M28: Magyar Viktor
A29: Somogy Vármegyei Diáksport Szövetség | B29: Dél-Balaton DSB | C29: Tenisz | D29: Tenisz | E29: III.kcs Tenisz U11 zöld labdával, P+S szabály | F29: F | G29: E | H29: B | I29: Balatonlelle-Karádi Általános Iskola és Alapfokú Művészeti Iskola | J29: Balatonlelle | K29: Győry Nimród Péter | M29: Vári Edit
A30: Somogy Vármegyei Diáksport Szövetség | B30: Kaposvár DSB | C30: Tenisz | D30: Tenisz | E30: III.kcs Tenisz U11 zöld labdával, P+S szabály | F30: F | G30: E | H30: B | I30: Kaposvári Kodály Zoltán Központi Általános Iskola | J30: Kaposvár | K30: Csécs-Varga Zsombor | M30: Kántor Ádám
A31: Somogy Vármegyei Diáksport Szövetség | B31: Kaposvár DSB | C31: Tenisz | D31: Tenisz | E31: III.kcs Tenisz U11 zöld labdával, P+S szabály | F31: L | G31: E | H31: B | I31: Nagyboldogasszony Római Katolikus Gimnázium, Általános Iskola és Alapfokú Művészeti Iskola | J31: Kaposvár | K31: Rengel Izabella | M31: Szerbné Szabó Katalin
A32: Somogy Vármegyei Diáksport Szövetség | B32: Dél-Balaton DSB | C32: Tenisz | D32: Tenisz | E32: III.kcs Tenisz U11 zöld labdával, P+S szabály | F32: L | G32: E | H32: B | I32: Balatonlelle-Karádi Általános Iskola és Alapfokú Művészeti Iskola | J32: Balatonlelle | K32: Tóth Szabina | M32: Vári Edit
A33: Somogy Vármegyei Diáksport Szövetség | B33: Dél-Balaton DSB | C33: Tenisz | D33: Tenisz | E33: III.kcs Tenisz U11 zöld labdával, P+S szabály | F33: L | G33: E | H33: B | I33: Balatonlelle-Karádi Általános Iskola és Alapfokú Művészeti Iskola | J33: Balatonlelle | K33: Balogh Fanni Leila | M33: Vári Edit
A34: Somogy Vármegyei Diáksport Szövetség | B34: Dél-Balaton DSB | C34: Tenisz | D34: Tenisz | E34: III.kcs Tenisz U11 zöld labdával, P+S szabály | F34: L | G34: E | H34: B | I34: Balatonlelle-Karádi Általános Iskola és Alapfokú Művészeti Iskola | J34: Balatonlelle | K34: Balázs Helka | M34: Vári Edit
A35: Somogy Vármegyei Diáksport Szövetség | B35: Dél-Balaton DSB | C35: Tenisz | D35: Tenisz | E35: III.kcs Tenisz U11 zöld labdával, P+S szabály | F35: L | G35: E | H35: B | I35: Balatonlelle-Karádi Általános Iskola és Alapfokú Művészeti Iskola | J35: Balatonlelle | K35: Dávid Borbála | M35: Vári Edit
A36: Somogy Vármegyei Diáksport Szövetség | B36: Siófok DSB | C36: Tenisz | D36: Tenisz | E36: III.kcs Tenisz U11 zöld labdával, P+S szabály | F36: L | G36: E | H36: B | I36: Siófoki Beszédes József Általános Iskola | J36: Siófok | K36: Szalay Boglárka | M36: Tarján Bence
A37: Somogy Vármegyei Diáksport Szövetség | B37: Kaposvár DSB | C37: Tenisz | D37: Tenisz | E37: IV.kcs Tenisz U12 | F37: F | G37: E | H37: B | I37: Nagyboldogasszony Római Katolikus Gimnázium, Általános Iskola és Alapfokú Művészeti Iskola | J37: Kaposvár | K37: Körmendi-Bohorquez Hugó Gábor | M37: Kertész Gabriella Ilona
A38: Somogy Vármegyei Diáksport Szövetség | B38: Kaposvár DSB | C38: Tenisz | D38: Tenisz | E38: IV.kcs Tenisz U12 | F38: F | G38: E | H38: B | I38: Kaposvári Kodály Zoltán Központi Általános Iskola | J38: Kaposvár | K38: Márkus Bence | M38: Kolumbán Kristóf
A39: Somogy Vármegyei Diáksport Szövetség | B39: Siófok DSB | C39: Tenisz | D39: Tenisz | E39: IV.kcs Tenisz U12 | F39: F | G39: E | H39: B | I39: Siófoki Vak Bottyán János Általános Iskola és Alapfokú Művészeti Iskola | J39: Siófok | K39: Kopp Ádám | M39: Nágele Nóra | N39: Bálint Dávid
A40: Somogy Vármegyei Diáksport Szövetség | B40: Siófok DSB | C40: Tenisz | D40: Tenisz | E40: IV.kcs Tenisz U12 | F40: F | G40: E | H40: B | I40: Siófoki Vak Bottyán János Általános Iskola és Alapfokú Művészeti Iskola | J40: Siófok | K40: Kapin Zétény | M40: Nágele Nóra | N40: Paszér Éva
A41: Somogy Vármegyei Diáksport Szövetség | B41: Dél-Balaton DSB | C41: Tenisz | D41: Tenisz | E41: IV.kcs Tenisz U12 | F41: F | G41: E | H41: B | I41: Boglári Általános Iskola és Alapfokú Művészeti Iskola | J41: Balatonboglár | K41: Peitler Benett | M41: Varga Zsolt
A42: Somogy Vármegyei Diáksport Szövetség | B42: Dél-Balaton DSB | C42: Tenisz | D42: Tenisz | E42: IV.kcs Tenisz U12 | F42: F | G42: E | H42: B | I42: Balatonlelle-Karádi Általános Iskola és Alapfokú Művészeti Iskola | J42: Balatonlelle | K42: Győry László Benedek | M42: Vári Edit
A43: Somogy Vármegyei Diáksport Szövetség | B43: Dél-Balaton DSB | C43: Tenisz | D43: Tenisz | E43: IV.kcs Tenisz U12 | F43: F | G43: E | H43: B | I43: Balatonlelle-Karádi Általános Iskola és Alapfokú Művészeti Iskola | J43: Balatonlelle | K43: Völcsei Misa | M43: Vári Edit
A44: Somogy Vármegyei Diáksport Szövetség | B44: Kaposvár DSB | C44: Tenisz | D44: Tenisz | E44: IV.kcs Tenisz U12 | F44: F | G44: E | H44: B | I44: Lorántffy Zsuzsanna Református Óvoda, Általános Iskola, Gimnázium és Kollégium | J44: Kaposvár | K44: Kollár Barnabás Huba | M44: Nádasdi Eszter
A45: Somogy Vármegyei Diáksport Szövetség | B45: Siófok DSB | C45: Tenisz | D45: Tenisz | E45: IV.kcs Tenisz U12 | F45: L | G45: E | H45: B | I45: Balatonszabadi Kincskereső Általános Iskola | J45: Balatonszabadi | K45: Demeter Dominika | M45: Drimmer László
A46: Somogy Vármegyei Diáksport Szövetség | B46: Dél-Balaton DSB | C46: Tenisz | D46: Tenisz | E46: IV.kcs Tenisz U12 | F46: L | G46: E | H46: B | I46: Balatonlelle-Karádi Általános Iskola és Alapfokú Művészeti Iskola | J46: Balatonlelle | K46: Sólyom Emília | M46: Vári Edit
A47: Somogy Vármegyei Diáksport Szövetség | B47: Kaposvár DSB | C47: Tenisz | D47: Tenisz | E47: V.kcs Tenisz U14 | F47: F | G47: E | H47: B | I47: Nagyboldogasszony Római Katolikus Gimnázium, Általános Iskola és Alapfokú Művészeti Iskola | J47: Kaposvár | K47: Luthár Ábel Kristóf | M47: Kertész Gabriella Ilona
A48: Somogy Vármegyei Diáksport Szövetség | B48: Siófok DSB | C48: Tenisz | D48: Tenisz | E48: V.kcs Tenisz U14 | F48: F | G48: E | H48: B | I48: Siófoki Széchenyi István Általános Iskola | J48: Siófok | K48: Hermecz Botond Pál | M48: Horváth Bence
A49: Somogy Vármegyei Diáksport Szövetség | B49: Dél-Balaton DSB | C49: Tenisz | D49: Tenisz | E49: V.kcs Tenisz U14 | F49: F | G49: E | H49: B | I49: Boglári Általános Iskola és Alapfokú Művészeti Iskola | J49: Balatonboglár | K49: Siska Miklós | M49: Varga Zsolt
A50: Somogy Vármegyei Diáksport Szövetség | B50: Dél-Balaton DSB | C50: Tenisz | D50: Tenisz | E50: V.kcs Tenisz U14 | F50: F | G50: E | H50: B | I50: Balatonlelle-Karádi Általános Iskola és Alapfokú Művészeti Iskola | J50: Balatonlelle | K50: Bejczi Ádám | M50: Vári Edit
A51: Somogy Vármegyei Diáksport Szövetség | B51: Dél-Balaton DSB | C51: Tenisz | D51: Tenisz | E51: V.kcs Tenisz U14 | F51: F | G51: E | H51: B | I51: Balatonlelle-Karádi Általános Iskola és Alapfokú Művészeti Iskola | J51: Balatonlelle | K51: Bejczi András | M51: Vári Edit
A52: Somogy Vármegyei Diáksport Szövetség | B52: Dél-Balaton DSB | C52: Tenisz | D52: Tenisz | E52: V.kcs Tenisz U14 | F52: F | G52: E | H52: B | I52: Balatonlelle-Karádi Általános Iskola és Alapfokú Művészeti Iskola | J52: Balatonlelle | K52: Mojzes Benedek | M52: Vári Edit
... A58: Somogy Vármegyei Diáksport Szövetség | B58: Marcali DSB | C58: Tenisz | D58: Tenisz | E58: V.kcs Tenisz U14 | F58: L | G58: E | H58: B | I58: Marcali Mikszáth Kálmán Általános Iskola | J58: Marcali | K58: Burkhalter Lívia | M58: Magyar Viktor
A59: Somogy Vármegyei Diáksport Szövetség | B59: Siófok DSB | C59: Tenisz | D59: Tenisz | E59: V.kcs Tenisz U14 | F59: L | G59: E | H59: B | I59: Siófoki Vak Bottyán János Általános Iskola és Alapfokú Művészeti Iskola | J59: Siófok | K59: Tóth Luca | M59: Nágele Nóra | N59: Bálint Dávid
A60: Somogy Vármegyei Diáksport Szövetség | B60: Dél-Balaton DSB | C60: Tenisz | D60: Tenisz | E60: V.kcs Tenisz U14 | F60: L | G60: E | H60: B | I60: Boglári Általános Iskola és Alapfokú Művészeti Iskola | J60: Balatonboglár | K60: Takács Zoé | M60: Varga Zsolt
A61: Somogy Vármegyei Diáksport Szövetség | B61: Dél-Balaton DSB | C61: Tenisz | D61: Tenisz | E61: V.kcs Tenisz U14 | F61: L | G61: E | H61: B | I61: Boglári Általános Iskola és Alapfokú Művészeti Iskola | J61: Balatonboglár | K61: Bodor Anna Boróka | M61: Varga Zsolt
A62: Somogy Vármegyei Diáksport Szövetség | B62: Dél-Balaton DSB | C62: Tenisz | D62: Tenisz | E62: V.kcs Tenisz U14 | F62: L | G62: E | H62: B | I62: Boglári Általános Iskola és Alapfokú Művészeti Iskola | J62: Balatonboglár | K62: Gyenis Roxána Léna | M62: Varga Zsolt
A63: Somogy Vármegyei Diáksport Szövetség | B63: Dél-Balaton DSB | C63: Tenisz | D63: Tenisz | E63: V.kcs Tenisz U14 | F63: L | G63: E | H63: B | I63: Boglári Általános Iskola és Alapfokú Művészeti Iskola | J63: Balatonboglár | K63: Antal Ramóna Loretta | M63: Varga Zsolt
A64: Somogy Vármegyei Diáksport Szövetség | B64: Dél-Balaton DSB | C64: Tenisz | D64: Tenisz | E64: V.kcs Tenisz U14 | F64: L | G64: E | H64: B | I64: Balatonlelle-Karádi Általános Iskola és Alapfokú Művészeti Iskola | J64: Balatonlelle | K64: Varga Fruzsina | M64: Vári Edit
A65: Somogy Vármegyei Diáksport Szövetség | B65: Marcali DSB | C65: Tenisz | D65: Tenisz | E65: VI.kcs Tenisz U16 | F65: F | G65: E | H65: A | I65: Balatonkeresztúri Festetics Kristóf Általános Iskola | J65: Balatonkeresztúr | K65: Kónya Roland | M65: Somogyi Zsolt István | N65: Paszér Éva
A66: Somogy Vármegyei Diáksport Szövetség | B66: Dél-Balaton DSB | C66: Tenisz | D66: Tenisz | E66: VI.kcs Tenisz U16 | F66: F | G66: E | H66: B | I66: Siófoki SZC Mathiász János Technikum, Gimnázium és Kollégium | J66: Balatonboglár | K66: Tóth Bence | M66: Vargáné Hidvéghy Édua | N66: Karaff Attila
A67: Somogy Vármegyei Diáksport Szövetség | B67: Kaposvár DSB | C67: Tenisz | D67: Tenisz | E67: VI.kcs Tenisz U16 | F67: F | G67: E | H67: B | I67: Kaposvári Csokonai Vitéz Mihály Általános Iskola, Gimnázium és Szakgimnázium | J67: Kaposvár | K67: Szöllősi Patrik | M67: Richter Sándor László
A68: Somogy Vármegyei Diáksport Szövetség | B68: Kaposvár DSB | C68: Tenisz | D68: Tenisz | E68: VI.kcs Tenisz U16 | F68: F | G68: E | H68: B | I68: Lorántffy Zsuzsanna Református Óvoda, Általános Iskola, Gimnázium és Kollégium | J68: Kaposvár | K68: Tóth Ákos | M68: Méng Zoltán | N68: Solymosi Kristóf
A69: Somogy Vármegyei Diáksport Szövetség | B69: Siófok DSB | C69: Tenisz | D69: Tenisz | E69: VI.kcs Tenisz U16 | F69: F | G69: E | H69: B | I69: Siófoki SZC Krúdy Gyula Technikum és Gimnázium | J69: Siófok | K69: Antal-Tizedes Bruno | M69: Boda Árpád
A70: Somogy Vármegyei Diáksport Szövetség | B70: Siófok DSB | C70: Tenisz | D70: Tenisz | E70: VI.kcs Tenisz U16 | F70: F | G70: E | H70: B | I70: Siófoki Beszédes József Általános Iskola | J70: Siófok | K70: Horváth Barnabás | M70: Vörös Csaba
A71: Somogy Vármegyei Diáksport Szövetség | B71: Kaposvár DSB | C71: Tenisz | D71: Tenisz | E71: VI.kcs Tenisz U16 | F71: F | G71: E | H71: B | I71: Kaposvári SZC Noszlopy Gáspár Közgazdasági Technikum | J71: Kaposvár | K71: Fekete Bende | M71: Dovigyel Csaba
A72: Somogy Vármegyei Diáksport Szövetség | B72: Kaposvár DSB | C72: Tenisz | D72: Tenisz | E72: VI.kcs Tenisz U16 | F72: F | G72: E | H72: B | I72: Kaposvári SZC Noszlopy Gáspár Közgazdasági Technikum | J72: Kaposvár | K72: Monok Zalán | M72: Dovigyel Csaba
A73: Somogy Vármegyei Diáksport Szövetség | B73: Kaposvár DSB | C73: Tenisz | D73: Tenisz | E73: VI.kcs Tenisz U16 | F73: F | G73: E | H73: B | I73: Kaposvári SZC Noszlopy Gáspár Közgazdasági Technikum | J73: Kaposvár | K73: Eperi Péter Koppány | M73: Dovigyel Csaba
A74: Somogy Vármegyei Diáksport Szövetség | B74: Kaposvár DSB | C74: Tenisz | D74: Tenisz | E74: VI.kcs Tenisz U16 | F74: F | G74: E | H74: B | I74: Kaposvári Táncsics Mihály Gimnázium | J74: Kaposvár | K74: Komáromi Gergő | M74: Szabó Dávid János
A75: Somogy Vármegyei Diáksport Szövetség | B75: Siófok DSB | C75: Tenisz | D75: Tenisz | E75: VI.kcs Tenisz U16 | F75: L | G75: E | H75: A | I75: Siófoki Perczel Mór Gimnázium és Kollégium | J75: Siófok | K75: Bors Liza | M75: Horváth Csaba
A76: Somogy Vármegyei Diáksport Szövetség | B76: Kaposvár DSB | C76: Tenisz | D76: Tenisz | E76: VI.kcs Tenisz U16 | F76: L | G76: E | H76: B | I76: Kaposvári Munkácsy Mihály Gimnázium | J76: Kaposvár | K76: Csernák Fruzsina | M76: Horváth Kornél János
A77: Somogy Vármegyei Diáksport Szövetség | B77: Kaposvár DSB | C77: Tenisz | D77: Tenisz | E77: VI.kcs Tenisz U16 | F77: L | G77: E | H77: B | I77: Kaposvári Táncsics Mihály Gimnázium | J77: Kaposvár | K77: Erdős Hedvig | M77: Szabó Dávid János
A78: Somogy Vármegyei Diáksport Szövetség | B78: Kaposvár DSB | C78: Tenisz | D78: Tenisz | E78: VI.kcs Tenisz U16 | F78: L | G78: E | H78: B | I78: Kaposvári Táncsics Mihály Gimnázium | J78: Kaposvár | K78: Péterfi Zsófia | M78: Szabó Dávid János
A79: Somogy Vármegyei Diáksport Szövetség | B79: Kaposvár DSB | C79: Tenisz | D79: Tenisz | E79: VI.kcs Tenisz U16 | F79: L | G79: E | H79: B | I79: Kaposvári Táncsics Mihály Gimnázium | J79: Kaposvár | K79: Madarász Jázmin Zoé | M79: Szabó Dávid János
A80: Somogy Vármegyei Diáksport Szövetség | B80: Siófok DSB | C80: Tenisz | D80: Tenisz | E80: VI.kcs Tenisz U16 | F80: L | G80: E | H80: B | I80: Siófoki Perczel Mór Gimnázium és Kollégium | J80: Siófok | K80: Tóth Lilla | M80: Horváth Csaba
A81: Somogy Vármegyei Diáksport Szövetség | B81: Siófok DSB | C81: Tenisz | D81: Tenisz | E81: VIII.kcs Tenisz U18+ | F81: F | G81: E | H81: A | I81: Siófoki Perczel Mór Gimnázium és Kollégium | J81: Siófok | K81: Fehér Csongor Barnabás | M81: Horváth Csaba
A82: Somogy Vármegyei Diáksport Szövetség | B82: Dél-Balaton DSB | C82: Tenisz | D82: Tenisz | E82: VIII.kcs Tenisz U18+ | F82: F | G82: E | H82: B | I82: Siófoki SZC Mathiász János Technikum, Gimnázium és Kollégium | J82: Balatonboglár | K82: Tirászi Zoltán | M82: Vargáné Hidvéghy Édua | N82: Paszér Éva
A83: Somogy Vármegyei Diáksport Szövetség | B83: Kaposvár DSB | C83: Tenisz | D83: Tenisz | E83: VIII.kcs Tenisz U18+ | F83: L | G83: E | H83: A | I83: Kaposvári Munkácsy Mihály Gimnázium | J83: Kaposvár | K83: Pór Zsófia | M83: Horváth Kornél János
A84: Somogy Vármegyei Diáksport Szövetség | B84: Siófok DSB | C84: Tenisz | D84: Tenisz | E84: VIII.kcs Tenisz U18+ | F84: L | G84: E | H84: A | I84: Siófoki Perczel Mór Gimnázium és Kollégium | J84: Siófok | K84: Prédl Jázmin | M84: Szigeti Attila
A85: Somogy Vármegyei Diáksport Szövetség | B85: Siófok DSB | C85: Tenisz | D85: Tenisz | E85: VIII.kcs Tenisz U18+ | F85: L | G85: E | H85: B | I85: Siófoki Perczel Mór Gimnázium és Kollégium | J85: Siófok | K85: Fasching Fanni Terézia | M85: Horváth Csaba
A86: Somogy Vármegyei Diáksport Szövetség | B86: Kaposvár DSB | C86: Tenisz | D86: Tenisz | E86: VII.kcs Tenisz U18 | F86: F | G86: E | H86: B | I86: Kaposvári SZC Noszlopy Gáspár Közgazdasági Technikum | J86: Kaposvár | K86: Stefler Mátyás | M86: Könye Szabolcs
A87: Somogy Vármegyei Diáksport Szövetség | B87: Siófok DSB | C87: Tenisz | D87: Tenisz | E87: VII.kcs Tenisz U18 | F87: F | G87: E | H87: B | I87: Siófoki Perczel Mór Gimnázium és Kollégium | J87: Siófok | K87: Körmendy Péter Zoltán | M87: Horváth Csaba
A88: Somogy Vármegyei Diáksport Szövetség | B88: Siófok DSB | C88: Tenisz | D88: Tenisz | E88: VII.kcs Tenisz U18 | F88: F | G88: E | H88: B | I88: Siófoki Perczel Mór Gimnázium és Kollégium | J88: Siófok | K88: Lindemann Zalán | M88: Horváth Csaba
A89: Somogy Vármegyei Diáksport Szövetség | B89: Siófok DSB | C89: Tenisz | D89: Tenisz | E89: VII.kcs Tenisz U18 | F89: F | G89: E | H89: B | I89: Siófoki Perczel Mór Gimnázium és Kollégium | J89: Siófok | K89: Kovács Gábor Bence | M89: Szigeti Attila
A90: Somogy Vármegyei Diáksport Szövetség | B90: Dél-Balaton DSB | C90: Tenisz | D90: Tenisz | E90: VII.kcs Tenisz U18 | F90: F | G90: E | H90: B | I90: Mátyás Király Gimnázium és Kollégium | J90: Fonyód | K90: Zelei Kristóf | M90: Biró Martin
A91: Somogy Vármegyei Diáksport Szövetség | B91: Kaposvár DSB | C91: Tenisz | D91: Tenisz | E91: VII.kcs Tenisz U18 | F91: F | G91: E | H91: B | I91: Kaposvári Táncsics Mihály Gimnázium | J91: Kaposvár | K91: Gergely Márton | M91: Falvai Dániel
A92: Somogy Vármegyei Diáksport Szövetség | B92: Kaposvár DSB | C92: Tenisz | D92: Tenisz | E92: VII.kcs Tenisz U18 | F92: L | G92: E | H92: A | I92: Kaposvári Munkácsy Mihály Gimnázium | J92: Kaposvár | K92: Ferenczi-Balogh Anna | M92: Pósfai Adrienn
A93: Somogy Vármegyei Diáksport Szövetség | B93: Siófok DSB | C93: Tenisz | D93: Tenisz | E93: VII.kcs Tenisz U18 | F93: L | G93: E | H93: A | I93: Siófoki Perczel Mór Gimnázium és Kollégium | J93: Siófok | K93: Szokodi Eszter Dorka | M93: Horváth Csaba
A94: Somogy Vármegyei Diáksport Szövetség | B94: Kaposvár DSB | C94: Tenisz | D94: Tenisz | E94: VII.kcs Tenisz U18 | F94: L | G94: E | H94: B | I94: Kaposvári Táncsics Mihály Gimnázium | J94: Kaposvár | K94: Maljusin Eliza | M94: Prukner-Sas Médea
... A97: Somogy Vármegyei Diáksport Szövetség | B97: Siófok DSB | C97: Tenisz | D97: Tenisz | E97: VII.kcs Tenisz U18 | F97: L | G97: E | H97: B | I97: Siófoki Perczel Mór Gimnázium és Kollégium | J97: Siófok | K97: Katus Kamilla Berta | M97: Horváth Csaba

Sheet Játékrend_csütörtök
A1: JÁTÉKREND
A2: Somogy Vármegyei Tenisz Diákolimpia - Balatonboglár, 2026.04.23.
A4: Előre tervezett | B4: Pályára ment | C4: vsz | D4: pálya | G4: eredmény
A5: Piros pálya
A6: 9:00 | C6: B-U8-P-F | D6: 12/1 | E6: Ecsődi Zsombor | F6: Magyar Zétény
D7: 12/2 | E7: Szita Léna | F7: Lovász Dávid
A8: utána | D8: 12/1 | E8: Ecsődi Zsombor | F8: Szita Léna
D9: 12/2 | E9: Magyar Zétény | F9: Lovász Dávid
A10: utána | D10: 12/1 | E10: Lovász Dávid | F10: Ecsődi Zsombor
D11: 12/2 | E11: Magyar Zétény | F11: Szita Léna
A12: Narancs pálya
A13: 9:00 | C13: B-U10-N-F | D13: 9 | E13: Balogh Benett Áron | F13: Szalai-Szollár Máté
D14: 10 | E14: Mázsa Zsombor | F14: Miseta Soma
D15: 11 | E15: Kollár Bertalan Gábor | F15: Jovánczai Barna
A16: 9:20 | C16: B-U10-N-L | D16: 9 | E16: Czene Lara | F16: Steiner Luca Gréta
D17: 10 | E17: Székely Lulu Sára | F17: Szita Róza Genovéva
D18: 11 | E18: Mátyás Emma | F18: Torma Tamara
A19: 9:40 | C19: B-U10-N-F | D19: 9 | E19: Szalai-Szollár Máté | F19: Szabó Péter Benedek
D20: 10 | E20: Miseta Soma | F20: Szántó János
D21: 11 | E21: Kollár Bertalan Gábor | F21: Szita Ádám
A22: 10:00 | C22: B-U10-N-L | D22: 9 | E22: Steiner Luca Gréta | F22: Könnyid-Kovács Judit
D23: 10 | E23: Szita Róza Genovéva | F23: Mátyás Emma
D24: 11 | E24: Torma Tamara | F24: Székely Lulu Sára
A25: 10:20 | C25: B-U10-N-F | D25: 9 | E25: Szabó Péter Benedek | F25: Balogh Benett Áron
D26: 10 | E26: Szántó János | F26: Miseta Soma
D27: 11 | E27: Szita Ádám | F27: Jovánczai Barna
A28: 10:40 | C28: B-U10-N-L | D28: 9 | E28: Könnyid-Kovács Judit | F28: Czene Lara
D29: 10 | E29: Mátyás Emma | F29: Székely Lulu Sára
D30: 11 | E30: Szita Róza Genovéva | F30: Torma Tamara
A31: 11:00 | C31: B-U10-N-F | D31: 9 | E31: B1 | F31: C1
C32: A-U10-N-F | D32: 10 | E32: Illés-Maróthy Bence | F32: Johancsik Nimród
A33: utána | B33: Döntő | C33: B-U10-N-L | D33: 9
B34: 3.hely | D34: 10
B35: 5.hely | D35: 11
A36: utána | C36: B-U10-N-F | D36: 9 | E36: C1 | F36: A1
D37: 10 | E37: A1 | F37: B1
A38: Zöld pálya és B-U12-L és A-U18-L
A39: 9:00 | C39: B-U11-Z-F | D39: 13 | E39: Horváth Zalán Zoltán | F39: Orosz Zéta Krisztián
D40: 14 | E40: Ponekker Ákos | F40: Győry Nimród Péter
D41: 3 | E41: Csécs-Varga Zsombor | F41: Burkhalter Ármin
C42: B-U12-L | D42: 4 | E42: Demeter Dominika | F42: Sólyom Emília
A43: 9:30 | C43: B-U11-Z-L | D43: 13 | E43: Tóth Szabina | F43: Balogh Fanni Leila
D44: 14 | E44: Dávid Borbála | F44: Szalay Boglárka
A45: 10:00 | C45: B-U11-Z-F | D45: 13 | E45: Orosz Zéta Krisztián | F45: Győry Nimród Péter
D46: 14 | E46: Ponekker Ákos | F46: Horváth Zalán Zoltán
D47: 3 | E47: Csécs-Varga Zsombor | F47: Aradics Nolen
C48: A-U18-L | D48: 4 | E48: Ferenczi-Balogh Anna | F48: Szokodi Eszter Dorka
A49: 10:30 | C49: B-U11-Z-L | D49: 13 | E49: Balogh Fanni Leila | F49: Rengel Izabella
D50: 14 | E50: Szalay Boglárka | F50: Balázs Helka
A51: 11:00 | C51: B-U11-Z-F | D51: 13 | E51: Győry Nimród Péter | F51: Horváth Zalán Zoltán
D52: 14 | E52: Orosz Zéta Krisztián | F52: Ponekker Ákos
D53: 3 | E53: Aradics Nolen | F53: Burkhalter Ármin
A54: 11:30 | C54: B-U11-Z-L | D54: 13 | E54: Rengel Izabella | F54: Tóth Szabina
D55: 14 | E55: Balázs Helka | F55: Dávid Borbála
A56: 12:00 | B56: Döntő | C56: B-U11-Z-F | D56: 13
B57: 3. hely | D57: 14
B58: 5. hely | D58: 11
A59: 12:30 | B59: Döntő | C59: B-U11-Z-L | D59: 13
B60: 3. hely | D60: 14
B61: 5. hely | D61: 11
A62: B-U16-L és B-U18-L
A63: 9:00 | C63: B-U16-L | D63: 1 | E63: Erdős Hedvig | F63: Madarász Jázmin Zoé
D64: 2 | E64: Péterfi Zsófia | F64: Csernák Fruzsina
A65: 9:45 | C65: B-U18-L | D65: 1 | E65: Dienes Borbála | F65: Katus Kamilla Berta
D66: 2 | E66: Varga Luca | F66: Maljusin Eliza
A67: 10:30 | C67: B-U16-L | D67: 1 | E67: Csernák Fruzsina | F67: Erdős Hedvig
D68: 2 | E68: Madarász Jázmin Zoé | F68: Tóth Lilla
A69: 11:15 | C69: B-U18-L | D69: 1 | E69: Katus Kamilla Berta | F69: Varga Luca
D70: 2 | E70: Maljusin Eliza | F70: Dienes Borbála
A71: 12:00 | C71: B-U16-L | D71: 1 | E71: Tóth Lilla | F71: Csernák Fruzsina
D72: 2 | E72: Erdős Hedvig | F72: Péterfi Zsófia
A73: 12:45 | C73: B-U18-L | D73: 1 | E73: Varga Luca | F73: Dienes Borbála
D74: 2 | E74: Katus Kamilla Berta | F74: Maljusin Eliza
A75: 13:30 | C75: B-U16-L | D75: 1 | E75: Péterfi Zsófia | F75: Tóth Lilla
D76: 2 | E76: Csernák Fruzsina | F76: Madarász Jázmin Zoé
A77: utána | D77: 1 | E77: Tóth Lilla | F77: Erdős Hedvig
D78: 2 | E78: Madarász Jázmin Zoé | F78: Péterfi Zsófia | O78: 0.625 | P78: 1,2,
A79: A-U14-L és A-U18+-L
A80: 11:30 | C80: A-U14-L | D80: 3 | E80: Balogh Rebeka Bella | F80: Bors Panna
A81: 12:15 | C81: A-U18+-L | D81: 3 | E81: Pór Zsófia | F81: Prédl Jázmin
A82: 13:00 | C82: A-U14-L | D82: 3 | E82: Bors Panna | F82: Győry Anna
A83: utána | D83: 3 | E83: Győry Anna | F83: Balogh Rebeka Bella
A84: B-U12-F és B-U14-F és B-U16-F és B-U14-L
A85: 9:00 | C85: B-U12-F | D85: 5 | E85: Győry László Benedek | F85: Kollár Barnabás Huba
D86: 6 | E86: Körmendi-Bohorquez Hugó Gábor | F86: Kopp Ádám
D87: 7 | E87: Peitler Benett | F87: Márkus Bence
D88: 8 | E88: Völcsei Misa | F88: Kapin Zétény
A89: 9:45 | C89: B-U14-F | D89: 5 | E89: Mojzes Benedek | F89: Luthár Ábel Kristóf
D90: 6 | E90: Hermcz Botond Pál | F90: Siska Miklós
C91: B-U16-F | D91: 7 | E91: Horváth Barnabás | F91: Tóth Ákos
C92: B-U14-L | D92: 8 | E92: Antal Ramóna Loretta | F92: Varga Fruzsina
A93: 10:30 | B93: elődöntő | C93: B-U12-F | D93: 5
B94: elődöntő | D94: 6
C95: B-U14-F | D95: 7 | E95: Mojzes Benedek | F95: Bejczi Ádám
D96: 8 | E96: Hermcz Botond Pál | F96: Bejczi András
A97: 11:15 | C97: B-U14-L | D97: 5 | E97: Ősz Bianka | F97: Bodor Anna Boróka
D98: 6 | E98: Gyenis Roxána Léna | F98: Keszthelyi Nóra
D99: 7 | E99: Burkhalter Lívia | F99: Antal/Varga
D100: 8 | E100: Takács Zoé | F100: Tóth Luca
A101: 12:00 | B101: Döntő | C101: B-U12-F | D101: 5
...

Sheet B-I.kcs.-U8-P-F
A1: =[1]Altalanos!$A$6 -> Somogy Vármegyei Tenisz DO B kategória - Fiú | H1: Egyéni főtábla | AB1: =IF(Y5=1,CONCATENATE(VLOOKUP(Y3,AA16:AH27,2)),CONCATENATE(VLOOKUP(Y3,AA2:AK13,2))) -> #N/A | AC1: =IF(Y5=1,CONCATENATE(VLOOKUP(Y3,AA16:AK27,3)),CONCATENATE(VLOOKUP(Y3,AA2:AK13,3))) -> #N/A | AD1: =IF(Y5=1,CONCATENATE(VLOOKUP(Y3,AA16:AK27,4)),CONCATENATE(VLOOKUP(Y3,AA2:AK13,4))) -> #N/A | AE1: =IF(Y5=1,CONCATENATE(VLOOKUP(Y3,AA16:AK27,5)),CONCATENATE(VLOOKUP(Y3,AA2:AK13,5))) -> #N/A | AF1: =IF(Y5=1,CONCATENATE(VLOOKUP(Y3,AA16:AK27,6)),CONCATENATE(VLOOKUP(Y3,AA2:AK13,6))) -> #N/A | AG1: =IF(Y5=1,CONCATENATE(VLOOKUP(Y3,AA16:AK27,7)),CONCATENATE(VLOOKUP(Y3,AA2:AK13,7))) -> #N/A | AH1: =IF(Y5=1,CONCATENATE(VLOOKUP(Y3,AA16:AK27,8)),CONCATENATE(VLOOKUP(Y3,AA2:AK13,8))) -> #N/A | AI1: =IF(Y5=1,CONCATENATE(VLOOKUP(Y3,AA16:AK27,9)),CONCATENATE(VLOOKUP(Y3,AA2:AK13,9))) -> #N/A | AJ1: =IF(Y5=1,CONCATENATE(VLOOKUP(Y3,AA16:AK27,10)),CONCATENATE(VLOOKUP(Y3,AA2:AK13,10))) -> #N/A | AK1: =IF(Y5=1,CONCATENATE(VLOOKUP(Y3,AA16:AK27,11)),CONCATENATE(VLOOKUP(Y3,AA2:AK13,11))) -> #N/A
A2: Versenyszám: | E2: =[1]Altalanos!$A$8 -> I.kcs.-U8-P-F | AA2: A | AB2: 150 | AC2: 120 | AD2: 100 | AE2: 80 | AF2: 70 | AG2: 60 | AH2: 55 | AI2: 50 | AJ2: 45 | AK2: 40
A3: Dátum | E3: Város | H3: Kategória | L3: Versenybíró | Q3: 1 FORDULÓ | R3: B - C | Y3: =IF(H4="OB","A",IF(H4="IX","W",H4)) -> 0 | AA3: I | AB3: 120 | AC3: 90 | AD3: 65 | AE3: 55 | AF3: 50 | AG3: 45 | AH3: 40 | AI3: 35 | AJ3: 25 | AK3: 20
A4: =[1]Altalanos!$A$10 -> 46135 | E4: =[1]Altalanos!$C$10 -> Balatonboglár | L4: =[1]Altalanos!$E$10 -> Nagyistók-Nádasi Judit | Q4: 2 FORDULÓ | R4: C - A | AA4: II | AB4: 90 | AC4: 60 | AD4: 45 | AE4: 34 | AF4: 27 | AG4: 22 | AH4: 18 | AI4: 15 | AJ4: 12 | AK4: 9
B5: kiem | C5: kódszám | D5: Rangsor | E5: Vezetéknév | G5: Keresztnév | I5: Egyesület | K5: Helyezés | L5: Pontszám | M5: Bónusz | Q5: 3 FORDULÓ | R5: A - B | Y5: =IF(OR([1]Altalanos!$A$8="F1",[1]Altalanos!$A$8="F2",[1]Altalanos!$A$8="N1",[1]Altalanos!$A$8="N2"),1,2) -> 2 | AA5: III | AB5: 60 | AC5: 40 | AD5: 30 | AE5: 20 | AF5: 18 | AG5: 15 | AH5: 12 | AI5: 10 | AJ5: 8 | AK5: 6
AA6: IV | AB6: 40 | AC6: 25 | AD6: 18 | AE6: 13 | AF6: 10 | AG6: 8 | AH6: 6 | AI6: 5 | AJ6: 4 | AK6: 3
A7: A | B7: 2 | C7: =IF($B7="","",VLOOKUP($B7,'I.kcs.-U8-P-F elo'!$A$7:$O$22,5)) -> 180313 | D7: =IF($B7="","",VLOOKUP($B7,'I.kcs.-U8-P-F elo'!$A$7:$O$22,15)) -> 0 | E7: =UPPER(IF($B7="","",VLOOKUP($B7,'I.kcs.-U8-P-F elo'!$A$7:$O$22,2))) -> LOVÁSZ | G7: =IF($B7="","",VLOOKUP($B7,'I.kcs.-U8-P-F elo'!$A$7:$O$22,3)) -> Dávid | I7: =IF($B7="","",VLOOKUP($B7,'I.kcs.-U8-P-F elo'!$A$7:$O$22,4)) -> B.lelle-Karádi Ált.Isk.és AMI | K7: III. | AA7: V | AB7: 25 | AC7: 15 | AD7: 13 | AE7: 8 | AF7: 6 | AG7: 4 | AH7: 3 | AI7: 2 | AJ7: 1 | AK7: 0
AA8: VI | AB8: 15 | AC8: 10 | AD8: 7 | AE8: 5 | AF8: 4 | AG8: 3 | AH8: 2 | AI8: 1 | AJ8: 0 | AK8: 0
A9: B | B9: 1 | C9: =IF($B9="","",VLOOKUP($B9,'I.kcs.-U8-P-F elo'!$A$7:$O$22,5)) -> 180725 | D9: =IF($B9="","",VLOOKUP($B9,'I.kcs.-U8-P-F elo'!$A$7:$O$22,15)) -> 0 | E9: =UPPER(IF($B9="","",VLOOKUP($B9,'I.kcs.-U8-P-F elo'!$A$7:$O$22,2))) -> ECSŐDI | G9: =IF($B9="","",VLOOKUP($B9,'I.kcs.-U8-P-F elo'!$A$7:$O$22,3)) -> Zsombor | I9: =IF($B9="","",VLOOKUP($B9,'I.kcs.-U8-P-F elo'!$A$7:$O$22,4)) -> Boglári Ált.Isk.és AMI | K9: II. | AA9: VII | AB9: 10 | AC9: 6 | AD9: 4 | AE9: 2 | AF9: 1 | AG9: 0 | AH9: 0 | AI9: 0 | AJ9: 0 | AK9: 0
AA10: VIII | AB10: 6 | AC10: 3 | AD10: 2 | AE10: 1 | AF10: 0 | AG10: 0 | AH10: 0 | AI10: 0 | AJ10: 0 | AK10: 0
A11: C | B11: 3 | C11: =IF($B11="","",VLOOKUP($B11,'I.kcs.-U8-P-F elo'!$A$7:$O$22,5)) -> 180726 | D11: =IF($B11="","",VLOOKUP($B11,'I.kcs.-U8-P-F elo'!$A$7:$O$22,15)) -> 0 | E11: =UPPER(IF($B11="","",VLOOKUP($B11,'I.kcs.-U8-P-F elo'!$A$7:$O$22,2))) -> MAGYAR | G11: =IF($B11="","",VLOOKUP($B11,'I.kcs.-U8-P-F elo'!$A$7:$O$22,3)) -> Zétény | I11: =IF($B11="","",VLOOKUP($B11,'I.kcs.-U8-P-F elo'!$A$7:$O$22,4)) -> Marcali Mikszáth K. Ált. Isk. | K11: I. | AA11: W | AB11: 3 | AC11: 2 | AD11: 1 | AE11: 0 | AF11: 0 | AG11: 0 | AH11: 0 | AI11: 0 | AJ11: 0 | AK11: 0
AA12: X | AB12: 0 | AC12: 0 | AD12: 0 | AE12: 0 | AF12: 0 | AG12: 0 | AH12: 0 | AI12: 0 | AJ12: 0 | AK12: 0
AA13: XI | AB13: 0 | AC13: 0 | AD13: 0 | AE13: 0 | AF13: 0 | AG13: 0 | AH13: 0 | AI13: 0 | AJ13: 0 | AK13: 0
AA16: A | AB16: 300 | AC16: 250 | AD16: 220 | AE16: 180 | AF16: 160 | AG16: 150 | AH16: 140 | AI16: 130 | AJ16: 120 | AK16: 110
AA17: I | AB17: 250 | AC17: 200 | AD17: 160 | AE17: 140 | AF17: 120 | AG17: 110 | AH17: 100 | AI17: 90 | AJ17: 80 | AK17: 70
D18: =E7 -> LOVÁSZ | F18: =E9 -> ECSŐDI | H18: =E11 -> MAGYAR | AA18: II | AB18: 200 | AC18: 150 | AD18: 130 | AE18: 110 | AF18: 95 | AG18: 80 | AH18: 70 | AI18: 60 | AJ18: 55 | AK18: 50
A19: A | B19: =E7 -> LOVÁSZ | F19: 11/15 | H19: 9/15 | AA19: III | AB19: 150 | AC19: 120 | AD19: 100 | AE19: 80 | AF19: 70 | AG19: 60 | AH19: 55 | AI19: 50 | AJ19: 45 | AK19: 40
A20: B | B20: =E9 -> ECSŐDI | D20: 15/11 | H20: 7/15 | AA20: IV | AB20: 120 | AC20: 90 | AD20: 65 | AE20: 55 | AF20: 50 | AG20: 45 | AH20: 40 | AI20: 35 | AJ20: 25 | AK20: 20
A21: C | B21: =E11 -> MAGYAR | D21: 15/9 | F21: 15/7 | AA21: V | AB21: 90 | AC21: 60 | AD21: 45 | AE21: 34 | AF21: 27 | AG21: 22 | AH21: 18 | AI21: 15 | AJ21: 12 | AK21: 9
AA22: VI | AB22: 60 | AC22: 40 | AD22: 30 | AE22: 20 | AF22: 18 | AG22: 15 | AH22: 12 | AI22: 10 | AJ22: 8 | AK22: 6
AA23: VII | AB23: 40 | AC23: 25 | AD23: 18 | AE23: 13 | AF23: 8 | AG23: 7 | AH23: 6 | AI23: 5 | AJ23: 4 | AK23: 3
AA24: VIII | AB24: 25 | AC24: 15 | AD24: 13 | AE24: 7 | AF24: 6 | AG24: 5 | AH24: 4 | AI24: 3 | AJ24: 2 | AK24: 1
AA25: W | AB25: 15 | AC25: 10 | AD25: 8 | AE25: 4 | AF25: 3 | AG25: 2 | AH25: 1 | AI25: 0 | AJ25: 0 | AK25: 0
AA26: X | AB26: 10 | AC26: 6 | AD26: 4 | AE26: 2 | AF26: 1 | AG26: 0 | AH26: 0 | AI26: 0 | AJ26: 0 | AK26: 0
AA27: XI | AB27: 3 | AC27: 2 | AD27: 1 | AE27: 0 | AF27: 0 | AG27: 0 | AH27: 0 | AI27: 0 | AJ27: 0 | AK27: 0
A33: Rangsor | D33: # | E33: Kiemeltek | G33: # | H33: Szerencés Vesztes | J33: Helyettesíti | K33: Sorsolás időpontja
A34: Dátuma | G34: 1 | K34: Utolsó elfogadott játékos
A35: Utolsó DA | G35: 2
G36: 3 | K36: Sorsoló játékosok
G37: 4
G38: 5
G39: 6 | K39: Versenybíró aláírása
G40: 7
G41: 8 | K41: =L4 -> Nagyistók-Nádasi Judit

Sheet II.kcs.-U10-N-F elo
A1: =[1]Altalanos!$A$6 -> Somogy Vármegyei Tenisz DO B kategória - Fiú | E1: Egyéni főtábla
B2: Versenyszám: | C2: =[1]Altalanos!$B$8 -> II.kcs.-U10-N-F | E2: ELŐKÉSZÍTŐ LISTA
A3: NE TÖRÖLD KI EZT AZ OLDALT! | N3: Versenybíró aláírása
A4: Dátum | C4: Város | D4: Kategória | H4: Versenybíró
A5: =[1]Altalanos!$A$10 -> 46135 | C5: =[1]Altalanos!$C$10 -> Balatonboglár | D5: =[1]Altalanos!$D$10 | H5: =[1]Altalanos!$E$10 -> Nagyistók-Nádasi Judit
A6: Sor | B6: Családi név | C6: Keresztnév | D6: Egyesület | E6: Kódszám | F6: Nevezett Igen | G6: Aláírás | H6: Nevezési rangsor | J6: NatSort if not Seed | K6: NatSort | L6: Seed Sort | M6: AccBasic | N6: Elfogadási státusz | O6: Sorsolási rangsor | P6: AccSort | Q6: Kiemelés
A7: 1 | B7: Balogh | C7: Benett Áron | D7: Boglári Ált. Isk.és AMI | E7: 171011
A8: 2 | B8: Jovánczai | C8: Barna | D8: Kaposvári Kodály Z.Közp.Ált.Isk. | E8: 160616
A9: 3 | B9: Kollár | C9: Bertalan Gábor | D9: Lórántffy Zs. Kaposvár | E9: 170121 | S9: Boglári Általános Iskola és Alapfokú Művészeti Iskola
A10: 4 | B10: Mázsa | C10: Zsombor | D10: Lórántffy Zs. Kaposvár | E10: 170706 | S10: Kaposvári Kodály Zoltán Központi Általános Iskola
A11: 5 | B11: Miseta | C11: Soma | D11: Marcali Mikszáth K. Ált. Isk. | E11: 160923 | S11: Lorántffy Zsuzsanna Ref, Óvoda, Ált. Isk., Gimn, és Koll. Kaposvár
A12: 6 | B12: Szabó | C12: Péter Benedek | D12: B.lelle-Karádi Ált. Isk. és AMI | E12: 160814
A13: 7 | B13: Szalai-Szollár | C13: Máté | D13: B.szemesi Reich Károly Ált. Isk. | E13: 170729
A14: 8 | B14: Szántó | C14: János | D14: B.lelle-Karádi Ált. Isk. és AMI | E14: 170830
A15: 9 | B15: Szita | C15: Ádám | D15: B.lelle-Karádi Ált. Isk. és AMI | E15: 160329
A16: 10
A17: 11
A18: 12 | D18: Lórántffy Zsuzsanna Ref.Óvoda,Ált.Isk.,Gimn.és Koll. Kaposvár
A19: 13
A20: 14
A21: 15
A22: 16
A23: 17
A24: 18
A25: 19
A26: 20
A27: 21
A28: 22
A29: 23
A30: 24
... A39: 33
A40: 34 | J40: =IF(AND(Q40="",#REF!>0,#REF!<5),K40,) -> #REF! | K40: =IF(D40="","ZZZ9",IF(AND(#REF!>0,#REF!<5),D40&#REF!,D40&"9")) -> ZZZ9 | L40: =IF(Q40="",999,Q40) -> 999 | M40: =IF(P40=999,999,1) -> 999 | P40: =IF(N40="DA",1,IF(N40="WC",2,IF(N40="SE",3,IF(N40="Q",4,IF(N40="LL",5,999))))) -> 999
A41: 35 | J41: =IF(AND(Q41="",#REF!>0,#REF!<5),K41,) -> #REF! | K41: =IF(D41="","ZZZ9",IF(AND(#REF!>0,#REF!<5),D41&#REF!,D41&"9")) -> ZZZ9 | L41: =IF(Q41="",999,Q41) -> 999 | M41: =IF(P41=999,999,1) -> 999 | P41: =IF(N41="DA",1,IF(N41="WC",2,IF(N41="SE",3,IF(N41="Q",4,IF(N41="LL",5,999))))) -> 999
A42: 36 | J42: =IF(AND(Q42="",#REF!>0,#REF!<5),K42,) -> #REF! | K42: =IF(D42="","ZZZ9",IF(AND(#REF!>0,#REF!<5),D42&#REF!,D42&"9")) -> ZZZ9 | L42: =IF(Q42="",999,Q42) -> 999 | M42: =IF(P42=999,999,1) -> 999 | P42: =IF(N42="DA",1,IF(N42="WC",2,IF(N42="SE",3,IF(N42="Q",4,IF(N42="LL",5,999))))) -> 999
A43: 37 | J43: =IF(AND(Q43="",#REF!>0,#REF!<5),K43,) -> #REF! | K43: =IF(D43="","ZZZ9",IF(AND(#REF!>0,#REF!<5),D43&#REF!,D43&"9")) -> ZZZ9 | L43: =IF(Q43="",999,Q43) -> 999 | M43: =IF(P43=999,999,1) -> 999 | P43: =IF(N43="DA",1,IF(N43="WC",2,IF(N43="SE",3,IF(N43="Q",4,IF(N43="LL",5,999))))) -> 999
A44: 38 | J44: =IF(AND(Q44="",#REF!>0,#REF!<5),K44,) -> #REF! | K44: =IF(D44="","ZZZ9",IF(AND(#REF!>0,#REF!<5),D44&#REF!,D44&"9")) -> ZZZ9 | L44: =IF(Q44="",999,Q44) -> 999 | M44: =IF(P44=999,999,1) -> 999 | P44: =IF(N44="DA",1,IF(N44="WC",2,IF(N44="SE",3,IF(N44="Q",4,IF(N44="LL",5,999))))) -> 999
A45: 39 | J45: =IF(AND(Q45="",#REF!>0,#REF!<5),K45,) -> #REF! | K45: =IF(D45="","ZZZ9",IF(AND(#REF!>0,#REF!<5),D45&#REF!,D45&"9")) -> ZZZ9 | L45: =IF(Q45="",999,Q45) -> 999 | M45: =IF(P45=999,999,1) -> 999 | P45: =IF(N45="DA",1,IF(N45="WC",2,IF(N45="SE",3,IF(N45="Q",4,IF(N45="LL",5,999))))) -> 999
A46: 40 | J46: =IF(AND(Q46="",#REF!>0,#REF!<5),K46,) -> #REF! | K46: =IF(D46="","ZZZ9",IF(AND(#REF!>0,#REF!<5),D46&#REF!,D46&"9")) -> ZZZ9 | L46: =IF(Q46="",999,Q46) -> 999 | M46: =IF(P46=999,999,1) -> 999 | P46: =IF(N46="DA",1,IF(N46="WC",2,IF(N46="SE",3,IF(N46="Q",4,IF(N46="LL",5,999))))) -> 999
A47: 41 | J47: =IF(AND(Q47="",#REF!>0,#REF!<5),K47,) -> #REF! | K47: =IF(D47="","ZZZ9",IF(AND(#REF!>0,#REF!<5),D47&#REF!,D47&"9")) -> ZZZ9 | L47: =IF(Q47="",999,Q47) -> 999 | M47: =IF(P47=999,999,1) -> 999 | P47: =IF(N47="DA",1,IF(N47="WC",2,IF(N47="SE",3,IF(N47="Q",4,IF(N47="LL",5,999))))) -> 999
A48: 42 | J48: =IF(AND(Q48="",#REF!>0,#REF!<5),K48,) -> #REF! | K48: =IF(D48="","ZZZ9",IF(AND(#REF!>0,#REF!<5),D48&#REF!,D48&"9")) -> ZZZ9 | L48: =IF(Q48="",999,Q48) -> 999 | M48: =IF(P48=999,999,1) -> 999 | P48: =IF(N48="DA",1,IF(N48="WC",2,IF(N48="SE",3,IF(N48="Q",4,IF(N48="LL",5,999))))) -> 999
A49: 43 | J49: =IF(AND(Q49="",#REF!>0,#REF!<5),K49,) -> #REF! | K49: =IF(D49="","ZZZ9",IF(AND(#REF!>0,#REF!<5),D49&#REF!,D49&"9")) -> ZZZ9 | L49: =IF(Q49="",999,Q49) -> 999 | M49: =IF(P49=999,999,1) -> 999 | P49: =IF(N49="DA",1,IF(N49="WC",2,IF(N49="SE",3,IF(N49="Q",4,IF(N49="LL",5,999))))) -> 999
A50: 44 | J50: =IF(AND(Q50="",#REF!>0,#REF!<5),K50,) -> #REF! | K50: =IF(D50="","ZZZ9",IF(AND(#REF!>0,#REF!<5),D50&#REF!,D50&"9")) -> ZZZ9 | L50: =IF(Q50="",999,Q50) -> 999 | M50: =IF(P50=999,999,1) -> 999 | P50: =IF(N50="DA",1,IF(N50="WC",2,IF(N50="SE",3,IF(N50="Q",4,IF(N50="LL",5,999))))) -> 999
A51: 45 | J51: =IF(AND(Q51="",#REF!>0,#REF!<5),K51,) -> #REF! | K51: =IF(D51="","ZZZ9",IF(AND(#REF!>0,#REF!<5),D51&#REF!,D51&"9")) -> ZZZ9 | L51: =IF(Q51="",999,Q51) -> 999 | M51: =IF(P51=999,999,1) -> 999 | P51: =IF(N51="DA",1,IF(N51="WC",2,IF(N51="SE",3,IF(N51="Q",4,IF(N51="LL",5,999))))) -> 999
... A156: 150 | J156: =IF(AND(Q156="",#REF!>0,#REF!<5),K156,) -> #REF! | K156: =IF(D156="","ZZZ9",IF(AND(#REF!>0,#REF!<5),D156&#REF!,D156&"9")) -> ZZZ9 | L156: =IF(Q156="",999,Q156) -> 999 | M156: =IF(P156=999,999,1) -> 999 | P156: =IF(N156="DA",1,IF(N156="WC",2,IF(N156="SE",3,IF(N156="Q",4,IF(N156="LL",5,999))))) -> 999

Sheet A-II.kcs-U10-N-F
A1: =Altalanos!$A$6 -> Somogy Vármegyei Tenisz DO A kategória | H1: Egyéni főtábla | AB1: =IF(Y5=1,CONCATENATE(VLOOKUP(Y3,AA16:AH27,2)),CONCATENATE(VLOOKUP(Y3,AA2:AK13,2))) -> #N/A | AC1: =IF(Y5=1,CONCATENATE(VLOOKUP(Y3,AA16:AK27,3)),CONCATENATE(VLOOKUP(Y3,AA2:AK13,3))) -> #N/A | AD1: =IF(Y5=1,CONCATENATE(VLOOKUP(Y3,AA16:AK27,4)),CONCATENATE(VLOOKUP(Y3,AA2:AK13,4))) -> #N/A | AE1: =IF(Y5=1,CONCATENATE(VLOOKUP(Y3,AA16:AK27,5)),CONCATENATE(VLOOKUP(Y3,AA2:AK13,5))) -> #N/A | AF1: =IF(Y5=1,CONCATENATE(VLOOKUP(Y3,AA16:AK27,6)),CONCATENATE(VLOOKUP(Y3,AA2:AK13,6))) -> #N/A | AG1: =IF(Y5=1,CONCATENATE(VLOOKUP(Y3,AA16:AK27,7)),CONCATENATE(VLOOKUP(Y3,AA2:AK13,7))) -> #N/A | AH1: =IF(Y5=1,CONCATENATE(VLOOKUP(Y3,AA16:AK27,8)),CONCATENATE(VLOOKUP(Y3,AA2:AK13,8))) -> #N/A | AI1: =IF(Y5=1,CONCATENATE(VLOOKUP(Y3,AA16:AK27,9)),CONCATENATE(VLOOKUP(Y3,AA2:AK13,9))) -> #N/A | AJ1: =IF(Y5=1,CONCATENATE(VLOOKUP(Y3,AA16:AK27,10)),CONCATENATE(VLOOKUP(Y3,AA2:AK13,10))) -> #N/A | AK1: =IF(Y5=1,CONCATENATE(VLOOKUP(Y3,AA16:AK27,11)),CONCATENATE(VLOOKUP(Y3,AA2:AK13,11))) -> #N/A
A2: Versenyszám: | E2: =Altalanos!$E$8 -> A-II.kcs-U10-N-F | AA2: A | AB2: 150 | AC2: 120 | AD2: 100 | AE2: 80 | AF2: 70 | AG2: 60 | AH2: 55 | AI2: 50 | AJ2: 45 | AK2: 40
A3: Dátum | E3: Város | H3: Kategória | L3: Versenybíró | Q3: 1 FORDULÓ | R3: B - C | Y3: =IF(H4="OB","A",IF(H4="IX","W",H4)) -> 0 | AA3: I | AB3: 120 | AC3: 90 | AD3: 65 | AE3: 55 | AF3: 50 | AG3: 45 | AH3: 40 | AI3: 35 | AJ3: 25 | AK3: 20
A4: =Altalanos!$A$10 -> 46135 | E4: =Altalanos!$C$10 -> Balatonboglár | L4: =Altalanos!$E$10 -> Nagyistók-Nádasi Judit | Q4: 2 FORDULÓ | R4: C - A | AA4: II | AB4: 90 | AC4: 60 | AD4: 45 | AE4: 34 | AF4: 27 | AG4: 22 | AH4: 18 | AI4: 15 | AJ4: 12 | AK4: 9
B5: kiem | C5: kódszám | D5: Rangsor | E5: Vezetéknév | G5: Keresztnév | I5: Egyesület | K5: Helyezés | L5: Pontszám | M5: Bónusz | Q5: 3 FORDULÓ | R5: A - B | Y5: =IF(OR(Altalanos!$A$8="F1",Altalanos!$A$8="F2",Altalanos!$A$8="N1",Altalanos!$A$8="N2"),1,2) -> 2 | AA5: III | AB5: 60 | AC5: 40 | AD5: 30 | AE5: 20 | AF5: 18 | AG5: 15 | AH5: 12 | AI5: 10 | AJ5: 8 | AK5: 6
AA6: IV | AB6: 40 | AC6: 25 | AD6: 18 | AE6: 13 | AF6: 10 | AG6: 8 | AH6: 6 | AI6: 5 | AJ6: 4 | AK6: 3
A7: A | B7: 1 | C7: =IF($B7="","",VLOOKUP($B7,'A-II.kcs-U10-N-F elo'!$A$7:$O$22,5)) -> 170213 | D7: =IF($B7="","",VLOOKUP($B7,'A-II.kcs-U10-N-F elo'!$A$7:$O$22,15)) -> 0 | E7: =UPPER(IF($B7="","",VLOOKUP($B7,'A-II.kcs-U10-N-F elo'!$A$7:$O$22,2))) -> ILLÉS-MARÓTHY | G7: =IF($B7="","",VLOOKUP($B7,'A-II.kcs-U10-N-F elo'!$A$7:$O$22,3)) -> Bence | I7: =IF($B7="","",VLOOKUP($B7,'A-II.kcs-U10-N-F elo'!$A$7:$O$22,4)) -> B.földvári Gróf Széchenyi I. Ált.Isk.és AMI | K7: II. | AA7: V | AB7: 25 | AC7: 15 | AD7: 13 | AE7: 8 | AF7: 6 | AG7: 4 | AH7: 3 | AI7: 2 | AJ7: 1 | AK7: 0
AA8: VI | AB8: 15 | AC8: 10 | AD8: 7 | AE8: 5 | AF8: 4 | AG8: 3 | AH8: 2 | AI8: 1 | AJ8: 0 | AK8: 0
A9: B | B9: 2 | C9: =IF($B9="","",VLOOKUP($B9,'A-II.kcs-U10-N-F elo'!$A$7:$O$22,5)) -> 160921 | D9: =IF($B9="","",VLOOKUP($B9,'A-II.kcs-U10-N-F elo'!$A$7:$O$22,15)) -> 0 | E9: =UPPER(IF($B9="","",VLOOKUP($B9,'A-II.kcs-U10-N-F elo'!$A$7:$O$22,2))) -> JOHANCSIK | G9: =IF($B9="","",VLOOKUP($B9,'A-II.kcs-U10-N-F elo'!$A$7:$O$22,3)) -> Nimród | I9: =IF($B9="","",VLOOKUP($B9,'A-II.kcs-U10-N-F elo'!$A$7:$O$22,4)) -> Siófoki Vak Bottyán János Ált.Isk.és AMI | K9: I. | AA9: VII | AB9: 10 | AC9: 6 | AD9: 4 | AE9: 2 | AF9: 1 | AG9: 0 | AH9: 0 | AI9: 0 | AJ9: 0 | AK9: 0
AA10: VIII | AB10: 6 | AC10: 3 | AD10: 2 | AE10: 1 | AF10: 0 | AG10: 0 | AH10: 0 | AI10: 0 | AJ10: 0 | AK10: 0
A11: C | C11: =IF($B11="","",VLOOKUP($B11,'A-II.kcs-U10-N-F elo'!$A$7:$O$22,5)) | D11: =IF($B11="","",VLOOKUP($B11,'A-II.kcs-U10-N-F elo'!$A$7:$O$22,15)) | E11: =UPPER(IF($B11="","",VLOOKUP($B11,'A-II.kcs-U10-N-F elo'!$A$7:$O$22,2))) | G11: =IF($B11="","",VLOOKUP($B11,'A-II.kcs-U10-N-F elo'!$A$7:$O$22,3)) | I11: =IF($B11="","",VLOOKUP($B11,'A-II.kcs-U10-N-F elo'!$A$7:$O$22,4)) | L11: =IF(K11="","",CONCATENATE(VLOOKUP($Y$3,$AB$1:$AK$1,K11)," pont")) | AA11: W | AB11: 3 | AC11: 2 | AD11: 1 | AE11: 0 | AF11: 0 | AG11: 0 | AH11: 0 | AI11: 0 | AJ11: 0 | AK11: 0
AA12: X | AB12: 0 | AC12: 0 | AD12: 0 | AE12: 0 | AF12: 0 | AG12: 0 | AH12: 0 | AI12: 0 | AJ12: 0 | AK12: 0
AA13: XI | AB13: 0 | AC13: 0 | AD13: 0 | AE13: 0 | AF13: 0 | AG13: 0 | AH13: 0 | AI13: 0 | AJ13: 0 | AK13: 0
AA16: A | AB16: 300 | AC16: 250 | AD16: 220 | AE16: 180 | AF16: 160 | AG16: 150 | AH16: 140 | AI16: 130 | AJ16: 120 | AK16: 110
AA17: I | AB17: 250 | AC17: 200 | AD17: 160 | AE17: 140 | AF17: 120 | AG17: 110 | AH17: 100 | AI17: 90 | AJ17: 80 | AK17: 70
D18: =E7 -> ILLÉS-MARÓTHY | F18: =E9 -> JOHANCSIK | H18: =E11 | AA18: II | AB18: 200 | AC18: 150 | AD18: 130 | AE18: 110 | AF18: 95 | AG18: 80 | AH18: 70 | AI18: 60 | AJ18: 55 | AK18: 50
A19: A | B19: =E7 -> ILLÉS-MARÓTHY | F19: 0/7 1/7 | AA19: III | AB19: 150 | AC19: 120 | AD19: 100 | AE19: 80 | AF19: 70 | AG19: 60 | AH19: 55 | AI19: 50 | AJ19: 45 | AK19: 40
A20: B | B20: =E9 -> JOHANCSIK | D20: 7/0 7/1 | AA20: IV | AB20: 120 | AC20: 90 | AD20: 65 | AE20: 55 | AF20: 50 | AG20: 45 | AH20: 40 | AI20: 35 | AJ20: 25 | AK20: 20
A21: C | B21: =E11 | AA21: V | AB21: 90 | AC21: 60 | AD21: 45 | AE21: 34 | AF21: 27 | AG21: 22 | AH21: 18 | AI21: 15 | AJ21: 12 | AK21: 9
AA22: VI | AB22: 60 | AC22: 40 | AD22: 30 | AE22: 20 | AF22: 18 | AG22: 15 | AH22: 12 | AI22: 10 | AJ22: 8 | AK22: 6
AA23: VII | AB23: 40 | AC23: 25 | AD23: 18 | AE23: 13 | AF23: 8 | AG23: 7 | AH23: 6 | AI23: 5 | AJ23: 4 | AK23: 3
AA24: VIII | AB24: 25 | AC24: 15 | AD24: 13 | AE24: 7 | AF24: 6 | AG24: 5 | AH24: 4 | AI24: 3 | AJ24: 2 | AK24: 1
AA25: W | AB25: 15 | AC25: 10 | AD25: 8 | AE25: 4 | AF25: 3 | AG25: 2 | AH25: 1 | AI25: 0 | AJ25: 0 | AK25: 0
AA26: X | AB26: 10 | AC26: 6 | AD26: 4 | AE26: 2 | AF26: 1 | AG26: 0 | AH26: 0 | AI26: 0 | AJ26: 0 | AK26: 0
AA27: XI | AB27: 3 | AC27: 2 | AD27: 1 | AE27: 0 | AF27: 0 | AG27: 0 | AH27: 0 | AI27: 0 | AJ27: 0 | AK27: 0
A33: Rangsor | D33: # | E33: Kiemeltek | G33: # | H33: Szerencés Vesztes | J33: Helyettesíti | K33: Sorsolás időpontja
A34: Dátuma | G34: 1 | K34: Utolsó elfogadott játékos
A35: Utolsó DA | G35: 2
G36: 3 | K36: Sorsoló játékosok
G37: 4
G38: 5
G39: 6 | K39: Versenybíró aláírása
G40: 7
G41: 8 | K41: =L4 -> Nagyistók-Nádasi Judit

Sheet B-II.kcs.-U10-N-L
A1: =[2]Altalanos!$A$6 -> Somogy Vármegyei Tenisz DO B kategória - Leány | H1: Egyéni főtábla | AB1: =IF(Y5=1,CONCATENATE(VLOOKUP(Y3,AA16:AH27,2)),CONCATENATE(VLOOKUP(Y3,AA2:AK13,2))) -> #N/A | AC1: =IF(Y5=1,CONCATENATE(VLOOKUP(Y3,AA16:AK27,3)),CONCATENATE(VLOOKUP(Y3,AA2:AK13,3))) -> #N/A | AD1: =IF(Y5=1,CONCATENATE(VLOOKUP(Y3,AA16:AK27,4)),CONCATENATE(VLOOKUP(Y3,AA2:AK13,4))) -> #N/A | AE1: =IF(Y5=1,CONCATENATE(VLOOKUP(Y3,AA16:AK27,5)),CONCATENATE(VLOOKUP(Y3,AA2:AK13,5))) -> #N/A | AF1: =IF(Y5=1,CONCATENATE(VLOOKUP(Y3,AA16:AK27,6)),CONCATENATE(VLOOKUP(Y3,AA2:AK13,6))) -> #N/A | AG1: =IF(Y5=1,CONCATENATE(VLOOKUP(Y3,AA16:AK27,7)),CONCATENATE(VLOOKUP(Y3,AA2:AK13,7))) -> #N/A | AH1: =IF(Y5=1,CONCATENATE(VLOOKUP(Y3,AA16:AK27,8)),CONCATENATE(VLOOKUP(Y3,AA2:AK13,8))) -> #N/A | AI1: =IF(Y5=1,CONCATENATE(VLOOKUP(Y3,AA16:AK27,9)),CONCATENATE(VLOOKUP(Y3,AA2:AK13,9))) -> #N/A | AJ1: =IF(Y5=1,CONCATENATE(VLOOKUP(Y3,AA16:AK27,10)),CONCATENATE(VLOOKUP(Y3,AA2:AK13,10))) -> #N/A | AK1: =IF(Y5=1,CONCATENATE(VLOOKUP(Y3,AA16:AK27,11)),CONCATENATE(VLOOKUP(Y3,AA2:AK13,11))) -> #N/A
A2: Versenyszám: | E2: =[2]Altalanos!$A$8 -> II.kcs.-U10-N-L | AA2: A | AB2: 150 | AC2: 120 | AD2: 100 | AE2: 80 | AF2: 70 | AG2: 60 | AH2: 55 | AI2: 50 | AJ2: 45 | AK2: 40
A3: Dátum | E3: Város | H3: Kategória | L3: Versenybíró | Q3: 1 FORDULÓ | R3: B - C | S3: A -D | Y3: =IF(H4="OB","A",IF(H4="IX","W",H4)) -> 0 | AA3: I | AB3: 120 | AC3: 90 | AD3: 65 | AE3: 55 | AF3: 50 | AG3: 45 | AH3: 40 | AI3: 35 | AJ3: 25 | AK3: 20
A4: =[2]Altalanos!$A$10 -> 46135 | E4: =[2]Altalanos!$C$10 -> Balatonboglár | L4: =[2]Altalanos!$E$10 -> Nagyistók-Nádasi Judit | Q4: 2 FORDULÓ | R4: C - A | S4: D - B | AA4: II | AB4: 90 | AC4: 60 | AD4: 45 | AE4: 34 | AF4: 27 | AG4: 22 | AH4: 18 | AI4: 15 | AJ4: 12 | AK4: 9
B5: kiem | C5: kódszám | D5: Rangsor | E5: Vezetéknév | G5: Keresztnév | I5: Egyesület | K5: Helyezés | L5: Pontszám | M5: Bónusz | Q5: 3 FORDULÓ | R5: A - B | S5: C - D | Y5: =IF(OR([2]Altalanos!$A$8="F1",[2]Altalanos!$A$8="F2",[2]Altalanos!$A$8="N1",[2]Altalanos!$A$8="N2"),1,2) -> 2 | AA5: III | AB5: 60 | AC5: 40 | AD5: 30 | AE5: 20 | AF5: 18 | AG5: 15 | AH5: 12 | AI5: 10 | AJ5: 8 | AK5: 6
AA6: IV | AB6: 40 | AC6: 25 | AD6: 18 | AE6: 13 | AF6: 10 | AG6: 8 | AH6: 6 | AI6: 5 | AJ6: 4 | AK6: 3
A7: A | B7: 2 | C7: =IF($B7="","",VLOOKUP($B7,'II.kcs.-U10-N-L elo'!$A$7:$O$22,5)) -> 160117 | D7: =IF($B7="","",VLOOKUP($B7,'II.kcs.-U10-N-L elo'!$A$7:$O$22,15)) -> 0 | E7: =UPPER(IF($B7="","",VLOOKUP($B7,'II.kcs.-U10-N-L elo'!$A$7:$O$22,2))) -> KÖNNYID-KOVÁCS | G7: =IF($B7="","",VLOOKUP($B7,'II.kcs.-U10-N-L elo'!$A$7:$O$22,3)) -> Judit | I7: =IF($B7="","",VLOOKUP($B7,'II.kcs.-U10-N-L elo'!$A$7:$O$22,4)) -> B.lelle-Karádi Ált.Isk. és AMI | K7: I. | Q7: 1 FORDULÓ | R7: E - F | S7: D - G | AA7: V | AB7: 25 | AC7: 15 | AD7: 13 | AE7: 8 | AF7: 6 | AG7: 4 | AH7: 3 | AI7: 2 | AJ7: 1 | AK7: 0
Q8: 2 FORDULÓ | R8: F - D | S8: G - E | AA8: VI | AB8: 15 | AC8: 10 | AD8: 7 | AE8: 5 | AF8: 4 | AG8: 3 | AH8: 2 | AI8: 1 | AJ8: 0 | AK8: 0
A9: B | B9: 1 | C9: =IF($B9="","",VLOOKUP($B9,'II.kcs.-U10-N-L elo'!$A$7:$O$22,5)) -> 170604 | D9: =IF($B9="","",VLOOKUP($B9,'II.kcs.-U10-N-L elo'!$A$7:$O$22,15)) -> 0 | E9: =UPPER(IF($B9="","",VLOOKUP($B9,'II.kcs.-U10-N-L elo'!$A$7:$O$22,2))) -> CZENE | G9: =IF($B9="","",VLOOKUP($B9,'II.kcs.-U10-N-L elo'!$A$7:$O$22,3)) -> Lara | I9: =IF($B9="","",VLOOKUP($B9,'II.kcs.-U10-N-L elo'!$A$7:$O$22,4)) -> Boglári Ált. Isk. és AMI | K9: 3-4. | Q9: 3 FORDULÓ | R9: D - E | S9: F - E | AA9: VII | AB9: 10 | AC9: 6 | AD9: 4 | AE9: 2 | AF9: 1 | AG9: 0 | AH9: 0 | AI9: 0 | AJ9: 0 | AK9: 0
AA10: VIII | AB10: 6 | AC10: 3 | AD10: 2 | AE10: 1 | AF10: 0 | AG10: 0 | AH10: 0 | AI10: 0 | AJ10: 0 | AK10: 0
A11: C | B11: 4 | C11: =IF($B11="","",VLOOKUP($B11,'II.kcs.-U10-N-L elo'!$A$7:$O$22,5)) -> 170313 | D11: =IF($B11="","",VLOOKUP($B11,'II.kcs.-U10-N-L elo'!$A$7:$O$22,15)) -> 0 | E11: =UPPER(IF($B11="","",VLOOKUP($B11,'II.kcs.-U10-N-L elo'!$A$7:$O$22,2))) -> STEINER | G11: =IF($B11="","",VLOOKUP($B11,'II.kcs.-U10-N-L elo'!$A$7:$O$22,3)) -> Luca Gréta | I11: =IF($B11="","",VLOOKUP($B11,'II.kcs.-U10-N-L elo'!$A$7:$O$22,4)) -> Boglári Ált. Isk. és AMI | K11: 5-6. | AA11: W | AB11: 3 | AC11: 2 | AD11: 1 | AE11: 0 | AF11: 0 | AG11: 0 | AH11: 0 | AI11: 0 | AJ11: 0 | AK11: 0
AA12: X | AB12: 0 | AC12: 0 | AD12: 0 | AE12: 0 | AF12: 0 | AG12: 0 | AH12: 0 | AI12: 0 | AJ12: 0 | AK12: 0
A13: D | B13: 3 | C13: =IF($B13="","",VLOOKUP($B13,'II.kcs.-U10-N-L elo'!$A$7:$O$22,5)) -> 170329 | D13: =IF($B13="","",VLOOKUP($B13,'II.kcs.-U10-N-L elo'!$A$7:$O$22,15)) -> 0 | E13: =UPPER(IF($B13="","",VLOOKUP($B13,'II.kcs.-U10-N-L elo'!$A$7:$O$22,2))) -> MÁTYÁS | G13: =IF($B13="","",VLOOKUP($B13,'II.kcs.-U10-N-L elo'!$A$7:$O$22,3)) -> Emma | I13: =IF($B13="","",VLOOKUP($B13,'II.kcs.-U10-N-L elo'!$A$7:$O$22,4)) -> B.lelle-Karádi Ált.Isk. és AMI | K13: 7. | AA13: XI | AB13: 0 | AC13: 0 | AD13: 0 | AE13: 0 | AF13: 0 | AG13: 0 | AH13: 0 | AI13: 0 | AJ13: 0 | AK13: 0
A15: E | B15: 5 | C15: =IF($B15="","",VLOOKUP($B15,'II.kcs.-U10-N-L elo'!$A$7:$O$22,5)) -> 161130 | D15: =IF($B15="","",VLOOKUP($B15,'II.kcs.-U10-N-L elo'!$A$7:$O$22,15)) -> 0 | E15: =UPPER(IF($B15="","",VLOOKUP($B15,'II.kcs.-U10-N-L elo'!$A$7:$O$22,2))) -> SZÉKELY | G15: =IF($B15="","",VLOOKUP($B15,'II.kcs.-U10-N-L elo'!$A$7:$O$22,3)) -> Lulu Sára | I15: =IF($B15="","",VLOOKUP($B15,'II.kcs.-U10-N-L elo'!$A$7:$O$22,4)) -> Boglári Ált. Isk. és AMI | K15: 5-6.
AA16: A | AB16: 300 | AC16: 250 | AD16: 220 | AE16: 180 | AF16: 160 | AG16: 150 | AH16: 140 | AI16: 130 | AJ16: 120 | AK16: 110
A17: F | B17: 6 | C17: =IF($B17="","",VLOOKUP($B17,'II.kcs.-U10-N-L elo'!$A$7:$O$22,5)) -> 170405 | D17: =IF($B17="","",VLOOKUP($B17,'II.kcs.-U10-N-L elo'!$A$7:$O$22,15)) -> 0 | E17: =UPPER(IF($B17="","",VLOOKUP($B17,'II.kcs.-U10-N-L elo'!$A$7:$O$22,2))) -> SZITA | G17: =IF($B17="","",VLOOKUP($B17,'II.kcs.-U10-N-L elo'!$A$7:$O$22,3)) -> Róza Genovéva | I17: =IF($B17="","",VLOOKUP($B17,'II.kcs.-U10-N-L elo'!$A$7:$O$22,4)) -> B.lelle-Karádi Ált.Isk. és AMI | K17: 3-4. | AA17: I | AB17: 250 | AC17: 200 | AD17: 160 | AE17: 140 | AF17: 120 | AG17: 110 | AH17: 100 | AI17: 90 | AJ17: 80 | AK17: 70
AA18: II | AB18: 200 | AC18: 150 | AD18: 130 | AE18: 110 | AF18: 95 | AG18: 80 | AH18: 70 | AI18: 60 | AJ18: 55 | AK18: 50
A19: G | B19: 7 | C19: =IF($B19="","",VLOOKUP($B19,'II.kcs.-U10-N-L elo'!$A$7:$O$22,5)) -> 160711 | D19: =IF($B19="","",VLOOKUP($B19,'II.kcs.-U10-N-L elo'!$A$7:$O$22,15)) -> 0 | E19: =UPPER(IF($B19="","",VLOOKUP($B19,'II.kcs.-U10-N-L elo'!$A$7:$O$22,2))) -> TORMA | G19: =IF($B19="","",VLOOKUP($B19,'II.kcs.-U10-N-L elo'!$A$7:$O$22,3)) -> Tamara | I19: =IF($B19="","",VLOOKUP($B19,'II.kcs.-U10-N-L elo'!$A$7:$O$22,4)) -> B.lelle-Karádi Ált.Isk. és AMI | K19: II. | AA19: III | AB19: 150 | AC19: 120 | AD19: 100 | AE19: 80 | AF19: 70 | AG19: 60 | AH19: 55 | AI19: 50 | AJ19: 45 | AK19: 40
AA20: IV | AB20: 120 | AC20: 90 | AD20: 65 | AE20: 55 | AF20: 50 | AG20: 45 | AH20: 40 | AI20: 35 | AJ20: 25 | AK20: 20
AA21: V | AB21: 90 | AC21: 60 | AD21: 45 | AE21: 34 | AF21: 27 | AG21: 22 | AH21: 18 | AI21: 15 | AJ21: 12 | AK21: 9
D22: =E7 -> KÖNNYID-KOVÁCS | F22: =E9 -> CZENE | H22: =E11 -> STEINER | M22: Helyezés | AA22: VI | AB22: 60 | AC22: 40 | AD22: 30 | AE22: 20 | AF22: 18 | AG22: 15 | AH22: 12 | AI22: 10 | AJ22: 8 | AK22: 6
A23: A | B23: =E7 -> KÖNNYID-KOVÁCS | F23: 7/3 7/2 | H23: 7/2 7/5 | M23: 1 | AA23: VII | AB23: 40 | AC23: 25 | AD23: 18 | AE23: 13 | AF23: 8 | AG23: 7 | AH23: 6 | AI23: 5 | AJ23: 4 | AK23: 3
A24: B | B24: =E9 -> CZENE | D24: 2/7 3/7 | H24: 7/4 7/3 | M24: 2 | AA24: VIII | AB24: 25 | AC24: 15 | AD24: 13 | AE24: 7 | AF24: 6 | AG24: 5 | AH24: 4 | AI24: 3 | AJ24: 2 | AK24: 1
A25: C | B25: =E11 -> STEINER | D25: 2/7 5/7 | F25: 4/7 3/7 | M25: 3 | AA25: W | AB25: 15 | AC25: 10 | AD25: 8 | AE25: 4 | AF25: 3 | AG25: 2 | AH25: 1 | AI25: 0 | AJ25: 0 | AK25: 0
AA26: X | AB26: 10 | AC26: 6 | AD26: 4 | AE26: 2 | AF26: 1 | AG26: 0 | AH26: 0 | AI26: 0 | AJ26: 0 | AK26: 0
D27: =E13 -> MÁTYÁS | F27: =E15 -> SZÉKELY | H27: =E17 -> SZITA | J27: =E19 -> TORMA | AA27: XI | AB27: 3 | AC27: 2 | AD27: 1 | AE27: 0 | AF27: 0 | AG27: 0 | AH27: 0 | AI27: 0 | AJ27: 0 | AK27: 0
A28: D | B28: =E13 -> MÁTYÁS | F28: 5/7 3/7 | H28: 3/7 4/7 | J28: 1/71/7 | M28: 4
A29: E | B29: =E15 -> SZÉKELY | D29: 7/5 7/3 | H29: 6/8 7/4 4/5 | J29: 1/7 4/7 | M29: 3
A30: F | B30: =E17 -> SZITA | D30: 7/3 7/4 | F30: 8/6 4/7 5/4 | J30: 0/7 3/7 | M30: 2
A31: G | B31: =E19 -> TORMA | D31: 7/1 7/1 | F31: 7/1 7/4 | H31: 7/0 7/3 | M31: 1
A34: Döntő | C34: =IF(M23=1,B23,IF(M24=1,B24,IF(M25=1,B25,""))) -> KÖNNYID-KOVÁCS | E34: vs. | F34: =IF(M28=1,B28,IF(M29=1,B29,IF(M30=1,B30,IF(M31=1,B31,"")))) -> TORMA | I34: 7/1 7/1
A36: 3. hely | C36: =IF(M23=2,B23,IF(M24=2,B24,IF(M25=2,B25,""))) -> CZENE | E36: vs. | F36: =IF(M28=2,B28,IF(M29=2,B29,IF(M30=2,B30,IF(M31=2,B31,"")))) -> SZITA
A38: 5. hely | C38: =IF(M23=3,B23,IF(M24=3,B24,IF(M25=3,B25,""))) -> STEINER | E38: vs. | F38: =IF(M28=3,B28,IF(M29=3,B29,IF(M30=3,B30,IF(M31=3,B31,"")))) -> SZÉKELY
A41: Rangsor | D41: # | E41: Kiemeltek | G41: # | H41: Szerencés Vesztes | J41: Helyettesíti | K41: Sorsolás időpontja
A42: Dátuma | G42: 1 | K42: Utolsó elfogadott játékos
A43: Utolsó DA | G43: 2
G44: 3 | K44: Sorsoló játékosok | R44: =MIN(4,'II.kcs.-U10-N-L elo'!Q2) -> 4
G45: 4
G46: 5
G47: 6 | K47: Versenybíró aláírása
G48: 7
G49: 8 | K49: =L4 -> Nagyistók-Nádasi Judit

Sheet B-II.kcs.-U10-N-F 1.csop.
A1: =[1]Altalanos!$A$6 -> #REF! | H1: Egyéni főtábla | AB1: =IF(Y5=1,CONCATENATE(VLOOKUP(Y3,AA16:AH27,2)),CONCATENATE(VLOOKUP(Y3,AA2:AK13,2))) -> #REF! | AC1: =IF(Y5=1,CONCATENATE(VLOOKUP(Y3,AA16:AK27,3)),CONCATENATE(VLOOKUP(Y3,AA2:AK13,3))) -> #REF! | AD1: =IF(Y5=1,CONCATENATE(VLOOKUP(Y3,AA16:AK27,4)),CONCATENATE(VLOOKUP(Y3,AA2:AK13,4))) -> #REF! | AE1: =IF(Y5=1,CONCATENATE(VLOOKUP(Y3,AA16:AK27,5)),CONCATENATE(VLOOKUP(Y3,AA2:AK13,5))) -> #REF! | AF1: =IF(Y5=1,CONCATENATE(VLOOKUP(Y3,AA16:AK27,6)),CONCATENATE(VLOOKUP(Y3,AA2:AK13,6))) -> #REF! | AG1: =IF(Y5=1,CONCATENATE(VLOOKUP(Y3,AA16:AK27,7)),CONCATENATE(VLOOKUP(Y3,AA2:AK13,7))) -> #REF! | AH1: =IF(Y5=1,CONCATENATE(VLOOKUP(Y3,AA16:AK27,8)),CONCATENATE(VLOOKUP(Y3,AA2:AK13,8))) -> #REF! | AI1: =IF(Y5=1,CONCATENATE(VLOOKUP(Y3,AA16:AK27,9)),CONCATENATE(VLOOKUP(Y3,AA2:AK13,9))) -> #REF! | AJ1: =IF(Y5=1,CONCATENATE(VLOOKUP(Y3,AA16:AK27,10)),CONCATENATE(VLOOKUP(Y3,AA2:AK13,10))) -> #REF! | AK1: =IF(Y5=1,CONCATENATE(VLOOKUP(Y3,AA16:AK27,11)),CONCATENATE(VLOOKUP(Y3,AA2:AK13,11))) -> #REF!
A2: Versenyszám: | E2: =[1]Altalanos!$B$8 -> #REF! | G2: 1.csoport | AA2: A | AB2: 150 | AC2: 120 | AD2: 100 | AE2: 80 | AF2: 70 | AG2: 60 | AH2: 55 | AI2: 50 | AJ2: 45 | AK2: 40
A3: Dátum | E3: Város | H3: Kategória | L3: Versenybíró | Q3: 1 FORDULÓ | R3: B - C | Y3: =IF(H4="OB","A",IF(H4="IX","W",H4)) -> 0 | AA3: I | AB3: 120 | AC3: 90 | AD3: 65 | AE3: 55 | AF3: 50 | AG3: 45 | AH3: 40 | AI3: 35 | AJ3: 25 | AK3: 20
A4: =[1]Altalanos!$A$10 -> #REF! | E4: =[1]Altalanos!$C$10 -> #REF! | L4: =[1]Altalanos!$E$10 -> #REF! | Q4: 2 FORDULÓ | R4: C - A | AA4: II | AB4: 90 | AC4: 60 | AD4: 45 | AE4: 34 | AF4: 27 | AG4: 22 | AH4: 18 | AI4: 15 | AJ4: 12 | AK4: 9
B5: kiem | C5: kódszám | D5: Rangsor | E5: Vezetéknév | G5: Keresztnév | I5: Egyesület | K5: Helyezés | L5: Pontszám | M5: Bónusz | Q5: 3 FORDULÓ | R5: A - B | Y5: =IF(OR([1]Altalanos!$A$8="F1",[1]Altalanos!$A$8="F2",[1]Altalanos!$A$8="N1",[1]Altalanos!$A$8="N2"),1,2) -> #REF! | AA5: III | AB5: 60 | AC5: 40 | AD5: 30 | AE5: 20 | AF5: 18 | AG5: 15 | AH5: 12 | AI5: 10 | AJ5: 8 | AK5: 6
AA6: IV | AB6: 40 | AC6: 25 | AD6: 18 | AE6: 13 | AF6: 10 | AG6: 8 | AH6: 6 | AI6: 5 | AJ6: 4 | AK6: 3
A7: A | B7: 6 | C7: =IF($B7="","",VLOOKUP($B7,'II.kcs.-U10-N-F elo'!$A$7:$O$22,5)) -> 160814 | D7: =IF($B7="","",VLOOKUP($B7,'II.kcs.-U10-N-F elo'!$A$7:$O$22,15)) -> 0 | E7: =UPPER(IF($B7="","",VLOOKUP($B7,'II.kcs.-U10-N-F elo'!$A$7:$O$22,2))) -> SZABÓ | G7: =IF($B7="","",VLOOKUP($B7,'II.kcs.-U10-N-F elo'!$A$7:$O$22,3)) -> Péter Benedek | I7: =IF($B7="","",VLOOKUP($B7,'II.kcs.-U10-N-F elo'!$A$7:$O$22,4)) -> B.lelle-Karádi Ált. Isk. és AMI | L7: =IF(K7="","",CONCATENATE(VLOOKUP($Y$3,$AB$1:$AK$1,K7)," pont")) | AA7: V | AB7: 25 | AC7: 15 | AD7: 13 | AE7: 8 | AF7: 6 | AG7: 4 | AH7: 3 | AI7: 2 | AJ7: 1 | AK7: 0
AA8: VI | AB8: 15 | AC8: 10 | AD8: 7 | AE8: 5 | AF8: 4 | AG8: 3 | AH8: 2 | AI8: 1 | AJ8: 0 | AK8: 0
A9: B | B9: 1 | C9: =IF($B9="","",VLOOKUP($B9,'II.kcs.-U10-N-F elo'!$A$7:$O$22,5)) -> 171011 | D9: =IF($B9="","",VLOOKUP($B9,'II.kcs.-U10-N-F elo'!$A$7:$O$22,15)) -> 0 | E9: =UPPER(IF($B9="","",VLOOKUP($B9,'II.kcs.-U10-N-F elo'!$A$7:$O$22,2))) -> BALOGH | G9: =IF($B9="","",VLOOKUP($B9,'II.kcs.-U10-N-F elo'!$A$7:$O$22,3)) -> Benett Áron | I9: =IF($B9="","",VLOOKUP($B9,'II.kcs.-U10-N-F elo'!$A$7:$O$22,4)) -> Boglári Ált. Isk.és AMI | K9: 7-9. | AA9: VII | AB9: 10 | AC9: 6 | AD9: 4 | AE9: 2 | AF9: 1 | AG9: 0 | AH9: 0 | AI9: 0 | AJ9: 0 | AK9: 0
AA10: VIII | AB10: 6 | AC10: 3 | AD10: 2 | AE10: 1 | AF10: 0 | AG10: 0 | AH10: 0 | AI10: 0 | AJ10: 0 | AK10: 0
A11: C | B11: 7 | C11: =IF($B11="","",VLOOKUP($B11,'II.kcs.-U10-N-F elo'!$A$7:$O$22,5)) -> 170729 | D11: =IF($B11="","",VLOOKUP($B11,'II.kcs.-U10-N-F elo'!$A$7:$O$22,15)) -> 0 | E11: =UPPER(IF($B11="","",VLOOKUP($B11,'II.kcs.-U10-N-F elo'!$A$7:$O$22,2))) -> SZALAI-SZOLLÁR | G11: =IF($B11="","",VLOOKUP($B11,'II.kcs.-U10-N-F elo'!$A$7:$O$22,3)) -> Máté | I11: =IF($B11="","",VLOOKUP($B11,'II.kcs.-U10-N-F elo'!$A$7:$O$22,4)) -> B.szemesi Reich Károly Ált. Isk. | K11: 4-6. | AA11: W | AB11: 3 | AC11: 2 | AD11: 1 | AE11: 0 | AF11: 0 | AG11: 0 | AH11: 0 | AI11: 0 | AJ11: 0 | AK11: 0
AA12: X | AB12: 0 | AC12: 0 | AD12: 0 | AE12: 0 | AF12: 0 | AG12: 0 | AH12: 0 | AI12: 0 | AJ12: 0 | AK12: 0
AA13: XI | AB13: 0 | AC13: 0 | AD13: 0 | AE13: 0 | AF13: 0 | AG13: 0 | AH13: 0 | AI13: 0 | AJ13: 0 | AK13: 0
AA16: A | AB16: 300 | AC16: 250 | AD16: 220 | AE16: 180 | AF16: 160 | AG16: 150 | AH16: 140 | AI16: 130 | AJ16: 120 | AK16: 110
AA17: I | AB17: 250 | AC17: 200 | AD17: 160 | AE17: 140 | AF17: 120 | AG17: 110 | AH17: 100 | AI17: 90 | AJ17: 80 | AK17: 70
D18: =E7 -> SZABÓ | F18: =E9 -> BALOGH | H18: =E11 -> SZALAI-SZOLLÁR | AA18: II | AB18: 200 | AC18: 150 | AD18: 130 | AE18: 110 | AF18: 95 | AG18: 80 | AH18: 70 | AI18: 60 | AJ18: 55 | AK18: 50
A19: A | B19: =E7 -> SZABÓ | F19: 5/7 7/4 2/5 | H19: 7/4 7/5 | K19: I. | AA19: III | AB19: 150 | AC19: 120 | AD19: 100 | AE19: 80 | AF19: 70 | AG19: 60 | AH19: 55 | AI19: 50 | AJ19: 45 | AK19: 40
A20: B | B20: =E9 -> BALOGH | D20: 7/5 4/7 5/2 | H20: 5/7 7/9 | K20: III. | AA20: IV | AB20: 120 | AC20: 90 | AD20: 65 | AE20: 55 | AF20: 50 | AG20: 45 | AH20: 40 | AI20: 35 | AJ20: 25 | AK20: 20
A21: C | B21: =E11 -> SZALAI-SZOLLÁR | D21: 4/7 5/7 | F21: 7/5 9/7 | K21: II. | AA21: V | AB21: 90 | AC21: 60 | AD21: 45 | AE21: 34 | AF21: 27 | AG21: 22 | AH21: 18 | AI21: 15 | AJ21: 12 | AK21: 9
AA22: VI | AB22: 60 | AC22: 40 | AD22: 30 | AE22: 20 | AF22: 18 | AG22: 15 | AH22: 12 | AI22: 10 | AJ22: 8 | AK22: 6
AA23: VII | AB23: 40 | AC23: 25 | AD23: 18 | AE23: 13 | AF23: 8 | AG23: 7 | AH23: 6 | AI23: 5 | AJ23: 4 | AK23: 3
AA24: VIII | AB24: 25 | AC24: 15 | AD24: 13 | AE24: 7 | AF24: 6 | AG24: 5 | AH24: 4 | AI24: 3 | AJ24: 2 | AK24: 1
AA25: W | AB25: 15 | AC25: 10 | AD25: 8 | AE25: 4 | AF25: 3 | AG25: 2 | AH25: 1 | AI25: 0 | AJ25: 0 | AK25: 0
AA26: X | AB26: 10 | AC26: 6 | AD26: 4 | AE26: 2 | AF26: 1 | AG26: 0 | AH26: 0 | AI26: 0 | AJ26: 0 | AK26: 0
AA27: XI | AB27: 3 | AC27: 2 | AD27: 1 | AE27: 0 | AF27: 0 | AG27: 0 | AH27: 0 | AI27: 0 | AJ27: 0 | AK27: 0
A33: Rangsor | D33: # | E33: Kiemeltek | G33: # | H33: Szerencés Vesztes | J33: Helyettesíti | K33: Sorsolás időpontja
A34: Dátuma | G34: 1 | K34: Utolsó elfogadott játékos
A35: Utolsó DA | G35: 2
G36: 3 | K36: Sorsoló játékosok
G37: 4
G38: 5
G39: 6 | K39: Versenybíró aláírása
G40: 7
G41: 8 | K41: =L4 -> #REF!

Sheet B-II.kcs.-U10-N-F 2-3.csop.
A1: =[1]Altalanos!$A$6 -> Somogy Vármegyei Tenisz DO B kategória - Fiú | H1: Egyéni főtábla | AB1: =IF(Y5=1,CONCATENATE(VLOOKUP(Y3,AA16:AH27,2)),CONCATENATE(VLOOKUP(Y3,AA2:AK13,2))) -> #N/A | AC1: =IF(Y5=1,CONCATENATE(VLOOKUP(Y3,AA16:AK27,3)),CONCATENATE(VLOOKUP(Y3,AA2:AK13,3))) -> #N/A | AD1: =IF(Y5=1,CONCATENATE(VLOOKUP(Y3,AA16:AK27,4)),CONCATENATE(VLOOKUP(Y3,AA2:AK13,4))) -> #N/A | AE1: =IF(Y5=1,CONCATENATE(VLOOKUP(Y3,AA16:AK27,5)),CONCATENATE(VLOOKUP(Y3,AA2:AK13,5))) -> #N/A | AF1: =IF(Y5=1,CONCATENATE(VLOOKUP(Y3,AA16:AK27,6)),CONCATENATE(VLOOKUP(Y3,AA2:AK13,6))) -> #N/A | AG1: =IF(Y5=1,CONCATENATE(VLOOKUP(Y3,AA16:AK27,7)),CONCATENATE(VLOOKUP(Y3,AA2:AK13,7))) -> #N/A | AH1: =IF(Y5=1,CONCATENATE(VLOOKUP(Y3,AA16:AK27,8)),CONCATENATE(VLOOKUP(Y3,AA2:AK13,8))) -> #N/A | AI1: =IF(Y5=1,CONCATENATE(VLOOKUP(Y3,AA16:AK27,9)),CONCATENATE(VLOOKUP(Y3,AA2:AK13,9))) -> #N/A | AJ1: =IF(Y5=1,CONCATENATE(VLOOKUP(Y3,AA16:AK27,10)),CONCATENATE(VLOOKUP(Y3,AA2:AK13,10))) -> #N/A | AK1: =IF(Y5=1,CONCATENATE(VLOOKUP(Y3,AA16:AK27,11)),CONCATENATE(VLOOKUP(Y3,AA2:AK13,11))) -> #N/A
A2: Versenyszám: | E2: =[1]Altalanos!$B$8 -> II.kcs.-U10-N-F | G2: 2-3. csoport | AA2: A | AB2: 150 | AC2: 120 | AD2: 100 | AE2: 80 | AF2: 70 | AG2: 60 | AH2: 55 | AI2: 50 | AJ2: 45 | AK2: 40
A3: Dátum | E3: Város | H3: Kategória | L3: Versenybíró | Y3: =IF(H4="OB","A",IF(H4="IX","W",H4)) -> 0 | AA3: I | AB3: 120 | AC3: 90 | AD3: 65 | AE3: 55 | AF3: 50 | AG3: 45 | AH3: 40 | AI3: 35 | AJ3: 25 | AK3: 20
A4: =[1]Altalanos!$A$10 -> 46135 | E4: =[1]Altalanos!$C$10 -> Balatonboglár | L4: =[1]Altalanos!$E$10 -> Nagyistók-Nádasi Judit | AA4: II | AB4: 90 | AC4: 60 | AD4: 45 | AE4: 34 | AF4: 27 | AG4: 22 | AH4: 18 | AI4: 15 | AJ4: 12 | AK4: 9
B5: kiem | C5: kódszám | D5: Rangsor | E5: Vezetéknév | G5: Keresztnév | I5: Egyesület | K5: Helyezés | L5: Pontszám | M5: Bónusz | O5: 1 FORDULÓ | P5: B - C | R5: 1 FORDULÓ | S5: E - F | Y5: =IF(OR([1]Altalanos!$A$8="F1",[1]Altalanos!$A$8="F2",[1]Altalanos!$A$8="N1",[1]Altalanos!$A$8="N2"),1,2) -> 2 | AA5: III | AB5: 60 | AC5: 40 | AD5: 30 | AE5: 20 | AF5: 18 | AG5: 15 | AH5: 12 | AI5: 10 | AJ5: 8 | AK5: 6
O6: 2 FORDULÓ | P6: C - A | R6: 2 FORDULÓ | S6: F - D | AA6: IV | AB6: 40 | AC6: 25 | AD6: 18 | AE6: 13 | AF6: 10 | AG6: 8 | AH6: 6 | AI6: 5 | AJ6: 4 | AK6: 3
A7: A | B7: 8 | C7: =IF($B7="","",VLOOKUP($B7,'II.kcs.-U10-N-F elo'!$A$7:$O$22,5)) -> 170830 | D7: =IF($B7="","",VLOOKUP($B7,'II.kcs.-U10-N-F elo'!$A$7:$O$22,15)) -> 0 | E7: =UPPER(IF($B7="","",VLOOKUP($B7,'II.kcs.-U10-N-F elo'!$A$7:$O$22,2))) -> SZÁNTÓ | G7: =IF($B7="","",VLOOKUP($B7,'II.kcs.-U10-N-F elo'!$A$7:$O$22,3)) -> János | I7: =IF($B7="","",VLOOKUP($B7,'II.kcs.-U10-N-F elo'!$A$7:$O$22,4)) -> B.lelle-Karádi Ált. Isk. és AMI | K7: 7-9. | O7: 3 FORDULÓ | P7: A - B | R7: 3 FORDULÓ | S7: D - E | AA7: V | AB7: 25 | AC7: 15 | AD7: 13 | AE7: 8 | AF7: 6 | AG7: 4 | AH7: 3 | AI7: 2 | AJ7: 1 | AK7: 0
AA8: VI | AB8: 15 | AC8: 10 | AD8: 7 | AE8: 5 | AF8: 4 | AG8: 3 | AH8: 2 | AI8: 1 | AJ8: 0 | AK8: 0
A9: B | B9: 4 | C9: =IF($B9="","",VLOOKUP($B9,'II.kcs.-U10-N-F elo'!$A$7:$O$22,5)) -> 170706 | D9: =IF($B9="","",VLOOKUP($B9,'II.kcs.-U10-N-F elo'!$A$7:$O$22,15)) -> 0 | E9: =UPPER(IF($B9="","",VLOOKUP($B9,'II.kcs.-U10-N-F elo'!$A$7:$O$22,2))) -> MÁZSA | G9: =IF($B9="","",VLOOKUP($B9,'II.kcs.-U10-N-F elo'!$A$7:$O$22,3)) -> Zsombor | I9: =IF($B9="","",VLOOKUP($B9,'II.kcs.-U10-N-F elo'!$A$7:$O$22,4)) -> Lórántffy Zs. Kaposvár | AA9: VII | AB9: 10 | AC9: 6 | AD9: 4 | AE9: 2 | AF9: 1 | AG9: 0 | AH9: 0 | AI9: 0 | AJ9: 0 | AK9: 0
AA10: VIII | AB10: 6 | AC10: 3 | AD10: 2 | AE10: 1 | AF10: 0 | AG10: 0 | AH10: 0 | AI10: 0 | AJ10: 0 | AK10: 0
A11: C | B11: 5 | C11: =IF($B11="","",VLOOKUP($B11,'II.kcs.-U10-N-F elo'!$A$7:$O$22,5)) -> 160923 | D11: =IF($B11="","",VLOOKUP($B11,'II.kcs.-U10-N-F elo'!$A$7:$O$22,15)) -> 0 | E11: =UPPER(IF($B11="","",VLOOKUP($B11,'II.kcs.-U10-N-F elo'!$A$7:$O$22,2))) -> MISETA | G11: =IF($B11="","",VLOOKUP($B11,'II.kcs.-U10-N-F elo'!$A$7:$O$22,3)) -> Soma | I11: =IF($B11="","",VLOOKUP($B11,'II.kcs.-U10-N-F elo'!$A$7:$O$22,4)) -> Marcali Mikszáth K. Ált. Isk. | K11: 4-6. | AA11: W | AB11: 3 | AC11: 2 | AD11: 1 | AE11: 0 | AF11: 0 | AG11: 0 | AH11: 0 | AI11: 0 | AJ11: 0 | AK11: 0
AA12: X | AB12: 0 | AC12: 0 | AD12: 0 | AE12: 0 | AF12: 0 | AG12: 0 | AH12: 0 | AI12: 0 | AJ12: 0 | AK12: 0
A13: D | B13: 9 | C13: =IF($B13="","",VLOOKUP($B13,'II.kcs.-U10-N-F elo'!$A$7:$O$22,5)) -> 160329 | D13: =IF($B13="","",VLOOKUP($B13,'II.kcs.-U10-N-F elo'!$A$7:$O$22,15)) -> 0 | E13: =UPPER(IF($B13="","",VLOOKUP($B13,'II.kcs.-U10-N-F elo'!$A$7:$O$22,2))) -> SZITA | G13: =IF($B13="","",VLOOKUP($B13,'II.kcs.-U10-N-F elo'!$A$7:$O$22,3)) -> Ádám | I13: =IF($B13="","",VLOOKUP($B13,'II.kcs.-U10-N-F elo'!$A$7:$O$22,4)) -> B.lelle-Karádi Ált. Isk. és AMI | AA13: XI | AB13: 0 | AC13: 0 | AD13: 0 | AE13: 0 | AF13: 0 | AG13: 0 | AH13: 0 | AI13: 0 | AJ13: 0 | AK13: 0
A15: E | B15: 2 | C15: =IF($B15="","",VLOOKUP($B15,'II.kcs.-U10-N-F elo'!$A$7:$O$22,5)) -> 160616 | D15: =IF($B15="","",VLOOKUP($B15,'II.kcs.-U10-N-F elo'!$A$7:$O$22,15)) -> 0 | E15: =UPPER(IF($B15="","",VLOOKUP($B15,'II.kcs.-U10-N-F elo'!$A$7:$O$22,2))) -> JOVÁNCZAI | G15: =IF($B15="","",VLOOKUP($B15,'II.kcs.-U10-N-F elo'!$A$7:$O$22,3)) -> Barna | I15: =IF($B15="","",VLOOKUP($B15,'II.kcs.-U10-N-F elo'!$A$7:$O$22,4)) -> Kaposvári Kodály Z.Közp.Ált.Isk. | K15: 7-9.
AA16: A | AB16: 300 | AC16: 250 | AD16: 220 | AE16: 180 | AF16: 160 | AG16: 150 | AH16: 140 | AI16: 130 | AJ16: 120 | AK16: 110
A17: F | B17: 3 | C17: =IF($B17="","",VLOOKUP($B17,'II.kcs.-U10-N-F elo'!$A$7:$O$22,5)) -> 170121 | D17: =IF($B17="","",VLOOKUP($B17,'II.kcs.-U10-N-F elo'!$A$7:$O$22,15)) -> 0 | E17: =UPPER(IF($B17="","",VLOOKUP($B17,'II.kcs.-U10-N-F elo'!$A$7:$O$22,2))) -> KOLLÁR | G17: =IF($B17="","",VLOOKUP($B17,'II.kcs.-U10-N-F elo'!$A$7:$O$22,3)) -> Bertalan Gábor | I17: =IF($B17="","",VLOOKUP($B17,'II.kcs.-U10-N-F elo'!$A$7:$O$22,4)) -> Lórántffy Zs. Kaposvár | K17: 4-6. | AA17: I | AB17: 250 | AC17: 200 | AD17: 160 | AE17: 140 | AF17: 120 | AG17: 110 | AH17: 100 | AI17: 90 | AJ17: 80 | AK17: 70
AA18: II | AB18: 200 | AC18: 150 | AD18: 130 | AE18: 110 | AF18: 95 | AG18: 80 | AH18: 70 | AI18: 60 | AJ18: 55 | AK18: 50
AA19: III | AB19: 150 | AC19: 120 | AD19: 100 | AE19: 80 | AF19: 70 | AG19: 60 | AH19: 55 | AI19: 50 | AJ19: 45 | AK19: 40
AA20: IV | AB20: 120 | AC20: 90 | AD20: 65 | AE20: 55 | AF20: 50 | AG20: 45 | AH20: 40 | AI20: 35 | AJ20: 25 | AK20: 20
AA21: V | AB21: 90 | AC21: 60 | AD21: 45 | AE21: 34 | AF21: 27 | AG21: 22 | AH21: 18 | AI21: 15 | AJ21: 12 | AK21: 9
D22: =E7 -> SZÁNTÓ | F22: =E9 -> MÁZSA | H22: =E11 -> MISETA | M22: Helyezés | AA22: VI | AB22: 60 | AC22: 40 | AD22: 30 | AE22: 20 | AF22: 18 | AG22: 15 | AH22: 12 | AI22: 10 | AJ22: 8 | AK22: 6
A23: A | B23: =E7 -> SZÁNTÓ | F23: 5/7 0/7 | H23: 0/7 3/7 | M23: III. | AA23: VII | AB23: 40 | AC23: 25 | AD23: 18 | AE23: 13 | AF23: 8 | AG23: 7 | AH23: 6 | AI23: 5 | AJ23: 4 | AK23: 3
A24: B | B24: =E9 -> MÁZSA | D24: 7/5 7/0 | H24: 7/4 3/7 0/5 | M24: I. | AA24: VIII | AB24: 25 | AC24: 15 | AD24: 13 | AE24: 7 | AF24: 6 | AG24: 5 | AH24: 4 | AI24: 3 | AJ24: 2 | AK24: 1
A25: C | B25: =E11 -> MISETA | D25: 7/0 7/3 | F25: 4/7 7/3 5/0 | M25: II. | AA25: W | AB25: 15 | AC25: 10 | AD25: 8 | AE25: 4 | AF25: 3 | AG25: 2 | AH25: 1 | AI25: 0 | AJ25: 0 | AK25: 0
AA26: X | AB26: 10 | AC26: 6 | AD26: 4 | AE26: 2 | AF26: 1 | AG26: 0 | AH26: 0 | AI26: 0 | AJ26: 0 | AK26: 0
D27: =E13 -> SZITA | F27: =E15 -> JOVÁNCZAI | H27: =E17 -> KOLLÁR | AA27: XI | AB27: 3 | AC27: 2 | AD27: 1 | AE27: 0 | AF27: 0 | AG27: 0 | AH27: 0 | AI27: 0 | AJ27: 0 | AK27: 0
A28: D | B28: =E13 -> SZITA | F28: 7/2 7/0 | H28: 7/1 7/1 | M28: I.
A29: E | B29: =E15 -> JOVÁNCZAI | D29: 2/7 0/7 | H29: 2/7 5/7 | M29: III.
A30: F | B30: =E17 -> KOLLÁR | D30: 1/7 1/7 | F30: 2/7 5/7 | M30: II.
A32: Döntő | C32: =IF(M23=1,B23,IF(M24=1,B24,IF(M25=1,B25,""))) | E32: vs. | F32: =IF(M28=1,B28,IF(M29=1,B29,IF(M30=1,B30,"")))
A34: 3. hely | C34: =IF(M23=2,B23,IF(M24=2,B24,IF(M25=2,B25,""))) | E34: vs. | F34: =IF(M28=2,B28,IF(M29=2,B29,IF(M30=2,B30,"")))
A36: 5. hely | C36: =IF(M23=3,B23,IF(M24=3,B24,IF(M25=3,B25,""))) | E36: vs. | F36: =IF(M28=3,B28,IF(M29=3,B29,IF(M30=3,B30,"")))
A39: Rangsor | D39: # | E39: Kiemeltek | G39: # | H39: Szerencés Vesztes | J39: Helyettesíti | K39: Sorsolás időpontja
A40: Dátuma | G40: 1 | K40: Utolsó elfogadott játékos
A41: Utolsó DA | G41: 2
G42: 3 | K42: Sorsoló játékosok
G43: 4
G44: 5
G45: 6 | K45: Versenybíró aláírása
G46: 7
G47: 8 | K47: =L4 -> Nagyistók-Nádasi Judit | R47: =MIN(4,'II.kcs.-U10-N-F elo'!Q5) -> 4

Sheet B-II.kcs.-U10-N-F Döntő
A1: =[1]Altalanos!$A$6 -> Somogy Vármegyei Tenisz DO B kategória - Fiú | H1: Egyéni főtábla | AB1: =IF(Y5=1,CONCATENATE(VLOOKUP(Y3,AA15:AH25,2)),CONCATENATE(VLOOKUP(Y3,AA2:AK12,2))) -> #N/A | AC1: =IF(Y5=1,CONCATENATE(VLOOKUP(Y3,AA15:AK25,3)),CONCATENATE(VLOOKUP(Y3,AA2:AK12,3))) -> #N/A | AD1: =IF(Y5=1,CONCATENATE(VLOOKUP(Y3,AA15:AK25,4)),CONCATENATE(VLOOKUP(Y3,AA2:AK12,4))) -> #N/A | AE1: =IF(Y5=1,CONCATENATE(VLOOKUP(Y3,AA15:AK25,5)),CONCATENATE(VLOOKUP(Y3,AA2:AK12,5))) -> #N/A | AF1: =IF(Y5=1,CONCATENATE(VLOOKUP(Y3,AA15:AK25,6)),CONCATENATE(VLOOKUP(Y3,AA2:AK12,6))) -> #N/A | AG1: =IF(Y5=1,CONCATENATE(VLOOKUP(Y3,AA15:AK25,7)),CONCATENATE(VLOOKUP(Y3,AA2:AK12,7))) -> #N/A | AH1: =IF(Y5=1,CONCATENATE(VLOOKUP(Y3,AA15:AK25,8)),CONCATENATE(VLOOKUP(Y3,AA2:AK12,8))) -> #N/A | AI1: =IF(Y5=1,CONCATENATE(VLOOKUP(Y3,AA15:AK25,9)),CONCATENATE(VLOOKUP(Y3,AA2:AK12,9))) -> #N/A | AJ1: =IF(Y5=1,CONCATENATE(VLOOKUP(Y3,AA15:AK25,10)),CONCATENATE(VLOOKUP(Y3,AA2:AK12,10))) -> #N/A | AK1: =IF(Y5=1,CONCATENATE(VLOOKUP(Y3,AA15:AK25,11)),CONCATENATE(VLOOKUP(Y3,AA2:AK12,11))) -> #N/A
A2: Versenyszám: | E2: =[1]Altalanos!$B$8 -> II.kcs.-U10-N-F | G2: Döntő | AA2: A | AB2: 150 | AC2: 120 | AD2: 100 | AE2: 80 | AF2: 70 | AG2: 60 | AH2: 55 | AI2: 50 | AJ2: 45 | AK2: 40
A3: Dátum | E3: Város | H3: Kategória | M3: Versenybíró | Q3: 1 FORDULÓ | R3: B - C | S3: A -D | Y3: =IF(H4="OB","A",IF(H4="IX","W",H4)) -> 0 | AA3: I | AB3: 120 | AC3: 90 | AD3: 65 | AE3: 55 | AF3: 50 | AG3: 45 | AH3: 40 | AI3: 35 | AJ3: 25 | AK3: 20
A4: =[1]Altalanos!$A$10 -> 46135 | E4: =[1]Altalanos!$C$10 -> Balatonboglár | M4: =[1]Altalanos!$E$10 -> Nagyistók-Nádasi Judit | Q4: 2 FORDULÓ | R4: C - A | S4: D - B | AA4: II | AB4: 90 | AC4: 60 | AD4: 45 | AE4: 34 | AF4: 27 | AG4: 22 | AH4: 18 | AI4: 15 | AJ4: 12 | AK4: 9
B5: kiem | C5: kódszám | D5: Rangsor | E5: Vezetéknév | G5: Keresztnév | I5: Egyesület | K5: Helyezés | L5: Pontszám | M5: Bónusz | Q5: 3 FORDULÓ | R5: A - B | S5: C - D | Y5: =IF(OR([1]Altalanos!$A$8="F1",[1]Altalanos!$A$8="F2",[1]Altalanos!$A$8="N1",[1]Altalanos!$A$8="N2"),1,2) -> 2 | AA5: III | AB5: 60 | AC5: 40 | AD5: 30 | AE5: 20 | AF5: 18 | AG5: 15 | AH5: 12 | AI5: 10 | AJ5: 8 | AK5: 6
AA6: IV | AB6: 40 | AC6: 25 | AD6: 18 | AE6: 13 | AF6: 10 | AG6: 8 | AH6: 6 | AI6: 5 | AJ6: 4 | AK6: 3
A7: A | C7: =IF($B7="","",VLOOKUP($B7,'II.kcs.-U10-N-F elo'!$A$7:$O$22,5)) | D7: =IF($B7="","",VLOOKUP($B7,'II.kcs.-U10-N-F elo'!$A$7:$O$22,15)) | E7: SZABÓ | G7: Péter Benedek | I7: B.lellei-Karádi Ált.Isk. és AMI | K7: III. | AA7: V | AB7: 25 | AC7: 15 | AD7: 13 | AE7: 8 | AF7: 6 | AG7: 4 | AH7: 3 | AI7: 2 | AJ7: 1 | AK7: 0
AA8: VI | AB8: 15 | AC8: 10 | AD8: 7 | AE8: 5 | AF8: 4 | AG8: 3 | AH8: 2 | AI8: 1 | AJ8: 0 | AK8: 0
A9: B | C9: =IF($B9="","",VLOOKUP($B9,'II.kcs.-U10-N-F elo'!$A$7:$O$22,5)) | D9: =IF($B9="","",VLOOKUP($B9,'II.kcs.-U10-N-F elo'!$A$7:$O$22,15)) | E9: MÁZSA | G9: Zsombor | I9: Lórántffy Zs. Kaposvár | K9: II. | AA9: VII | AB9: 10 | AC9: 6 | AD9: 4 | AE9: 2 | AF9: 1 | AG9: 0 | AH9: 0 | AI9: 0 | AJ9: 0 | AK9: 0
AA10: VIII | AB10: 6 | AC10: 3 | AD10: 2 | AE10: 1 | AF10: 0 | AG10: 0 | AH10: 0 | AI10: 0 | AJ10: 0 | AK10: 0
A11: C | C11: =IF($B11="","",VLOOKUP($B11,'II.kcs.-U10-N-F elo'!$A$7:$O$22,5)) | D11: =IF($B11="","",VLOOKUP($B11,'II.kcs.-U10-N-F elo'!$A$7:$O$22,15)) | E11: SZITA | G11: Ádám | I11: B.lellei-Karádi Ált.Isk. és AMI | K11: I. | AA11: W | AB11: 3 | AC11: 2 | AD11: 1 | AE11: 0 | AF11: 0 | AG11: 0 | AH11: 0 | AI11: 0 | AJ11: 0 | AK11: 0
AA12: X | AB12: 0 | AC12: 0 | AD12: 0 | AE12: 0 | AF12: 0 | AG12: 0 | AH12: 0 | AI12: 0 | AJ12: 0 | AK12: 0
AA15: A | AB15: 300 | AC15: 250 | AD15: 220 | AE15: 180 | AF15: 160 | AG15: 150 | AH15: 140 | AI15: 130 | AJ15: 120 | AK15: 110
AA16: I | AB16: 250 | AC16: 200 | AD16: 160 | AE16: 140 | AF16: 120 | AG16: 110 | AH16: 100 | AI16: 90 | AJ16: 80 | AK16: 70
D17: =E7 -> SZABÓ | F17: =E9 -> MÁZSA | H17: =E11 -> SZITA | AA17: II | AB17: 200 | AC17: 150 | AD17: 130 | AE17: 110 | AF17: 95 | AG17: 80 | AH17: 70 | AI17: 60 | AJ17: 55 | AK17: 50
A18: A | B18: =E7 -> SZABÓ | F18: 5/7 1/7 | H18: 2/7 0/7 | AA18: III | AB18: 150 | AC18: 120 | AD18: 100 | AE18: 80 | AF18: 70 | AG18: 60 | AH18: 55 | AI18: 50 | AJ18: 45 | AK18: 40
A19: B | B19: =E9 -> MÁZSA | D19: 7/5 7/1 | H19: 0/7 3/7 | AA19: IV | AB19: 120 | AC19: 90 | AD19: 65 | AE19: 55 | AF19: 50 | AG19: 45 | AH19: 40 | AI19: 35 | AJ19: 25 | AK19: 20
A20: C | B20: =E11 -> SZITA | D20: 7/2 7/0 | F20: 7/0 7/3 | AA20: V | AB20: 90 | AC20: 60 | AD20: 45 | AE20: 34 | AF20: 27 | AG20: 22 | AH20: 18 | AI20: 15 | AJ20: 12 | AK20: 9
AA21: VII | AB21: 40 | AC21: 25 | AD21: 18 | AE21: 13 | AF21: 8 | AG21: 7 | AH21: 6 | AI21: 5 | AJ21: 4 | AK21: 3
AA22: VIII | AB22: 25 | AC22: 15 | AD22: 13 | AE22: 7 | AF22: 6 | AG22: 5 | AH22: 4 | AI22: 3 | AJ22: 2 | AK22: 1
AA23: W | AB23: 15 | AC23: 10 | AD23: 8 | AE23: 4 | AF23: 3 | AG23: 2 | AH23: 1 | AI23: 0 | AJ23: 0 | AK23: 0
AA24: X | AB24: 10 | AC24: 6 | AD24: 4 | AE24: 2 | AF24: 1 | AG24: 0 | AH24: 0 | AI24: 0 | AJ24: 0 | AK24: 0
AA25: XI | AB25: 3 | AC25: 2 | AD25: 1 | AE25: 0 | AF25: 0 | AG25: 0 | AH25: 0 | AI25: 0 | AJ25: 0 | AK25: 0
A31: Rangsor | D31: # | E31: Kiemeltek | G31: # | H31: Szerencés Vesztes | J31: Helyettesíti | K31: Sorsolás időpontja
A32: Dátuma | G32: 1 | K32: Utolsó elfogadott játékos
A33: Utolsó DA | G33: 2
G34: 3 | K34: Sorsoló játékosok
G35: 4
G36: 5
G37: 6 | K37: Versenybíró aláírása
G38: 7
G39: 8 | K39: =M4 -> Nagyistók-Nádasi Judit

Sheet B-III.kcs.-U11-Z-L
A1: =[2]Altalanos!$A$6 -> Somogy Vármegyei Tenisz DO B kategória - Leány | H1: Egyéni főtábla | AB1: =IF(Y5=1,CONCATENATE(VLOOKUP(Y3,AA16:AH27,2)),CONCATENATE(VLOOKUP(Y3,AA2:AK13,2))) -> #N/A | AC1: =IF(Y5=1,CONCATENATE(VLOOKUP(Y3,AA16:AK27,3)),CONCATENATE(VLOOKUP(Y3,AA2:AK13,3))) -> #N/A | AD1: =IF(Y5=1,CONCATENATE(VLOOKUP(Y3,AA16:AK27,4)),CONCATENATE(VLOOKUP(Y3,AA2:AK13,4))) -> #N/A | AE1: =IF(Y5=1,CONCATENATE(VLOOKUP(Y3,AA16:AK27,5)),CONCATENATE(VLOOKUP(Y3,AA2:AK13,5))) -> #N/A | AF1: =IF(Y5=1,CONCATENATE(VLOOKUP(Y3,AA16:AK27,6)),CONCATENATE(VLOOKUP(Y3,AA2:AK13,6))) -> #N/A | AG1: =IF(Y5=1,CONCATENATE(VLOOKUP(Y3,AA16:AK27,7)),CONCATENATE(VLOOKUP(Y3,AA2:AK13,7))) -> #N/A | AH1: =IF(Y5=1,CONCATENATE(VLOOKUP(Y3,AA16:AK27,8)),CONCATENATE(VLOOKUP(Y3,AA2:AK13,8))) -> #N/A | AI1: =IF(Y5=1,CONCATENATE(VLOOKUP(Y3,AA16:AK27,9)),CONCATENATE(VLOOKUP(Y3,AA2:AK13,9))) -> #N/A | AJ1: =IF(Y5=1,CONCATENATE(VLOOKUP(Y3,AA16:AK27,10)),CONCATENATE(VLOOKUP(Y3,AA2:AK13,10))) -> #N/A | AK1: =IF(Y5=1,CONCATENATE(VLOOKUP(Y3,AA16:AK27,11)),CONCATENATE(VLOOKUP(Y3,AA2:AK13,11))) -> #N/A
A2: Versenyszám: | E2: III.kcs.-U11-Z-L | AA2: A | AB2: 150 | AC2: 120 | AD2: 100 | AE2: 80 | AF2: 70 | AG2: 60 | AH2: 55 | AI2: 50 | AJ2: 45 | AK2: 40
A3: Dátum | E3: Város | H3: Kategória | L3: Versenybíró | Y3: =IF(H4="OB","A",IF(H4="IX","W",H4)) -> 0 | AA3: I | AB3: 120 | AC3: 90 | AD3: 65 | AE3: 55 | AF3: 50 | AG3: 45 | AH3: 40 | AI3: 35 | AJ3: 25 | AK3: 20
A4: =[2]Altalanos!$A$10 -> 46135 | E4: =[2]Altalanos!$C$10 -> Balatonboglár | L4: =[2]Altalanos!$E$10 -> Nagyistók-Nádasi Judit | AA4: II | AB4: 90 | AC4: 60 | AD4: 45 | AE4: 34 | AF4: 27 | AG4: 22 | AH4: 18 | AI4: 15 | AJ4: 12 | AK4: 9
B5: kiem | C5: kódszám | D5: Rangsor | E5: Vezetéknév | G5: Keresztnév | I5: Egyesület | K5: Helyezés | L5: Pontszám | M5: Bónusz | O5: 1 FORDULÓ | P5: B - C | R5: 1 FORDULÓ | S5: E - F | Y5: =IF(OR([2]Altalanos!$A$8="F1",[2]Altalanos!$A$8="F2",[2]Altalanos!$A$8="N1",[2]Altalanos!$A$8="N2"),1,2) -> 2 | AA5: III | AB5: 60 | AC5: 40 | AD5: 30 | AE5: 20 | AF5: 18 | AG5: 15 | AH5: 12 | AI5: 10 | AJ5: 8 | AK5: 6
O6: 2 FORDULÓ | P6: C - A | R6: 2 FORDULÓ | S6: F - D | AA6: IV | AB6: 40 | AC6: 25 | AD6: 18 | AE6: 13 | AF6: 10 | AG6: 8 | AH6: 6 | AI6: 5 | AJ6: 4 | AK6: 3
A7: A | B7: 4 | C7: =IF($B7="","",VLOOKUP($B7,'III.kcs.-U11-N-L elo'!$A$7:$O$22,5)) -> 151130 | D7: =IF($B7="","",VLOOKUP($B7,'III.kcs.-U11-N-L elo'!$A$7:$O$22,15)) -> 0 | E7: =UPPER(IF($B7="","",VLOOKUP($B7,'III.kcs.-U11-N-L elo'!$A$7:$O$22,2))) -> RENGEL | G7: =IF($B7="","",VLOOKUP($B7,'III.kcs.-U11-N-L elo'!$A$7:$O$22,3)) -> Izabella | I7: =IF($B7="","",VLOOKUP($B7,'III.kcs.-U11-N-L elo'!$A$7:$O$22,4)) -> Nagyboldogasszony - Kaposvár | K7: 5-6. | O7: 3 FORDULÓ | P7: A - B | R7: 3 FORDULÓ | S7: D - E | AA7: V | AB7: 25 | AC7: 15 | AD7: 13 | AE7: 8 | AF7: 6 | AG7: 4 | AH7: 3 | AI7: 2 | AJ7: 1 | AK7: 0
AA8: VI | AB8: 15 | AC8: 10 | AD8: 7 | AE8: 5 | AF8: 4 | AG8: 3 | AH8: 2 | AI8: 1 | AJ8: 0 | AK8: 0
A9: B | B9: 6 | C9: =IF($B9="","",VLOOKUP($B9,'III.kcs.-U11-N-L elo'!$A$7:$O$22,5)) -> 150822 | D9: =IF($B9="","",VLOOKUP($B9,'III.kcs.-U11-N-L elo'!$A$7:$O$22,15)) -> 0 | E9: =UPPER(IF($B9="","",VLOOKUP($B9,'III.kcs.-U11-N-L elo'!$A$7:$O$22,2))) -> TÓTH | G9: =IF($B9="","",VLOOKUP($B9,'III.kcs.-U11-N-L elo'!$A$7:$O$22,3)) -> Szabina | I9: =IF($B9="","",VLOOKUP($B9,'III.kcs.-U11-N-L elo'!$A$7:$O$22,4)) -> B.lelle-Karádi Ált. Isk. és AMI | K9: II. | AA9: VII | AB9: 10 | AC9: 6 | AD9: 4 | AE9: 2 | AF9: 1 | AG9: 0 | AH9: 0 | AI9: 0 | AJ9: 0 | AK9: 0
AA10: VIII | AB10: 6 | AC10: 3 | AD10: 2 | AE10: 1 | AF10: 0 | AG10: 0 | AH10: 0 | AI10: 0 | AJ10: 0 | AK10: 0
A11: C | B11: 2 | C11: =IF($B11="","",VLOOKUP($B11,'III.kcs.-U11-N-L elo'!$A$7:$O$22,5)) -> 150111 | D11: =IF($B11="","",VLOOKUP($B11,'III.kcs.-U11-N-L elo'!$A$7:$O$22,15)) -> 0 | E11: =UPPER(IF($B11="","",VLOOKUP($B11,'III.kcs.-U11-N-L elo'!$A$7:$O$22,2))) -> BALOGH | G11: =IF($B11="","",VLOOKUP($B11,'III.kcs.-U11-N-L elo'!$A$7:$O$22,3)) -> Fanni Leila | I11: =IF($B11="","",VLOOKUP($B11,'III.kcs.-U11-N-L elo'!$A$7:$O$22,4)) -> B.lelle-Karádi Ált. Isk. és AMI | K11: III. | AA11: W | AB11: 3 | AC11: 2 | AD11: 1 | AE11: 0 | AF11: 0 | AG11: 0 | AH11: 0 | AI11: 0 | AJ11: 0 | AK11: 0
AA12: X | AB12: 0 | AC12: 0 | AD12: 0 | AE12: 0 | AF12: 0 | AG12: 0 | AH12: 0 | AI12: 0 | AJ12: 0 | AK12: 0
A13: D | B13: 1 | C13: =IF($B13="","",VLOOKUP($B13,'III.kcs.-U11-N-L elo'!$A$7:$O$22,5)) -> 151126 | D13: =IF($B13="","",VLOOKUP($B13,'III.kcs.-U11-N-L elo'!$A$7:$O$22,15)) -> 0 | E13: =UPPER(IF($B13="","",VLOOKUP($B13,'III.kcs.-U11-N-L elo'!$A$7:$O$22,2))) -> BALÁZS | G13: =IF($B13="","",VLOOKUP($B13,'III.kcs.-U11-N-L elo'!$A$7:$O$22,3)) -> Helka | I13: =IF($B13="","",VLOOKUP($B13,'III.kcs.-U11-N-L elo'!$A$7:$O$22,4)) -> B.lelle-Karádi Ált. Isk. és AMI | K13: I. | AA13: XI | AB13: 0 | AC13: 0 | AD13: 0 | AE13: 0 | AF13: 0 | AG13: 0 | AH13: 0 | AI13: 0 | AJ13: 0 | AK13: 0
A15: E | B15: 3 | C15: =IF($B15="","",VLOOKUP($B15,'III.kcs.-U11-N-L elo'!$A$7:$O$22,5)) -> 150923 | D15: =IF($B15="","",VLOOKUP($B15,'III.kcs.-U11-N-L elo'!$A$7:$O$22,15)) -> 0 | E15: =UPPER(IF($B15="","",VLOOKUP($B15,'III.kcs.-U11-N-L elo'!$A$7:$O$22,2))) -> DÁVID | G15: =IF($B15="","",VLOOKUP($B15,'III.kcs.-U11-N-L elo'!$A$7:$O$22,3)) -> Borbála | I15: =IF($B15="","",VLOOKUP($B15,'III.kcs.-U11-N-L elo'!$A$7:$O$22,4)) -> B.lelle-Karádi Ált. Isk. és AMI | K15: 4.
AA16: A | AB16: 300 | AC16: 250 | AD16: 220 | AE16: 180 | AF16: 160 | AG16: 150 | AH16: 140 | AI16: 130 | AJ16: 120 | AK16: 110
A17: F | B17: 5 | C17: =IF($B17="","",VLOOKUP($B17,'III.kcs.-U11-N-L elo'!$A$7:$O$22,5)) -> 150213 | D17: =IF($B17="","",VLOOKUP($B17,'III.kcs.-U11-N-L elo'!$A$7:$O$22,15)) -> 0 | E17: =UPPER(IF($B17="","",VLOOKUP($B17,'III.kcs.-U11-N-L elo'!$A$7:$O$22,2))) -> SZALAY | G17: =IF($B17="","",VLOOKUP($B17,'III.kcs.-U11-N-L elo'!$A$7:$O$22,3)) -> Boglárka | I17: =IF($B17="","",VLOOKUP($B17,'III.kcs.-U11-N-L elo'!$A$7:$O$22,4)) -> Siófoki Beszédes József Ált. Isk. | K17: 5-6. | AA17: I | AB17: 250 | AC17: 200 | AD17: 160 | AE17: 140 | AF17: 120 | AG17: 110 | AH17: 100 | AI17: 90 | AJ17: 80 | AK17: 70
AA18: II | AB18: 200 | AC18: 150 | AD18: 130 | AE18: 110 | AF18: 95 | AG18: 80 | AH18: 70 | AI18: 60 | AJ18: 55 | AK18: 50
AA19: III | AB19: 150 | AC19: 120 | AD19: 100 | AE19: 80 | AF19: 70 | AG19: 60 | AH19: 55 | AI19: 50 | AJ19: 45 | AK19: 40
AA20: IV | AB20: 120 | AC20: 90 | AD20: 65 | AE20: 55 | AF20: 50 | AG20: 45 | AH20: 40 | AI20: 35 | AJ20: 25 | AK20: 20
AA21: V | AB21: 90 | AC21: 60 | AD21: 45 | AE21: 34 | AF21: 27 | AG21: 22 | AH21: 18 | AI21: 15 | AJ21: 12 | AK21: 9
D22: =E7 -> RENGEL | F22: =E9 -> TÓTH | H22: =E11 -> BALOGH | M22: Helyezés | AA22: VI | AB22: 60 | AC22: 40 | AD22: 30 | AE22: 20 | AF22: 18 | AG22: 15 | AH22: 12 | AI22: 10 | AJ22: 8 | AK22: 6
A23: A | B23: =E7 -> RENGEL | F23: 0/4 | H23: 0/4 | M23: 3 | AA23: VII | AB23: 40 | AC23: 25 | AD23: 18 | AE23: 13 | AF23: 8 | AG23: 7 | AH23: 6 | AI23: 5 | AJ23: 4 | AK23: 3
A24: B | B24: =E9 -> TÓTH | D24: 4/0 | H24: 4/2 | M24: 1 | AA24: VIII | AB24: 25 | AC24: 15 | AD24: 13 | AE24: 7 | AF24: 6 | AG24: 5 | AH24: 4 | AI24: 3 | AJ24: 2 | AK24: 1
A25: C | B25: =E11 -> BALOGH | D25: 4/0 | F25: 2/4 | M25: 2 | AA25: W | AB25: 15 | AC25: 10 | AD25: 8 | AE25: 4 | AF25: 3 | AG25: 2 | AH25: 1 | AI25: 0 | AJ25: 0 | AK25: 0
AA26: X | AB26: 10 | AC26: 6 | AD26: 4 | AE26: 2 | AF26: 1 | AG26: 0 | AH26: 0 | AI26: 0 | AJ26: 0 | AK26: 0
D27: =E13 -> BALÁZS | F27: =E15 -> DÁVID | H27: =E17 -> SZALAY | AA27: XI | AB27: 3 | AC27: 2 | AD27: 1 | AE27: 0 | AF27: 0 | AG27: 0 | AH27: 0 | AI27: 0 | AJ27: 0 | AK27: 0
A28: D | B28: =E13 -> BALÁZS | F28: 4/0 | H28: 4/1 | M28: 1
A29: E | B29: =E15 -> DÁVID | D29: 0/4 | H29: 4/1 | M29: 2
A30: F | B30: =E17 -> SZALAY | D30: 1/4 | F30: 1/4 | M30: 3
A32: Döntő | C32: =IF(M23=1,B23,IF(M24=1,B24,IF(M25=1,B25,""))) -> TÓTH | E32: vs. | F32: =IF(M28=1,B28,IF(M29=1,B29,IF(M30=1,B30,""))) -> BALÁZS | I32: 0/4
A34: 3. hely | C34: =IF(M23=2,B23,IF(M24=2,B24,IF(M25=2,B25,""))) -> BALOGH | E34: vs. | F34: =IF(M28=2,B28,IF(M29=2,B29,IF(M30=2,B30,""))) -> DÁVID | I34: 4/1
A36: 5. hely | C36: =IF(M23=3,B23,IF(M24=3,B24,IF(M25=3,B25,""))) -> RENGEL | E36: vs. | F36: =IF(M28=3,B28,IF(M29=3,B29,IF(M30=3,B30,""))) -> SZALAY
A39: Rangsor | D39: # | E39: Kiemeltek | G39: # | H39: Szerencés Vesztes | J39: Helyettesíti | K39: Sorsolás időpontja
A40: Dátuma | G40: 1 | K40: Utolsó elfogadott játékos
A41: Utolsó DA | G41: 2
G42: 3 | K42: Sorsoló játékosok
G43: 4
G44: 5
G45: 6 | K45: Versenybíró aláírása
G46: 7
G47: 8 | K47: =L4 -> Nagyistók-Nádasi Judit | R47: =MIN(4,'III.kcs.-U11-N-L elo'!Q5) -> 4

Sheet B-III.kcs-U11-Z-F
A1: =[1]Altalanos!$A$6 -> Somogy Vármegyei Tenisz DO B kategória - Fiú | H1: Egyéni főtábla | AB1: =IF(Y5=1,CONCATENATE(VLOOKUP(Y3,AA16:AH27,2)),CONCATENATE(VLOOKUP(Y3,AA2:AK13,2))) -> #N/A | AC1: =IF(Y5=1,CONCATENATE(VLOOKUP(Y3,AA16:AK27,3)),CONCATENATE(VLOOKUP(Y3,AA2:AK13,3))) -> #N/A | AD1: =IF(Y5=1,CONCATENATE(VLOOKUP(Y3,AA16:AK27,4)),CONCATENATE(VLOOKUP(Y3,AA2:AK13,4))) -> #N/A | AE1: =IF(Y5=1,CONCATENATE(VLOOKUP(Y3,AA16:AK27,5)),CONCATENATE(VLOOKUP(Y3,AA2:AK13,5))) -> #N/A | AF1: =IF(Y5=1,CONCATENATE(VLOOKUP(Y3,AA16:AK27,6)),CONCATENATE(VLOOKUP(Y3,AA2:AK13,6))) -> #N/A | AG1: =IF(Y5=1,CONCATENATE(VLOOKUP(Y3,AA16:AK27,7)),CONCATENATE(VLOOKUP(Y3,AA2:AK13,7))) -> #N/A | AH1: =IF(Y5=1,CONCATENATE(VLOOKUP(Y3,AA16:AK27,8)),CONCATENATE(VLOOKUP(Y3,AA2:AK13,8))) -> #N/A | AI1: =IF(Y5=1,CONCATENATE(VLOOKUP(Y3,AA16:AK27,9)),CONCATENATE(VLOOKUP(Y3,AA2:AK13,9))) -> #N/A | AJ1: =IF(Y5=1,CONCATENATE(VLOOKUP(Y3,AA16:AK27,10)),CONCATENATE(VLOOKUP(Y3,AA2:AK13,10))) -> #N/A | AK1: =IF(Y5=1,CONCATENATE(VLOOKUP(Y3,AA16:AK27,11)),CONCATENATE(VLOOKUP(Y3,AA2:AK13,11))) -> #N/A
A2: Versenyszám: | E2: =[1]Altalanos!$C$8 -> III.kcs.-U11-Z-F | AA2: A | AB2: 150 | AC2: 120 | AD2: 100 | AE2: 80 | AF2: 70 | AG2: 60 | AH2: 55 | AI2: 50 | AJ2: 45 | AK2: 40
A3: Dátum | E3: Város | H3: Kategória | L3: Versenybíró | Q3: 1 FORDULÓ | R3: B - C | S3: A -D | Y3: =IF(H4="OB","A",IF(H4="IX","W",H4)) -> 0 | AA3: I | AB3: 120 | AC3: 90 | AD3: 65 | AE3: 55 | AF3: 50 | AG3: 45 | AH3: 40 | AI3: 35 | AJ3: 25 | AK3: 20
A4: =[1]Altalanos!$A$10 -> 46135 | E4: =[1]Altalanos!$C$10 -> Balatonboglár | L4: =[1]Altalanos!$E$10 -> Nagyistók-Nádasi Judit | Q4: 2 FORDULÓ | R4: C - A | S4: D - B | AA4: II | AB4: 90 | AC4: 60 | AD4: 45 | AE4: 34 | AF4: 27 | AG4: 22 | AH4: 18 | AI4: 15 | AJ4: 12 | AK4: 9
B5: kiem | C5: kódszám | D5: Rangsor | E5: Vezetéknév | G5: Keresztnév | I5: Egyesület | K5: Helyezés | L5: Pontszám | M5: Bónusz | Q5: 3 FORDULÓ | R5: A - B | S5: C - D | Y5: =IF(OR([1]Altalanos!$A$8="F1",[1]Altalanos!$A$8="F2",[1]Altalanos!$A$8="N1",[1]Altalanos!$A$8="N2"),1,2) -> 2 | AA5: III | AB5: 60 | AC5: 40 | AD5: 30 | AE5: 20 | AF5: 18 | AG5: 15 | AH5: 12 | AI5: 10 | AJ5: 8 | AK5: 6
AA6: IV | AB6: 40 | AC6: 25 | AD6: 18 | AE6: 13 | AF6: 10 | AG6: 8 | AH6: 6 | AI6: 5 | AJ6: 4 | AK6: 3
A7: A | B7: 1 | C7: =IF($B7="","",VLOOKUP($B7,'III.kcs.-U11-Z-F elo'!$A$7:$O$22,5)) -> 151203 | D7: =IF($B7="","",VLOOKUP($B7,'III.kcs.-U11-Z-F elo'!$A$7:$O$22,15)) -> 0 | E7: =UPPER(IF($B7="","",VLOOKUP($B7,'III.kcs.-U11-Z-F elo'!$A$7:$O$22,2))) -> ARADICS | G7: =IF($B7="","",VLOOKUP($B7,'III.kcs.-U11-Z-F elo'!$A$7:$O$22,3)) -> Nolen | I7: =IF($B7="","",VLOOKUP($B7,'III.kcs.-U11-Z-F elo'!$A$7:$O$22,4)) -> Siófoki Vak Bottyán J.Ált.Isk. és AMI | K7: III. | Q7: 1 FORDULÓ | R7: E - F | S7: D - G | AA7: V | AB7: 25 | AC7: 15 | AD7: 13 | AE7: 8 | AF7: 6 | AG7: 4 | AH7: 3 | AI7: 2 | AJ7: 1 | AK7: 0
Q8: 2 FORDULÓ | R8: F - D | S8: G - E | AA8: VI | AB8: 15 | AC8: 10 | AD8: 7 | AE8: 5 | AF8: 4 | AG8: 3 | AH8: 2 | AI8: 1 | AJ8: 0 | AK8: 0
A9: B | B9: 2 | C9: =IF($B9="","",VLOOKUP($B9,'III.kcs.-U11-Z-F elo'!$A$7:$O$22,5)) -> 150617 | D9: =IF($B9="","",VLOOKUP($B9,'III.kcs.-U11-Z-F elo'!$A$7:$O$22,15)) -> 0 | E9: =UPPER(IF($B9="","",VLOOKUP($B9,'III.kcs.-U11-Z-F elo'!$A$7:$O$22,2))) -> BURKHALTER | G9: =IF($B9="","",VLOOKUP($B9,'III.kcs.-U11-Z-F elo'!$A$7:$O$22,3)) -> Ármin | I9: =IF($B9="","",VLOOKUP($B9,'III.kcs.-U11-Z-F elo'!$A$7:$O$22,4)) -> Marcali Mikszáth K.Ált. Iskola | K9: 5-6. | Q9: 3 FORDULÓ | R9: D - E | S9: F - E | AA9: VII | AB9: 10 | AC9: 6 | AD9: 4 | AE9: 2 | AF9: 1 | AG9: 0 | AH9: 0 | AI9: 0 | AJ9: 0 | AK9: 0
AA10: VIII | AB10: 6 | AC10: 3 | AD10: 2 | AE10: 1 | AF10: 0 | AG10: 0 | AH10: 0 | AI10: 0 | AJ10: 0 | AK10: 0
A11: C | B11: 3 | C11: =IF($B11="","",VLOOKUP($B11,'III.kcs.-U11-Z-F elo'!$A$7:$O$22,5)) -> 150105 | D11: =IF($B11="","",VLOOKUP($B11,'III.kcs.-U11-Z-F elo'!$A$7:$O$22,15)) -> 0 | E11: =UPPER(IF($B11="","",VLOOKUP($B11,'III.kcs.-U11-Z-F elo'!$A$7:$O$22,2))) -> CSÉCS-VARGA | G11: =IF($B11="","",VLOOKUP($B11,'III.kcs.-U11-Z-F elo'!$A$7:$O$22,3)) -> Zsombor | I11: =IF($B11="","",VLOOKUP($B11,'III.kcs.-U11-Z-F elo'!$A$7:$O$22,4)) -> Kaposvári Kodály Z. Közp. Ált. Isk. | K11: II. | AA11: W | AB11: 3 | AC11: 2 | AD11: 1 | AE11: 0 | AF11: 0 | AG11: 0 | AH11: 0 | AI11: 0 | AJ11: 0 | AK11: 0
AA12: X | AB12: 0 | AC12: 0 | AD12: 0 | AE12: 0 | AF12: 0 | AG12: 0 | AH12: 0 | AI12: 0 | AJ12: 0 | AK12: 0
A13: D | B13: 4 | C13: =IF($B13="","",VLOOKUP($B13,'III.kcs.-U11-Z-F elo'!$A$7:$O$22,5)) -> 151005 | D13: =IF($B13="","",VLOOKUP($B13,'III.kcs.-U11-Z-F elo'!$A$7:$O$22,15)) -> 0 | E13: =UPPER(IF($B13="","",VLOOKUP($B13,'III.kcs.-U11-Z-F elo'!$A$7:$O$22,2))) -> GYŐRY | G13: =IF($B13="","",VLOOKUP($B13,'III.kcs.-U11-Z-F elo'!$A$7:$O$22,3)) -> Nimród Péter | I13: =IF($B13="","",VLOOKUP($B13,'III.kcs.-U11-Z-F elo'!$A$7:$O$22,4)) -> B.lelle-Karádi Ált. Iskola és AMI | K13: I. | AA13: XI | AB13: 0 | AC13: 0 | AD13: 0 | AE13: 0 | AF13: 0 | AG13: 0 | AH13: 0 | AI13: 0 | AJ13: 0 | AK13: 0
A15: E | B15: 5 | C15: =IF($B15="","",VLOOKUP($B15,'III.kcs.-U11-Z-F elo'!$A$7:$O$22,5)) -> 150330 | D15: =IF($B15="","",VLOOKUP($B15,'III.kcs.-U11-Z-F elo'!$A$7:$O$22,15)) -> 0 | E15: =UPPER(IF($B15="","",VLOOKUP($B15,'III.kcs.-U11-Z-F elo'!$A$7:$O$22,2))) -> HORVÁTH | G15: =IF($B15="","",VLOOKUP($B15,'III.kcs.-U11-Z-F elo'!$A$7:$O$22,3)) -> Zalán Zoltán | I15: =IF($B15="","",VLOOKUP($B15,'III.kcs.-U11-Z-F elo'!$A$7:$O$22,4)) -> Marcali Mikszáth K.Ált. Iskola | K15: 5-6.
AA16: A | AB16: 300 | AC16: 250 | AD16: 220 | AE16: 180 | AF16: 160 | AG16: 150 | AH16: 140 | AI16: 130 | AJ16: 120 | AK16: 110
A17: F | B17: 6 | C17: =IF($B17="","",VLOOKUP($B17,'III.kcs.-U11-Z-F elo'!$A$7:$O$22,5)) -> 150506 | D17: =IF($B17="","",VLOOKUP($B17,'III.kcs.-U11-Z-F elo'!$A$7:$O$22,15)) -> 0 | E17: =UPPER(IF($B17="","",VLOOKUP($B17,'III.kcs.-U11-Z-F elo'!$A$7:$O$22,2))) -> OROSZ | G17: =IF($B17="","",VLOOKUP($B17,'III.kcs.-U11-Z-F elo'!$A$7:$O$22,3)) -> Zéta Krisztián | I17: =IF($B17="","",VLOOKUP($B17,'III.kcs.-U11-Z-F elo'!$A$7:$O$22,4)) -> Siófoki Vak Bottyán J.Ált. Isk. és AMI | K17: 7. | AA17: I | AB17: 250 | AC17: 200 | AD17: 160 | AE17: 140 | AF17: 120 | AG17: 110 | AH17: 100 | AI17: 90 | AJ17: 80 | AK17: 70
AA18: II | AB18: 200 | AC18: 150 | AD18: 130 | AE18: 110 | AF18: 95 | AG18: 80 | AH18: 70 | AI18: 60 | AJ18: 55 | AK18: 50
A19: G | B19: 7 | C19: =IF($B19="","",VLOOKUP($B19,'III.kcs.-U11-Z-F elo'!$A$7:$O$22,5)) -> 150828 | D19: =IF($B19="","",VLOOKUP($B19,'III.kcs.-U11-Z-F elo'!$A$7:$O$22,15)) -> 0 | E19: =UPPER(IF($B19="","",VLOOKUP($B19,'III.kcs.-U11-Z-F elo'!$A$7:$O$22,2))) -> PONEKKER | G19: =IF($B19="","",VLOOKUP($B19,'III.kcs.-U11-Z-F elo'!$A$7:$O$22,3)) -> Ákos | I19: =IF($B19="","",VLOOKUP($B19,'III.kcs.-U11-Z-F elo'!$A$7:$O$22,4)) -> Kaposvári Kodály Z. Közp. Ált. Isk. | K19: III. | AA19: III | AB19: 150 | AC19: 120 | AD19: 100 | AE19: 80 | AF19: 70 | AG19: 60 | AH19: 55 | AI19: 50 | AJ19: 45 | AK19: 40
AA20: IV | AB20: 120 | AC20: 90 | AD20: 65 | AE20: 55 | AF20: 50 | AG20: 45 | AH20: 40 | AI20: 35 | AJ20: 25 | AK20: 20
AA21: V | AB21: 90 | AC21: 60 | AD21: 45 | AE21: 34 | AF21: 27 | AG21: 22 | AH21: 18 | AI21: 15 | AJ21: 12 | AK21: 9
D22: =E7 -> ARADICS | F22: =E9 -> BURKHALTER | H22: =E11 -> CSÉCS-VARGA | M22: Helyezés | AA22: VI | AB22: 60 | AC22: 40 | AD22: 30 | AE22: 20 | AF22: 18 | AG22: 15 | AH22: 12 | AI22: 10 | AJ22: 8 | AK22: 6
A23: A | B23: =E7 -> ARADICS | F23: 5/3 | H23: 2/4 | M23: 2 | AA23: VII | AB23: 40 | AC23: 25 | AD23: 18 | AE23: 13 | AF23: 8 | AG23: 7 | AH23: 6 | AI23: 5 | AJ23: 4 | AK23: 3
A24: B | B24: =E9 -> BURKHALTER | D24: 3/5 | H24: 2/4 | M24: 3 | AA24: VIII | AB24: 25 | AC24: 15 | AD24: 13 | AE24: 7 | AF24: 6 | AG24: 5 | AH24: 4 | AI24: 3 | AJ24: 2 | AK24: 1
A25: C | B25: =E11 -> CSÉCS-VARGA | D25: 4/2 | F25: 4/2 | M25: 1 | AA25: W | AB25: 15 | AC25: 10 | AD25: 8 | AE25: 4 | AF25: 3 | AG25: 2 | AH25: 1 | AI25: 0 | AJ25: 0 | AK25: 0
AA26: X | AB26: 10 | AC26: 6 | AD26: 4 | AE26: 2 | AF26: 1 | AG26: 0 | AH26: 0 | AI26: 0 | AJ26: 0 | AK26: 0
D27: =E13 -> GYŐRY | F27: =E15 -> HORVÁTH | H27: =E17 -> OROSZ | J27: =E19 -> PONEKKER | AA27: XI | AB27: 3 | AC27: 2 | AD27: 1 | AE27: 0 | AF27: 0 | AG27: 0 | AH27: 0 | AI27: 0 | AJ27: 0 | AK27: 0
A28: D | B28: =E13 -> GYŐRY | F28: 4/1 | H28: 4/1 | J28: 4/0 | M28: 1
A29: E | B29: =E15 -> HORVÁTH | D29: 1/4 | H29: 4/2 | J29: 1/4 | M29: 3
A30: F | B30: =E17 -> OROSZ | D30: 0/4 | F30: 2/4 | J30: 0/4 | M30: 4
A31: G | B31: =E19 -> PONEKKER | D31: 0/4 | F31: 4/1 | H31: 4/0 | M31: 2
A34: Döntő | C34: =IF(M23=1,B23,IF(M24=1,B24,IF(M25=1,B25,""))) -> CSÉCS-VARGA | E34: vs. | F34: =IF(M28=1,B28,IF(M29=1,B29,IF(M30=1,B30,IF(M31=1,B31,"")))) -> GYŐRY | I34: 1/4
A36: 3. hely | C36: =IF(M23=2,B23,IF(M24=2,B24,IF(M25=2,B25,""))) -> ARADICS | E36: vs. | F36: =IF(M28=2,B28,IF(M29=2,B29,IF(M30=2,B30,IF(M31=2,B31,"")))) -> PONEKKER
A38: 5. hely | C38: =IF(M23=3,B23,IF(M24=3,B24,IF(M25=3,B25,""))) -> BURKHALTER | E38: vs. | F38: =IF(M28=3,B28,IF(M29=3,B29,IF(M30=3,B30,IF(M31=3,B31,"")))) -> HORVÁTH
A41: Rangsor | D41: # | E41: Kiemeltek | G41: # | H41: Szerencés Vesztes | J41: Helyettesíti | K41: Sorsolás időpontja
A42: Dátuma | G42: 1 | K42: Utolsó elfogadott játékos
A43: Utolsó DA | G43: 2
G44: 3 | K44: Sorsoló játékosok | R44: =MIN(4,'III.kcs.-U11-Z-F elo'!Q2) -> 4
G45: 4
G46: 5
G47: 6 | K47: Versenybíró aláírása
G48: 7
G49: 8 | K49: =L4 -> Nagyistók-Nádasi Judit

Sheet B-IV.kcs-U12-L
A1: =[2]Altalanos!$A$6 -> Somogy Vármegyei Tenisz DO B kategória - Leány | H1: Egyéni főtábla | AB1: =IF(Y5=1,CONCATENATE(VLOOKUP(Y3,AA16:AH27,2)),CONCATENATE(VLOOKUP(Y3,AA2:AK13,2))) -> #N/A | AC1: =IF(Y5=1,CONCATENATE(VLOOKUP(Y3,AA16:AK27,3)),CONCATENATE(VLOOKUP(Y3,AA2:AK13,3))) -> #N/A | AD1: =IF(Y5=1,CONCATENATE(VLOOKUP(Y3,AA16:AK27,4)),CONCATENATE(VLOOKUP(Y3,AA2:AK13,4))) -> #N/A | AE1: =IF(Y5=1,CONCATENATE(VLOOKUP(Y3,AA16:AK27,5)),CONCATENATE(VLOOKUP(Y3,AA2:AK13,5))) -> #N/A | AF1: =IF(Y5=1,CONCATENATE(VLOOKUP(Y3,AA16:AK27,6)),CONCATENATE(VLOOKUP(Y3,AA2:AK13,6))) -> #N/A | AG1: =IF(Y5=1,CONCATENATE(VLOOKUP(Y3,AA16:AK27,7)),CONCATENATE(VLOOKUP(Y3,AA2:AK13,7))) -> #N/A | AH1: =IF(Y5=1,CONCATENATE(VLOOKUP(Y3,AA16:AK27,8)),CONCATENATE(VLOOKUP(Y3,AA2:AK13,8))) -> #N/A | AI1: =IF(Y5=1,CONCATENATE(VLOOKUP(Y3,AA16:AK27,9)),CONCATENATE(VLOOKUP(Y3,AA2:AK13,9))) -> #N/A | AJ1: =IF(Y5=1,CONCATENATE(VLOOKUP(Y3,AA16:AK27,10)),CONCATENATE(VLOOKUP(Y3,AA2:AK13,10))) -> #N/A | AK1: =IF(Y5=1,CONCATENATE(VLOOKUP(Y3,AA16:AK27,11)),CONCATENATE(VLOOKUP(Y3,AA2:AK13,11))) -> #N/A
A2: Versenyszám: | E2: IV.kcs.-U12-L | AA2: A | AB2: 150 | AC2: 120 | AD2: 100 | AE2: 80 | AF2: 70 | AG2: 60 | AH2: 55 | AI2: 50 | AJ2: 45 | AK2: 40
A3: Dátum | E3: Város | H3: Kategória | L3: Versenybíró | Q3: 1 FORDULÓ | R3: B - C | Y3: =IF(H4="OB","A",IF(H4="IX","W",H4)) -> 0 | AA3: I | AB3: 120 | AC3: 90 | AD3: 65 | AE3: 55 | AF3: 50 | AG3: 45 | AH3: 40 | AI3: 35 | AJ3: 25 | AK3: 20
A4: =[2]Altalanos!$A$10 -> 46135 | E4: =[2]Altalanos!$C$10 -> Balatonboglár | L4: =[2]Altalanos!$E$10 -> Nagyistók-Nádasi Judit | Q4: 2 FORDULÓ | R4: C - A | AA4: II | AB4: 90 | AC4: 60 | AD4: 45 | AE4: 34 | AF4: 27 | AG4: 22 | AH4: 18 | AI4: 15 | AJ4: 12 | AK4: 9
B5: kiem | C5: kódszám | D5: Rangsor | E5: Vezetéknév | G5: Keresztnév | I5: Egyesület | K5: Helyezés | L5: Pontszám | M5: Bónusz | Q5: 3 FORDULÓ | R5: A - B | Y5: =IF(OR([2]Altalanos!$A$8="F1",[2]Altalanos!$A$8="F2",[2]Altalanos!$A$8="N1",[2]Altalanos!$A$8="N2"),1,2) -> 2 | AA5: III | AB5: 60 | AC5: 40 | AD5: 30 | AE5: 20 | AF5: 18 | AG5: 15 | AH5: 12 | AI5: 10 | AJ5: 8 | AK5: 6
AA6: IV | AB6: 40 | AC6: 25 | AD6: 18 | AE6: 13 | AF6: 10 | AG6: 8 | AH6: 6 | AI6: 5 | AJ6: 4 | AK6: 3
A7: A | B7: 1 | C7: =IF($B7="","",VLOOKUP($B7,'IV.kcs.-U12-L elo'!$A$7:$O$22,5)) -> 140811 | D7: =IF($B7="","",VLOOKUP($B7,'IV.kcs.-U12-L elo'!$A$7:$O$22,15)) -> 0 | E7: =UPPER(IF($B7="","",VLOOKUP($B7,'IV.kcs.-U12-L elo'!$A$7:$O$22,2))) -> DEMETER | G7: =IF($B7="","",VLOOKUP($B7,'IV.kcs.-U12-L elo'!$A$7:$O$22,3)) -> Dominika | I7: =IF($B7="","",VLOOKUP($B7,'IV.kcs.-U12-L elo'!$A$7:$O$22,4)) -> B.szabadi Kincskereső Ált.Isk. | K7: II. | L7: =IF(K7="","",CONCATENATE(VLOOKUP($Y$3,$AB$1:$AK$1,K7)," pont")) -> #N/A | AA7: V | AB7: 25 | AC7: 15 | AD7: 13 | AE7: 8 | AF7: 6 | AG7: 4 | AH7: 3 | AI7: 2 | AJ7: 1 | AK7: 0
AA8: VI | AB8: 15 | AC8: 10 | AD8: 7 | AE8: 5 | AF8: 4 | AG8: 3 | AH8: 2 | AI8: 1 | AJ8: 0 | AK8: 0
A9: B | B9: 2 | C9: =IF($B9="","",VLOOKUP($B9,'IV.kcs.-U12-L elo'!$A$7:$O$22,5)) -> 140628 | D9: =IF($B9="","",VLOOKUP($B9,'IV.kcs.-U12-L elo'!$A$7:$O$22,15)) -> 0 | E9: =UPPER(IF($B9="","",VLOOKUP($B9,'IV.kcs.-U12-L elo'!$A$7:$O$22,2))) -> SÓLYOM | G9: =IF($B9="","",VLOOKUP($B9,'IV.kcs.-U12-L elo'!$A$7:$O$22,3)) -> Emília | I9: =IF($B9="","",VLOOKUP($B9,'IV.kcs.-U12-L elo'!$A$7:$O$22,4)) -> B.lelle-Karádi Ált.Isk. és AMI | K9: I. | AA9: VII | AB9: 10 | AC9: 6 | AD9: 4 | AE9: 2 | AF9: 1 | AG9: 0 | AH9: 0 | AI9: 0 | AJ9: 0 | AK9: 0
AA10: VIII | AB10: 6 | AC10: 3 | AD10: 2 | AE10: 1 | AF10: 0 | AG10: 0 | AH10: 0 | AI10: 0 | AJ10: 0 | AK10: 0
A11: C | C11: =IF($B11="","",VLOOKUP($B11,'IV.kcs.-U12-L elo'!$A$7:$O$22,5)) | D11: =IF($B11="","",VLOOKUP($B11,'IV.kcs.-U12-L elo'!$A$7:$O$22,15)) | E11: =UPPER(IF($B11="","",VLOOKUP($B11,'IV.kcs.-U12-L elo'!$A$7:$O$22,2))) | G11: =IF($B11="","",VLOOKUP($B11,'IV.kcs.-U12-L elo'!$A$7:$O$22,3)) | I11: =IF($B11="","",VLOOKUP($B11,'IV.kcs.-U12-L elo'!$A$7:$O$22,4)) | L11: =IF(K11="","",CONCATENATE(VLOOKUP($Y$3,$AB$1:$AK$1,K11)," pont")) | AA11: W | AB11: 3 | AC11: 2 | AD11: 1 | AE11: 0 | AF11: 0 | AG11: 0 | AH11: 0 | AI11: 0 | AJ11: 0 | AK11: 0
AA12: X | AB12: 0 | AC12: 0 | AD12: 0 | AE12: 0 | AF12: 0 | AG12: 0 | AH12: 0 | AI12: 0 | AJ12: 0 | AK12: 0
AA13: XI | AB13: 0 | AC13: 0 | AD13: 0 | AE13: 0 | AF13: 0 | AG13: 0 | AH13: 0 | AI13: 0 | AJ13: 0 | AK13: 0
AA16: A | AB16: 300 | AC16: 250 | AD16: 220 | AE16: 180 | AF16: 160 | AG16: 150 | AH16: 140 | AI16: 130 | AJ16: 120 | AK16: 110
AA17: I | AB17: 250 | AC17: 200 | AD17: 160 | AE17: 140 | AF17: 120 | AG17: 110 | AH17: 100 | AI17: 90 | AJ17: 80 | AK17: 70
D18: =E7 -> DEMETER | F18: =E9 -> SÓLYOM | H18: =E11 | AA18: II | AB18: 200 | AC18: 150 | AD18: 130 | AE18: 110 | AF18: 95 | AG18: 80 | AH18: 70 | AI18: 60 | AJ18: 55 | AK18: 50
A19: A | B19: =E7 -> DEMETER | F19: 4/5 3/5 | AA19: III | AB19: 150 | AC19: 120 | AD19: 100 | AE19: 80 | AF19: 70 | AG19: 60 | AH19: 55 | AI19: 50 | AJ19: 45 | AK19: 40
A20: B | B20: =E9 -> SÓLYOM | D20: 5/4(9) 5/3 | AA20: IV | AB20: 120 | AC20: 90 | AD20: 65 | AE20: 55 | AF20: 50 | AG20: 45 | AH20: 40 | AI20: 35 | AJ20: 25 | AK20: 20
A21: C | B21: =E11 | AA21: V | AB21: 90 | AC21: 60 | AD21: 45 | AE21: 34 | AF21: 27 | AG21: 22 | AH21: 18 | AI21: 15 | AJ21: 12 | AK21: 9
AA22: VI | AB22: 60 | AC22: 40 | AD22: 30 | AE22: 20 | AF22: 18 | AG22: 15 | AH22: 12 | AI22: 10 | AJ22: 8 | AK22: 6
AA23: VII | AB23: 40 | AC23: 25 | AD23: 18 | AE23: 13 | AF23: 8 | AG23: 7 | AH23: 6 | AI23: 5 | AJ23: 4 | AK23: 3
AA24: VIII | AB24: 25 | AC24: 15 | AD24: 13 | AE24: 7 | AF24: 6 | AG24: 5 | AH24: 4 | AI24: 3 | AJ24: 2 | AK24: 1
AA25: W | AB25: 15 | AC25: 10 | AD25: 8 | AE25: 4 | AF25: 3 | AG25: 2 | AH25: 1 | AI25: 0 | AJ25: 0 | AK25: 0
AA26: X | AB26: 10 | AC26: 6 | AD26: 4 | AE26: 2 | AF26: 1 | AG26: 0 | AH26: 0 | AI26: 0 | AJ26: 0 | AK26: 0
AA27: XI | AB27: 3 | AC27: 2 | AD27: 1 | AE27: 0 | AF27: 0 | AG27: 0 | AH27: 0 | AI27: 0 | AJ27: 0 | AK27: 0
A33: Rangsor | D33: # | E33: Kiemeltek | G33: # | H33: Szerencés Vesztes | J33: Helyettesíti | K33: Sorsolás időpontja
A34: Dátuma | G34: 1 | K34: Utolsó elfogadott játékos
A35: Utolsó DA | G35: 2
G36: 3 | K36: Sorsoló játékosok
G37: 4
G38: 5
G39: 6 | K39: Versenybíró aláírása
G40: 7
G41: 8 | K41: =L4 -> Nagyistók-Nádasi Judit

Sheet B-IV.kcs.-U12-F
A1: =[3]Altalanos!$A$6 -> Somogy Vármegyei Tenisz DO B kategória - Fiú | K1: Egyéni főtábla | O1: CU | AB1: =IF($Y$5=1,CONCATENATE(VLOOKUP($Y$3,$AA$2:$AH$14,2)),CONCATENATE(VLOOKUP($Y$3,$AA$16:$AH$25,2))) -> #N/A | AC1: =IF($Y$5=1,CONCATENATE(VLOOKUP($Y$3,$AA$2:$AH$14,3)),CONCATENATE(VLOOKUP($Y$3,$AA$16:$AH$25,3))) -> #N/A | AD1: =IF($Y$5=1,CONCATENATE(VLOOKUP($Y$3,$AA$2:$AH$14,4)),CONCATENATE(VLOOKUP($Y$3,$AA$16:$AH$25,4))) -> #N/A | AE1: =IF($Y$5=1,CONCATENATE(VLOOKUP($Y$3,$AA$2:$AH$14,5)),CONCATENATE(VLOOKUP($Y$3,$AA$16:$AH$25,5))) -> #N/A | AF1: =IF($Y$5=1,CONCATENATE(VLOOKUP($Y$3,$AA$2:$AH$14,6)),CONCATENATE(VLOOKUP($Y$3,$AA$16:$AH$25,6))) -> #N/A | AG1: =IF($Y$5=1,CONCATENATE(VLOOKUP($Y$3,$AA$2:$AH$14,7)),CONCATENATE(VLOOKUP($Y$3,$AA$16:$AH$25,7))) -> #N/A | AH1: =IF($Y$5=1,CONCATENATE(VLOOKUP($Y$3,$AA$2:$AH$14,8)),CONCATENATE(VLOOKUP($Y$3,$AA$16:$AH$25,8))) -> #N/A
A2: Versenyszám: | E2: =[3]Altalanos!$D$8 -> IV.kcs.-U12-F | AA2: A | AB2: 300 | AC2: 250 | AD2: 200 | AE2: 150 | AF2: 120 | AG2: 90 | AH2: 40
A3: Dátum | G3: Város | K3: Kategória | R3: Versenybíró | Y3: =IF(K4="OB","A",IF(K4="IX","W",IF(K4="","",K4))) | AA3: B | AB3: 280 | AC3: 230 | AD3: 180 | AE3: 140 | AF3: 80 | AG3: 0 | AH3: 0
A4: =[3]Altalanos!$A$10 -> 46135 | G4: =[3]Altalanos!$C$10 -> Balatonboglár | R4: =[3]Altalanos!$E$10 -> Nagyistók-Nádasi Judit | AA4: I | AB4: 250 | AC4: 200 | AD4: 150 | AE4: 120 | AF4: 90 | AG4: 60 | AH4: 25
B5: St. | C5: Rangsor | D5: kód | E5: Kiem | F5: Családi név | G5: Keresztnév | I5: Egyesület | K5: 2. forduló | M5: Elődöntők | O5: Döntő | Q5: Győztes | Y5: =IF(OR([3]Altalanos!$A$8="F1",[3]Altalanos!$A$8="F2",[3]Altalanos!$A$8="N1",[3]Altalanos!$A$8="N2"),1,2) -> 2 | AA5: II | AB5: 200 | AC5: 150 | AD5: 120 | AE5: 90 | AF5: 60 | AG5: 40 | AH5: 15
F6: =IF(Y3="","",CONCATENATE(AH1," / ",VLOOKUP(Y3,AB1:AH1,5)," pont")) | K6: =IF(Y3="","",CONCATENATE(VLOOKUP(Y3,AB1:AH1,4)," pont")) | M6: =IF(Y3="","",CONCATENATE(VLOOKUP(Y3,AB1:AH1,3)," pont")) | O6: =IF(Y3="","",CONCATENATE(VLOOKUP(Y3,AB1:AH1,2)," pont")) | Q6: =IF(Y3="","",CONCATENATE(VLOOKUP(Y3,AB1:AH1,1)," pont")) | AA6: III | AB6: 150 | AC6: 120 | AD6: 90 | AE6: 60 | AF6: 40 | AG6: 25 | AH6: 10
A7: 1 | B7: =IF($E7="","",VLOOKUP($E7,'[3]IV.kcs.-U12-F elo'!$A$7:$O$22,14)) -> 0 | C7: =IF($E7="","",VLOOKUP($E7,'[3]IV.kcs.-U12-F elo'!$A$7:$O$22,15)) -> 0 | D7: =IF($E7="","",VLOOKUP($E7,'[3]IV.kcs.-U12-F elo'!$A$7:$O$22,5)) -> 140921 | E7: 1 | F7: =UPPER(IF($E7="","",VLOOKUP($E7,'[3]IV.kcs.-U12-F elo'!$A$7:$O$22,2))) -> GYŐRY | G7: =IF($E7="","",VLOOKUP($E7,'[3]IV.kcs.-U12-F elo'!$A$7:$O$22,3)) -> László Benedek | I7: =IF($E7="","",VLOOKUP($E7,'[3]IV.kcs.-U12-F elo'!$A$7:$O$22,4)) -> B.lelle-Karádi Ált. Isk. és AMI | U7: =#REF! -> #REF! | AA7: IV | AB7: 120 | AC7: 90 | AD7: 60 | AE7: 40 | AF7: 25 | AG7: 10 | AH7: 5
I8: Umpire | J8: a | K8: =UPPER(IF(OR(J8="a",J8="as"),F7,IF(OR(J8="b",J8="bs"),F9,))) -> GYŐRY | U8: =#REF! -> #REF! | AA8: V | AB8: 90 | AC8: 60 | AD8: 40 | AE8: 25 | AF8: 10 | AG8: 5 | AH8: 2
A9: 2 | B9: =IF($E9="","",VLOOKUP($E9,'[3]IV.kcs.-U12-F elo'!$A$7:$O$22,14)) | C9: =IF($E9="","",VLOOKUP($E9,'[3]IV.kcs.-U12-F elo'!$A$7:$O$22,15)) | D9: =IF($E9="","",VLOOKUP($E9,'[3]IV.kcs.-U12-F elo'!$A$7:$O$22,5)) | F9: =UPPER(IF($E9="","",VLOOKUP($E9,'[3]IV.kcs.-U12-F elo'!$A$7:$O$22,2))) | G9: =IF($E9="","",VLOOKUP($E9,'[3]IV.kcs.-U12-F elo'!$A$7:$O$22,3)) | I9: =IF($E9="","",VLOOKUP($E9,'[3]IV.kcs.-U12-F elo'!$A$7:$O$22,4)) | U9: =#REF! -> #REF! | AA9: VI | AB9: 60 | AC9: 40 | AD9: 25 | AE9: 10 | AF9: 5 | AG9: 2 | AH9: 1
K10: Umpire | L10: a | M10: =UPPER(IF(OR(L10="a",L10="as"),K8,IF(OR(L10="b",L10="bs"),K12,))) -> GYŐRY | U10: =#REF! -> #REF! | AA10: VII | AB10: 40 | AC10: 25 | AD10: 15 | AE10: 7 | AF10: 4 | AG10: 1 | AH10: 0
A11: 3 | B11: =IF($E11="","",VLOOKUP($E11,'[3]IV.kcs.-U12-F elo'!$A$7:$O$22,14)) -> 0 | C11: =IF($E11="","",VLOOKUP($E11,'[3]IV.kcs.-U12-F elo'!$A$7:$O$22,15)) -> 0 | D11: =IF($E11="","",VLOOKUP($E11,'[3]IV.kcs.-U12-F elo'!$A$7:$O$22,5)) -> 141228 | E11: 3 | F11: =UPPER(IF($E11="","",VLOOKUP($E11,'[3]IV.kcs.-U12-F elo'!$A$7:$O$22,2))) -> KOLLÁR | G11: =IF($E11="","",VLOOKUP($E11,'[3]IV.kcs.-U12-F elo'!$A$7:$O$22,3)) -> Barnabás Huba | I11: =IF($E11="","",VLOOKUP($E11,'[3]IV.kcs.-U12-F elo'!$A$7:$O$22,4)) -> Lorántffy Zs. Kaposvár | M11: 40 41 | U11: =#REF! -> #REF! | AA11: VIII | AB11: 25 | AC11: 15 | AD11: 10 | AE11: 6 | AF11: 3 | AG11: 1 | AH11: 0
I12: Umpire | J12: a | K12: =UPPER(IF(OR(J12="a",J12="as"),F11,IF(OR(J12="b",J12="bs"),F13,))) -> KOLLÁR | U12: =#REF! -> #REF! | AA12: W | AB12: 15 | AC12: 10 | AD12: 6 | AE12: 3 | AF12: 1 | AG12: 0 | AH12: 0
A13: 4 | B13: =IF($E13="","",VLOOKUP($E13,'[3]IV.kcs.-U12-F elo'!$A$7:$O$22,14)) | C13: =IF($E13="","",VLOOKUP($E13,'[3]IV.kcs.-U12-F elo'!$A$7:$O$22,15)) | D13: =IF($E13="","",VLOOKUP($E13,'[3]IV.kcs.-U12-F elo'!$A$7:$O$22,5)) | F13: =UPPER(IF($E13="","",VLOOKUP($E13,'[3]IV.kcs.-U12-F elo'!$A$7:$O$22,2))) | G13: =IF($E13="","",VLOOKUP($E13,'[3]IV.kcs.-U12-F elo'!$A$7:$O$22,3)) | I13: =IF($E13="","",VLOOKUP($E13,'[3]IV.kcs.-U12-F elo'!$A$7:$O$22,4)) | U13: =#REF! -> #REF! | AA13: X | AB13: 10 | AC13: 6 | AD13: 3 | AE13: 1 | AF13: 0 | AG13: 0 | AH13: 0
M14: Umpire | N14: a | O14: =UPPER(IF(OR(N14="a",N14="as"),M10,IF(OR(N14="b",N14="bs"),M18,))) -> GYŐRY | U14: =#REF! -> #REF! | AA14: XI | AB14: 3 | AC14: 2 | AD14: 1 | AE14: 0 | AF14: 0 | AG14: 0 | AH14: 0
A15: 5 | B15: =IF($E15="","",VLOOKUP($E15,'[3]IV.kcs.-U12-F elo'!$A$7:$O$22,14)) -> 0 | C15: =IF($E15="","",VLOOKUP($E15,'[3]IV.kcs.-U12-F elo'!$A$7:$O$22,15)) -> 0 | D15: =IF($E15="","",VLOOKUP($E15,'[3]IV.kcs.-U12-F elo'!$A$7:$O$22,5)) -> 140901 | E15: 5 | F15: =UPPER(IF($E15="","",VLOOKUP($E15,'[3]IV.kcs.-U12-F elo'!$A$7:$O$22,2))) -> KÖRMENDI-BOHORQUEZ | G15: =IF($E15="","",VLOOKUP($E15,'[3]IV.kcs.-U12-F elo'!$A$7:$O$22,3)) -> Hugó Gábor | I15: =IF($E15="","",VLOOKUP($E15,'[3]IV.kcs.-U12-F elo'!$A$7:$O$22,4)) -> Nagyboldogasszony - Kaposvár | O15: 41 41 | U15: =#REF! -> #REF!
I16: Umpire | J16: a | K16: =UPPER(IF(OR(J16="a",J16="as"),F15,IF(OR(J16="b",J16="bs"),F17,))) -> KÖRMENDI-BOHORQUEZ | U16: =#REF! -> #REF! | AA16: A | AB16: 150 | AC16: 120 | AD16: 90 | AE16: 60 | AF16: 40 | AG16: 25 | AH16: 15
A17: 6 | B17: =IF($E17="","",VLOOKUP($E17,'[3]IV.kcs.-U12-F elo'!$A$7:$O$22,14)) | C17: =IF($E17="","",VLOOKUP($E17,'[3]IV.kcs.-U12-F elo'!$A$7:$O$22,15)) | D17: =IF($E17="","",VLOOKUP($E17,'[3]IV.kcs.-U12-F elo'!$A$7:$O$22,5)) | F17: =UPPER(IF($E17="","",VLOOKUP($E17,'[3]IV.kcs.-U12-F elo'!$A$7:$O$22,2))) | G17: =IF($E17="","",VLOOKUP($E17,'[3]IV.kcs.-U12-F elo'!$A$7:$O$22,3)) | I17: =IF($E17="","",VLOOKUP($E17,'[3]IV.kcs.-U12-F elo'!$A$7:$O$22,4)) | AA17: I | AB17: 120 | AC17: 90 | AD17: 60 | AE17: 40 | AF17: 25 | AG17: 15 | AH17: 8
K18: Umpire | L18: a | M18: =UPPER(IF(OR(L18="a",L18="as"),K16,IF(OR(L18="b",L18="bs"),K20,))) -> KÖRMENDI-BOHORQUEZ | AA18: II | AB18: 90 | AC18: 60 | AD18: 40 | AE18: 25 | AF18: 15 | AG18: 8 | AH18: 4
A19: 7 | B19: =IF($E19="","",VLOOKUP($E19,'[3]IV.kcs.-U12-F elo'!$A$7:$O$22,14)) -> 0 | C19: =IF($E19="","",VLOOKUP($E19,'[3]IV.kcs.-U12-F elo'!$A$7:$O$22,15)) -> 0 | D19: =IF($E19="","",VLOOKUP($E19,'[3]IV.kcs.-U12-F elo'!$A$7:$O$22,5)) -> 140926 | E19: 4 | F19: =UPPER(IF($E19="","",VLOOKUP($E19,'[3]IV.kcs.-U12-F elo'!$A$7:$O$22,2))) -> KOPP | G19: =IF($E19="","",VLOOKUP($E19,'[3]IV.kcs.-U12-F elo'!$A$7:$O$22,3)) -> Ádám | I19: =IF($E19="","",VLOOKUP($E19,'[3]IV.kcs.-U12-F elo'!$A$7:$O$22,4)) -> Siófoki Vak Bottyán J.Ált.Isk. és AMI | M19: 5/4(5) 4/2 | AA19: III | AB19: 60 | AC19: 40 | AD19: 25 | AE19: 15 | AF19: 8 | AG19: 4 | AH19: 2
I20: Umpire | J20: a | K20: =UPPER(IF(OR(J20="a",J20="as"),F19,IF(OR(J20="b",J20="bs"),F21,))) -> KOPP | AA20: IV | AB20: 40 | AC20: 25 | AD20: 15 | AE20: 8 | AF20: 4 | AG20: 2 | AH20: 1
A21: 8 | B21: =IF($E21="","",VLOOKUP($E21,'[3]IV.kcs.-U12-F elo'!$A$7:$O$22,14)) | C21: =IF($E21="","",VLOOKUP($E21,'[3]IV.kcs.-U12-F elo'!$A$7:$O$22,15)) | D21: =IF($E21="","",VLOOKUP($E21,'[3]IV.kcs.-U12-F elo'!$A$7:$O$22,5)) | F21: =UPPER(IF($E21="","",VLOOKUP($E21,'[3]IV.kcs.-U12-F elo'!$A$7:$O$22,2))) | G21: =IF($E21="","",VLOOKUP($E21,'[3]IV.kcs.-U12-F elo'!$A$7:$O$22,3)) | I21: =IF($E21="","",VLOOKUP($E21,'[3]IV.kcs.-U12-F elo'!$A$7:$O$22,4)) | AA21: V | AB21: 25 | AC21: 15 | AD21: 10 | AE21: 6 | AF21: 3 | AG21: 1 | AH21: 0
O22: Umpire | P22: b | Q22: =UPPER(IF(OR(P22="a",P22="as"),O14,IF(OR(P22="b",P22="bs"),O30,))) -> KAPIN | AA22: VI | AB22: 15 | AC22: 10 | AD22: 6 | AE22: 3 | AF22: 1 | AG22: 0 | AH22: 0
A23: 9 | B23: =IF($E23="","",VLOOKUP($E23,'[3]IV.kcs.-U12-F elo'!$A$7:$O$22,14)) | C23: =IF($E23="","",VLOOKUP($E23,'[3]IV.kcs.-U12-F elo'!$A$7:$O$22,15)) | D23: =IF($E23="","",VLOOKUP($E23,'[3]IV.kcs.-U12-F elo'!$A$7:$O$22,5)) | F23: =UPPER(IF($E23="","",VLOOKUP($E23,'[3]IV.kcs.-U12-F elo'!$A$7:$O$22,2))) | G23: =IF($E23="","",VLOOKUP($E23,'[3]IV.kcs.-U12-F elo'!$A$7:$O$22,3)) | I23: =IF($E23="","",VLOOKUP($E23,'[3]IV.kcs.-U12-F elo'!$A$7:$O$22,4)) | Q23: 41 14 103 | AA23: VII | AB23: 10 | AC23: 6 | AD23: 3 | AE23: 1 | AF23: 0 | AG23: 0 | AH23: 0
I24: Umpire | J24: b | K24: =UPPER(IF(OR(J24="a",J24="as"),F23,IF(OR(J24="b",J24="bs"),F25,))) -> PEITLER | AA24: VIII | AB24: 6 | AC24: 3 | AD24: 1 | AE24: 0 | AF24: 0 | AG24: 0 | AH24: 0
A25: 10 | B25: =IF($E25="","",VLOOKUP($E25,'[3]IV.kcs.-U12-F elo'!$A$7:$O$22,14)) -> 0 | C25: =IF($E25="","",VLOOKUP($E25,'[3]IV.kcs.-U12-F elo'!$A$7:$O$22,15)) -> 0 | D25: =IF($E25="","",VLOOKUP($E25,'[3]IV.kcs.-U12-F elo'!$A$7:$O$22,5)) -> 140912 | E25: 7 | F25: =UPPER(IF($E25="","",VLOOKUP($E25,'[3]IV.kcs.-U12-F elo'!$A$7:$O$22,2))) -> PEITLER | G25: =IF($E25="","",VLOOKUP($E25,'[3]IV.kcs.-U12-F elo'!$A$7:$O$22,3)) -> Benett | I25: =IF($E25="","",VLOOKUP($E25,'[3]IV.kcs.-U12-F elo'!$A$7:$O$22,4)) -> Boglári Általános Iskola és AMI | AA25: W | AB25: 3 | AC25: 2 | AD25: 1 | AE25: 0 | AF25: 0 | AG25: 0 | AH25: 0
K26: Umpire | L26: b | M26: =UPPER(IF(OR(L26="a",L26="as"),K24,IF(OR(L26="b",L26="bs"),K28,))) -> MÁRKUS
A27: 11 | B27: =IF($E27="","",VLOOKUP($E27,'[3]IV.kcs.-U12-F elo'!$A$7:$O$22,14)) | C27: =IF($E27="","",VLOOKUP($E27,'[3]IV.kcs.-U12-F elo'!$A$7:$O$22,15)) | D27: =IF($E27="","",VLOOKUP($E27,'[3]IV.kcs.-U12-F elo'!$A$7:$O$22,5)) | F27: =UPPER(IF($E27="","",VLOOKUP($E27,'[3]IV.kcs.-U12-F elo'!$A$7:$O$22,2))) | G27: =IF($E27="","",VLOOKUP($E27,'[3]IV.kcs.-U12-F elo'!$A$7:$O$22,3)) | I27: =IF($E27="","",VLOOKUP($E27,'[3]IV.kcs.-U12-F elo'!$A$7:$O$22,4)) | M27: 41 41
I28: Umpire | J28: b | K28: =UPPER(IF(OR(J28="a",J28="as"),F27,IF(OR(J28="b",J28="bs"),F29,))) -> MÁRKUS
A29: 12 | B29: =IF($E29="","",VLOOKUP($E29,'[3]IV.kcs.-U12-F elo'!$A$7:$O$22,14)) -> 0 | C29: =IF($E29="","",VLOOKUP($E29,'[3]IV.kcs.-U12-F elo'!$A$7:$O$22,15)) -> 0 | D29: =IF($E29="","",VLOOKUP($E29,'[3]IV.kcs.-U12-F elo'!$A$7:$O$22,5)) -> 140326 | E29: 6 | F29: =UPPER(IF($E29="","",VLOOKUP($E29,'[3]IV.kcs.-U12-F elo'!$A$7:$O$22,2))) -> MÁRKUS | G29: =IF($E29="","",VLOOKUP($E29,'[3]IV.kcs.-U12-F elo'!$A$7:$O$22,3)) -> Bence | I29: =IF($E29="","",VLOOKUP($E29,'[3]IV.kcs.-U12-F elo'!$A$7:$O$22,4)) -> Kaposvári Kodály Z. Közp.Ált.Isk.
M30: Umpire | N30: b | O30: =UPPER(IF(OR(N30="a",N30="as"),M26,IF(OR(N30="b",N30="bs"),M34,))) -> KAPIN
A31: 13 | B31: =IF($E31="","",VLOOKUP($E31,'[3]IV.kcs.-U12-F elo'!$A$7:$O$22,14)) | C31: =IF($E31="","",VLOOKUP($E31,'[3]IV.kcs.-U12-F elo'!$A$7:$O$22,15)) | D31: =IF($E31="","",VLOOKUP($E31,'[3]IV.kcs.-U12-F elo'!$A$7:$O$22,5)) | F31: =UPPER(IF($E31="","",VLOOKUP($E31,'[3]IV.kcs.-U12-F elo'!$A$7:$O$22,2))) | G31: =IF($E31="","",VLOOKUP($E31,'[3]IV.kcs.-U12-F elo'!$A$7:$O$22,3)) | I31: =IF($E31="","",VLOOKUP($E31,'[3]IV.kcs.-U12-F elo'!$A$7:$O$22,4)) | O31: 42 42
I32: Umpire | J32: b | K32: =UPPER(IF(OR(J32="a",J32="as"),F31,IF(OR(J32="b",J32="bs"),F33,))) -> VÖLCSEI
A33: 14 | B33: =IF($E33="","",VLOOKUP($E33,'[3]IV.kcs.-U12-F elo'!$A$7:$O$22,14)) -> 0 | C33: =IF($E33="","",VLOOKUP($E33,'[3]IV.kcs.-U12-F elo'!$A$7:$O$22,15)) -> 0 | D33: =IF($E33="","",VLOOKUP($E33,'[3]IV.kcs.-U12-F elo'!$A$7:$O$22,5)) -> 140924 | E33: 8 | F33: =UPPER(IF($E33="","",VLOOKUP($E33,'[3]IV.kcs.-U12-F elo'!$A$7:$O$22,2))) -> VÖLCSEI | G33: =IF($E33="","",VLOOKUP($E33,'[3]IV.kcs.-U12-F elo'!$A$7:$O$22,3)) -> Misa | I33: =IF($E33="","",VLOOKUP($E33,'[3]IV.kcs.-U12-F elo'!$A$7:$O$22,4)) -> B.lelle-Karádi Ált. Iskola és AMI
K34: Umpire | L34: b | M34: =UPPER(IF(OR(L34="a",L34="as"),K32,IF(OR(L34="b",L34="bs"),K36,))) -> KAPIN
A35: 15 | B35: =IF($E35="","",VLOOKUP($E35,'[3]IV.kcs.-U12-F elo'!$A$7:$O$22,14)) | C35: =IF($E35="","",VLOOKUP($E35,'[3]IV.kcs.-U12-F elo'!$A$7:$O$22,15)) | D35: =IF($E35="","",VLOOKUP($E35,'[3]IV.kcs.-U12-F elo'!$A$7:$O$22,5)) | F35: =UPPER(IF($E35="","",VLOOKUP($E35,'[3]IV.kcs.-U12-F elo'!$A$7:$O$22,2))) | G35: =IF($E35="","",VLOOKUP($E35,'[3]IV.kcs.-U12-F elo'!$A$7:$O$22,3)) | I35: =IF($E35="","",VLOOKUP($E35,'[3]IV.kcs.-U12-F elo'!$A$7:$O$22,4)) | M35: 41 40
I36: Umpire | J36: b | K36: =UPPER(IF(OR(J36="a",J36="as"),F35,IF(OR(J36="b",J36="bs"),F37,))) -> KAPIN
A37: 16 | B37: =IF($E37="","",VLOOKUP($E37,'[3]IV.kcs.-U12-F elo'!$A$7:$O$22,14)) -> 0 | C37: =IF($E37="","",VLOOKUP($E37,'[3]IV.kcs.-U12-F elo'!$A$7:$O$22,15)) -> 0 | D37: =IF($E37="","",VLOOKUP($E37,'[3]IV.kcs.-U12-F elo'!$A$7:$O$22,5)) -> 141129 | E37: 2 | F37: =UPPER(IF($E37="","",VLOOKUP($E37,'[3]IV.kcs.-U12-F elo'!$A$7:$O$22,2))) -> KAPIN | G37: =IF($E37="","",VLOOKUP($E37,'[3]IV.kcs.-U12-F elo'!$A$7:$O$22,3)) -> Zétény | I37: =IF($E37="","",VLOOKUP($E37,'[3]IV.kcs.-U12-F elo'!$A$7:$O$22,4)) -> Siófoki Vak Bottyán J.Ált.Isk. és AMI
A49: Rangsor | E49: # | F49: Kiemeltek | J49: # | K49: Szerencés Vesztes | M49: Helyettesíti | O49: Sorsolás időpontja
A50: Dátuma | J50: 1 | O50: Utolsó elfogadott játékos
A51: Utolsó DA | J51: 2
J52: 3 | O52: Sorsoló játékosok
J53: 4
J54: 5
J55: 6 | O55: Versenybíró aláírása
J56: 7
J57: 8 | O57: =R4 -> Nagyistók-Nádasi Judit | R57: =MIN(4,'[3]IV.kcs.-U12-F elo'!Q5) -> 4

Sheet A-V.kcs.-U14-L
A1: =Altalanos!$A$6 -> Somogy Vármegyei Tenisz DO A kategória | H1: Egyéni főtábla | AB1: =IF(Y5=1,CONCATENATE(VLOOKUP(Y3,AA16:AH27,2)),CONCATENATE(VLOOKUP(Y3,AA2:AK13,2))) -> #N/A | AC1: =IF(Y5=1,CONCATENATE(VLOOKUP(Y3,AA16:AK27,3)),CONCATENATE(VLOOKUP(Y3,AA2:AK13,3))) -> #N/A | AD1: =IF(Y5=1,CONCATENATE(VLOOKUP(Y3,AA16:AK27,4)),CONCATENATE(VLOOKUP(Y3,AA2:AK13,4))) -> #N/A | AE1: =IF(Y5=1,CONCATENATE(VLOOKUP(Y3,AA16:AK27,5)),CONCATENATE(VLOOKUP(Y3,AA2:AK13,5))) -> #N/A | AF1: =IF(Y5=1,CONCATENATE(VLOOKUP(Y3,AA16:AK27,6)),CONCATENATE(VLOOKUP(Y3,AA2:AK13,6))) -> #N/A | AG1: =IF(Y5=1,CONCATENATE(VLOOKUP(Y3,AA16:AK27,7)),CONCATENATE(VLOOKUP(Y3,AA2:AK13,7))) -> #N/A | AH1: =IF(Y5=1,CONCATENATE(VLOOKUP(Y3,AA16:AK27,8)),CONCATENATE(VLOOKUP(Y3,AA2:AK13,8))) -> #N/A | AI1: =IF(Y5=1,CONCATENATE(VLOOKUP(Y3,AA16:AK27,9)),CONCATENATE(VLOOKUP(Y3,AA2:AK13,9))) -> #N/A | AJ1: =IF(Y5=1,CONCATENATE(VLOOKUP(Y3,AA16:AK27,10)),CONCATENATE(VLOOKUP(Y3,AA2:AK13,10))) -> #N/A | AK1: =IF(Y5=1,CONCATENATE(VLOOKUP(Y3,AA16:AK27,11)),CONCATENATE(VLOOKUP(Y3,AA2:AK13,11))) -> #N/A
A2: Versenyszám: | E2: =Altalanos!$B$8 -> A-V.kcs.-U14-L | AA2: A | AB2: 150 | AC2: 120 | AD2: 100 | AE2: 80 | AF2: 70 | AG2: 60 | AH2: 55 | AI2: 50 | AJ2: 45 | AK2: 40
A3: Dátum | E3: Város | H3: Kategória | L3: Versenybíró | Q3: 1 FORDULÓ | R3: B - C | Y3: =IF(H4="OB","A",IF(H4="IX","W",H4)) -> 0 | AA3: I | AB3: 120 | AC3: 90 | AD3: 65 | AE3: 55 | AF3: 50 | AG3: 45 | AH3: 40 | AI3: 35 | AJ3: 25 | AK3: 20
A4: =Altalanos!$A$10 -> 46135 | E4: =Altalanos!$C$10 -> Balatonboglár | L4: =Altalanos!$E$10 -> Nagyistók-Nádasi Judit | Q4: 2 FORDULÓ | R4: C - A | AA4: II | AB4: 90 | AC4: 60 | AD4: 45 | AE4: 34 | AF4: 27 | AG4: 22 | AH4: 18 | AI4: 15 | AJ4: 12 | AK4: 9
B5: kiem | C5: kódszám | D5: Rangsor | E5: Vezetéknév | G5: Keresztnév | I5: Egyesület | K5: Helyezés | L5: Pontszám | M5: Bónusz | Q5: 3 FORDULÓ | R5: A - B | Y5: =IF(OR(Altalanos!$A$8="F1",Altalanos!$A$8="F2",Altalanos!$A$8="N1",Altalanos!$A$8="N2"),1,2) -> 2 | AA5: III | AB5: 60 | AC5: 40 | AD5: 30 | AE5: 20 | AF5: 18 | AG5: 15 | AH5: 12 | AI5: 10 | AJ5: 8 | AK5: 6
AA6: IV | AB6: 40 | AC6: 25 | AD6: 18 | AE6: 13 | AF6: 10 | AG6: 8 | AH6: 6 | AI6: 5 | AJ6: 4 | AK6: 3
A7: A | B7: 3 | C7: =IF($B7="","",VLOOKUP($B7,'A-V.kcs.-U14-L elo'!$A$7:$O$22,5)) -> 121225 | D7: 14 | E7: =UPPER(IF($B7="","",VLOOKUP($B7,'A-V.kcs.-U14-L elo'!$A$7:$O$22,2))) -> GYŐRY | G7: =IF($B7="","",VLOOKUP($B7,'A-V.kcs.-U14-L elo'!$A$7:$O$22,3)) -> Anna | I7: =IF($B7="","",VLOOKUP($B7,'A-V.kcs.-U14-L elo'!$A$7:$O$22,4)) -> B.lelle-Karádi Ált. Isk.és AMI | K7: I. | AA7: V | AB7: 25 | AC7: 15 | AD7: 13 | AE7: 8 | AF7: 6 | AG7: 4 | AH7: 3 | AI7: 2 | AJ7: 1 | AK7: 0
AA8: VI | AB8: 15 | AC8: 10 | AD8: 7 | AE8: 5 | AF8: 4 | AG8: 3 | AH8: 2 | AI8: 1 | AJ8: 0 | AK8: 0
A9: B | B9: 1 | C9: =IF($B9="","",VLOOKUP($B9,'A-V.kcs.-U14-L elo'!$A$7:$O$22,5)) -> 120627 | D9: 76 | E9: =UPPER(IF($B9="","",VLOOKUP($B9,'A-V.kcs.-U14-L elo'!$A$7:$O$22,2))) -> BALOGH | G9: =IF($B9="","",VLOOKUP($B9,'A-V.kcs.-U14-L elo'!$A$7:$O$22,3)) -> Rebeka Bella | I9: =IF($B9="","",VLOOKUP($B9,'A-V.kcs.-U14-L elo'!$A$7:$O$22,4)) -> Boglári Ált. Isk. és AMI | K9: III. | AA9: VII | AB9: 10 | AC9: 6 | AD9: 4 | AE9: 2 | AF9: 1 | AG9: 0 | AH9: 0 | AI9: 0 | AJ9: 0 | AK9: 0
AA10: VIII | AB10: 6 | AC10: 3 | AD10: 2 | AE10: 1 | AF10: 0 | AG10: 0 | AH10: 0 | AI10: 0 | AJ10: 0 | AK10: 0
A11: C | B11: 2 | C11: =IF($B11="","",VLOOKUP($B11,'A-V.kcs.-U14-L elo'!$A$7:$O$22,5)) -> 1210030 | D11: 74 | E11: =UPPER(IF($B11="","",VLOOKUP($B11,'A-V.kcs.-U14-L elo'!$A$7:$O$22,2))) -> BORS | G11: =IF($B11="","",VLOOKUP($B11,'A-V.kcs.-U14-L elo'!$A$7:$O$22,3)) -> Panna | I11: =IF($B11="","",VLOOKUP($B11,'A-V.kcs.-U14-L elo'!$A$7:$O$22,4)) -> Boglári Ált. Isk. és AMI | K11: II. | AA11: W | AB11: 3 | AC11: 2 | AD11: 1 | AE11: 0 | AF11: 0 | AG11: 0 | AH11: 0 | AI11: 0 | AJ11: 0 | AK11: 0
AA12: X | AB12: 0 | AC12: 0 | AD12: 0 | AE12: 0 | AF12: 0 | AG12: 0 | AH12: 0 | AI12: 0 | AJ12: 0 | AK12: 0
AA13: XI | AB13: 0 | AC13: 0 | AD13: 0 | AE13: 0 | AF13: 0 | AG13: 0 | AH13: 0 | AI13: 0 | AJ13: 0 | AK13: 0
AA16: A | AB16: 300 | AC16: 250 | AD16: 220 | AE16: 180 | AF16: 160 | AG16: 150 | AH16: 140 | AI16: 130 | AJ16: 120 | AK16: 110
AA17: I | AB17: 250 | AC17: 200 | AD17: 160 | AE17: 140 | AF17: 120 | AG17: 110 | AH17: 100 | AI17: 90 | AJ17: 80 | AK17: 70
D18: =E7 -> GYŐRY | F18: =E9 -> BALOGH | H18: =E11 -> BORS | AA18: II | AB18: 200 | AC18: 150 | AD18: 130 | AE18: 110 | AF18: 95 | AG18: 80 | AH18: 70 | AI18: 60 | AJ18: 55 | AK18: 50
A19: A | B19: =E7 -> GYŐRY | F19: 4/0 4/0 | H19: 4/0 4/1 | AA19: III | AB19: 150 | AC19: 120 | AD19: 100 | AE19: 80 | AF19: 70 | AG19: 60 | AH19: 55 | AI19: 50 | AJ19: 45 | AK19: 40
A20: B | B20: =E9 -> BALOGH | D20: 0/4 0/4 | H20: 1/4 0/4 | AA20: IV | AB20: 120 | AC20: 90 | AD20: 65 | AE20: 55 | AF20: 50 | AG20: 45 | AH20: 40 | AI20: 35 | AJ20: 25 | AK20: 20
A21: C | B21: =E11 -> BORS | D21: 0/4 1/4 | F21: 4/1 4/0 | AA21: V | AB21: 90 | AC21: 60 | AD21: 45 | AE21: 34 | AF21: 27 | AG21: 22 | AH21: 18 | AI21: 15 | AJ21: 12 | AK21: 9
AA22: VI | AB22: 60 | AC22: 40 | AD22: 30 | AE22: 20 | AF22: 18 | AG22: 15 | AH22: 12 | AI22: 10 | AJ22: 8 | AK22: 6
AA23: VII | AB23: 40 | AC23: 25 | AD23: 18 | AE23: 13 | AF23: 8 | AG23: 7 | AH23: 6 | AI23: 5 | AJ23: 4 | AK23: 3
AA24: VIII | AB24: 25 | AC24: 15 | AD24: 13 | AE24: 7 | AF24: 6 | AG24: 5 | AH24: 4 | AI24: 3 | AJ24: 2 | AK24: 1
AA25: W | AB25: 15 | AC25: 10 | AD25: 8 | AE25: 4 | AF25: 3 | AG25: 2 | AH25: 1 | AI25: 0 | AJ25: 0 | AK25: 0
AA26: X | AB26: 10 | AC26: 6 | AD26: 4 | AE26: 2 | AF26: 1 | AG26: 0 | AH26: 0 | AI26: 0 | AJ26: 0 | AK26: 0
AA27: XI | AB27: 3 | AC27: 2 | AD27: 1 | AE27: 0 | AF27: 0 | AG27: 0 | AH27: 0 | AI27: 0 | AJ27: 0 | AK27: 0
A33: Rangsor | D33: # | E33: Kiemeltek | G33: # | H33: Szerencés Vesztes | J33: Helyettesíti | K33: Sorsolás időpontja
A34: Dátuma | G34: 1 | K34: Utolsó elfogadott játékos
A35: Utolsó DA | G35: 2
G36: 3 | K36: Sorsoló játékosok
G37: 4
G38: 5
G39: 6 | K39: Versenybíró aláírása
G40: 7
G41: 8 | K41: =L4 -> Nagyistók-Nádasi Judit

Sheet B-V.kcs.-U14-L
A1: =[2]Altalanos!$A$6 -> Somogy Vármegyei Tenisz DO B kategória - Leány | K1: Egyéni főtábla | O1: CU | AB1: =IF($Y$5=1,CONCATENATE(VLOOKUP($Y$3,$AA$2:$AH$14,2)),CONCATENATE(VLOOKUP($Y$3,$AA$16:$AH$25,2))) -> #N/A | AC1: =IF($Y$5=1,CONCATENATE(VLOOKUP($Y$3,$AA$2:$AH$14,3)),CONCATENATE(VLOOKUP($Y$3,$AA$16:$AH$25,3))) -> #N/A | AD1: =IF($Y$5=1,CONCATENATE(VLOOKUP($Y$3,$AA$2:$AH$14,4)),CONCATENATE(VLOOKUP($Y$3,$AA$16:$AH$25,4))) -> #N/A | AE1: =IF($Y$5=1,CONCATENATE(VLOOKUP($Y$3,$AA$2:$AH$14,5)),CONCATENATE(VLOOKUP($Y$3,$AA$16:$AH$25,5))) -> #N/A | AF1: =IF($Y$5=1,CONCATENATE(VLOOKUP($Y$3,$AA$2:$AH$14,6)),CONCATENATE(VLOOKUP($Y$3,$AA$16:$AH$25,6))) -> #N/A | AG1: =IF($Y$5=1,CONCATENATE(VLOOKUP($Y$3,$AA$2:$AH$14,7)),CONCATENATE(VLOOKUP($Y$3,$AA$16:$AH$25,7))) -> #N/A | AH1: =IF($Y$5=1,CONCATENATE(VLOOKUP($Y$3,$AA$2:$AH$14,8)),CONCATENATE(VLOOKUP($Y$3,$AA$16:$AH$25,8))) -> #N/A
A2: Versenyszám: | E2: =[2]Altalanos!$C$8 -> V.kcs.-U14-L | AA2: A | AB2: 300 | AC2: 250 | AD2: 200 | AE2: 150 | AF2: 120 | AG2: 90 | AH2: 40
A3: Dátum | G3: Város | K3: Kategória | R3: Versenybíró | Y3: =IF(K4="OB","A",IF(K4="IX","W",IF(K4="","",K4))) | AA3: B | AB3: 280 | AC3: 230 | AD3: 180 | AE3: 140 | AF3: 80 | AG3: 0 | AH3: 0
A4: =[2]Altalanos!$A$10 -> 46135 | G4: =[2]Altalanos!$C$10 -> Balatonboglár | R4: =[2]Altalanos!$E$10 -> Nagyistók-Nádasi Judit | AA4: I | AB4: 250 | AC4: 200 | AD4: 150 | AE4: 120 | AF4: 90 | AG4: 60 | AH4: 25
B5: St. | C5: Rangsor | D5: kód | E5: Kiem | F5: Családi név | G5: Keresztnév | I5: Egyesület | K5: 2. forduló | M5: Elődöntők | O5: Döntő | Q5: Győztes | Y5: =IF(OR([2]Altalanos!$A$8="F1",[2]Altalanos!$A$8="F2",[2]Altalanos!$A$8="N1",[2]Altalanos!$A$8="N2"),1,2) -> 2 | AA5: II | AB5: 200 | AC5: 150 | AD5: 120 | AE5: 90 | AF5: 60 | AG5: 40 | AH5: 15
F6: =IF(Y3="","",CONCATENATE(AH1," / ",VLOOKUP(Y3,AB1:AH1,5)," pont")) | K6: =IF(Y3="","",CONCATENATE(VLOOKUP(Y3,AB1:AH1,4)," pont")) | M6: =IF(Y3="","",CONCATENATE(VLOOKUP(Y3,AB1:AH1,3)," pont")) | O6: =IF(Y3="","",CONCATENATE(VLOOKUP(Y3,AB1:AH1,2)," pont")) | Q6: =IF(Y3="","",CONCATENATE(VLOOKUP(Y3,AB1:AH1,1)," pont")) | AA6: III | AB6: 150 | AC6: 120 | AD6: 90 | AE6: 60 | AF6: 40 | AG6: 25 | AH6: 10
A7: 1 | B7: =IF($E7="","",VLOOKUP($E7,'V.kcs.-U14-L elo'!$A$7:$O$22,14)) -> 0 | C7: =IF($E7="","",VLOOKUP($E7,'V.kcs.-U14-L elo'!$A$7:$O$22,15)) -> 0 | D7: =IF($E7="","",VLOOKUP($E7,'V.kcs.-U14-L elo'!$A$7:$O$22,5)) -> 120925 | E7: 6 | F7: =UPPER(IF($E7="","",VLOOKUP($E7,'V.kcs.-U14-L elo'!$A$7:$O$22,2))) -> ŐSZ | G7: =IF($E7="","",VLOOKUP($E7,'V.kcs.-U14-L elo'!$A$7:$O$22,3)) -> Blanka | I7: =IF($E7="","",VLOOKUP($E7,'V.kcs.-U14-L elo'!$A$7:$O$22,4)) -> Siófoki Beszédes J.Ált.Isk. | U7: =#REF! -> #REF! | AA7: IV | AB7: 120 | AC7: 90 | AD7: 60 | AE7: 40 | AF7: 25 | AG7: 10 | AH7: 5
I8: Umpire | J8: a | K8: =UPPER(IF(OR(J8="a",J8="as"),F7,IF(OR(J8="b",J8="bs"),F9,))) -> ŐSZ | U8: =#REF! -> #REF! | AA8: V | AB8: 90 | AC8: 60 | AD8: 40 | AE8: 25 | AF8: 10 | AG8: 5 | AH8: 2
A9: 2 | B9: =IF($E9="","",VLOOKUP($E9,'V.kcs.-U14-L elo'!$A$7:$O$22,14)) | C9: =IF($E9="","",VLOOKUP($E9,'V.kcs.-U14-L elo'!$A$7:$O$22,15)) | D9: =IF($E9="","",VLOOKUP($E9,'V.kcs.-U14-L elo'!$A$7:$O$22,5)) | F9: =UPPER(IF($E9="","",VLOOKUP($E9,'V.kcs.-U14-L elo'!$A$7:$O$22,2))) | G9: =IF($E9="","",VLOOKUP($E9,'V.kcs.-U14-L elo'!$A$7:$O$22,3)) | I9: =IF($E9="","",VLOOKUP($E9,'V.kcs.-U14-L elo'!$A$7:$O$22,4)) | U9: =#REF! -> #REF! | AA9: VI | AB9: 60 | AC9: 40 | AD9: 25 | AE9: 10 | AF9: 5 | AG9: 2 | AH9: 1
K10: Umpire | L10: a | M10: =UPPER(IF(OR(L10="a",L10="as"),K8,IF(OR(L10="b",L10="bs"),K12,))) -> ŐSZ | U10: =#REF! -> #REF! | AA10: VII | AB10: 40 | AC10: 25 | AD10: 15 | AE10: 7 | AF10: 4 | AG10: 1 | AH10: 0
A11: 3 | B11: =IF($E11="","",VLOOKUP($E11,'V.kcs.-U14-L elo'!$A$7:$O$22,14)) -> 0 | C11: =IF($E11="","",VLOOKUP($E11,'V.kcs.-U14-L elo'!$A$7:$O$22,15)) -> 0 | D11: =IF($E11="","",VLOOKUP($E11,'V.kcs.-U14-L elo'!$A$7:$O$22,5)) -> 120906 | E11: 2 | F11: =UPPER(IF($E11="","",VLOOKUP($E11,'V.kcs.-U14-L elo'!$A$7:$O$22,2))) -> BODOR | G11: =IF($E11="","",VLOOKUP($E11,'V.kcs.-U14-L elo'!$A$7:$O$22,3)) -> Anna Boróka | I11: =IF($E11="","",VLOOKUP($E11,'V.kcs.-U14-L elo'!$A$7:$O$22,4)) -> Boglári Ált. Isk. és AMI | M11: 40 40 | U11: =#REF! -> #REF! | AA11: VIII | AB11: 25 | AC11: 15 | AD11: 10 | AE11: 6 | AF11: 3 | AG11: 1 | AH11: 0
I12: Umpire | J12: a | K12: =UPPER(IF(OR(J12="a",J12="as"),F11,IF(OR(J12="b",J12="bs"),F13,))) -> BODOR | U12: =#REF! -> #REF! | AA12: W | AB12: 15 | AC12: 10 | AD12: 6 | AE12: 3 | AF12: 1 | AG12: 0 | AH12: 0
A13: 4 | B13: =IF($E13="","",VLOOKUP($E13,'V.kcs.-U14-L elo'!$A$7:$O$22,14)) | C13: =IF($E13="","",VLOOKUP($E13,'V.kcs.-U14-L elo'!$A$7:$O$22,15)) | D13: =IF($E13="","",VLOOKUP($E13,'V.kcs.-U14-L elo'!$A$7:$O$22,5)) | F13: =UPPER(IF($E13="","",VLOOKUP($E13,'V.kcs.-U14-L elo'!$A$7:$O$22,2))) | G13: =IF($E13="","",VLOOKUP($E13,'V.kcs.-U14-L elo'!$A$7:$O$22,3)) | I13: =IF($E13="","",VLOOKUP($E13,'V.kcs.-U14-L elo'!$A$7:$O$22,4)) | U13: =#REF! -> #REF! | AA13: X | AB13: 10 | AC13: 6 | AD13: 3 | AE13: 1 | AF13: 0 | AG13: 0 | AH13: 0
M14: Umpire | N14: a | O14: =UPPER(IF(OR(N14="a",N14="as"),M10,IF(OR(N14="b",N14="bs"),M18,))) -> ŐSZ | U14: =#REF! -> #REF! | AA14: XI | AB14: 3 | AC14: 2 | AD14: 1 | AE14: 0 | AF14: 0 | AG14: 0 | AH14: 0
A15: 5 | B15: =IF($E15="","",VLOOKUP($E15,'V.kcs.-U14-L elo'!$A$7:$O$22,14)) -> 0 | C15: =IF($E15="","",VLOOKUP($E15,'V.kcs.-U14-L elo'!$A$7:$O$22,15)) -> 0 | D15: =IF($E15="","",VLOOKUP($E15,'V.kcs.-U14-L elo'!$A$7:$O$22,5)) -> 120730 | E15: 4 | F15: =UPPER(IF($E15="","",VLOOKUP($E15,'V.kcs.-U14-L elo'!$A$7:$O$22,2))) -> GYENIS | G15: =IF($E15="","",VLOOKUP($E15,'V.kcs.-U14-L elo'!$A$7:$O$22,3)) -> Roxána Léna | I15: =IF($E15="","",VLOOKUP($E15,'V.kcs.-U14-L elo'!$A$7:$O$22,4)) -> Boglári Ált. Isk. és AMI | O15: 40 40 | U15: =#REF! -> #REF!
I16: Umpire | J16: a | K16: =UPPER(IF(OR(J16="a",J16="as"),F15,IF(OR(J16="b",J16="bs"),F17,))) -> GYENIS | U16: =#REF! -> #REF! | AA16: A | AB16: 150 | AC16: 120 | AD16: 90 | AE16: 60 | AF16: 40 | AG16: 25 | AH16: 15
A17: 6 | B17: =IF($E17="","",VLOOKUP($E17,'V.kcs.-U14-L elo'!$A$7:$O$22,14)) | C17: =IF($E17="","",VLOOKUP($E17,'V.kcs.-U14-L elo'!$A$7:$O$22,15)) | D17: =IF($E17="","",VLOOKUP($E17,'V.kcs.-U14-L elo'!$A$7:$O$22,5)) | F17: =UPPER(IF($E17="","",VLOOKUP($E17,'V.kcs.-U14-L elo'!$A$7:$O$22,2))) | G17: =IF($E17="","",VLOOKUP($E17,'V.kcs.-U14-L elo'!$A$7:$O$22,3)) | I17: =IF($E17="","",VLOOKUP($E17,'V.kcs.-U14-L elo'!$A$7:$O$22,4)) | AA17: I | AB17: 120 | AC17: 90 | AD17: 60 | AE17: 40 | AF17: 25 | AG17: 15 | AH17: 8
K18: Umpire | L18: a | M18: =UPPER(IF(OR(L18="a",L18="as"),K16,IF(OR(L18="b",L18="bs"),K20,))) -> GYENIS | AA18: II | AB18: 90 | AC18: 60 | AD18: 40 | AE18: 25 | AF18: 15 | AG18: 8 | AH18: 4
A19: 7 | B19: =IF($E19="","",VLOOKUP($E19,'V.kcs.-U14-L elo'!$A$7:$O$22,14)) -> 0 | C19: =IF($E19="","",VLOOKUP($E19,'V.kcs.-U14-L elo'!$A$7:$O$22,15)) -> 0 | D19: =IF($E19="","",VLOOKUP($E19,'V.kcs.-U14-L elo'!$A$7:$O$22,5)) -> 120911 | E19: 5 | F19: =UPPER(IF($E19="","",VLOOKUP($E19,'V.kcs.-U14-L elo'!$A$7:$O$22,2))) -> KESZTHELYI | G19: =IF($E19="","",VLOOKUP($E19,'V.kcs.-U14-L elo'!$A$7:$O$22,3)) -> Nóra | I19: =IF($E19="","",VLOOKUP($E19,'V.kcs.-U14-L elo'!$A$7:$O$22,4)) -> Siófoki Beszédes J.Ált.Isk. | M19: 40 41 | AA19: III | AB19: 60 | AC19: 40 | AD19: 25 | AE19: 15 | AF19: 8 | AG19: 4 | AH19: 2
I20: Umpire | J20: a | K20: =UPPER(IF(OR(J20="a",J20="as"),F19,IF(OR(J20="b",J20="bs"),F21,))) -> KESZTHELYI | AA20: IV | AB20: 40 | AC20: 25 | AD20: 15 | AE20: 8 | AF20: 4 | AG20: 2 | AH20: 1
A21: 8 | B21: =IF($E21="","",VLOOKUP($E21,'V.kcs.-U14-L elo'!$A$7:$O$22,14)) | C21: =IF($E21="","",VLOOKUP($E21,'V.kcs.-U14-L elo'!$A$7:$O$22,15)) | D21: =IF($E21="","",VLOOKUP($E21,'V.kcs.-U14-L elo'!$A$7:$O$22,5)) | F21: =UPPER(IF($E21="","",VLOOKUP($E21,'V.kcs.-U14-L elo'!$A$7:$O$22,2))) | G21: =IF($E21="","",VLOOKUP($E21,'V.kcs.-U14-L elo'!$A$7:$O$22,3)) | I21: =IF($E21="","",VLOOKUP($E21,'V.kcs.-U14-L elo'!$A$7:$O$22,4)) | AA21: V | AB21: 25 | AC21: 15 | AD21: 10 | AE21: 6 | AF21: 3 | AG21: 1 | AH21: 0
O22: Umpire | P22: a | Q22: =UPPER(IF(OR(P22="a",P22="as"),O14,IF(OR(P22="b",P22="bs"),O30,))) -> ŐSZ | AA22: VI | AB22: 15 | AC22: 10 | AD22: 6 | AE22: 3 | AF22: 1 | AG22: 0 | AH22: 0
A23: 9 | B23: =IF($E23="","",VLOOKUP($E23,'V.kcs.-U14-L elo'!$A$7:$O$22,14)) | C23: =IF($E23="","",VLOOKUP($E23,'V.kcs.-U14-L elo'!$A$7:$O$22,15)) | D23: =IF($E23="","",VLOOKUP($E23,'V.kcs.-U14-L elo'!$A$7:$O$22,5)) | F23: =UPPER(IF($E23="","",VLOOKUP($E23,'V.kcs.-U14-L elo'!$A$7:$O$22,2))) | G23: =IF($E23="","",VLOOKUP($E23,'V.kcs.-U14-L elo'!$A$7:$O$22,3)) | I23: =IF($E23="","",VLOOKUP($E23,'V.kcs.-U14-L elo'!$A$7:$O$22,4)) | Q23: 40 41 | AA23: VII | AB23: 10 | AC23: 6 | AD23: 3 | AE23: 1 | AF23: 0 | AG23: 0 | AH23: 0
I24: Umpire | J24: b | K24: =UPPER(IF(OR(J24="a",J24="as"),F23,IF(OR(J24="b",J24="bs"),F25,))) -> BURKHALTER | AA24: VIII | AB24: 6 | AC24: 3 | AD24: 1 | AE24: 0 | AF24: 0 | AG24: 0 | AH24: 0
A25: 10 | B25: =IF($E25="","",VLOOKUP($E25,'V.kcs.-U14-L elo'!$A$7:$O$22,14)) -> 0 | C25: =IF($E25="","",VLOOKUP($E25,'V.kcs.-U14-L elo'!$A$7:$O$22,15)) -> 0 | D25: =IF($E25="","",VLOOKUP($E25,'V.kcs.-U14-L elo'!$A$7:$O$22,5)) -> 130326 | E25: 3 | F25: =UPPER(IF($E25="","",VLOOKUP($E25,'V.kcs.-U14-L elo'!$A$7:$O$22,2))) -> BURKHALTER | G25: =IF($E25="","",VLOOKUP($E25,'V.kcs.-U14-L elo'!$A$7:$O$22,3)) -> Lívia | I25: =IF($E25="","",VLOOKUP($E25,'V.kcs.-U14-L elo'!$A$7:$O$22,4)) -> Marcali Mikszáth K Ált.Isk. | AA25: W | AB25: 3 | AC25: 2 | AD25: 1 | AE25: 0 | AF25: 0 | AG25: 0 | AH25: 0
K26: Umpire | L26: b | M26: =UPPER(IF(OR(L26="a",L26="as"),K24,IF(OR(L26="b",L26="bs"),K28,))) -> ANTAL
A27: 11 | B27: =IF($E27="","",VLOOKUP($E27,'V.kcs.-U14-L elo'!$A$7:$O$22,14)) -> 0 | C27: =IF($E27="","",VLOOKUP($E27,'V.kcs.-U14-L elo'!$A$7:$O$22,15)) -> 0 | D27: =IF($E27="","",VLOOKUP($E27,'V.kcs.-U14-L elo'!$A$7:$O$22,5)) -> 120601 | E27: 1 | F27: =UPPER(IF($E27="","",VLOOKUP($E27,'V.kcs.-U14-L elo'!$A$7:$O$22,2))) -> ANTAL | G27: =IF($E27="","",VLOOKUP($E27,'V.kcs.-U14-L elo'!$A$7:$O$22,3)) -> Ramóna Loretta | I27: =IF($E27="","",VLOOKUP($E27,'V.kcs.-U14-L elo'!$A$7:$O$22,4)) -> Boglári Ált. Isk. és AMI | M27: jn.
I28: Umpire | J28: a | K28: =UPPER(IF(OR(J28="a",J28="as"),F27,IF(OR(J28="b",J28="bs"),F29,))) -> ANTAL
A29: 12 | B29: =IF($E29="","",VLOOKUP($E29,'V.kcs.-U14-L elo'!$A$7:$O$22,14)) -> 0 | C29: =IF($E29="","",VLOOKUP($E29,'V.kcs.-U14-L elo'!$A$7:$O$22,15)) -> 0 | D29: =IF($E29="","",VLOOKUP($E29,'V.kcs.-U14-L elo'!$A$7:$O$22,5)) -> 131016 | E29: 9 | F29: =UPPER(IF($E29="","",VLOOKUP($E29,'V.kcs.-U14-L elo'!$A$7:$O$22,2))) -> VARGA | G29: =IF($E29="","",VLOOKUP($E29,'V.kcs.-U14-L elo'!$A$7:$O$22,3)) -> Fruzsina | I29: =IF($E29="","",VLOOKUP($E29,'V.kcs.-U14-L elo'!$A$7:$O$22,4)) -> B.lelle-Karádi Ált.Isk.és AMI | K29: 40 41
M30: Umpire | N30: b | O30: =UPPER(IF(OR(N30="a",N30="as"),M26,IF(OR(N30="b",N30="bs"),M34,))) -> TÓTH
A31: 13 | B31: =IF($E31="","",VLOOKUP($E31,'V.kcs.-U14-L elo'!$A$7:$O$22,14)) | C31: =IF($E31="","",VLOOKUP($E31,'V.kcs.-U14-L elo'!$A$7:$O$22,15)) | D31: =IF($E31="","",VLOOKUP($E31,'V.kcs.-U14-L elo'!$A$7:$O$22,5)) | F31: =UPPER(IF($E31="","",VLOOKUP($E31,'V.kcs.-U14-L elo'!$A$7:$O$22,2))) | G31: =IF($E31="","",VLOOKUP($E31,'V.kcs.-U14-L elo'!$A$7:$O$22,3)) | I31: =IF($E31="","",VLOOKUP($E31,'V.kcs.-U14-L elo'!$A$7:$O$22,4)) | O31: 41 53
I32: Umpire | J32: b | K32: =UPPER(IF(OR(J32="a",J32="as"),F31,IF(OR(J32="b",J32="bs"),F33,))) -> TAKÁCS
A33: 14 | B33: =IF($E33="","",VLOOKUP($E33,'V.kcs.-U14-L elo'!$A$7:$O$22,14)) -> 0 | C33: =IF($E33="","",VLOOKUP($E33,'V.kcs.-U14-L elo'!$A$7:$O$22,15)) -> 0 | D33: =IF($E33="","",VLOOKUP($E33,'V.kcs.-U14-L elo'!$A$7:$O$22,5)) -> 130212 | E33: 7 | F33: =UPPER(IF($E33="","",VLOOKUP($E33,'V.kcs.-U14-L elo'!$A$7:$O$22,2))) -> TAKÁCS | G33: =IF($E33="","",VLOOKUP($E33,'V.kcs.-U14-L elo'!$A$7:$O$22,3)) -> Zoé | I33: =IF($E33="","",VLOOKUP($E33,'V.kcs.-U14-L elo'!$A$7:$O$22,4)) -> Boglári Ált. Isk. és AMI
K34: Umpire | L34: b | M34: =UPPER(IF(OR(L34="a",L34="as"),K32,IF(OR(L34="b",L34="bs"),K36,))) -> TÓTH
A35: 15 | B35: =IF($E35="","",VLOOKUP($E35,'V.kcs.-U14-L elo'!$A$7:$O$22,14)) | C35: =IF($E35="","",VLOOKUP($E35,'V.kcs.-U14-L elo'!$A$7:$O$22,15)) | D35: =IF($E35="","",VLOOKUP($E35,'V.kcs.-U14-L elo'!$A$7:$O$22,5)) | F35: =UPPER(IF($E35="","",VLOOKUP($E35,'V.kcs.-U14-L elo'!$A$7:$O$22,2))) | G35: =IF($E35="","",VLOOKUP($E35,'V.kcs.-U14-L elo'!$A$7:$O$22,3)) | I35: =IF($E35="","",VLOOKUP($E35,'V.kcs.-U14-L elo'!$A$7:$O$22,4)) | M35: 42 42
I36: Umpire | J36: b | K36: =UPPER(IF(OR(J36="a",J36="as"),F35,IF(OR(J36="b",J36="bs"),F37,))) -> TÓTH
A37: 16 | B37: =IF($E37="","",VLOOKUP($E37,'V.kcs.-U14-L elo'!$A$7:$O$22,14)) -> 0 | C37: =IF($E37="","",VLOOKUP($E37,'V.kcs.-U14-L elo'!$A$7:$O$22,15)) -> 0 | D37: =IF($E37="","",VLOOKUP($E37,'V.kcs.-U14-L elo'!$A$7:$O$22,5)) -> 120906 | E37: 8 | F37: =UPPER(IF($E37="","",VLOOKUP($E37,'V.kcs.-U14-L elo'!$A$7:$O$22,2))) -> TÓTH | G37: =IF($E37="","",VLOOKUP($E37,'V.kcs.-U14-L elo'!$A$7:$O$22,3)) -> Luca | I37: =IF($E37="","",VLOOKUP($E37,'V.kcs.-U14-L elo'!$A$7:$O$22,4)) -> Siófoki Vak Bottyán J.Ált.Isk.és AMI
A49: Rangsor | E49: # | F49: Kiemeltek | J49: # | K49: Szerencés Vesztes | M49: Helyettesíti | O49: Sorsolás időpontja
A50: Dátuma | J50: 1 | O50: Utolsó elfogadott játékos
A51: Utolsó DA | J51: 2
J52: 3 | O52: Sorsoló játékosok
J53: 4
J54: 5
J55: 6 | O55: Versenybíró aláírása
J56: 7
J57: 8 | O57: =R4 -> Nagyistók-Nádasi Judit | R57: =MIN(4,'V.kcs.-U14-L elo'!Q5) -> 4

Sheet III.kcs.-U11-Z-F elo
A1: =[1]Altalanos!$A$6 -> Somogy Vármegyei Tenisz DO B kategória - Fiú | E1: Egyéni főtábla
B2: Versenyszám: | C2: =[1]Altalanos!$C$8 -> III.kcs.-U11-Z-F | E2: ELŐKÉSZÍTŐ LISTA
A3: NE TÖRÖLD KI EZT AZ OLDALT! | N3: Versenybíró aláírása
A4: Dátum | C4: Város | D4: Kategória | H4: Versenybíró
A5: =[1]Altalanos!$A$10 -> 46135 | C5: =[1]Altalanos!$C$10 -> Balatonboglár | D5: =[1]Altalanos!$D$10 | H5: =[1]Altalanos!$E$10 -> Nagyistók-Nádasi Judit
A6: Sor | B6: Családi név | C6: Keresztnév | D6: Egyesület | E6: Kódszám | F6: Nevezett Igen | G6: Aláírás | H6: Nevezési rangsor | J6: NatSort if not Seed | K6: NatSort | L6: Seed Sort | M6: AccBasic | N6: Elfogadási státusz | O6: Sorsolási rangsor | P6: AccSort | Q6: Kiemelés
A7: 1 | B7: Aradics | C7: Nolen | D7: Siófoki Vak Bottyán J.Ált.Isk. és AMI | E7: 151203
A8: 2 | B8: Burkhalter | C8: Ármin | D8: Marcali Mikszáth K.Ált. Iskola | E8: 150617
A9: 3 | B9: Csécs-Varga | C9: Zsombor | D9: Kaposvári Kodály Z. Közp. Ált. Isk. | E9: 150105
A10: 4 | B10: Győry | C10: Nimród Péter | D10: B.lelle-Karádi Ált. Iskola és AMI | E10: 151005
A11: 5 | B11: Horváth | C11: Zalán Zoltán | D11: Marcali Mikszáth K.Ált. Iskola | E11: 150330
A12: 6 | B12: Orosz | C12: Zéta Krisztián | D12: Siófoki Vak Bottyán J.Ált. Isk. és AMI | E12: 150506
A13: 7 | B13: Ponekker | C13: Ákos | D13: Kaposvári Kodály Z. Közp. Ált. Isk. | E13: 150828
A14: 8
A15: 9
A16: 10
A17: 11
A18: 12
A19: 13
A20: 14
A21: 15
A22: 16
A23: 17
A24: 18
A25: 19
... A39: 33
A40: 34 | J40: =IF(AND(Q40="",#REF!>0,#REF!<5),K40,) -> #REF! | K40: =IF(D40="","ZZZ9",IF(AND(#REF!>0,#REF!<5),D40&#REF!,D40&"9")) -> ZZZ9 | L40: =IF(Q40="",999,Q40) -> 999 | M40: =IF(P40=999,999,1) -> 999 | P40: =IF(N40="DA",1,IF(N40="WC",2,IF(N40="SE",3,IF(N40="Q",4,IF(N40="LL",5,999))))) -> 999
A41: 35 | J41: =IF(AND(Q41="",#REF!>0,#REF!<5),K41,) -> #REF! | K41: =IF(D41="","ZZZ9",IF(AND(#REF!>0,#REF!<5),D41&#REF!,D41&"9")) -> ZZZ9 | L41: =IF(Q41="",999,Q41) -> 999 | M41: =IF(P41=999,999,1) -> 999 | P41: =IF(N41="DA",1,IF(N41="WC",2,IF(N41="SE",3,IF(N41="Q",4,IF(N41="LL",5,999))))) -> 999
A42: 36 | J42: =IF(AND(Q42="",#REF!>0,#REF!<5),K42,) -> #REF! | K42: =IF(D42="","ZZZ9",IF(AND(#REF!>0,#REF!<5),D42&#REF!,D42&"9")) -> ZZZ9 | L42: =IF(Q42="",999,Q42) -> 999 | M42: =IF(P42=999,999,1) -> 999 | P42: =IF(N42="DA",1,IF(N42="WC",2,IF(N42="SE",3,IF(N42="Q",4,IF(N42="LL",5,999))))) -> 999
A43: 37 | J43: =IF(AND(Q43="",#REF!>0,#REF!<5),K43,) -> #REF! | K43: =IF(D43="","ZZZ9",IF(AND(#REF!>0,#REF!<5),D43&#REF!,D43&"9")) -> ZZZ9 | L43: =IF(Q43="",999,Q43) -> 999 | M43: =IF(P43=999,999,1) -> 999 | P43: =IF(N43="DA",1,IF(N43="WC",2,IF(N43="SE",3,IF(N43="Q",4,IF(N43="LL",5,999))))) -> 999
A44: 38 | J44: =IF(AND(Q44="",#REF!>0,#REF!<5),K44,) -> #REF! | K44: =IF(D44="","ZZZ9",IF(AND(#REF!>0,#REF!<5),D44&#REF!,D44&"9")) -> ZZZ9 | L44: =IF(Q44="",999,Q44) -> 999 | M44: =IF(P44=999,999,1) -> 999 | P44: =IF(N44="DA",1,IF(N44="WC",2,IF(N44="SE",3,IF(N44="Q",4,IF(N44="LL",5,999))))) -> 999
A45: 39 | J45: =IF(AND(Q45="",#REF!>0,#REF!<5),K45,) -> #REF! | K45: =IF(D45="","ZZZ9",IF(AND(#REF!>0,#REF!<5),D45&#REF!,D45&"9")) -> ZZZ9 | L45: =IF(Q45="",999,Q45) -> 999 | M45: =IF(P45=999,999,1) -> 999 | P45: =IF(N45="DA",1,IF(N45="WC",2,IF(N45="SE",3,IF(N45="Q",4,IF(N45="LL",5,999))))) -> 999
A46: 40 | J46: =IF(AND(Q46="",#REF!>0,#REF!<5),K46,) -> #REF! | K46: =IF(D46="","ZZZ9",IF(AND(#REF!>0,#REF!<5),D46&#REF!,D46&"9")) -> ZZZ9 | L46: =IF(Q46="",999,Q46) -> 999 | M46: =IF(P46=999,999,1) -> 999 | P46: =IF(N46="DA",1,IF(N46="WC",2,IF(N46="SE",3,IF(N46="Q",4,IF(N46="LL",5,999))))) -> 999
A47: 41 | J47: =IF(AND(Q47="",#REF!>0,#REF!<5),K47,) -> #REF! | K47: =IF(D47="","ZZZ9",IF(AND(#REF!>0,#REF!<5),D47&#REF!,D47&"9")) -> ZZZ9 | L47: =IF(Q47="",999,Q47) -> 999 | M47: =IF(P47=999,999,1) -> 999 | P47: =IF(N47="DA",1,IF(N47="WC",2,IF(N47="SE",3,IF(N47="Q",4,IF(N47="LL",5,999))))) -> 999
A48: 42 | J48: =IF(AND(Q48="",#REF!>0,#REF!<5),K48,) -> #REF! | K48: =IF(D48="","ZZZ9",IF(AND(#REF!>0,#REF!<5),D48&#REF!,D48&"9")) -> ZZZ9 | L48: =IF(Q48="",999,Q48) -> 999 | M48: =IF(P48=999,999,1) -> 999 | P48: =IF(N48="DA",1,IF(N48="WC",2,IF(N48="SE",3,IF(N48="Q",4,IF(N48="LL",5,999))))) -> 999
A49: 43 | J49: =IF(AND(Q49="",#REF!>0,#REF!<5),K49,) -> #REF! | K49: =IF(D49="","ZZZ9",IF(AND(#REF!>0,#REF!<5),D49&#REF!,D49&"9")) -> ZZZ9 | L49: =IF(Q49="",999,Q49) -> 999 | M49: =IF(P49=999,999,1) -> 999 | P49: =IF(N49="DA",1,IF(N49="WC",2,IF(N49="SE",3,IF(N49="Q",4,IF(N49="LL",5,999))))) -> 999
A50: 44 | J50: =IF(AND(Q50="",#REF!>0,#REF!<5),K50,) -> #REF! | K50: =IF(D50="","ZZZ9",IF(AND(#REF!>0,#REF!<5),D50&#REF!,D50&"9")) -> ZZZ9 | L50: =IF(Q50="",999,Q50) -> 999 | M50: =IF(P50=999,999,1) -> 999 | P50: =IF(N50="DA",1,IF(N50="WC",2,IF(N50="SE",3,IF(N50="Q",4,IF(N50="LL",5,999))))) -> 999
A51: 45 | J51: =IF(AND(Q51="",#REF!>0,#REF!<5),K51,) -> #REF! | K51: =IF(D51="","ZZZ9",IF(AND(#REF!>0,#REF!<5),D51&#REF!,D51&"9")) -> ZZZ9 | L51: =IF(Q51="",999,Q51) -> 999 | M51: =IF(P51=999,999,1) -> 999 | P51: =IF(N51="DA",1,IF(N51="WC",2,IF(N51="SE",3,IF(N51="Q",4,IF(N51="LL",5,999))))) -> 999
... A156: 150 | J156: =IF(AND(Q156="",#REF!>0,#REF!<5),K156,) -> #REF! | K156: =IF(D156="","ZZZ9",IF(AND(#REF!>0,#REF!<5),D156&#REF!,D156&"9")) -> ZZZ9 | L156: =IF(Q156="",999,Q156) -> 999 | M156: =IF(P156=999,999,1) -> 999 | P156: =IF(N156="DA",1,IF(N156="WC",2,IF(N156="SE",3,IF(N156="Q",4,IF(N156="LL",5,999))))) -> 999

Sheet IV.kcs.-U12-F elo
A1: =[3]Altalanos!$A$6 -> Somogy Vármegyei Tenisz DO B kategória - Fiú | E1: Egyéni főtábla
B2: Versenyszám: | C2: =[3]Altalanos!$D$8 -> IV.kcs.-U12-F | E2: ELŐKÉSZÍTŐ LISTA
A3: NE TÖRÖLD KI EZT AZ OLDALT! | N3: Versenybíró aláírása
A4: Dátum | C4: Város | D4: Kategória | H4: Versenybíró
A5: =[3]Altalanos!$A$10 -> 46135 | C5: =[3]Altalanos!$C$10 -> Balatonboglár | D5: =[3]Altalanos!$D$10 | H5: =[3]Altalanos!$E$10 -> Nagyistók-Nádasi Judit
A6: Sor | B6: Családi név | C6: Keresztnév | D6: Egyesület | E6: Kódszám | F6: Nevezett Igen | G6: Aláírás | H6: Nevezési rangsor | J6: NatSort if not Seed | K6: NatSort | L6: Seed Sort | M6: AccBasic | N6: Elfogadási státusz | O6: Sorsolási rangsor | P6: AccSort | Q6: Kiemelés
A7: 1 | B7: Győry | C7: László Benedek | D7: B.lelle-Karádi Ált. Isk. és AMI | E7: 140921
A8: 2 | B8: Kapin | C8: Zétény | D8: Siófoki Vak Bottyán J.Ált.Isk. és AMI | E8: 141129
A9: 3 | B9: Kollár | C9: Barnabás Huba | D9: Lorántffy Zs. Kaposvár | E9: 141228
A10: 4 | B10: Kopp | C10: Ádám | D10: Siófoki Vak Bottyán J.Ált.Isk. és AMI | E10: 140926
A11: 5 | B11: Körmendi-Bohorquez | C11: Hugó Gábor | D11: Nagyboldogasszony - Kaposvár | E11: 140901
A12: 6 | B12: Márkus | C12: Bence | D12: Kaposvári Kodály Z. Közp.Ált.Isk. | E12: 140326
A13: 7 | B13: Peitler | C13: Benett | D13: Boglári Általános Iskola és AMI | E13: 140912
A14: 8 | B14: Völcsei | C14: Misa | D14: B.lelle-Karádi Ált. Iskola és AMI | E14: 140924
A15: 9
A16: 10
A17: 11 | D17: Lorántffy Zsuzsanna Ref.Óvoda,Ált.Isk.,Gimn. és Koll. Kaposvár
A18: 12 | D18: Nagyboldogasszony Római Kat.Gimn. Ált.Isk.és AMI Kaposvár
A19: 13
A20: 14
A21: 15
A22: 16
A23: 17
A24: 18
A25: 19
A26: 20
A27: 21
A28: 22
A29: 23
A30: 24
... A39: 33
A40: 34 | J40: =IF(AND(Q40="",#REF!>0,#REF!<5),K40,) -> #REF! | K40: =IF(D40="","ZZZ9",IF(AND(#REF!>0,#REF!<5),D40&#REF!,D40&"9")) -> ZZZ9 | L40: =IF(Q40="",999,Q40) -> 999 | M40: =IF(P40=999,999,1) -> 999 | P40: =IF(N40="DA",1,IF(N40="WC",2,IF(N40="SE",3,IF(N40="Q",4,IF(N40="LL",5,999))))) -> 999
A41: 35 | J41: =IF(AND(Q41="",#REF!>0,#REF!<5),K41,) -> #REF! | K41: =IF(D41="","ZZZ9",IF(AND(#REF!>0,#REF!<5),D41&#REF!,D41&"9")) -> ZZZ9 | L41: =IF(Q41="",999,Q41) -> 999 | M41: =IF(P41=999,999,1) -> 999 | P41: =IF(N41="DA",1,IF(N41="WC",2,IF(N41="SE",3,IF(N41="Q",4,IF(N41="LL",5,999))))) -> 999
A42: 36 | J42: =IF(AND(Q42="",#REF!>0,#REF!<5),K42,) -> #REF! | K42: =IF(D42="","ZZZ9",IF(AND(#REF!>0,#REF!<5),D42&#REF!,D42&"9")) -> ZZZ9 | L42: =IF(Q42="",999,Q42) -> 999 | M42: =IF(P42=999,999,1) -> 999 | P42: =IF(N42="DA",1,IF(N42="WC",2,IF(N42="SE",3,IF(N42="Q",4,IF(N42="LL",5,999))))) -> 999
A43: 37 | J43: =IF(AND(Q43="",#REF!>0,#REF!<5),K43,) -> #REF! | K43: =IF(D43="","ZZZ9",IF(AND(#REF!>0,#REF!<5),D43&#REF!,D43&"9")) -> ZZZ9 | L43: =IF(Q43="",999,Q43) -> 999 | M43: =IF(P43=999,999,1) -> 999 | P43: =IF(N43="DA",1,IF(N43="WC",2,IF(N43="SE",3,IF(N43="Q",4,IF(N43="LL",5,999))))) -> 999
A44: 38 | J44: =IF(AND(Q44="",#REF!>0,#REF!<5),K44,) -> #REF! | K44: =IF(D44="","ZZZ9",IF(AND(#REF!>0,#REF!<5),D44&#REF!,D44&"9")) -> ZZZ9 | L44: =IF(Q44="",999,Q44) -> 999 | M44: =IF(P44=999,999,1) -> 999 | P44: =IF(N44="DA",1,IF(N44="WC",2,IF(N44="SE",3,IF(N44="Q",4,IF(N44="LL",5,999))))) -> 999
A45: 39 | J45: =IF(AND(Q45="",#REF!>0,#REF!<5),K45,) -> #REF! | K45: =IF(D45="","ZZZ9",IF(AND(#REF!>0,#REF!<5),D45&#REF!,D45&"9")) -> ZZZ9 | L45: =IF(Q45="",999,Q45) -> 999 | M45: =IF(P45=999,999,1) -> 999 | P45: =IF(N45="DA",1,IF(N45="WC",2,IF(N45="SE",3,IF(N45="Q",4,IF(N45="LL",5,999))))) -> 999
A46: 40 | J46: =IF(AND(Q46="",#REF!>0,#REF!<5),K46,) -> #REF! | K46: =IF(D46="","ZZZ9",IF(AND(#REF!>0,#REF!<5),D46&#REF!,D46&"9")) -> ZZZ9 | L46: =IF(Q46="",999,Q46) -> 999 | M46: =IF(P46=999,999,1) -> 999 | P46: =IF(N46="DA",1,IF(N46="WC",2,IF(N46="SE",3,IF(N46="Q",4,IF(N46="LL",5,999))))) -> 999
A47: 41 | J47: =IF(AND(Q47="",#REF!>0,#REF!<5),K47,) -> #REF! | K47: =IF(D47="","ZZZ9",IF(AND(#REF!>0,#REF!<5),D47&#REF!,D47&"9")) -> ZZZ9 | L47: =IF(Q47="",999,Q47) -> 999 | M47: =IF(P47=999,999,1) -> 999 | P47: =IF(N47="DA",1,IF(N47="WC",2,IF(N47="SE",3,IF(N47="Q",4,IF(N47="LL",5,999))))) -> 999
A48: 42 | J48: =IF(AND(Q48="",#REF!>0,#REF!<5),K48,) -> #REF! | K48: =IF(D48="","ZZZ9",IF(AND(#REF!>0,#REF!<5),D48&#REF!,D48&"9")) -> ZZZ9 | L48: =IF(Q48="",999,Q48) -> 999 | M48: =IF(P48=999,999,1) -> 999 | P48: =IF(N48="DA",1,IF(N48="WC",2,IF(N48="SE",3,IF(N48="Q",4,IF(N48="LL",5,999))))) -> 999
A49: 43 | J49: =IF(AND(Q49="",#REF!>0,#REF!<5),K49,) -> #REF! | K49: =IF(D49="","ZZZ9",IF(AND(#REF!>0,#REF!<5),D49&#REF!,D49&"9")) -> ZZZ9 | L49: =IF(Q49="",999,Q49) -> 999 | M49: =IF(P49=999,999,1) -> 999 | P49: =IF(N49="DA",1,IF(N49="WC",2,IF(N49="SE",3,IF(N49="Q",4,IF(N49="LL",5,999))))) -> 999
A50: 44 | J50: =IF(AND(Q50="",#REF!>0,#REF!<5),K50,) -> #REF! | K50: =IF(D50="","ZZZ9",IF(AND(#REF!>0,#REF!<5),D50&#REF!,D50&"9")) -> ZZZ9 | L50: =IF(Q50="",999,Q50) -> 999 | M50: =IF(P50=999,999,1) -> 999 | P50: =IF(N50="DA",1,IF(N50="WC",2,IF(N50="SE",3,IF(N50="Q",4,IF(N50="LL",5,999))))) -> 999
A51: 45 | J51: =IF(AND(Q51="",#REF!>0,#REF!<5),K51,) -> #REF! | K51: =IF(D51="","ZZZ9",IF(AND(#REF!>0,#REF!<5),D51&#REF!,D51&"9")) -> ZZZ9 | L51: =IF(Q51="",999,Q51) -> 999 | M51: =IF(P51=999,999,1) -> 999 | P51: =IF(N51="DA",1,IF(N51="WC",2,IF(N51="SE",3,IF(N51="Q",4,IF(N51="LL",5,999))))) -> 999
... A156: 150 | J156: =IF(AND(Q156="",#REF!>0,#REF!<5),K156,) -> #REF! | K156: =IF(D156="","ZZZ9",IF(AND(#REF!>0,#REF!<5),D156&#REF!,D156&"9")) -> ZZZ9 | L156: =IF(Q156="",999,Q156) -> 999 | M156: =IF(P156=999,999,1) -> 999 | P156: =IF(N156="DA",1,IF(N156="WC",2,IF(N156="SE",3,IF(N156="Q",4,IF(N156="LL",5,999))))) -> 999

Sheet V.kcs.-U14-F elo
A1: =[1]Altalanos!$A$6 -> Somogy Vármegyei Tenisz DO B kategória - Fiú | E1: Egyéni főtábla
B2: Versenyszám: | C2: =[1]Altalanos!$E$8 -> V.kcs.-U14-F | E2: ELŐKÉSZÍTŐ LISTA
A3: NE TÖRÖLD KI EZT AZ OLDALT! | N3: Versenybíró aláírása
A4: Dátum | C4: Város | D4: Kategória | H4: Versenybíró
A5: =[1]Altalanos!$A$10 -> 46135 | C5: =[1]Altalanos!$C$10 -> Balatonboglár | D5: =[1]Altalanos!$D$10 | H5: =[1]Altalanos!$E$10 -> Nagyistók-Nádasi Judit
A6: Sor | B6: Családi név | C6: Keresztnév | D6: Egyesület | E6: Kódszám | F6: Nevezett Igen | G6: Aláírás | H6: Nevezési rangsor | J6: NatSort if not Seed | K6: NatSort | L6: Seed Sort | M6: AccBasic | N6: Elfogadási státusz | O6: Sorsolási rangsor | P6: AccSort | Q6: Kiemelés
A7: 1 | B7: Bejczi Ádi | C7: Ádám | D7: B.lelle-Karádi Ált. Isk. és AMI | E7: 130713
A8: 2 | B8: Bejczi A. | C8: András | D8: B.lelle-Karádi Ált. Isk. és AMI | E8: 130713
A9: 3 | B9: Hermecz | C9: Botond Pál | D9: Siófoki Széchenyi István Ált. Isk. | E9: 130215
A10: 4 | B10: Luthár | C10: Ábel Kristóf | D10: Nagyboldogasszony - Kaposvár | E10: 130617
A11: 5 | B11: Mojzes | C11: Benedek | D11: B.lelle-Karádi Ált. Iskola és AMI | E11: 130119
A12: 6 | B12: Siska | C12: Miklós | D12: Boglári Általános Iskola és AMI | E12: 121119
A13: 7
A14: 8
A15: 9
A16: 10
A17: 11
A18: 12 | D18: Nagyboldogasszony Római Kat. Gimn., Ált. Isk. és AMI Kaposvár
A19: 13
A20: 14
A21: 15
A22: 16
A23: 17
A24: 18
A25: 19
A26: 20
A27: 21
A28: 22
A29: 23
A30: 24
... A39: 33
A40: 34 | J40: =IF(AND(Q40="",#REF!>0,#REF!<5),K40,) -> #REF! | K40: =IF(D40="","ZZZ9",IF(AND(#REF!>0,#REF!<5),D40&#REF!,D40&"9")) -> ZZZ9 | L40: =IF(Q40="",999,Q40) -> 999 | M40: =IF(P40=999,999,1) -> 999 | P40: =IF(N40="DA",1,IF(N40="WC",2,IF(N40="SE",3,IF(N40="Q",4,IF(N40="LL",5,999))))) -> 999
A41: 35 | J41: =IF(AND(Q41="",#REF!>0,#REF!<5),K41,) -> #REF! | K41: =IF(D41="","ZZZ9",IF(AND(#REF!>0,#REF!<5),D41&#REF!,D41&"9")) -> ZZZ9 | L41: =IF(Q41="",999,Q41) -> 999 | M41: =IF(P41=999,999,1) -> 999 | P41: =IF(N41="DA",1,IF(N41="WC",2,IF(N41="SE",3,IF(N41="Q",4,IF(N41="LL",5,999))))) -> 999
A42: 36 | J42: =IF(AND(Q42="",#REF!>0,#REF!<5),K42,) -> #REF! | K42: =IF(D42="","ZZZ9",IF(AND(#REF!>0,#REF!<5),D42&#REF!,D42&"9")) -> ZZZ9 | L42: =IF(Q42="",999,Q42) -> 999 | M42: =IF(P42=999,999,1) -> 999 | P42: =IF(N42="DA",1,IF(N42="WC",2,IF(N42="SE",3,IF(N42="Q",4,IF(N42="LL",5,999))))) -> 999
A43: 37 | J43: =IF(AND(Q43="",#REF!>0,#REF!<5),K43,) -> #REF! | K43: =IF(D43="","ZZZ9",IF(AND(#REF!>0,#REF!<5),D43&#REF!,D43&"9")) -> ZZZ9 | L43: =IF(Q43="",999,Q43) -> 999 | M43: =IF(P43=999,999,1) -> 999 | P43: =IF(N43="DA",1,IF(N43="WC",2,IF(N43="SE",3,IF(N43="Q",4,IF(N43="LL",5,999))))) -> 999
A44: 38 | J44: =IF(AND(Q44="",#REF!>0,#REF!<5),K44,) -> #REF! | K44: =IF(D44="","ZZZ9",IF(AND(#REF!>0,#REF!<5),D44&#REF!,D44&"9")) -> ZZZ9 | L44: =IF(Q44="",999,Q44) -> 999 | M44: =IF(P44=999,999,1) -> 999 | P44: =IF(N44="DA",1,IF(N44="WC",2,IF(N44="SE",3,IF(N44="Q",4,IF(N44="LL",5,999))))) -> 999
A45: 39 | J45: =IF(AND(Q45="",#REF!>0,#REF!<5),K45,) -> #REF! | K45: =IF(D45="","ZZZ9",IF(AND(#REF!>0,#REF!<5),D45&#REF!,D45&"9")) -> ZZZ9 | L45: =IF(Q45="",999,Q45) -> 999 | M45: =IF(P45=999,999,1) -> 999 | P45: =IF(N45="DA",1,IF(N45="WC",2,IF(N45="SE",3,IF(N45="Q",4,IF(N45="LL",5,999))))) -> 999
A46: 40 | J46: =IF(AND(Q46="",#REF!>0,#REF!<5),K46,) -> #REF! | K46: =IF(D46="","ZZZ9",IF(AND(#REF!>0,#REF!<5),D46&#REF!,D46&"9")) -> ZZZ9 | L46: =IF(Q46="",999,Q46) -> 999 | M46: =IF(P46=999,999,1) -> 999 | P46: =IF(N46="DA",1,IF(N46="WC",2,IF(N46="SE",3,IF(N46="Q",4,IF(N46="LL",5,999))))) -> 999
A47: 41 | J47: =IF(AND(Q47="",#REF!>0,#REF!<5),K47,) -> #REF! | K47: =IF(D47="","ZZZ9",IF(AND(#REF!>0,#REF!<5),D47&#REF!,D47&"9")) -> ZZZ9 | L47: =IF(Q47="",999,Q47) -> 999 | M47: =IF(P47=999,999,1) -> 999 | P47: =IF(N47="DA",1,IF(N47="WC",2,IF(N47="SE",3,IF(N47="Q",4,IF(N47="LL",5,999))))) -> 999
A48: 42 | J48: =IF(AND(Q48="",#REF!>0,#REF!<5),K48,) -> #REF! | K48: =IF(D48="","ZZZ9",IF(AND(#REF!>0,#REF!<5),D48&#REF!,D48&"9")) -> ZZZ9 | L48: =IF(Q48="",999,Q48) -> 999 | M48: =IF(P48=999,999,1) -> 999 | P48: =IF(N48="DA",1,IF(N48="WC",2,IF(N48="SE",3,IF(N48="Q",4,IF(N48="LL",5,999))))) -> 999
A49: 43 | J49: =IF(AND(Q49="",#REF!>0,#REF!<5),K49,) -> #REF! | K49: =IF(D49="","ZZZ9",IF(AND(#REF!>0,#REF!<5),D49&#REF!,D49&"9")) -> ZZZ9 | L49: =IF(Q49="",999,Q49) -> 999 | M49: =IF(P49=999,999,1) -> 999 | P49: =IF(N49="DA",1,IF(N49="WC",2,IF(N49="SE",3,IF(N49="Q",4,IF(N49="LL",5,999))))) -> 999
A50: 44 | J50: =IF(AND(Q50="",#REF!>0,#REF!<5),K50,) -> #REF! | K50: =IF(D50="","ZZZ9",IF(AND(#REF!>0,#REF!<5),D50&#REF!,D50&"9")) -> ZZZ9 | L50: =IF(Q50="",999,Q50) -> 999 | M50: =IF(P50=999,999,1) -> 999 | P50: =IF(N50="DA",1,IF(N50="WC",2,IF(N50="SE",3,IF(N50="Q",4,IF(N50="LL",5,999))))) -> 999
A51: 45 | J51: =IF(AND(Q51="",#REF!>0,#REF!<5),K51,) -> #REF! | K51: =IF(D51="","ZZZ9",IF(AND(#REF!>0,#REF!<5),D51&#REF!,D51&"9")) -> ZZZ9 | L51: =IF(Q51="",999,Q51) -> 999 | M51: =IF(P51=999,999,1) -> 999 | P51: =IF(N51="DA",1,IF(N51="WC",2,IF(N51="SE",3,IF(N51="Q",4,IF(N51="LL",5,999))))) -> 999
... A156: 150 | J156: =IF(AND(Q156="",#REF!>0,#REF!<5),K156,) -> #REF! | K156: =IF(D156="","ZZZ9",IF(AND(#REF!>0,#REF!<5),D156&#REF!,D156&"9")) -> ZZZ9 | L156: =IF(Q156="",999,Q156) -> 999 | M156: =IF(P156=999,999,1) -> 999 | P156: =IF(N156="DA",1,IF(N156="WC",2,IF(N156="SE",3,IF(N156="Q",4,IF(N156="LL",5,999))))) -> 999

Sheet B-V.kcs.-U14-F
A1: =[1]Altalanos!$A$6 -> Somogy Vármegyei Tenisz DO B kategória - Fiú | H1: Egyéni főtábla | AB1: =IF(Y5=1,CONCATENATE(VLOOKUP(Y3,AA16:AH27,2)),CONCATENATE(VLOOKUP(Y3,AA2:AK13,2))) -> #N/A | AC1: =IF(Y5=1,CONCATENATE(VLOOKUP(Y3,AA16:AK27,3)),CONCATENATE(VLOOKUP(Y3,AA2:AK13,3))) -> #N/A | AD1: =IF(Y5=1,CONCATENATE(VLOOKUP(Y3,AA16:AK27,4)),CONCATENATE(VLOOKUP(Y3,AA2:AK13,4))) -> #N/A | AE1: =IF(Y5=1,CONCATENATE(VLOOKUP(Y3,AA16:AK27,5)),CONCATENATE(VLOOKUP(Y3,AA2:AK13,5))) -> #N/A | AF1: =IF(Y5=1,CONCATENATE(VLOOKUP(Y3,AA16:AK27,6)),CONCATENATE(VLOOKUP(Y3,AA2:AK13,6))) -> #N/A | AG1: =IF(Y5=1,CONCATENATE(VLOOKUP(Y3,AA16:AK27,7)),CONCATENATE(VLOOKUP(Y3,AA2:AK13,7))) -> #N/A | AH1: =IF(Y5=1,CONCATENATE(VLOOKUP(Y3,AA16:AK27,8)),CONCATENATE(VLOOKUP(Y3,AA2:AK13,8))) -> #N/A | AI1: =IF(Y5=1,CONCATENATE(VLOOKUP(Y3,AA16:AK27,9)),CONCATENATE(VLOOKUP(Y3,AA2:AK13,9))) -> #N/A | AJ1: =IF(Y5=1,CONCATENATE(VLOOKUP(Y3,AA16:AK27,10)),CONCATENATE(VLOOKUP(Y3,AA2:AK13,10))) -> #N/A | AK1: =IF(Y5=1,CONCATENATE(VLOOKUP(Y3,AA16:AK27,11)),CONCATENATE(VLOOKUP(Y3,AA2:AK13,11))) -> #N/A
A2: Versenyszám: | E2: =[1]Altalanos!$E$8 -> V.kcs.-U14-F | AA2: A | AB2: 150 | AC2: 120 | AD2: 100 | AE2: 80 | AF2: 70 | AG2: 60 | AH2: 55 | AI2: 50 | AJ2: 45 | AK2: 40
A3: Dátum | E3: Város | H3: Kategória | L3: Versenybíró | Y3: =IF(H4="OB","A",IF(H4="IX","W",H4)) -> 0 | AA3: I | AB3: 120 | AC3: 90 | AD3: 65 | AE3: 55 | AF3: 50 | AG3: 45 | AH3: 40 | AI3: 35 | AJ3: 25 | AK3: 20
A4: =[1]Altalanos!$A$10 -> 46135 | E4: =[1]Altalanos!$C$10 -> Balatonboglár | L4: =[1]Altalanos!$E$10 -> Nagyistók-Nádasi Judit | AA4: II | AB4: 90 | AC4: 60 | AD4: 45 | AE4: 34 | AF4: 27 | AG4: 22 | AH4: 18 | AI4: 15 | AJ4: 12 | AK4: 9
B5: kiem | C5: kódszám | D5: Rangsor | E5: Vezetéknév | G5: Keresztnév | I5: Egyesület | K5: Helyezés | L5: Pontszám | M5: Bónusz | O5: 1 FORDULÓ | P5: B - C | R5: 1 FORDULÓ | S5: E - F | Y5: =IF(OR([1]Altalanos!$A$8="F1",[1]Altalanos!$A$8="F2",[1]Altalanos!$A$8="N1",[1]Altalanos!$A$8="N2"),1,2) -> 2 | AA5: III | AB5: 60 | AC5: 40 | AD5: 30 | AE5: 20 | AF5: 18 | AG5: 15 | AH5: 12 | AI5: 10 | AJ5: 8 | AK5: 6
O6: 2 FORDULÓ | P6: C - A | R6: 2 FORDULÓ | S6: F - D | AA6: IV | AB6: 40 | AC6: 25 | AD6: 18 | AE6: 13 | AF6: 10 | AG6: 8 | AH6: 6 | AI6: 5 | AJ6: 4 | AK6: 3
A7: A | B7: 1 | C7: =IF($B7="","",VLOOKUP($B7,'V.kcs.-U14-F elo'!$A$7:$O$22,5)) -> 130713 | D7: =IF($B7="","",VLOOKUP($B7,'V.kcs.-U14-F elo'!$A$7:$O$22,15)) -> 0 | E7: =UPPER(IF($B7="","",VLOOKUP($B7,'V.kcs.-U14-F elo'!$A$7:$O$22,2))) -> BEJCZI ÁDI | G7: =IF($B7="","",VLOOKUP($B7,'V.kcs.-U14-F elo'!$A$7:$O$22,3)) -> Ádám | I7: =IF($B7="","",VLOOKUP($B7,'V.kcs.-U14-F elo'!$A$7:$O$22,4)) -> B.lelle-Karádi Ált. Isk. és AMI | K7: 1-2. | O7: 3 FORDULÓ | P7: A - B | R7: 3 FORDULÓ | S7: D - E | AA7: V | AB7: 25 | AC7: 15 | AD7: 13 | AE7: 8 | AF7: 6 | AG7: 4 | AH7: 3 | AI7: 2 | AJ7: 1 | AK7: 0
AA8: VI | AB8: 15 | AC8: 10 | AD8: 7 | AE8: 5 | AF8: 4 | AG8: 3 | AH8: 2 | AI8: 1 | AJ8: 0 | AK8: 0
A9: B | B9: 4 | C9: =IF($B9="","",VLOOKUP($B9,'V.kcs.-U14-F elo'!$A$7:$O$22,5)) -> 130617 | D9: =IF($B9="","",VLOOKUP($B9,'V.kcs.-U14-F elo'!$A$7:$O$22,15)) -> 0 | E9: =UPPER(IF($B9="","",VLOOKUP($B9,'V.kcs.-U14-F elo'!$A$7:$O$22,2))) -> LUTHÁR | G9: =IF($B9="","",VLOOKUP($B9,'V.kcs.-U14-F elo'!$A$7:$O$22,3)) -> Ábel Kristóf | I9: =IF($B9="","",VLOOKUP($B9,'V.kcs.-U14-F elo'!$A$7:$O$22,4)) -> Nagyboldogasszony - Kaposvár | K9: 5 | AA9: VII | AB9: 10 | AC9: 6 | AD9: 4 | AE9: 2 | AF9: 1 | AG9: 0 | AH9: 0 | AI9: 0 | AJ9: 0 | AK9: 0
AA10: VIII | AB10: 6 | AC10: 3 | AD10: 2 | AE10: 1 | AF10: 0 | AG10: 0 | AH10: 0 | AI10: 0 | AJ10: 0 | AK10: 0
A11: C | B11: 5 | C11: =IF($B11="","",VLOOKUP($B11,'V.kcs.-U14-F elo'!$A$7:$O$22,5)) -> 130119 | D11: =IF($B11="","",VLOOKUP($B11,'V.kcs.-U14-F elo'!$A$7:$O$22,15)) -> 0 | E11: =UPPER(IF($B11="","",VLOOKUP($B11,'V.kcs.-U14-F elo'!$A$7:$O$22,2))) -> MOJZES | G11: =IF($B11="","",VLOOKUP($B11,'V.kcs.-U14-F elo'!$A$7:$O$22,3)) -> Benedek | I11: =IF($B11="","",VLOOKUP($B11,'V.kcs.-U14-F elo'!$A$7:$O$22,4)) -> B.lelle-Karádi Ált. Iskola és AMI | K11: 3-4. | AA11: W | AB11: 3 | AC11: 2 | AD11: 1 | AE11: 0 | AF11: 0 | AG11: 0 | AH11: 0 | AI11: 0 | AJ11: 0 | AK11: 0
AA12: X | AB12: 0 | AC12: 0 | AD12: 0 | AE12: 0 | AF12: 0 | AG12: 0 | AH12: 0 | AI12: 0 | AJ12: 0 | AK12: 0
A13: D | B13: 2 | C13: =IF($B13="","",VLOOKUP($B13,'V.kcs.-U14-F elo'!$A$7:$O$22,5)) -> 130713 | D13: =IF($B13="","",VLOOKUP($B13,'V.kcs.-U14-F elo'!$A$7:$O$22,15)) -> 0 | E13: =UPPER(IF($B13="","",VLOOKUP($B13,'V.kcs.-U14-F elo'!$A$7:$O$22,2))) -> BEJCZI A. | G13: =IF($B13="","",VLOOKUP($B13,'V.kcs.-U14-F elo'!$A$7:$O$22,3)) -> András | I13: =IF($B13="","",VLOOKUP($B13,'V.kcs.-U14-F elo'!$A$7:$O$22,4)) -> B.lelle-Karádi Ált. Isk. és AMI | K13: 1-2. | AA13: XI | AB13: 0 | AC13: 0 | AD13: 0 | AE13: 0 | AF13: 0 | AG13: 0 | AH13: 0 | AI13: 0 | AJ13: 0 | AK13: 0
A15: E
AA16: A | AB16: 300 | AC16: 250 | AD16: 220 | AE16: 180 | AF16: 160 | AG16: 150 | AH16: 140 | AI16: 130 | AJ16: 120 | AK16: 110
A17: F | B17: 3 | C17: =IF($B17="","",VLOOKUP($B17,'V.kcs.-U14-F elo'!$A$7:$O$22,5)) -> 130215 | D17: =IF($B17="","",VLOOKUP($B17,'V.kcs.-U14-F elo'!$A$7:$O$22,15)) -> 0 | E17: =UPPER(IF($B17="","",VLOOKUP($B17,'V.kcs.-U14-F elo'!$A$7:$O$22,2))) -> HERMECZ | G17: =IF($B17="","",VLOOKUP($B17,'V.kcs.-U14-F elo'!$A$7:$O$22,3)) -> Botond Pál | I17: =IF($B17="","",VLOOKUP($B17,'V.kcs.-U14-F elo'!$A$7:$O$22,4)) -> Siófoki Széchenyi István Ált. Isk. | K17: 3-4. | AA17: I | AB17: 250 | AC17: 200 | AD17: 160 | AE17: 140 | AF17: 120 | AG17: 110 | AH17: 100 | AI17: 90 | AJ17: 80 | AK17: 70
AA18: II | AB18: 200 | AC18: 150 | AD18: 130 | AE18: 110 | AF18: 95 | AG18: 80 | AH18: 70 | AI18: 60 | AJ18: 55 | AK18: 50
AA19: III | AB19: 150 | AC19: 120 | AD19: 100 | AE19: 80 | AF19: 70 | AG19: 60 | AH19: 55 | AI19: 50 | AJ19: 45 | AK19: 40
AA20: IV | AB20: 120 | AC20: 90 | AD20: 65 | AE20: 55 | AF20: 50 | AG20: 45 | AH20: 40 | AI20: 35 | AJ20: 25 | AK20: 20
AA21: V | AB21: 90 | AC21: 60 | AD21: 45 | AE21: 34 | AF21: 27 | AG21: 22 | AH21: 18 | AI21: 15 | AJ21: 12 | AK21: 9
D22: =E7 -> BEJCZI ÁDI | F22: =E9 -> LUTHÁR | H22: =E11 -> MOJZES | M22: Helyezés | AA22: VI | AB22: 60 | AC22: 40 | AD22: 30 | AE22: 20 | AF22: 18 | AG22: 15 | AH22: 12 | AI22: 10 | AJ22: 8 | AK22: 6
A23: A | B23: =E7 -> BEJCZI ÁDI | F23: 4/1 5/3 | H23: 4/2 5/3 | M23: 1 | AA23: VII | AB23: 40 | AC23: 25 | AD23: 18 | AE23: 13 | AF23: 8 | AG23: 7 | AH23: 6 | AI23: 5 | AJ23: 4 | AK23: 3
A24: B | B24: =E9 -> LUTHÁR | D24: 1/4 3/5 | H24: 2/4 2/4 | M24: 3 | AA24: VIII | AB24: 25 | AC24: 15 | AD24: 13 | AE24: 7 | AF24: 6 | AG24: 5 | AH24: 4 | AI24: 3 | AJ24: 2 | AK24: 1
A25: C | B25: =E11 -> MOJZES | D25: 2/4 3/5 | F25: 4/2 4/2 | M25: 2 | AA25: W | AB25: 15 | AC25: 10 | AD25: 8 | AE25: 4 | AF25: 3 | AG25: 2 | AH25: 1 | AI25: 0 | AJ25: 0 | AK25: 0
AA26: X | AB26: 10 | AC26: 6 | AD26: 4 | AE26: 2 | AF26: 1 | AG26: 0 | AH26: 0 | AI26: 0 | AJ26: 0 | AK26: 0
D27: =E13 -> BEJCZI A. | F27: =E15 -> 0 | H27: =E17 -> HERMECZ | AA27: XI | AB27: 3 | AC27: 2 | AD27: 1 | AE27: 0 | AF27: 0 | AG27: 0 | AH27: 0 | AI27: 0 | AJ27: 0 | AK27: 0
A28: D | B28: =E13 -> BEJCZI A. | H28: 4/1 3/5 10/7 | M28: 1
A29: E | B29: =E15 -> 0
A30: F | B30: =E17 -> HERMECZ | D30: 1/4 5/3 7/10 | M30: 2
A32: Döntő | C32: =IF(M23=1,B23,IF(M24=1,B24,IF(M25=1,B25,""))) -> BEJCZI ÁDI | E32: vs. | F32: =IF(M28=1,B28,IF(M29=1,B29,IF(M30=1,B30,""))) -> BEJCZI A.
A34: 3. hely | C34: =IF(M23=2,B23,IF(M24=2,B24,IF(M25=2,B25,""))) -> MOJZES | E34: vs. | F34: =IF(M28=2,B28,IF(M29=2,B29,IF(M30=2,B30,""))) -> HERMECZ
A36: 5. hely | C36: =IF(M23=3,B23,IF(M24=3,B24,IF(M25=3,B25,""))) -> LUTHÁR | E36: vs. | F36: =IF(M28=3,B28,IF(M29=3,B29,IF(M30=3,B30,"")))
A39: Rangsor | D39: # | E39: Kiemeltek | G39: # | H39: Szerencés Vesztes | J39: Helyettesíti | K39: Sorsolás időpontja
A40: Dátuma | G40: 1 | K40: Utolsó elfogadott játékos
A41: Utolsó DA | G41: 2
G42: 3 | K42: Sorsoló játékosok
G43: 4
G44: 5
G45: 6 | K45: Versenybíró aláírása
G46: 7
G47: 8 | K47: =L4 -> Nagyistók-Nádasi Judit | R47: =MIN(4,'V.kcs.-U14-F elo'!Q5) -> 4

Sheet VI.kcs.-U16-F elo
A1: =[1]Altalanos!$A$6 -> Somogy Vármegyei Tenisz DO B kategória - Fiú | E1: Egyéni főtábla
B2: Versenyszám: | C2: VI.kcs.-U16-F | E2: ELŐKÉSZÍTŐ LISTA
A3: NE TÖRÖLD KI EZT AZ OLDALT! | N3: Versenybíró aláírása
A4: Dátum | C4: Város | D4: Kategória | H4: Versenybíró
A5: =[1]Altalanos!$A$10 -> 46135 | C5: =[1]Altalanos!$C$10 -> Balatonboglár | D5: =[1]Altalanos!$D$10 | H5: =[1]Altalanos!$E$10 -> Nagyistók-Nádasi Judit
A6: Sor | B6: Családi név | C6: Keresztnév | D6: Egyesület | E6: Kódszám | F6: Nevezett Igen | G6: Aláírás | H6: Nevezési rangsor | J6: NatSort if not Seed | K6: NatSort | L6: Seed Sort | M6: AccBasic | N6: Elfogadási státusz | O6: Sorsolási rangsor | P6: AccSort | Q6: Kiemelés
A7: 1 | B7: Antal-Tizedes | C7: Bruno | D7: Siófoki SZC Krúdy Gy.Tech.és Gimn. | E7: 100209
A8: 2 | B8: Eperi | C8: Péter Koppány | D8: K.vári SZC Noszlopy Gáspár Közg. Techn. | E8: 110126
A9: 3 | B9: Fekete | C9: Bende | D9: K.vári SZC Noszlopy Gáspár Közg. Techn. | E9: 100331
A10: 4 | B10: Horváth | C10: Barnabás | D10: Siófoki Beszédes József Általános Iskola | E10: 110704
A11: 5 | B11: Komáromi | C11: Gergő | D11: Kaposvári Táncsics Mihály Gimnázium | E11: 110511
A12: 6 | B12: Monok | C12: Zalán | D12: K.vári SZC Noszlopy Gáspár Közg. Techn. | E12: 100322
A13: 7 | B13: Szöllősi | C13: Patrik | D13: K.vári Csokonai V.M.Ált.Isk.,Gimn.és Szakgimn. | E13: 111223
A14: 8 | B14: Tóth | C14: Ákos | D14: Lorántffy Zs. Kaposvár | E14: 100716
A15: 9 | B15: Tóth | C15: Bence | D15: Siófoki SZC Mathiász J. Tech., Gimn. és Koll. | E15: 100720
A16: 10
A17: 11
A18: 12
A19: 13 | D19: Lorántffy Zsuzsanna Ref. Óvoda, Ált. Isk., Gimn. és Koll. Kaposvár
A20: 14
A21: 15
A22: 16
A23: 17
A24: 18
A25: 19
A26: 20
A27: 21
A28: 22
A29: 23
A30: 24
A31: 25
... A39: 33
A40: 34 | J40: =IF(AND(Q40="",#REF!>0,#REF!<5),K40,) -> #REF! | K40: =IF(D40="","ZZZ9",IF(AND(#REF!>0,#REF!<5),D40&#REF!,D40&"9")) -> ZZZ9 | L40: =IF(Q40="",999,Q40) -> 999 | M40: =IF(P40=999,999,1) -> 999 | P40: =IF(N40="DA",1,IF(N40="WC",2,IF(N40="SE",3,IF(N40="Q",4,IF(N40="LL",5,999))))) -> 999
A41: 35 | J41: =IF(AND(Q41="",#REF!>0,#REF!<5),K41,) -> #REF! | K41: =IF(D41="","ZZZ9",IF(AND(#REF!>0,#REF!<5),D41&#REF!,D41&"9")) -> ZZZ9 | L41: =IF(Q41="",999,Q41) -> 999 | M41: =IF(P41=999,999,1) -> 999 | P41: =IF(N41="DA",1,IF(N41="WC",2,IF(N41="SE",3,IF(N41="Q",4,IF(N41="LL",5,999))))) -> 999
