Workbook

Sheet I.kcs.-U8-P-F elo
A1: =[1]Altalanos!$A$6 -> Somogy Vármegyei Tenisz DO B kategória - Fiú | E1: Egyéni főtábla
B2: Versenyszám: | C2: =[1]Altalanos!$A$8 -> I.kcs.-U8-P-F | E2: ELŐKÉSZÍTŐ LISTA
A3: NE TÖRÖLD KI EZT AZ OLDALT! | N3: Versenybíró aláírása
A4: Dátum | C4: Város | D4: Kategória | H4: Versenybíró
A5: =[1]Altalanos!$A$10 -> 46135 | C5: =[1]Altalanos!$C$10 -> Balatonboglár | D5: =[1]Altalanos!$D$10 | H5: =[1]Altalanos!$E$10 -> Nagyistók-Nádasi Judit
A6: Sor | B6: Családi név | C6: Keresztnév | D6: Egyesület | E6: Kódszám | F6: Nevezett Igen | G6: Aláírás | H6: Nevezési rangsor | J6: NatSort if not Seed | K6: NatSort | L6: Seed Sort | M6: AccBasic | N6: Elfogadási státusz | O6: Sorsolási rangsor | P6: AccSort | Q6: Kiemelés
A7: 1 | B7: Ecsődi | C7: Zsombor | D7: Boglári Ált.Isk.és AMI | E7: 180725
A8: 2 | B8: Lovász | C8: Dávid | D8: B.lelle-Karádi Ált.Isk.és AMI | E8: 180313
A9: 3 | B9: Magyar | C9: Zétény | D9: Marcali Mikszáth K. Ált. Isk. | E9: 180726
A10: 4
A11: 5
A12: 6
A13: 7
A14: 8
A15: 9
A16: 10
A17: 11
A18: 12
A19: 13
A20: 14
A21: 15
... A39: 33
A40: 34 | J40: =IF(AND(Q40="",#REF!>0,#REF!<5),K40,) -> #REF! | K40: =IF(D40="","ZZZ9",IF(AND(#REF!>0,#REF!<5),D40&#REF!,D40&"9")) -> ZZZ9 | L40: =IF(Q40="",999,Q40) -> 999 | M40: =IF(P40=999,999,1) -> 999 | P40: =IF(N40="DA",1,IF(N40="WC",2,IF(N40="SE",3,IF(N40="Q",4,IF(N40="LL",5,999))))) -> 999
A41: 35 | J41: =IF(AND(Q41="",#REF!>0,#REF!<5),K41,) -> #REF! | K41: =IF(D41="","ZZZ9",IF(AND(#REF!>0,#REF!<5),D41&#REF!,D41&"9")) -> ZZZ9 | L41: =IF(Q41="",999,Q41) -> 999 | M41: =IF(P41=999,999,1) -> 999 | P41: =IF(N41="DA",1,IF(N41="WC",2,IF(N41="SE",3,IF(N41="Q",4,IF(N41="LL",5,999))))) -> 999
A42: 36 | J42: =IF(AND(Q42="",#REF!>0,#REF!<5),K42,) -> #REF! | K42: =IF(D42="","ZZZ9",IF(AND(#REF!>0,#REF!<5),D42&#REF!,D42&"9")) -> ZZZ9 | L42: =IF(Q42="",999,Q42) -> 999 | M42: =IF(P42=999,999,1) -> 999 | P42: =IF(N42="DA",1,IF(N42="WC",2,IF(N42="SE",3,IF(N42="Q",4,IF(N42="LL",5,999))))) -> 999
A43: 37 | J43: =IF(AND(Q43="",#REF!>0,#REF!<5),K43,) -> #REF! | K43: =IF(D43="","ZZZ9",IF(AND(#REF!>0,#REF!<5),D43&#REF!,D43&"9")) -> ZZZ9 | L43: =IF(Q43="",999,Q43) -> 999 | M43: =IF(P43=999,999,1) -> 999 | P43: =IF(N43="DA",1,IF(N43="WC",2,IF(N43="SE",3,IF(N43="Q",4,IF(N43="LL",5,999))))) -> 999
A44: 38 | J44: =IF(AND(Q44="",#REF!>0,#REF!<5),K44,) -> #REF! | K44: =IF(D44="","ZZZ9",IF(AND(#REF!>0,#REF!<5),D44&#REF!,D44&"9")) -> ZZZ9 | L44: =IF(Q44="",999,Q44) -> 999 | M44: =IF(P44=999,999,1) -> 999 | P44: =IF(N44="DA",1,IF(N44="WC",2,IF(N44="SE",3,IF(N44="Q",4,IF(N44="LL",5,999))))) -> 999
A45: 39 | J45: =IF(AND(Q45="",#REF!>0,#REF!<5),K45,) -> #REF! | K45: =IF(D45="","ZZZ9",IF(AND(#REF!>0,#REF!<5),D45&#REF!,D45&"9")) -> ZZZ9 | L45: =IF(Q45="",999,Q45) -> 999 | M45: =IF(P45=999,999,1) -> 999 | P45: =IF(N45="DA",1,IF(N45="WC",2,IF(N45="SE",3,IF(N45="Q",4,IF(N45="LL",5,999))))) -> 999
A46: 40 | J46: =IF(AND(Q46="",#REF!>0,#REF!<5),K46,) -> #REF! | K46: =IF(D46="","ZZZ9",IF(AND(#REF!>0,#REF!<5),D46&#REF!,D46&"9")) -> ZZZ9 | L46: =IF(Q46="",999,Q46) -> 999 | M46: =IF(P46=999,999,1) -> 999 | P46: =IF(N46="DA",1,IF(N46="WC",2,IF(N46="SE",3,IF(N46="Q",4,IF(N46="LL",5,999))))) -> 999
A47: 41 | J47: =IF(AND(Q47="",#REF!>0,#REF!<5),K47,) -> #REF! | K47: =IF(D47="","ZZZ9",IF(AND(#REF!>0,#REF!<5),D47&#REF!,D47&"9")) -> ZZZ9 | L47: =IF(Q47="",999,Q47) -> 999 | M47: =IF(P47=999,999,1) -> 999 | P47: =IF(N47="DA",1,IF(N47="WC",2,IF(N47="SE",3,IF(N47="Q",4,IF(N47="LL",5,999))))) -> 999
A48: 42 | J48: =IF(AND(Q48="",#REF!>0,#REF!<5),K48,) -> #REF! | K48: =IF(D48="","ZZZ9",IF(AND(#REF!>0,#REF!<5),D48&#REF!,D48&"9")) -> ZZZ9 | L48: =IF(Q48="",999,Q48) -> 999 | M48: =IF(P48=999,999,1) -> 999 | P48: =IF(N48="DA",1,IF(N48="WC",2,IF(N48="SE",3,IF(N48="Q",4,IF(N48="LL",5,999))))) -> 999
A49: 43 | J49: =IF(AND(Q49="",#REF!>0,#REF!<5),K49,) -> #REF! | K49: =IF(D49="","ZZZ9",IF(AND(#REF!>0,#REF!<5),D49&#REF!,D49&"9")) -> ZZZ9 | L49: =IF(Q49="",999,Q49) -> 999 | M49: =IF(P49=999,999,1) -> 999 | P49: =IF(N49="DA",1,IF(N49="WC",2,IF(N49="SE",3,IF(N49="Q",4,IF(N49="LL",5,999))))) -> 999
A50: 44 | J50: =IF(AND(Q50="",#REF!>0,#REF!<5),K50,) -> #REF! | K50: =IF(D50="","ZZZ9",IF(AND(#REF!>0,#REF!<5),D50&#REF!,D50&"9")) -> ZZZ9 | L50: =IF(Q50="",999,Q50) -> 999 | M50: =IF(P50=999,999,1) -> 999 | P50: =IF(N50="DA",1,IF(N50="WC",2,IF(N50="SE",3,IF(N50="Q",4,IF(N50="LL",5,999))))) -> 999
A51: 45 | J51: =IF(AND(Q51="",#REF!>0,#REF!<5),K51,) -> #REF! | K51: =IF(D51="","ZZZ9",IF(AND(#REF!>0,#REF!<5),D51&#REF!,D51&"9")) -> ZZZ9 | L51: =IF(Q51="",999,Q51) -> 999 | M51: =IF(P51=999,999,1) -> 999 | P51: =IF(N51="DA",1,IF(N51="WC",2,IF(N51="SE",3,IF(N51="Q",4,IF(N51="LL",5,999))))) -> 999
... A156: 150 | J156: =IF(AND(Q156="",#REF!>0,#REF!<5),K156,) -> #REF! | K156: =IF(D156="","ZZZ9",IF(AND(#REF!>0,#REF!<5),D156&#REF!,D156&"9")) -> ZZZ9 | L156: =IF(Q156="",999,Q156) -> 999 | M156: =IF(P156=999,999,1) -> 999 | P156: =IF(N156="DA",1,IF(N156="WC",2,IF(N156="SE",3,IF(N156="Q",4,IF(N156="LL",5,999))))) -> 999

Sheet II.kcs.-U10-N-L elo
A1: =[2]Altalanos!$A$6 -> Somogy Vármegyei Tenisz DO B kategória - Leány | E1: Egyéni főtábla
B2: Versenyszám: | C2: =[2]Altalanos!$A$8 -> II.kcs.-U10-N-L | E2: ELŐKÉSZÍTŐ LISTA
A3: NE TÖRÖLD KI EZT AZ OLDALT! | N3: Versenybíró aláírása
A4: Dátum | C4: Város | D4: Kategória | H4: Versenybíró
A5: =[2]Altalanos!$A$10 -> 46135 | C5: =[2]Altalanos!$C$10 -> Balatonboglár | D5: =[2]Altalanos!$D$10 | H5: =[2]Altalanos!$E$10 -> Nagyistók-Nádasi Judit
A6: Sor | B6: Családi név | C6: Keresztnév | D6: Egyesület | E6: Kódszám | F6: Nevezett Igen | G6: Aláírás | H6: Nevezési rangsor | J6: NatSort if not Seed | K6: NatSort | L6: Seed Sort | M6: AccBasic | N6: Elfogadási státusz | O6: Sorsolási rangsor | P6: AccSort | Q6: Kiemelés
A7: 1 | B7: Czene | C7: Lara | D7: Boglári Ált. Isk. és AMI | E7: 170604
A8: 2 | B8: Könnyid-Kovács | C8: Judit | D8: B.lelle-Karádi Ált.Isk. és AMI | E8: 160117
A9: 3 | B9: Mátyás | C9: Emma | D9: B.lelle-Karádi Ált.Isk. és AMI | E9: 170329
A10: 4 | B10: Steiner | C10: Luca Gréta | D10: Boglári Ált. Isk. és AMI | E10: 170313
A11: 5 | B11: Székely | C11: Lulu Sára | D11: Boglári Ált. Isk. és AMI | E11: 161130
A12: 6 | B12: Szita | C12: Róza Genovéva | D12: B.lelle-Karádi Ált.Isk. és AMI | E12: 170405
A13: 7 | B13: Torma | C13: Tamara | D13: B.lelle-Karádi Ált.Isk. és AMI | E13: 160711
A14: 8
A15: 9
A16: 10
A17: 11
A18: 12
A19: 13
A20: 14
A21: 15
A22: 16
A23: 17
A24: 18
A25: 19
... A39: 33
A40: 34 | J40: =IF(AND(Q40="",#REF!>0,#REF!<5),K40,) -> #REF! | K40: =IF(D40="","ZZZ9",IF(AND(#REF!>0,#REF!<5),D40&#REF!,D40&"9")) -> ZZZ9 | L40: =IF(Q40="",999,Q40) -> 999 | M40: =IF(P40=999,999,1) -> 999 | P40: =IF(N40="DA",1,IF(N40="WC",2,IF(N40="SE",3,IF(N40="Q",4,IF(N40="LL",5,999))))) -> 999
A41: 35 | J41: =IF(AND(Q41="",#REF!>0,#REF!<5),K41,) -> #REF! | K41: =IF(D41="","ZZZ9",IF(AND(#REF!>0,#REF!<5),D41&#REF!,D41&"9")) -> ZZZ9 | L41: =IF(Q41="",999,Q41) -> 999 | M41: =IF(P41=999,999,1) -> 999 | P41: =IF(N41="DA",1,IF(N41="WC",2,IF(N41="SE",3,IF(N41="Q",4,IF(N41="LL",5,999))))) -> 999
A42: 36 | J42: =IF(AND(Q42="",#REF!>0,#REF!<5),K42,) -> #REF! | K42: =IF(D42="","ZZZ9",IF(AND(#REF!>0,#REF!<5),D42&#REF!,D42&"9")) -> ZZZ9 | L42: =IF(Q42="",999,Q42) -> 999 | M42: =IF(P42=999,999,1) -> 999 | P42: =IF(N42="DA",1,IF(N42="WC",2,IF(N42="SE",3,IF(N42="Q",4,IF(N42="LL",5,999))))) -> 999
A43: 37 | J43: =IF(AND(Q43="",#REF!>0,#REF!<5),K43,) -> #REF! | K43: =IF(D43="","ZZZ9",IF(AND(#REF!>0,#REF!<5),D43&#REF!,D43&"9")) -> ZZZ9 | L43: =IF(Q43="",999,Q43) -> 999 | M43: =IF(P43=999,999,1) -> 999 | P43: =IF(N43="DA",1,IF(N43="WC",2,IF(N43="SE",3,IF(N43="Q",4,IF(N43="LL",5,999))))) -> 999
A44: 38 | J44: =IF(AND(Q44="",#REF!>0,#REF!<5),K44,) -> #REF! | K44: =IF(D44="","ZZZ9",IF(AND(#REF!>0,#REF!<5),D44&#REF!,D44&"9")) -> ZZZ9 | L44: =IF(Q44="",999,Q44) -> 999 | M44: =IF(P44=999,999,1) -> 999 | P44: =IF(N44="DA",1,IF(N44="WC",2,IF(N44="SE",3,IF(N44="Q",4,IF(N44="LL",5,999))))) -> 999
A45: 39 | J45: =IF(AND(Q45="",#REF!>0,#REF!<5),K45,) -> #REF! | K45: =IF(D45="","ZZZ9",IF(AND(#REF!>0,#REF!<5),D45&#REF!,D45&"9")) -> ZZZ9 | L45: =IF(Q45="",999,Q45) -> 999 | M45: =IF(P45=999,999,1) -> 999 | P45: =IF(N45="DA",1,IF(N45="WC",2,IF(N45="SE",3,IF(N45="Q",4,IF(N45="LL",5,999))))) -> 999
A46: 40 | J46: =IF(AND(Q46="",#REF!>0,#REF!<5),K46,) -> #REF! | K46: =IF(D46="","ZZZ9",IF(AND(#REF!>0,#REF!<5),D46&#REF!,D46&"9")) -> ZZZ9 | L46: =IF(Q46="",999,Q46) -> 999 | M46: =IF(P46=999,999,1) -> 999 | P46: =IF(N46="DA",1,IF(N46="WC",2,IF(N46="SE",3,IF(N46="Q",4,IF(N46="LL",5,999))))) -> 999
A47: 41 | J47: =IF(AND(Q47="",#REF!>0,#REF!<5),K47,) -> #REF! | K47: =IF(D47="","ZZZ9",IF(AND(#REF!>0,#REF!<5),D47&#REF!,D47&"9")) -> ZZZ9 | L47: =IF(Q47="",999,Q47) -> 999 | M47: =IF(P47=999,999,1) -> 999 | P47: =IF(N47="DA",1,IF(N47="WC",2,IF(N47="SE",3,IF(N47="Q",4,IF(N47="LL",5,999))))) -> 999
A48: 42 | J48: =IF(AND(Q48="",#REF!>0,#REF!<5),K48,) -> #REF! | K48: =IF(D48="","ZZZ9",IF(AND(#REF!>0,#REF!<5),D48&#REF!,D48&"9")) -> ZZZ9 | L48: =IF(Q48="",999,Q48) -> 999 | M48: =IF(P48=999,999,1) -> 999 | P48: =IF(N48="DA",1,IF(N48="WC",2,IF(N48="SE",3,IF(N48="Q",4,IF(N48="LL",5,999))))) -> 999
A49: 43 | J49: =IF(AND(Q49="",#REF!>0,#REF!<5),K49,) -> #REF! | K49: =IF(D49="","ZZZ9",IF(AND(#REF!>0,#REF!<5),D49&#REF!,D49&"9")) -> ZZZ9 | L49: =IF(Q49="",999,Q49) -> 999 | M49: =IF(P49=999,999,1) -> 999 | P49: =IF(N49="DA",1,IF(N49="WC",2,IF(N49="SE",3,IF(N49="Q",4,IF(N49="LL",5,999))))) -> 999
A50: 44 | J50: =IF(AND(Q50="",#REF!>0,#REF!<5),K50,) -> #REF! | K50: =IF(D50="","ZZZ9",IF(AND(#REF!>0,#REF!<5),D50&#REF!,D50&"9")) -> ZZZ9 | L50: =IF(Q50="",999,Q50) -> 999 | M50: =IF(P50=999,999,1) -> 999 | P50: =IF(N50="DA",1,IF(N50="WC",2,IF(N50="SE",3,IF(N50="Q",4,IF(N50="LL",5,999))))) -> 999
A51: 45 | J51: =IF(AND(Q51="",#REF!>0,#REF!<5),K51,) -> #REF! | K51: =IF(D51="","ZZZ9",IF(AND(#REF!>0,#REF!<5),D51&#REF!,D51&"9")) -> ZZZ9 | L51: =IF(Q51="",999,Q51) -> 999 | M51: =IF(P51=999,999,1) -> 999 | P51: =IF(N51="DA",1,IF(N51="WC",2,IF(N51="SE",3,IF(N51="Q",4,IF(N51="LL",5,999))))) -> 999
... A156: 150 | J156: =IF(AND(Q156="",#REF!>0,#REF!<5),K156,) -> #REF! | K156: =IF(D156="","ZZZ9",IF(AND(#REF!>0,#REF!<5),D156&#REF!,D156&"9")) -> ZZZ9 | L156: =IF(Q156="",999,Q156) -> 999 | M156: =IF(P156=999,999,1) -> 999 | P156: =IF(N156="DA",1,IF(N156="WC",2,IF(N156="SE",3,IF(N156="Q",4,IF(N156="LL",5,999))))) -> 999

Sheet III.kcs.-U11-N-L elo
A1: =[2]Altalanos!$A$6 -> Somogy Vármegyei Tenisz DO B kategória - Leány | E1: Egyéni főtábla
B2: Versenyszám: | C2: =[2]Altalanos!$B$8 -> III.kcs.-U11-N-L | E2: ELŐKÉSZÍTŐ LISTA
A3: NE TÖRÖLD KI EZT AZ OLDALT! | N3: Versenybíró aláírása
A4: Dátum | C4: Város | D4: Kategória | H4: Versenybíró
A5: =[2]Altalanos!$A$10 -> 46135 | C5: =[2]Altalanos!$C$10 -> Balatonboglár | D5: =[2]Altalanos!$D$10 | H5: =[2]Altalanos!$E$10 -> Nagyistók-Nádasi Judit
A6: Sor | B6: Családi név | C6: Keresztnév | D6: Egyesület | E6: Kódszám | F6: Nevezett Igen | G6: Aláírás | H6: Nevezési rangsor | J6: NatSort if not Seed | K6: NatSort | L6: Seed Sort | M6: AccBasic | N6: Elfogadási státusz | O6: Sorsolási rangsor | P6: AccSort | Q6: Kiemelés
A7: 1 | B7: Balázs | C7: Helka | D7: B.lelle-Karádi Ált. Isk. és AMI | E7: 151126
A8: 2 | B8: Balogh | C8: Fanni Leila | D8: B.lelle-Karádi Ált. Isk. és AMI | E8: 150111
A9: 3 | B9: Dávid | C9: Borbála | D9: B.lelle-Karádi Ált. Isk. és AMI | E9: 150923
A10: 4 | B10: Rengel | C10: Izabella | D10: Nagyboldogasszony - Kaposvár | E10: 151130
A11: 5 | B11: Szalay | C11: Boglárka | D11: Siófoki Beszédes József Ált. Isk. | E11: 150213
A12: 6 | B12: Tóth | C12: Szabina | D12: B.lelle-Karádi Ált. Isk. és AMI | E12: 150822
A13: 7
A14: 8
A15: 9 | D15: Nagyboldogasszony Római Kat. Gimn., Ált. Isk. és AMI Kaposvár
A16: 10
A17: 11
A18: 12
A19: 13
A20: 14
A21: 15
A22: 16
A23: 17
A24: 18
A25: 19
A26: 20
A27: 21
... A39: 33
A40: 34 | J40: =IF(AND(Q40="",#REF!>0,#REF!<5),K40,) -> #REF! | K40: =IF(D40="","ZZZ9",IF(AND(#REF!>0,#REF!<5),D40&#REF!,D40&"9")) -> ZZZ9 | L40: =IF(Q40="",999,Q40) -> 999 | M40: =IF(P40=999,999,1) -> 999 | P40: =IF(N40="DA",1,IF(N40="WC",2,IF(N40="SE",3,IF(N40="Q",4,IF(N40="LL",5,999))))) -> 999
A41: 35 | J41: =IF(AND(Q41="",#REF!>0,#REF!<5),K41,) -> #REF! | K41: =IF(D41="","ZZZ9",IF(AND(#REF!>0,#REF!<5),D41&#REF!,D41&"9")) -> ZZZ9 | L41: =IF(Q41="",999,Q41) -> 999 | M41: =IF(P41=999,999,1) -> 999 | P41: =IF(N41="DA",1,IF(N41="WC",2,IF(N41="SE",3,IF(N41="Q",4,IF(N41="LL",5,999))))) -> 999
A42: 36 | J42: =IF(AND(Q42="",#REF!>0,#REF!<5),K42,) -> #REF! | K42: =IF(D42="","ZZZ9",IF(AND(#REF!>0,#REF!<5),D42&#REF!,D42&"9")) -> ZZZ9 | L42: =IF(Q42="",999,Q42) -> 999 | M42: =IF(P42=999,999,1) -> 999 | P42: =IF(N42="DA",1,IF(N42="WC",2,IF(N42="SE",3,IF(N42="Q",4,IF(N42="LL",5,999))))) -> 999
A43: 37 | J43: =IF(AND(Q43="",#REF!>0,#REF!<5),K43,) -> #REF! | K43: =IF(D43="","ZZZ9",IF(AND(#REF!>0,#REF!<5),D43&#REF!,D43&"9")) -> ZZZ9 | L43: =IF(Q43="",999,Q43) -> 999 | M43: =IF(P43=999,999,1) -> 999 | P43: =IF(N43="DA",1,IF(N43="WC",2,IF(N43="SE",3,IF(N43="Q",4,IF(N43="LL",5,999))))) -> 999
A44: 38 | J44: =IF(AND(Q44="",#REF!>0,#REF!<5),K44,) -> #REF! | K44: =IF(D44="","ZZZ9",IF(AND(#REF!>0,#REF!<5),D44&#REF!,D44&"9")) -> ZZZ9 | L44: =IF(Q44="",999,Q44) -> 999 | M44: =IF(P44=999,999,1) -> 999 | P44: =IF(N44="DA",1,IF(N44="WC",2,IF(N44="SE",3,IF(N44="Q",4,IF(N44="LL",5,999))))) -> 999
A45: 39 | J45: =IF(AND(Q45="",#REF!>0,#REF!<5),K45,) -> #REF! | K45: =IF(D45="","ZZZ9",IF(AND(#REF!>0,#REF!<5),D45&#REF!,D45&"9")) -> ZZZ9 | L45: =IF(Q45="",999,Q45) -> 999 | M45: =IF(P45=999,999,1) -> 999 | P45: =IF(N45="DA",1,IF(N45="WC",2,IF(N45="SE",3,IF(N45="Q",4,IF(N45="LL",5,999))))) -> 999
A46: 40 | J46: =IF(AND(Q46="",#REF!>0,#REF!<5),K46,) -> #REF! | K46: =IF(D46="","ZZZ9",IF(AND(#REF!>0,#REF!<5),D46&#REF!,D46&"9")) -> ZZZ9 | L46: =IF(Q46="",999,Q46) -> 999 | M46: =IF(P46=999,999,1) -> 999 | P46: =IF(N46="DA",1,IF(N46="WC",2,IF(N46="SE",3,IF(N46="Q",4,IF(N46="LL",5,999))))) -> 999
A47: 41 | J47: =IF(AND(Q47="",#REF!>0,#REF!<5),K47,) -> #REF! | K47: =IF(D47="","ZZZ9",IF(AND(#REF!>0,#REF!<5),D47&#REF!,D47&"9")) -> ZZZ9 | L47: =IF(Q47="",999,Q47) -> 999 | M47: =IF(P47=999,999,1) -> 999 | P47: =IF(N47="DA",1,IF(N47="WC",2,IF(N47="SE",3,IF(N47="Q",4,IF(N47="LL",5,999))))) -> 999
A48: 42 | J48: =IF(AND(Q48="",#REF!>0,#REF!<5),K48,) -> #REF! | K48: =IF(D48="","ZZZ9",IF(AND(#REF!>0,#REF!<5),D48&#REF!,D48&"9")) -> ZZZ9 | L48: =IF(Q48="",999,Q48) -> 999 | M48: =IF(P48=999,999,1) -> 999 | P48: =IF(N48="DA",1,IF(N48="WC",2,IF(N48="SE",3,IF(N48="Q",4,IF(N48="LL",5,999))))) -> 999
A49: 43 | J49: =IF(AND(Q49="",#REF!>0,#REF!<5),K49,) -> #REF! | K49: =IF(D49="","ZZZ9",IF(AND(#REF!>0,#REF!<5),D49&#REF!,D49&"9")) -> ZZZ9 | L49: =IF(Q49="",999,Q49) -> 999 | M49: =IF(P49=999,999,1) -> 999 | P49: =IF(N49="DA",1,IF(N49="WC",2,IF(N49="SE",3,IF(N49="Q",4,IF(N49="LL",5,999))))) -> 999
A50: 44 | J50: =IF(AND(Q50="",#REF!>0,#REF!<5),K50,) -> #REF! | K50: =IF(D50="","ZZZ9",IF(AND(#REF!>0,#REF!<5),D50&#REF!,D50&"9")) -> ZZZ9 | L50: =IF(Q50="",999,Q50) -> 999 | M50: =IF(P50=999,999,1) -> 999 | P50: =IF(N50="DA",1,IF(N50="WC",2,IF(N50="SE",3,IF(N50="Q",4,IF(N50="LL",5,999))))) -> 999
A51: 45 | J51: =IF(AND(Q51="",#REF!>0,#REF!<5),K51,) -> #REF! | K51: =IF(D51="","ZZZ9",IF(AND(#REF!>0,#REF!<5),D51&#REF!,D51&"9")) -> ZZZ9 | L51: =IF(Q51="",999,Q51) -> 999 | M51: =IF(P51=999,999,1) -> 999 | P51: =IF(N51="DA",1,IF(N51="WC",2,IF(N51="SE",3,IF(N51="Q",4,IF(N51="LL",5,999))))) -> 999
...

Sheet IV.kcs.-U12-L elo
A1: =[2]Altalanos!$A$6 -> Somogy Vármegyei Tenisz DO B kategória - Leány | E1: Egyéni főtábla
B2: Versenyszám: | C2: IV.kcs.-U12-L | E2: ELŐKÉSZÍTŐ LISTA
A3: NE TÖRÖLD KI EZT AZ OLDALT! | N3: Versenybíró aláírása
A4: Dátum | C4: Város | D4: Kategória | H4: Versenybíró
A5: =[2]Altalanos!$A$10 -> 46135 | C5: =[2]Altalanos!$C$10 -> Balatonboglár | D5: =[2]Altalanos!$D$10 | H5: =[2]Altalanos!$E$10 -> Nagyistók-Nádasi Judit
A6: Sor | B6: Családi név | C6: Keresztnév | D6: Egyesület | E6: Kódszám | F6: Nevezett Igen | G6: Aláírás | H6: Nevezési rangsor | J6: NatSort if not Seed | K6: NatSort | L6: Seed Sort | M6: AccBasic | N6: Elfogadási státusz | O6: Sorsolási rangsor | P6: AccSort | Q6: Kiemelés
A7: 1 | B7: Demeter | C7: Dominika | D7: B.szabadi Kincskereső Ált.Isk. | E7: 140811
A8: 2 | B8: Sólyom | C8: Emília | D8: B.lelle-Karádi Ált.Isk. és AMI | E8: 140628
A9: 3
A10: 4
A11: 5
A12: 6
A13: 7
A14: 8
A15: 9
A16: 10
A17: 11
A18: 12
A19: 13
A20: 14
... A39: 33
A40: 34 | J40: =IF(AND(Q40="",#REF!>0,#REF!<5),K40,) -> #REF! | K40: =IF(D40="","ZZZ9",IF(AND(#REF!>0,#REF!<5),D40&#REF!,D40&"9")) -> ZZZ9 | L40: =IF(Q40="",999,Q40) -> 999 | M40: =IF(P40=999,999,1) -> 999 | P40: =IF(N40="DA",1,IF(N40="WC",2,IF(N40="SE",3,IF(N40="Q",4,IF(N40="LL",5,999))))) -> 999
A41: 35 | J41: =IF(AND(Q41="",#REF!>0,#REF!<5),K41,) -> #REF! | K41: =IF(D41="","ZZZ9",IF(AND(#REF!>0,#REF!<5),D41&#REF!,D41&"9")) -> ZZZ9 | L41: =IF(Q41="",999,Q41) -> 999 | M41: =IF(P41=999,999,1) -> 999 | P41: =IF(N41="DA",1,IF(N41="WC",2,IF(N41="SE",3,IF(N41="Q",4,IF(N41="LL",5,999))))) -> 999
A42: 36 | J42: =IF(AND(Q42="",#REF!>0,#REF!<5),K42,) -> #REF! | K42: =IF(D42="","ZZZ9",IF(AND(#REF!>0,#REF!<5),D42&#REF!,D42&"9")) -> ZZZ9 | L42: =IF(Q42="",999,Q42) -> 999 | M42: =IF(P42=999,999,1) -> 999 | P42: =IF(N42="DA",1,IF(N42="WC",2,IF(N42="SE",3,IF(N42="Q",4,IF(N42="LL",5,999))))) -> 999
A43: 37 | J43: =IF(AND(Q43="",#REF!>0,#REF!<5),K43,) -> #REF! | K43: =IF(D43="","ZZZ9",IF(AND(#REF!>0,#REF!<5),D43&#REF!,D43&"9")) -> ZZZ9 | L43: =IF(Q43="",999,Q43) -> 999 | M43: =IF(P43=999,999,1) -> 999 | P43: =IF(N43="DA",1,IF(N43="WC",2,IF(N43="SE",3,IF(N43="Q",4,IF(N43="LL",5,999))))) -> 999
A44: 38 | J44: =IF(AND(Q44="",#REF!>0,#REF!<5),K44,) -> #REF! | K44: =IF(D44="","ZZZ9",IF(AND(#REF!>0,#REF!<5),D44&#REF!,D44&"9")) -> ZZZ9 | L44: =IF(Q44="",999,Q44) -> 999 | M44: =IF(P44=999,999,1) -> 999 | P44: =IF(N44="DA",1,IF(N44="WC",2,IF(N44="SE",3,IF(N44="Q",4,IF(N44="LL",5,999))))) -> 999
A45: 39 | J45: =IF(AND(Q45="",#REF!>0,#REF!<5),K45,) -> #REF! | K45: =IF(D45="","ZZZ9",IF(AND(#REF!>0,#REF!<5),D45&#REF!,D45&"9")) -> ZZZ9 | L45: =IF(Q45="",999,Q45) -> 999 | M45: =IF(P45=999,999,1) -> 999 | P45: =IF(N45="DA",1,IF(N45="WC",2,IF(N45="SE",3,IF(N45="Q",4,IF(N45="LL",5,999))))) -> 999
A46: 40 | J46: =IF(AND(Q46="",#REF!>0,#REF!<5),K46,) -> #REF! | K46: =IF(D46="","ZZZ9",IF(AND(#REF!>0,#REF!<5),D46&#REF!,D46&"9")) -> ZZZ9 | L46: =IF(Q46="",999,Q46) -> 999 | M46: =IF(P46=999,999,1) -> 999 | P46: =IF(N46="DA",1,IF(N46="WC",2,IF(N46="SE",3,IF(N46="Q",4,IF(N46="LL",5,999))))) -> 999
A47: 41 | J47: =IF(AND(Q47="",#REF!>0,#REF!<5),K47,) -> #REF! | K47: =IF(D47="","ZZZ9",IF(AND(#REF!>0,#REF!<5),D47&#REF!,D47&"9")) -> ZZZ9 | L47: =IF(Q47="",999,Q47) -> 999 | M47: =IF(P47=999,999,1) -> 999 | P47: =IF(N47="DA",1,IF(N47="WC",2,IF(N47="SE",3,IF(N47="Q",4,IF(N47="LL",5,999))))) -> 999
A48: 42 | J48: =IF(AND(Q48="",#REF!>0,#REF!<5),K48,) -> #REF! | K48: =IF(D48="","ZZZ9",IF(AND(#REF!>0,#REF!<5),D48&#REF!,D48&"9")) -> ZZZ9 | L48: =IF(Q48="",999,Q48) -> 999 | M48: =IF(P48=999,999,1) -> 999 | P48: =IF(N48="DA",1,IF(N48="WC",2,IF(N48="SE",3,IF(N48="Q",4,IF(N48="LL",5,999))))) -> 999
A49: 43 | J49: =IF(AND(Q49="",#REF!>0,#REF!<5),K49,) -> #REF! | K49: =IF(D49="","ZZZ9",IF(AND(#REF!>0,#REF!<5),D49&#REF!,D49&"9")) -> ZZZ9 | L49: =IF(Q49="",999,Q49) -> 999 | M49: =IF(P49=999,999,1) -> 999 | P49: =IF(N49="DA",1,IF(N49="WC",2,IF(N49="SE",3,IF(N49="Q",4,IF(N49="LL",5,999))))) -> 999
A50: 44 | J50: =IF(AND(Q50="",#REF!>0,#REF!<5),K50,) -> #REF! | K50: =IF(D50="","ZZZ9",IF(AND(#REF!>0,#REF!<5),D50&#REF!,D50&"9")) -> ZZZ9 | L50: =IF(Q50="",999,Q50) -> 999 | M50: =IF(P50=999,999,1) -> 999 | P50: =IF(N50="DA",1,IF(N50="WC",2,IF(N50="SE",3,IF(N50="Q",4,IF(N50="LL",5,999))))) -> 999
A51: 45 | J51: =IF(AND(Q51="",#REF!>0,#REF!<5),K51,) -> #REF! | K51: =IF(D51="","ZZZ9",IF(AND(#REF!>0,#REF!<5),D51&#REF!,D51&"9")) -> ZZZ9 | L51: =IF(Q51="",999,Q51) -> 999 | M51: =IF(P51=999,999,1) -> 999 | P51: =IF(N51="DA",1,IF(N51="WC",2,IF(N51="SE",3,IF(N51="Q",4,IF(N51="LL",5,999))))) -> 999
... A156: 150 | J156: =IF(AND(Q156="",#REF!>0,#REF!<5),K156,) -> #REF! | K156: =IF(D156="","ZZZ9",IF(AND(#REF!>0,#REF!<5),D156&#REF!,D156&"9")) -> ZZZ9 | L156: =IF(Q156="",999,Q156) -> 999 | M156: =IF(P156=999,999,1) -> 999 | P156: =IF(N156="DA",1,IF(N156="WC",2,IF(N156="SE",3,IF(N156="Q",4,IF(N156="LL",5,999))))) -> 999

Sheet V.kcs.-U14-L elo
A1: =[2]Altalanos!$A$6 -> Somogy Vármegyei Tenisz DO B kategória - Leány | E1: Egyéni főtábla
B2: Versenyszám: | C2: =[2]Altalanos!$C$8 -> V.kcs.-U14-L | E2: ELŐKÉSZÍTŐ LISTA
A3: NE TÖRÖLD KI EZT AZ OLDALT! | N3: Versenybíró aláírása
A4: Dátum | C4: Város | D4: Kategória | H4: Versenybíró
A5: =[2]Altalanos!$A$10 -> 46135 | C5: =[2]Altalanos!$C$10 -> Balatonboglár | D5: =[2]Altalanos!$D$10 | H5: =[2]Altalanos!$E$10 -> Nagyistók-Nádasi Judit
A6: Sor | B6: Családi név | C6: Keresztnév | D6: Egyesület | E6: Kódszám | F6: Nevezett Igen | G6: Aláírás | H6: Nevezési rangsor | J6: NatSort if not Seed | K6: NatSort | L6: Seed Sort | M6: AccBasic | N6: Elfogadási státusz | O6: Sorsolási rangsor | P6: AccSort | Q6: Kiemelés
A7: 1 | B7: Antal | C7: Ramóna Loretta | D7: Boglári Ált. Isk. és AMI | E7: 120601
A8: 2 | B8: Bodor | C8: Anna Boróka | D8: Boglári Ált. Isk. és AMI | E8: 120906
A9: 3 | B9: Burkhalter | C9: Lívia | D9: Marcali Mikszáth K Ált.Isk. | E9: 130326
A10: 4 | B10: Gyenis | C10: Roxána Léna | D10: Boglári Ált. Isk. és AMI | E10: 120730
A11: 5 | B11: Keszthelyi | C11: Nóra | D11: Siófoki Beszédes J.Ált.Isk. | E11: 120911
A12: 6 | B12: Ősz | C12: Blanka | D12: Siófoki Beszédes J.Ált.Isk. | E12: 120925
A13: 7 | B13: Takács | C13: Zoé | D13: Boglári Ált. Isk. és AMI | E13: 130212
A14: 8 | B14: Tóth | C14: Luca | D14: Siófoki Vak Bottyán J.Ált.Isk.és AMI | E14: 120906
A15: 9 | B15: Varga | C15: Fruzsina | D15: B.lelle-Karádi Ált.Isk.és AMI | E15: 131016
A16: 10
A17: 11
A18: 12
A19: 13
A20: 14
A21: 15
A22: 16
A23: 17
A24: 18
A25: 19
A26: 20
A27: 21
... A39: 33
A40: 34 | J40: =IF(AND(Q40="",#REF!>0,#REF!<5),K40,) -> #REF! | K40: =IF(D40="","ZZZ9",IF(AND(#REF!>0,#REF!<5),D40&#REF!,D40&"9")) -> ZZZ9 | L40: =IF(Q40="",999,Q40) -> 999 | M40: =IF(P40=999,999,1) -> 999 | P40: =IF(N40="DA",1,IF(N40="WC",2,IF(N40="SE",3,IF(N40="Q",4,IF(N40="LL",5,999))))) -> 999
A41: 35 | J41: =IF(AND(Q41="",#REF!>0,#REF!<5),K41,) -> #REF! | K41: =IF(D41="","ZZZ9",IF(AND(#REF!>0,#REF!<5),D41&#REF!,D41&"9")) -> ZZZ9 | L41: =IF(Q41="",999,Q41) -> 999 | M41: =IF(P41=999,999,1) -> 999 | P41: =IF(N41="DA",1,IF(N41="WC",2,IF(N41="SE",3,IF(N41="Q",4,IF(N41="LL",5,999))))) -> 999
A42: 36 | J42: =IF(AND(Q42="",#REF!>0,#REF!<5),K42,) -> #REF! | K42: =IF(D42="","ZZZ9",IF(AND(#REF!>0,#REF!<5),D42&#REF!,D42&"9")) -> ZZZ9 | L42: =IF(Q42="",999,Q42) -> 999 | M42: =IF(P42=999,999,1) -> 999 | P42: =IF(N42="DA",1,IF(N42="WC",2,IF(N42="SE",3,IF(N42="Q",4,IF(N42="LL",5,999))))) -> 999
A43: 37 | J43: =IF(AND(Q43="",#REF!>0,#REF!<5),K43,) -> #REF! | K43: =IF(D43="","ZZZ9",IF(AND(#REF!>0,#REF!<5),D43&#REF!,D43&"9")) -> ZZZ9 | L43: =IF(Q43="",999,Q43) -> 999 | M43: =IF(P43=999,999,1) -> 999 | P43: =IF(N43="DA",1,IF(N43="WC",2,IF(N43="SE",3,IF(N43="Q",4,IF(N43="LL",5,999))))) -> 999
A44: 38 | J44: =IF(AND(Q44="",#REF!>0,#REF!<5),K44,) -> #REF! | K44: =IF(D44="","ZZZ9",IF(AND(#REF!>0,#REF!<5),D44&#REF!,D44&"9")) -> ZZZ9 | L44: =IF(Q44="",999,Q44) -> 999 | M44: =IF(P44=999,999,1) -> 999 | P44: =IF(N44="DA",1,IF(N44="WC",2,IF(N44="SE",3,IF(N44="Q",4,IF(N44="LL",5,999))))) -> 999
A45: 39 | J45: =IF(AND(Q45="",#REF!>0,#REF!<5),K45,) -> #REF! | K45: =IF(D45="","ZZZ9",IF(AND(#REF!>0,#REF!<5),D45&#REF!,D45&"9")) -> ZZZ9 | L45: =IF(Q45="",999,Q45) -> 999 | M45: =IF(P45=999,999,1) -> 999 | P45: =IF(N45="DA",1,IF(N45="WC",2,IF(N45="SE",3,IF(N45="Q",4,IF(N45="LL",5,999))))) -> 999
A46: 40 | J46: =IF(AND(Q46="",#REF!>0,#REF!<5),K46,) -> #REF! | K46: =IF(D46="","ZZZ9",IF(AND(#REF!>0,#REF!<5),D46&#REF!,D46&"9")) -> ZZZ9 | L46: =IF(Q46="",999,Q46) -> 999 | M46: =IF(P46=999,999,1) -> 999 | P46: =IF(N46="DA",1,IF(N46="WC",2,IF(N46="SE",3,IF(N46="Q",4,IF(N46="LL",5,999))))) -> 999
A47: 41 | J47: =IF(AND(Q47="",#REF!>0,#REF!<5),K47,) -> #REF! | K47: =IF(D47="","ZZZ9",IF(AND(#REF!>0,#REF!<5),D47&#REF!,D47&"9")) -> ZZZ9 | L47: =IF(Q47="",999,Q47) -> 999 | M47: =IF(P47=999,999,1) -> 999 | P47: =IF(N47="DA",1,IF(N47="WC",2,IF(N47="SE",3,IF(N47="Q",4,IF(N47="LL",5,999))))) -> 999
A48: 42 | J48: =IF(AND(Q48="",#REF!>0,#REF!<5),K48,) -> #REF! | K48: =IF(D48="","ZZZ9",IF(AND(#REF!>0,#REF!<5),D48&#REF!,D48&"9")) -> ZZZ9 | L48: =IF(Q48="",999,Q48) -> 999 | M48: =IF(P48=999,999,1) -> 999 | P48: =IF(N48="DA",1,IF(N48="WC",2,IF(N48="SE",3,IF(N48="Q",4,IF(N48="LL",5,999))))) -> 999
A49: 43 | J49: =IF(AND(Q49="",#REF!>0,#REF!<5),K49,) -> #REF! | K49: =IF(D49="","ZZZ9",IF(AND(#REF!>0,#REF!<5),D49&#REF!,D49&"9")) -> ZZZ9 | L49: =IF(Q49="",999,Q49) -> 999 | M49: =IF(P49=999,999,1) -> 999 | P49: =IF(N49="DA",1,IF(N49="WC",2,IF(N49="SE",3,IF(N49="Q",4,IF(N49="LL",5,999))))) -> 999
A50: 44 | J50: =IF(AND(Q50="",#REF!>0,#REF!<5),K50,) -> #REF! | K50: =IF(D50="","ZZZ9",IF(AND(#REF!>0,#REF!<5),D50&#REF!,D50&"9")) -> ZZZ9 | L50: =IF(Q50="",999,Q50) -> 999 | M50: =IF(P50=999,999,1) -> 999 | P50: =IF(N50="DA",1,IF(N50="WC",2,IF(N50="SE",3,IF(N50="Q",4,IF(N50="LL",5,999))))) -> 999
A51: 45 | J51: =IF(AND(Q51="",#REF!>0,#REF!<5),K51,) -> #REF! | K51: =IF(D51="","ZZZ9",IF(AND(#REF!>0,#REF!<5),D51&#REF!,D51&"9")) -> ZZZ9 | L51: =IF(Q51="",999,Q51) -> 999 | M51: =IF(P51=999,999,1) -> 999 | P51: =IF(N51="DA",1,IF(N51="WC",2,IF(N51="SE",3,IF(N51="Q",4,IF(N51="LL",5,999))))) -> 999
...

Sheet VI.kcs.-U16-L elo
A1: =[2]Altalanos!$A$6 -> Somogy Vármegyei Tenisz DO B kategória - Leány | E1: Egyéni főtábla
B2: Versenyszám: | C2: =[2]Altalanos!$D$8 -> VI.kcs.-U16-L | E2: ELŐKÉSZÍTŐ LISTA
A3: NE TÖRÖLD KI EZT AZ OLDALT! | N3: Versenybíró aláírása
A4: Dátum | C4: Város | D4: Kategória | H4: Versenybíró
A5: =[2]Altalanos!$A$10 -> 46135 | C5: =[2]Altalanos!$C$10 -> Balatonboglár | D5: =[2]Altalanos!$D$10 | H5: =[2]Altalanos!$E$10 -> Nagyistók-Nádasi Judit
A6: Sor | B6: Családi név | C6: Keresztnév | D6: Egyesület | E6: Kódszám | F6: Nevezett Igen | G6: Aláírás | H6: Nevezési rangsor | J6: NatSort if not Seed | K6: NatSort | L6: Seed Sort | M6: AccBasic | N6: Elfogadási státusz | O6: Sorsolási rangsor | P6: AccSort | Q6: Kiemelés
A7: 1 | B7: Csernák | C7: Fruzsina | D7: Kaposvári Munkácsy M. Gimn. | E7: 101102
A8: 2 | B8: Erdős | C8: Hedvig | D8: Kaposvári Táncsics M. Gimn. | E8: 101209
A9: 3 | B9: Madarász | C9: Jázmin Zoé | D9: Kaposvári Táncsics M. Gimn. | E9: 110207
A10: 4 | B10: Péterfi | C10: Zsófia | D10: Kaposvári Táncsics M. Gimn. | E10: 100924
A11: 5 | B11: Tóth | C11: Lilla | D11: Siófoki Perczel Mór Gimn. és Koll. | E11: 110326
A12: 6
A13: 7
A14: 8
A15: 9
A16: 10
A17: 11
A18: 12
A19: 13
A20: 14
A21: 15
A22: 16
A23: 17
... A39: 33
A40: 34 | J40: =IF(AND(Q40="",#REF!>0,#REF!<5),K40,) -> #REF! | K40: =IF(D40="","ZZZ9",IF(AND(#REF!>0,#REF!<5),D40&#REF!,D40&"9")) -> ZZZ9 | L40: =IF(Q40="",999,Q40) -> 999 | M40: =IF(P40=999,999,1) -> 999 | P40: =IF(N40="DA",1,IF(N40="WC",2,IF(N40="SE",3,IF(N40="Q",4,IF(N40="LL",5,999))))) -> 999
A41: 35 | J41: =IF(AND(Q41="",#REF!>0,#REF!<5),K41,) -> #REF! | K41: =IF(D41="","ZZZ9",IF(AND(#REF!>0,#REF!<5),D41&#REF!,D41&"9")) -> ZZZ9 | L41: =IF(Q41="",999,Q41) -> 999 | M41: =IF(P41=999,999,1) -> 999 | P41: =IF(N41="DA",1,IF(N41="WC",2,IF(N41="SE",3,IF(N41="Q",4,IF(N41="LL",5,999))))) -> 999
A42: 36 | J42: =IF(AND(Q42="",#REF!>0,#REF!<5),K42,) -> #REF! | K42: =IF(D42="","ZZZ9",IF(AND(#REF!>0,#REF!<5),D42&#REF!,D42&"9")) -> ZZZ9 | L42: =IF(Q42="",999,Q42) -> 999 | M42: =IF(P42=999,999,1) -> 999 | P42: =IF(N42="DA",1,IF(N42="WC",2,IF(N42="SE",3,IF(N42="Q",4,IF(N42="LL",5,999))))) -> 999
A43: 37 | J43: =IF(AND(Q43="",#REF!>0,#REF!<5),K43,) -> #REF! | K43: =IF(D43="","ZZZ9",IF(AND(#REF!>0,#REF!<5),D43&#REF!,D43&"9")) -> ZZZ9 | L43: =IF(Q43="",999,Q43) -> 999 | M43: =IF(P43=999,999,1) -> 999 | P43: =IF(N43="DA",1,IF(N43="WC",2,IF(N43="SE",3,IF(N43="Q",4,IF(N43="LL",5,999))))) -> 999
A44: 38 | J44: =IF(AND(Q44="",#REF!>0,#REF!<5),K44,) -> #REF! | K44: =IF(D44="","ZZZ9",IF(AND(#REF!>0,#REF!<5),D44&#REF!,D44&"9")) -> ZZZ9 | L44: =IF(Q44="",999,Q44) -> 999 | M44: =IF(P44=999,999,1) -> 999 | P44: =IF(N44="DA",1,IF(N44="WC",2,IF(N44="SE",3,IF(N44="Q",4,IF(N44="LL",5,999))))) -> 999
A45: 39 | J45: =IF(AND(Q45="",#REF!>0,#REF!<5),K45,) -> #REF! | K45: =IF(D45="","ZZZ9",IF(AND(#REF!>0,#REF!<5),D45&#REF!,D45&"9")) -> ZZZ9 | L45: =IF(Q45="",999,Q45) -> 999 | M45: =IF(P45=999,999,1) -> 999 | P45: =IF(N45="DA",1,IF(N45="WC",2,IF(N45="SE",3,IF(N45="Q",4,IF(N45="LL",5,999))))) -> 999
A46: 40 | J46: =IF(AND(Q46="",#REF!>0,#REF!<5),K46,) -> #REF! | K46: =IF(D46="","ZZZ9",IF(AND(#REF!>0,#REF!<5),D46&#REF!,D46&"9")) -> ZZZ9 | L46: =IF(Q46="",999,Q46) -> 999 | M46: =IF(P46=999,999,1) -> 999 | P46: =IF(N46="DA",1,IF(N46="WC",2,IF(N46="SE",3,IF(N46="Q",4,IF(N46="LL",5,999))))) -> 999
A47: 41 | J47: =IF(AND(Q47="",#REF!>0,#REF!<5),K47,) -> #REF! | K47: =IF(D47="","ZZZ9",IF(AND(#REF!>0,#REF!<5),D47&#REF!,D47&"9")) -> ZZZ9 | L47: =IF(Q47="",999,Q47) -> 999 | M47: =IF(P47=999,999,1) -> 999 | P47: =IF(N47="DA",1,IF(N47="WC",2,IF(N47="SE",3,IF(N47="Q",4,IF(N47="LL",5,999))))) -> 999
A48: 42 | J48: =IF(AND(Q48="",#REF!>0,#REF!<5),K48,) -> #REF! | K48: =IF(D48="","ZZZ9",IF(AND(#REF!>0,#REF!<5),D48&#REF!,D48&"9")) -> ZZZ9 | L48: =IF(Q48="",999,Q48) -> 999 | M48: =IF(P48=999,999,1) -> 999 | P48: =IF(N48="DA",1,IF(N48="WC",2,IF(N48="SE",3,IF(N48="Q",4,IF(N48="LL",5,999))))) -> 999
A49: 43 | J49: =IF(AND(Q49="",#REF!>0,#REF!<5),K49,) -> #REF! | K49: =IF(D49="","ZZZ9",IF(AND(#REF!>0,#REF!<5),D49&#REF!,D49&"9")) -> ZZZ9 | L49: =IF(Q49="",999,Q49) -> 999 | M49: =IF(P49=999,999,1) -> 999 | P49: =IF(N49="DA",1,IF(N49="WC",2,IF(N49="SE",3,IF(N49="Q",4,IF(N49="LL",5,999))))) -> 999
A50: 44 | J50: =IF(AND(Q50="",#REF!>0,#REF!<5),K50,) -> #REF! | K50: =IF(D50="","ZZZ9",IF(AND(#REF!>0,#REF!<5),D50&#REF!,D50&"9")) -> ZZZ9 | L50: =IF(Q50="",999,Q50) -> 999 | M50: =IF(P50=999,999,1) -> 999 | P50: =IF(N50="DA",1,IF(N50="WC",2,IF(N50="SE",3,IF(N50="Q",4,IF(N50="LL",5,999))))) -> 999
A51: 45 | J51: =IF(AND(Q51="",#REF!>0,#REF!<5),K51,) -> #REF! | K51: =IF(D51="","ZZZ9",IF(AND(#REF!>0,#REF!<5),D51&#REF!,D51&"9")) -> ZZZ9 | L51: =IF(Q51="",999,Q51) -> 999 | M51: =IF(P51=999,999,1) -> 999 | P51: =IF(N51="DA",1,IF(N51="WC",2,IF(N51="SE",3,IF(N51="Q",4,IF(N51="LL",5,999))))) -> 999
... A156: 150 | J156: =IF(AND(Q156="",#REF!>0,#REF!<5),K156,) -> #REF! | K156: =IF(D156="","ZZZ9",IF(AND(#REF!>0,#REF!<5),D156&#REF!,D156&"9")) -> ZZZ9 | L156: =IF(Q156="",999,Q156) -> 999 | M156: =IF(P156=999,999,1) -> 999 | P156: =IF(N156="DA",1,IF(N156="WC",2,IF(N156="SE",3,IF(N156="Q",4,IF(N156="LL",5,999))))) -> 999

Sheet VII.kcs-U18-L elo
A1: =[2]Altalanos!$A$6 -> Somogy Vármegyei Tenisz DO B kategória - Leány | E1: Egyéni főtábla
B2: Versenyszám: | C2: =[2]Altalanos!$E$8 -> VII.kcs.-U18-L | E2: ELŐKÉSZÍTŐ LISTA
A3: NE TÖRÖLD KI EZT AZ OLDALT! | N3: Versenybíró aláírása
A4: Dátum | C4: Város | D4: Kategória | H4: Versenybíró
A5: =[2]Altalanos!$A$10 -> 46135 | C5: =[2]Altalanos!$C$10 -> Balatonboglár | D5: =[2]Altalanos!$D$10 | H5: =[2]Altalanos!$E$10 -> Nagyistók-Nádasi Judit
A6: Sor | B6: Családi név | C6: Keresztnév | D6: Egyesület | E6: Kódszám | F6: Nevezett Igen | G6: Aláírás | H6: Nevezési rangsor | J6: NatSort if not Seed | K6: NatSort | L6: Seed Sort | M6: AccBasic | N6: Elfogadási státusz | O6: Sorsolási rangsor | P6: AccSort | Q6: Kiemelés
A7: 1 | B7: Dienes | C7: Borbála | D7: Siófoki Perczel Mór Gimn.és Koll. | E7: 081228
A8: 2 | B8: Katus | C8: Kamilla Berta | D8: Siófoki Perczel Mór Gimn.és Koll. | E8: 090407
A9: 3 | B9: Maljusin | C9: Eliza | D9: Kaposvári Táncsics M. Gimn. | E9: 080612
A10: 4 | B10: Varga | C10: Luca | D10: Siófoki Perczel Mór Gimn.és Koll. | E10: 080604
A11: 5
A12: 6
A13: 7
A14: 8
A15: 9
A16: 10
A17: 11
A18: 12
A19: 13
A20: 14
A21: 15
A22: 16
... A39: 33
A40: 34 | J40: =IF(AND(Q40="",#REF!>0,#REF!<5),K40,) -> #REF! | K40: =IF(D40="","ZZZ9",IF(AND(#REF!>0,#REF!<5),D40&#REF!,D40&"9")) -> ZZZ9 | L40: =IF(Q40="",999,Q40) -> 999 | M40: =IF(P40=999,999,1) -> 999 | P40: =IF(N40="DA",1,IF(N40="WC",2,IF(N40="SE",3,IF(N40="Q",4,IF(N40="LL",5,999))))) -> 999
A41: 35 | J41: =IF(AND(Q41="",#REF!>0,#REF!<5),K41,) -> #REF! | K41: =IF(D41="","ZZZ9",IF(AND(#REF!>0,#REF!<5),D41&#REF!,D41&"9")) -> ZZZ9 | L41: =IF(Q41="",999,Q41) -> 999 | M41: =IF(P41=999,999,1) -> 999 | P41: =IF(N41="DA",1,IF(N41="WC",2,IF(N41="SE",3,IF(N41="Q",4,IF(N41="LL",5,999))))) -> 999
A42: 36 | J42: =IF(AND(Q42="",#REF!>0,#REF!<5),K42,) -> #REF! | K42: =IF(D42="","ZZZ9",IF(AND(#REF!>0,#REF!<5),D42&#REF!,D42&"9")) -> ZZZ9 | L42: =IF(Q42="",999,Q42) -> 999 | M42: =IF(P42=999,999,1) -> 999 | P42: =IF(N42="DA",1,IF(N42="WC",2,IF(N42="SE",3,IF(N42="Q",4,IF(N42="LL",5,999))))) -> 999
A43: 37 | J43: =IF(AND(Q43="",#REF!>0,#REF!<5),K43,) -> #REF! | K43: =IF(D43="","ZZZ9",IF(AND(#REF!>0,#REF!<5),D43&#REF!,D43&"9")) -> ZZZ9 | L43: =IF(Q43="",999,Q43) -> 999 | M43: =IF(P43=999,999,1) -> 999 | P43: =IF(N43="DA",1,IF(N43="WC",2,IF(N43="SE",3,IF(N43="Q",4,IF(N43="LL",5,999))))) -> 999
A44: 38 | J44: =IF(AND(Q44="",#REF!>0,#REF!<5),K44,) -> #REF! | K44: =IF(D44="","ZZZ9",IF(AND(#REF!>0,#REF!<5),D44&#REF!,D44&"9")) -> ZZZ9 | L44: =IF(Q44="",999,Q44) -> 999 | M44: =IF(P44=999,999,1) -> 999 | P44: =IF(N44="DA",1,IF(N44="WC",2,IF(N44="SE",3,IF(N44="Q",4,IF(N44="LL",5,999))))) -> 999
A45: 39 | J45: =IF(AND(Q45="",#REF!>0,#REF!<5),K45,) -> #REF! | K45: =IF(D45="","ZZZ9",IF(AND(#REF!>0,#REF!<5),D45&#REF!,D45&"9")) -> ZZZ9 | L45: =IF(Q45="",999,Q45) -> 999 | M45: =IF(P45=999,999,1) -> 999 | P45: =IF(N45="DA",1,IF(N45="WC",2,IF(N45="SE",3,IF(N45="Q",4,IF(N45="LL",5,999))))) -> 999
A46: 40 | J46: =IF(AND(Q46="",#REF!>0,#REF!<5),K46,) -> #REF! | K46: =IF(D46="","ZZZ9",IF(AND(#REF!>0,#REF!<5),D46&#REF!,D46&"9")) -> ZZZ9 | L46: =IF(Q46="",999,Q46) -> 999 | M46: =IF(P46=999,999,1) -> 999 | P46: =IF(N46="DA",1,IF(N46="WC",2,IF(N46="SE",3,IF(N46="Q",4,IF(N46="LL",5,999))))) -> 999
A47: 41 | J47: =IF(AND(Q47="",#REF!>0,#REF!<5),K47,) -> #REF! | K47: =IF(D47="","ZZZ9",IF(AND(#REF!>0,#REF!<5),D47&#REF!,D47&"9")) -> ZZZ9 | L47: =IF(Q47="",999,Q47) -> 999 | M47: =IF(P47=999,999,1) -> 999 | P47: =IF(N47="DA",1,IF(N47="WC",2,IF(N47="SE",3,IF(N47="Q",4,IF(N47="LL",5,999))))) -> 999
A48: 42 | J48: =IF(AND(Q48="",#REF!>0,#REF!<5),K48,) -> #REF! | K48: =IF(D48="","ZZZ9",IF(AND(#REF!>0,#REF!<5),D48&#REF!,D48&"9")) -> ZZZ9 | L48: =IF(Q48="",999,Q48) -> 999 | M48: =IF(P48=999,999,1) -> 999 | P48: =IF(N48="DA",1,IF(N48="WC",2,IF(N48="SE",3,IF(N48="Q",4,IF(N48="LL",5,999))))) -> 999
A49: 43 | J49: =IF(AND(Q49="",#REF!>0,#REF!<5),K49,) -> #REF! | K49: =IF(D49="","ZZZ9",IF(AND(#REF!>0,#REF!<5),D49&#REF!,D49&"9")) -> ZZZ9 | L49: =IF(Q49="",999,Q49) -> 999 | M49: =IF(P49=999,999,1) -> 999 | P49: =IF(N49="DA",1,IF(N49="WC",2,IF(N49="SE",3,IF(N49="Q",4,IF(N49="LL",5,999))))) -> 999
A50: 44 | J50: =IF(AND(Q50="",#REF!>0,#REF!<5),K50,) -> #REF! | K50: =IF(D50="","ZZZ9",IF(AND(#REF!>0,#REF!<5),D50&#REF!,D50&"9")) -> ZZZ9 | L50: =IF(Q50="",999,Q50) -> 999 | M50: =IF(P50=999,999,1) -> 999 | P50: =IF(N50="DA",1,IF(N50="WC",2,IF(N50="SE",3,IF(N50="Q",4,IF(N50="LL",5,999))))) -> 999
A51: 45 | J51: =IF(AND(Q51="",#REF!>0,#REF!<5),K51,) -> #REF! | K51: =IF(D51="","ZZZ9",IF(AND(#REF!>0,#REF!<5),D51&#REF!,D51&"9")) -> ZZZ9 | L51: =IF(Q51="",999,Q51) -> 999 | M51: =IF(P51=999,999,1) -> 999 | P51: =IF(N51="DA",1,IF(N51="WC",2,IF(N51="SE",3,IF(N51="Q",4,IF(N51="LL",5,999))))) -> 999
... A156: 150 | J156: =IF(AND(Q156="",#REF!>0,#REF!<5),K156,) -> #REF! | K156: =IF(D156="","ZZZ9",IF(AND(#REF!>0,#REF!<5),D156&#REF!,D156&"9")) -> ZZZ9 | L156: =IF(Q156="",999,Q156) -> 999 | M156: =IF(P156=999,999,1) -> 999 | P156: =IF(N156="DA",1,IF(N156="WC",2,IF(N156="SE",3,IF(N156="Q",4,IF(N156="LL",5,999))))) -> 999

Sheet Altalanos
A1: Magyar verseny táblakészítő
A2: Ezt az oldalt soha ne töröld le !!!
A4: Töltsd ki a zöld mezőket!
A5: A verseny neve:
A6: Somogy Vármegyei Tenisz DO A kategória
B7: Versenyszám 2 | C7: Versenyszám 3 | D7: Versenyszám 4 | E7: Versenyszám 5
B8: A-V.kcs.-U14-L | C8: A-VIII.kcs.-U18+-L | D8: A-VII.kcs.-U18-L | E8: A-II.kcs-U10-N-F
A9: A verseny dátuma (éééé.hh.nn) | C9: Város | E9: Versenybíró:
A10: 46135 | C10: Balatonboglár | E10: Nagyistók-Nádasi Judit
C11: Orvos neve: | D11: Verseny rendezője: | E11: Versenyigazgató
D12: BBTC SE | E12: Paszér Éva

Sheet Nevezések
A1: Vármegyei szervezet | B1: DSB szervezet | C1: Versenykiírás | D1: Sportág | E1: Korcsoport | F1: Nem | G1: Jelleg | H1: Kategória | I1: Iskola | J1: Település | K1: Nevező | L1: Csapattag | M1: Testnevelő | N1: Felkészítő
A2: Somogy Vármegyei Diáksport Szövetség | B2: Marcali DSB | C2: Tenisz | D2: Tenisz | E2: I.kcs Tenisz U8 piros labdával, P+S szabály | F2: F | G2: E | H2: B | I2: Marcali Mikszáth Kálmán Általános Iskola | J2: Marcali | K2: Magyar Zétény | M2: Magyar Viktor
A3: Somogy Vármegyei Diáksport Szövetség | B3: Dél-Balaton DSB | C3: Tenisz | D3: Tenisz | E3: I.kcs Tenisz U8 piros labdával, P+S szabály | F3: F | G3: E | H3: B | I3: Boglári Általános Iskola és Alapfokú Művészeti Iskola | J3: Balatonboglár | K3: Ecsődi Zsombor | M3: Varga Zsolt
A4: Somogy Vármegyei Diáksport Szövetség | B4: Dél-Balaton DSB | C4: Tenisz | D4: Tenisz | E4: I.kcs Tenisz U8 piros labdával, P+S szabály | F4: F | G4: E | H4: B | I4: Balatonlelle-Karádi Általános Iskola és Alapfokú Művészeti Iskola | J4: Balatonlelle | K4: Lovász Dávid | M4: Vári Edit
A5: Somogy Vármegyei Diáksport Szövetség | B5: Dél-Balaton DSB | C5: Tenisz | D5: Tenisz | E5: I.kcs Tenisz U8 piros labdával, P+S szabály | F5: L | G5: E | H5: B | I5: Balatonlelle-Karádi Általános Iskola és Alapfokú Művészeti Iskola | J5: Balatonlelle | K5: Szita Léna | M5: Vári Edit
A6: Somogy Vármegyei Diáksport Szövetség | B6: Siófok DSB | C6: Tenisz | D6: Tenisz | E6: II.kcs Tenisz U10 narancs labdával, P+S szabály | F6: F | G6: E | H6: A | I6: Siófoki Vak Bottyán János Általános Iskola és Alapfokú Művészeti Iskola | J6: Siófok | K6: Johancsik Nimród | M6: Nágele Nóra | N6: Bálint Dávid
A7: Somogy Vármegyei Diáksport Szövetség | B7: Siófok DSB | C7: Tenisz | D7: Tenisz | E7: II.kcs Tenisz U10 narancs labdával, P+S szabály | F7: F | G7: E | H7: A | I7: Gróf Széchényi Imre Általános Iskola és Alapfokú Művészeti Iskola | J7: Balatonföldvár | K7: Illés-Maróthy Bence | M7: Szalay Brigitta
A8: Somogy Vármegyei Diáksport Szövetség | B8: Marcali DSB | C8: Tenisz | D8: Tenisz | E8: II.kcs Tenisz U10 narancs labdával, P+S szabály | F8: F | G8: E | H8: B | I8: Lorántffy Zsuzsanna Református Óvoda, Általános Iskola, Gimnázium és Kollégium | J8: Kaposvár | K8: Mázsa Zsombor | M8: Ágoston Diána
A9: Somogy Vármegyei Diáksport Szövetség | B9: Kaposvár DSB | C9: Tenisz | D9: Tenisz | E9: II.kcs Tenisz U10 narancs labdával, P+S szabály | F9: F | G9: E | H9: B | I9: Kaposvári Kodály Zoltán Központi Általános Iskola | J9: Kaposvár | K9: Jovánczai Barna | M9: Rédling-Szabó Gabriella
A10: Somogy Vármegyei Diáksport Szövetség | B10: Dél-Balaton DSB | C10: Tenisz | D10: Tenisz | E10: II.kcs Tenisz U10 narancs labdával, P+S szabály | F10: F | G10: E | H10: B | I10: Boglári Általános Iskola és Alapfokú Művészeti Iskola | J10: Balatonboglár | K10: Balogh Benett Áron | M10: Varga Zsolt
A11: Somogy Vármegyei Diáksport Szövetség | B11: Dél-Balaton DSB | C11: Tenisz | D11: Tenisz | E11: II.kcs Tenisz U10 narancs labdával, P+S szabály | F11: F | G11: E | H11: B | I11: Balatonszemesi Reich Károly Általános Iskola | J11: Balatonszemes | K11: Szalai-Szollár Máté | M11: Batki Balázs
A12: Somogy Vármegyei Diáksport Szövetség | B12: Dél-Balaton DSB | C12: Tenisz | D12: Tenisz | E12: II.kcs Tenisz U10 narancs labdával, P+S szabály | F12: F | G12: E | H12: B | I12: Balatonlelle-Karádi Általános Iskola és Alapfokú Művészeti Iskola | J12: Balatonlelle | K12: Szita Ádám | M12: Vári Edit
A13: Somogy Vármegyei Diáksport Szövetség | B13: Dél-Balaton DSB | C13: Tenisz | D13: Tenisz | E13: II.kcs Tenisz U10 narancs labdával, P+S szabály | F13: F | G13: E | H13: B | I13: Balatonlelle-Karádi Általános Iskola és Alapfokú Művészeti Iskola | J13: Balatonlelle | K13: Szántó János | M13: Vári Edit
A14: Somogy Vármegyei Diáksport Szövetség | B14: Dél-Balaton DSB | C14: Tenisz | D14: Tenisz | E14: II.kcs Tenisz U10 narancs labdával, P+S szabály | F14: F | G14: E | H14: B | I14: Balatonlelle-Karádi Általános Iskola és Alapfokú Művészeti Iskola | J14: Balatonlelle | K14: Szabó Péter Benedek | M14: Vári Edit
A15: Somogy Vármegyei Diáksport Szövetség | B15: Marcali DSB | C15: Tenisz | D15: Tenisz | E15: II.kcs Tenisz U10 narancs labdával, P+S szabály | F15: F | G15: E | H15: B | I15: Marcali Mikszáth Kálmán Általános Iskola | J15: Marcali | K15: Miseta Soma | M15: Magyar Viktor
A16: Somogy Vármegyei Diáksport Szövetség | B16: Kaposvár DSB | C16: Tenisz | D16: Tenisz | E16: II.kcs Tenisz U10 narancs labdával, P+S szabály | F16: F | G16: E | H16: B | I16: Lorántffy Zsuzsanna Református Óvoda, Általános Iskola, Gimnázium és Kollégium | J16: Kaposvár | K16: Kollár Bertalan Gábor | M16: Nádasdi Eszter
A17: Somogy Vármegyei Diáksport Szövetség | B17: Dél-Balaton DSB | C17: Tenisz | D17: Tenisz | E17: II.kcs Tenisz U10 narancs labdával, P+S szabály | F17: L | G17: E | H17: B | I17: Boglári Általános Iskola és Alapfokú Művészeti Iskola | J17: Balatonboglár | K17: Czene Lara | M17: Varga Zsolt
A18: Somogy Vármegyei Diáksport Szövetség | B18: Dél-Balaton DSB | C18: Tenisz | D18: Tenisz | E18: II.kcs Tenisz U10 narancs labdával, P+S szabály | F18: L | G18: E | H18: B | I18: Boglári Általános Iskola és Alapfokú Művészeti Iskola | J18: Balatonboglár | K18: Steiner Luca Gréta | M18: Varga Zsolt
... A23: Somogy Vármegyei Diáksport Szövetség | B23: Dél-Balaton DSB | C23: Tenisz | D23: Tenisz | E23: II.kcs Tenisz U10 narancs labdával, P+S szabály | F23: L | G23: E | H23: B | I23: Balatonlelle-Karádi Általános Iskola és Alapfokú Művészeti Iskola | J23: Balatonlelle | K23: Szita Róza Genovéva | M23: Vári Edit
A24: Somogy Vármegyei Diáksport Szövetség | B24: Siófok DSB | C24: Tenisz | D24: Tenisz | E24: III.kcs Tenisz U11 zöld labdával, P+S szabály | F24: F | G24: E | H24: B | I24: Siófoki Vak Bottyán János Általános Iskola és Alapfokú Művészeti Iskola | J24: Siófok | K24: Aradics Nolen | M24: Nágele Nóra | N24: Bálint Dávid
A25: Somogy Vármegyei Diáksport Szövetség | B25: Siófok DSB | C25: Tenisz | D25: Tenisz | E25: III.kcs Tenisz U11 zöld labdával, P+S szabály | F25: F | G25: E | H25: B | I25: Siófoki Vak Bottyán János Általános Iskola és Alapfokú Művészeti Iskola | J25: Siófok | K25: Orosz Zéta Krisztián | M25: Nágele Nóra | N25: Bálint Dávid
A26: Somogy Vármegyei Diáksport Szövetség | B26: Kaposvár DSB | C26: Tenisz | D26: Tenisz | E26: III.kcs Tenisz U11 zöld labdával, P+S szabály | F26: F | G26: E | H26: B | I26: Kaposvári Kodály Zoltán Központi Általános Iskola | J26: Kaposvár | K26: Ponekker Ákos | M26: Meggyes József Róbert
A27: Somogy Vármegyei Diáksport Szövetség | B27: Marcali DSB | C27: Tenisz | D27: Tenisz | E27: III.kcs Tenisz U11 zöld labdával, P+S szabály | F27: F | G27: E | H27: B | I27: Marcali Mikszáth Kálmán Általános Iskola | J27: Marcali | K27: Burkhalter Ármin | M27: Magyar Viktor
A28: Somogy Vármegyei Diáksport Szövetség | B28: Marcali DSB | C28: Tenisz | D28: Tenisz | E28: III.kcs Tenisz U11 zöld labdával, P+S szabály | F28: F | G28: E | H28: B | I28: Marcali Mikszáth Kálmán Általános Iskola | J28: Marcali | K28: Horváth Zalán Zoltán | M28: Magyar Viktor
A29: Somogy Vármegyei Diáksport Szövetség | B29: Dél-Balaton DSB | C29: Tenisz | D29: Tenisz | E29: III.kcs Tenisz U11 zöld labdával, P+S szabály | F29: F | G29: E | H29: B | I29: Balatonlelle-Karádi Általános Iskola és Alapfokú Művészeti Iskola | J29: Balatonlelle | K29: Győry Nimród Péter | M29: Vári Edit
A30: Somogy Vármegyei Diáksport Szövetség | B30: Kaposvár DSB | C30: Tenisz | D30: Tenisz | E30: III.kcs Tenisz U11 zöld labdával, P+S szabály | F30: F | G30: E | H30: B | I30: Kaposvári Kodály Zoltán Központi Általános Iskola | J30: Kaposvár | K30: Csécs-Varga Zsombor | M30: Kántor Ádám
A31: Somogy Vármegyei Diáksport Szövetség | B31: Kaposvár DSB | C31: Tenisz | D31: Tenisz | E31: III.kcs Tenisz U11 zöld labdával, P+S szabály | F31: L | G31: E | H31: B | I31: Nagyboldogasszony Római Katolikus Gimnázium, Általános Iskola és Alapfokú Művészeti Iskola | J31: Kaposvár | K31: Rengel Izabella | M31: Szerbné Szabó Katalin
A32: Somogy Vármegyei Diáksport Szövetség | B32: Dél-Balaton DSB | C32: Tenisz | D32: Tenisz | E32: III.kcs Tenisz U11 zöld labdával, P+S szabály | F32: L | G32: E | H32: B | I32: Balatonlelle-Karádi Általános Iskola és Alapfokú Művészeti Iskola | J32: Balatonlelle | K32: Tóth Szabina | M32: Vári Edit
A33: Somogy Vármegyei Diáksport Szövetség | B33: Dél-Balaton DSB | C33: Tenisz | D33: Tenisz | E33: III.kcs Tenisz U11 zöld labdával, P+S szabály | F33: L | G33: E | H33: B | I33: Balatonlelle-Karádi Általános Iskola és Alapfokú Művészeti Iskola | J33: Balatonlelle | K33: Balogh Fanni Leila | M33: Vári Edit
A34: Somogy Vármegyei Diáksport Szövetség | B34: Dél-Balaton DSB | C34: Tenisz | D34: Tenisz | E34: III.kcs Tenisz U11 zöld labdával, P+S szabály | F34: L | G34: E | H34: B | I34: Balatonlelle-Karádi Általános Iskola és Alapfokú Művészeti Iskola | J34: Balatonlelle | K34: Balázs Helka | M34: Vári Edit
A35: Somogy Vármegyei Diáksport Szövetség | B35: Dél-Balaton DSB | C35: Tenisz | D35: Tenisz | E35: III.kcs Tenisz U11 zöld labdával, P+S szabály | F35: L | G35: E | H35: B | I35: Balatonlelle-Karádi Általános Iskola és Alapfokú Művészeti Iskola | J35: Balatonlelle | K35: Dávid Borbála | M35: Vári Edit
A36: Somogy Vármegyei Diáksport Szövetség | B36: Siófok DSB | C36: Tenisz | D36: Tenisz | E36: III.kcs Tenisz U11 zöld labdával, P+S szabály | F36: L | G36: E | H36: B | I36: Siófoki Beszédes József Általános Iskola | J36: Siófok | K36: Szalay Boglárka | M36: Tarján Bence
A37: Somogy Vármegyei Diáksport Szövetség | B37: Kaposvár DSB | C37: Tenisz | D37: Tenisz | E37: IV.kcs Tenisz U12 | F37: F | G37: E | H37: B | I37: Nagyboldogasszony Római Katolikus Gimnázium, Általános Iskola és Alapfokú Művészeti Iskola | J37: Kaposvár | K37: Körmendi-Bohorquez Hugó Gábor | M37: Kertész Gabriella Ilona
A38: Somogy Vármegyei Diáksport Szövetség | B38: Kaposvár DSB | C38: Tenisz | D38: Tenisz | E38: IV.kcs Tenisz U12 | F38: F | G38: E | H38: B | I38: Kaposvári Kodály Zoltán Központi Általános Iskola | J38: Kaposvár | K38: Márkus Bence | M38: Kolumbán Kristóf
A39: Somogy Vármegyei Diáksport Szövetség | B39: Siófok DSB | C39: Tenisz | D39: Tenisz | E39: IV.kcs Tenisz U12 | F39: F | G39: E | H39: B | I39: Siófoki Vak Bottyán János Általános Iskola és Alapfokú Művészeti Iskola | J39: Siófok | K39: Kopp Ádám | M39: Nágele Nóra | N39: Bálint Dávid
A40: Somogy Vármegyei Diáksport Szövetség | B40: Siófok DSB | C40: Tenisz | D40: Tenisz | E40: IV.kcs Tenisz U12 | F40: F | G40: E | H40: B | I40: Siófoki Vak Bottyán János Általános Iskola és Alapfokú Művészeti Iskola | J40: Siófok | K40: Kapin Zétény | M40: Nágele Nóra | N40: Paszér Éva
A41: Somogy Vármegyei Diáksport Szövetség | B41: Dél-Balaton DSB | C41: Tenisz | D41: Tenisz | E41: IV.kcs Tenisz U12 | F41: F | G41: E | H41: B | I41: Boglári Általános Iskola és Alapfokú Művészeti Iskola | J41: Balatonboglár | K41: Peitler Benett | M41: Varga Zsolt
A42: Somogy Vármegyei Diáksport Szövetség | B42: Dél-Balaton DSB | C42: Tenisz | D42: Tenisz | E42: IV.kcs Tenisz U12 | F42: F | G42: E | H42: B | I42: Balatonlelle-Karádi Általános Iskola és Alapfokú Művészeti Iskola | J42: Balatonlelle | K42: Győry László Benedek | M42: Vári Edit
A43: Somogy Vármegyei Diáksport Szövetség | B43: Dél-Balaton DSB | C43: Tenisz | D43: Tenisz | E43: IV.kcs Tenisz U12 | F43: F | G43: E | H43: B | I43: Balatonlelle-Karádi Általános Iskola és Alapfokú Művészeti Iskola | J43: Balatonlelle | K43: Völcsei Misa | M43: Vári Edit
A44: Somogy Vármegyei Diáksport Szövetség | B44: Kaposvár DSB | C44: Tenisz | D44: Tenisz | E44: IV.kcs Tenisz U12 | F44: F | G44: E | H44: B | I44: Lorántffy Zsuzsanna Református Óvoda, Általános Iskola, Gimnázium és Kollégium | J44: Kaposvár | K44: Kollár Barnabás Huba | M44: Nádasdi Eszter
...

Sheet Játékrend_csütörtök
A1: JÁTÉKREND
A2: Somogy Vármegyei Tenisz Diákolimpia - Balatonboglár, 2026.04.23.
A4: Előre tervezett | B4: Pályára ment | C4: vsz | D4: pálya | G4: eredmény
A5: Piros pálya
A6: 9:00 | C6: B-U8-P-F | D6: 12/1 | E6: Ecsődi Zsombor | F6: Magyar Zétény
D7: 12/2 | E7: Szita Léna | F7: Lovász Dávid
A8: utána | D8: 12/1 | E8: Ecsődi Zsombor | F8: Szita Léna
D9: 12/2 | E9: Magyar Zétény | F9: Lovász Dávid
A10: utána | D10: 12/1 | E10: Lovász Dávid | F10: Ecsődi Zsombor
D11: 12/2 | E11: Magyar Zétény | F11: Szita Léna
A12: Narancs pálya
A13: 9:00 | C13: B-U10-N-F | D13: 9 | E13: Balogh Benett Áron | F13: Szalai-Szollár Máté
D14: 10 | E14: Mázsa Zsombor | F14: Miseta Soma
D15: 11 | E15: Kollár Bertalan Gábor | F15: Jovánczai Barna
A16: 9:20 | C16: B-U10-N-L | D16: 9 | E16: Czene Lara | F16: Steiner Luca Gréta
D17: 10 | E17: Székely Lulu Sára | F17: Szita Róza Genovéva
D18: 11 | E18: Mátyás Emma | F18: Torma Tamara
A19: 9:40 | C19: B-U10-N-F | D19: 9 | E19: Szalai-Szollár Máté | F19: Szabó Péter Benedek
D20: 10 | E20: Miseta Soma | F20: Szántó János
D21: 11 | E21: Kollár Bertalan Gábor | F21: Szita Ádám
A22: 10:00 | C22: B-U10-N-L | D22: 9 | E22: Steiner Luca Gréta | F22: Könnyid-Kovács Judit
D23: 10 | E23: Szita Róza Genovéva | F23: Mátyás Emma
D24: 11 | E24: Torma Tamara | F24: Székely Lulu Sára
A25: 10:20 | C25: B-U10-N-F | D25: 9 | E25: Szabó Péter Benedek | F25: Balogh Benett Áron
D26: 10 | E26: Szántó János | F26: Miseta Soma
D27: 11 | E27: Szita Ádám | F27: Jovánczai Barna
A28: 10:40 | C28: B-U10-N-L | D28: 9 | E28: Könnyid-Kovács Judit | F28: Czene Lara
D29: 10 | E29: Mátyás Emma | F29: Székely Lulu Sára
D30: 11 | E30: Szita Róza Genovéva | F30: Torma Tamara
A31: 11:00 | C31: B-U10-N-F | D31: 9 | E31: B1 | F31: C1
C32: A-U10-N-F | D32: 10 | E32: Illés-Maróthy Bence | F32: Johancsik Nimród
A33: utána | B33: Döntő | C33: B-U10-N-L | D33: 9
B34: 3.hely | D34: 10
B35: 5.hely | D35: 11
A36: utána | C36: B-U10-N-F | D36: 9 | E36: C1 | F36: A1
D37: 10 | E37: A1 | F37: B1
A38: Zöld pálya és B-U12-L és A-U18-L
A39: 9:00 | C39: B-U11-Z-F | D39: 13 | E39: Horváth Zalán Zoltán | F39: Orosz Zéta Krisztián
D40: 14 | E40: Ponekker Ákos | F40: Győry Nimród Péter
D41: 3 | E41: Csécs-Varga Zsombor | F41: Burkhalter Ármin
...

Sheet B-I.kcs.-U8-P-F
A1: =[1]Altalanos!$A$6 -> Somogy Vármegyei Tenisz DO B kategória - Fiú | H1: Egyéni főtábla | AB1: =IF(Y5=1,CONCATENATE(VLOOKUP(Y3,AA16:AH27,2)),CONCATENATE(VLOOKUP(Y3,AA2:AK13,2))) -> #N/A | AC1: =IF(Y5=1,CONCATENATE(VLOOKUP(Y3,AA16:AK27,3)),CONCATENATE(VLOOKUP(Y3,AA2:AK13,3))) -> #N/A | AD1: =IF(Y5=1,CONCATENATE(VLOOKUP(Y3,AA16:AK27,4)),CONCATENATE(VLOOKUP(Y3,AA2:AK13,4))) -> #N/A | AE1: =IF(Y5=1,CONCATENATE(VLOOKUP(Y3,AA16:AK27,5)),CONCATENATE(VLOOKUP(Y3,AA2:AK13,5))) -> #N/A | AF1: =IF(Y5=1,CONCATENATE(VLOOKUP(Y3,AA16:AK27,6)),CONCATENATE(VLOOKUP(Y3,AA2:AK13,6))) -> #N/A | AG1: =IF(Y5=1,CONCATENATE(VLOOKUP(Y3,AA16:AK27,7)),CONCATENATE(VLOOKUP(Y3,AA2:AK13,7))) -> #N/A | AH1: =IF(Y5=1,CONCATENATE(VLOOKUP(Y3,AA16:AK27,8)),CONCATENATE(VLOOKUP(Y3,AA2:AK13,8))) -> #N/A | AI1: =IF(Y5=1,CONCATENATE(VLOOKUP(Y3,AA16:AK27,9)),CONCATENATE(VLOOKUP(Y3,AA2:AK13,9))) -> #N/A | AJ1: =IF(Y5=1,CONCATENATE(VLOOKUP(Y3,AA16:AK27,10)),CONCATENATE(VLOOKUP(Y3,AA2:AK13,10))) -> #N/A | AK1: =IF(Y5=1,CONCATENATE(VLOOKUP(Y3,AA16:AK27,11)),CONCATENATE(VLOOKUP(Y3,AA2:AK13,11))) -> #N/A
A2: Versenyszám: | E2: =[1]Altalanos!$A$8 -> I.kcs.-U8-P-F | AA2: A | AB2: 150 | AC2: 120 | AD2: 100 | AE2: 80 | AF2: 70 | AG2: 60 | AH2: 55 | AI2: 50 | AJ2: 45 | AK2: 40
A3: Dátum | E3: Város | H3: Kategória | L3: Versenybíró | Q3: 1 FORDULÓ | R3: B - C | Y3: =IF(H4="OB","A",IF(H4="IX","W",H4)) -> 0 | AA3: I | AB3: 120 | AC3: 90 | AD3: 65 | AE3: 55 | AF3: 50 | AG3: 45 | AH3: 40 | AI3: 35 | AJ3: 25 | AK3: 20
A4: =[1]Altalanos!$A$10 -> 46135 | E4: =[1]Altalanos!$C$10 -> Balatonboglár | L4: =[1]Altalanos!$E$10 -> Nagyistók-Nádasi Judit | Q4: 2 FORDULÓ | R4: C - A | AA4: II | AB4: 90 | AC4: 60 | AD4: 45 | AE4: 34 | AF4: 27 | AG4: 22 | AH4: 18 | AI4: 15 | AJ4: 12 | AK4: 9
B5: kiem | C5: kódszám | D5: Rangsor | E5: Vezetéknév | G5: Keresztnév | I5: Egyesület | K5: Helyezés | L5: Pontszám | M5: Bónusz | Q5: 3 FORDULÓ | R5: A - B | Y5: =IF(OR([1]Altalanos!$A$8="F1",[1]Altalanos!$A$8="F2",[1]Altalanos!$A$8="N1",[1]Altalanos!$A$8="N2"),1,2) -> 2 | AA5: III | AB5: 60 | AC5: 40 | AD5: 30 | AE5: 20 | AF5: 18 | AG5: 15 | AH5: 12 | AI5: 10 | AJ5: 8 | AK5: 6
AA6: IV | AB6: 40 | AC6: 25 | AD6: 18 | AE6: 13 | AF6: 10 | AG6: 8 | AH6: 6 | AI6: 5 | AJ6: 4 | AK6: 3
A7: A | B7: 2 | C7: =IF($B7="","",VLOOKUP($B7,'I.kcs.-U8-P-F elo'!$A$7:$O$22,5)) -> 180313 | D7: =IF($B7="","",VLOOKUP($B7,'I.kcs.-U8-P-F elo'!$A$7:$O$22,15)) -> 0 | E7: =UPPER(IF($B7="","",VLOOKUP($B7,'I.kcs.-U8-P-F elo'!$A$7:$O$22,2))) -> LOVÁSZ | G7: =IF($B7="","",VLOOKUP($B7,'I.kcs.-U8-P-F elo'!$A$7:$O$22,3)) -> Dávid | I7: =IF($B7="","",VLOOKUP($B7,'I.kcs.-U8-P-F elo'!$A$7:$O$22,4)) -> B.lelle-Karádi Ált.Isk.és AMI | K7: III. | AA7: V | AB7: 25 | AC7: 15 | AD7: 13 | AE7: 8 | AF7: 6 | AG7: 4 | AH7: 3 | AI7: 2 | AJ7: 1 | AK7: 0
AA8: VI | AB8: 15 | AC8: 10 | AD8: 7 | AE8: 5 | AF8: 4 | AG8: 3 | AH8: 2 | AI8: 1 | AJ8: 0 | AK8: 0
A9: B | B9: 1 | C9: =IF($B9="","",VLOOKUP($B9,'I.kcs.-U8-P-F elo'!$A$7:$O$22,5)) -> 180725 | D9: =IF($B9="","",VLOOKUP($B9,'I.kcs.-U8-P-F elo'!$A$7:$O$22,15)) -> 0 | E9: =UPPER(IF($B9="","",VLOOKUP($B9,'I.kcs.-U8-P-F elo'!$A$7:$O$22,2))) -> ECSŐDI | G9: =IF($B9="","",VLOOKUP($B9,'I.kcs.-U8-P-F elo'!$A$7:$O$22,3)) -> Zsombor | I9: =IF($B9="","",VLOOKUP($B9,'I.kcs.-U8-P-F elo'!$A$7:$O$22,4)) -> Boglári Ált.Isk.és AMI | K9: II. | AA9: VII | AB9: 10 | AC9: 6 | AD9: 4 | AE9: 2 | AF9: 1 | AG9: 0 | AH9: 0 | AI9: 0 | AJ9: 0 | AK9: 0
AA10: VIII | AB10: 6 | AC10: 3 | AD10: 2 | AE10: 1 | AF10: 0 | AG10: 0 | AH10: 0 | AI10: 0 | AJ10: 0 | AK10: 0
A11: C | B11: 3 | C11: =IF($B11="","",VLOOKUP($B11,'I.kcs.-U8-P-F elo'!$A$7:$O$22,5)) -> 180726 | D11: =IF($B11="","",VLOOKUP($B11,'I.kcs.-U8-P-F elo'!$A$7:$O$22,15)) -> 0 | E11: =UPPER(IF($B11="","",VLOOKUP($B11,'I.kcs.-U8-P-F elo'!$A$7:$O$22,2))) -> MAGYAR | G11: =IF($B11="","",VLOOKUP($B11,'I.kcs.-U8-P-F elo'!$A$7:$O$22,3)) -> Zétény | I11: =IF($B11="","",VLOOKUP($B11,'I.kcs.-U8-P-F elo'!$A$7:$O$22,4)) -> Marcali Mikszáth K. Ált. Isk. | K11: I. | AA11: W | AB11: 3 | AC11: 2 | AD11: 1 | AE11: 0 | AF11: 0 | AG11: 0 | AH11: 0 | AI11: 0 | AJ11: 0 | AK11: 0
AA12: X | AB12: 0 | AC12: 0 | AD12: 0 | AE12: 0 | AF12: 0 | AG12: 0 | AH12: 0 | AI12: 0 | AJ12: 0 | AK12: 0
AA13: XI | AB13: 0 | AC13: 0 | AD13: 0 | AE13: 0 | AF13: 0 | AG13: 0 | AH13: 0 | AI13: 0 | AJ13: 0 | AK13: 0
AA16: A | AB16: 300 | AC16: 250 | AD16: 220 | AE16: 180 | AF16: 160 | AG16: 150 | AH16: 140 | AI16: 130 | AJ16: 120 | AK16: 110
AA17: I | AB17: 250 | AC17: 200 | AD17: 160 | AE17: 140 | AF17: 120 | AG17: 110 | AH17: 100 | AI17: 90 | AJ17: 80 | AK17: 70
D18: =E7 -> LOVÁSZ | F18: =E9 -> ECSŐDI | H18: =E11 -> MAGYAR | AA18: II | AB18: 200 | AC18: 150 | AD18: 130 | AE18: 110 | AF18: 95 | AG18: 80 | AH18: 70 | AI18: 60 | AJ18: 55 | AK18: 50
A19: A | B19: =E7 -> LOVÁSZ | F19: 11/15 | H19: 9/15 | AA19: III | AB19: 150 | AC19: 120 | AD19: 100 | AE19: 80 | AF19: 70 | AG19: 60 | AH19: 55 | AI19: 50 | AJ19: 45 | AK19: 40
A20: B | B20: =E9 -> ECSŐDI | D20: 15/11 | H20: 7/15 | AA20: IV | AB20: 120 | AC20: 90 | AD20: 65 | AE20: 55 | AF20: 50 | AG20: 45 | AH20: 40 | AI20: 35 | AJ20: 25 | AK20: 20
A21: C | B21: =E11 -> MAGYAR | D21: 15/9 | F21: 15/7 | AA21: V | AB21: 90 | AC21: 60 | AD21: 45 | AE21: 34 | AF21: 27 | AG21: 22 | AH21: 18 | AI21: 15 | AJ21: 12 | AK21: 9
AA22: VI | AB22: 60 | AC22: 40 | AD22: 30 | AE22: 20 | AF22: 18 | AG22: 15 | AH22: 12 | AI22: 10 | AJ22: 8 | AK22: 6
AA23: VII | AB23: 40 | AC23: 25 | AD23: 18 | AE23: 13 | AF23: 8 | AG23: 7 | AH23: 6 | AI23: 5 | AJ23: 4 | AK23: 3
AA24: VIII | AB24: 25 | AC24: 15 | AD24: 13 | AE24: 7 | AF24: 6 | AG24: 5 | AH24: 4 | AI24: 3 | AJ24: 2 | AK24: 1
AA25: W | AB25: 15 | AC25: 10 | AD25: 8 | AE25: 4 | AF25: 3 | AG25: 2 | AH25: 1 | AI25: 0 | AJ25: 0 | AK25: 0
AA26: X | AB26: 10 | AC26: 6 | AD26: 4 | AE26: 2 | AF26: 1 | AG26: 0 | AH26: 0 | AI26: 0 | AJ26: 0 | AK26: 0
AA27: XI | AB27: 3 | AC27: 2 | AD27: 1 | AE27: 0 | AF27: 0 | AG27: 0 | AH27: 0 | AI27: 0 | AJ27: 0 | AK27: 0
A33: Rangsor | D33: # | E33: Kiemeltek | G33: # | H33: Szerencés Vesztes | J33: Helyettesíti | K33: Sorsolás időpontja
A34: Dátuma | G34: 1 | K34: Utolsó elfogadott játékos
A35: Utolsó DA | G35: 2
G36: 3 | K36: Sorsoló játékosok
G37: 4
G38: 5
G39: 6 | K39: Versenybíró aláírása
G40: 7
G41: 8 | K41: =L4 -> Nagyistók-Nádasi Judit

Sheet II.kcs.-U10-N-F elo
A1: =[1]Altalanos!$A$6 -> Somogy Vármegyei Tenisz DO B kategória - Fiú | E1: Egyéni főtábla
B2: Versenyszám: | C2: =[1]Altalanos!$B$8 -> II.kcs.-U10-N-F | E2: ELŐKÉSZÍTŐ LISTA
A3: NE TÖRÖLD KI EZT AZ OLDALT! | N3: Versenybíró aláírása
A4: Dátum | C4: Város | D4: Kategória | H4: Versenybíró
A5: =[1]Altalanos!$A$10 -> 46135 | C5: =[1]Altalanos!$C$10 -> Balatonboglár | D5: =[1]Altalanos!$D$10 | H5: =[1]Altalanos!$E$10 -> Nagyistók-Nádasi Judit
A6: Sor | B6: Családi név | C6: Keresztnév | D6: Egyesület | E6: Kódszám | F6: Nevezett Igen | G6: Aláírás | H6: Nevezési rangsor | J6: NatSort if not Seed | K6: NatSort | L6: Seed Sort | M6: AccBasic | N6: Elfogadási státusz | O6: Sorsolási rangsor | P6: AccSort | Q6: Kiemelés
A7: 1 | B7: Balogh | C7: Benett Áron | D7: Boglári Ált. Isk.és AMI | E7: 171011
A8: 2 | B8: Jovánczai | C8: Barna | D8: Kaposvári Kodály Z.Közp.Ált.Isk. | E8: 160616
A9: 3 | B9: Kollár | C9: Bertalan Gábor | D9: Lórántffy Zs. Kaposvár | E9: 170121 | S9: Boglári Általános Iskola és Alapfokú Művészeti Iskola
A10: 4 | B10: Mázsa | C10: Zsombor | D10: Lórántffy Zs. Kaposvár | E10: 170706 | S10: Kaposvári Kodály Zoltán Központi Általános Iskola
A11: 5 | B11: Miseta | C11: Soma | D11: Marcali Mikszáth K. Ált. Isk. | E11: 160923 | S11: Lorántffy Zsuzsanna Ref, Óvoda, Ált. Isk., Gimn, és Koll. Kaposvár
A12: 6 | B12: Szabó | C12: Péter Benedek | D12: B.lelle-Karádi Ált. Isk. és AMI | E12: 160814
A13: 7 | B13: Szalai-Szollár | C13: Máté | D13: B.szemesi Reich Károly Ált. Isk. | E13: 170729
A14: 8 | B14: Szántó | C14: János | D14: B.lelle-Karádi Ált. Isk. és AMI | E14: 170830
A15: 9 | B15: Szita | C15: Ádám | D15: B.lelle-Karádi Ált. Isk. és AMI | E15: 160329
A16: 10
A17: 11
A18: 12 | D18: Lórántffy Zsuzsanna Ref.Óvoda,Ált.Isk.,Gimn.és Koll. Kaposvár
A19: 13
A20: 14
A21: 15
A22: 16
A23: 17
A24: 18
A25: 19
A26: 20
A27: 21
A28: 22
A29: 23
A30: 24
... A39: 33
A40: 34 | J40: =IF(AND(Q40="",#REF!>0,#REF!<5),K40,) -> #REF! | K40: =IF(D40="","ZZZ9",IF(AND(#REF!>0,#REF!<5),D40&#REF!,D40&"9")) -> ZZZ9 | L40: =IF(Q40="",999,Q40) -> 999 | M40: =IF(P40=999,999,1) -> 999 | P40: =IF(N40="DA",1,IF(N40="WC",2,IF(N40="SE",3,IF(N40="Q",4,IF(N40="LL",5,999))))) -> 999
A41: 35 | J41: =IF(AND(Q41="",#REF!>0,#REF!<5),K41,) -> #REF! | K41: =IF(D41="","ZZZ9",IF(AND(#REF!>0,#REF!<5),D41&#REF!,D41&"9")) -> ZZZ9 | L41: =IF(Q41="",999,Q41) -> 999 | M41: =IF(P41=999,999,1) -> 999 | P41: =IF(N41="DA",1,IF(N41="WC",2,IF(N41="SE",3,IF(N41="Q",4,IF(N41="LL",5,999))))) -> 999
A42: 36 | J42: =IF(AND(Q42="",#REF!>0,#REF!<5),K42,) -> #REF! | K42: =IF(D42="","ZZZ9",IF(AND(#REF!>0,#REF!<5),D42&#REF!,D42&"9")) -> ZZZ9 | L42: =IF(Q42="",999,Q42) -> 999 | M42: =IF(P42=999,999,1) -> 999 | P42: =IF(N42="DA",1,IF(N42="WC",2,IF(N42="SE",3,IF(N42="Q",4,IF(N42="LL",5,999))))) -> 999
A43: 37 | J43: =IF(AND(Q43="",#REF!>0,#REF!<5),K43,) -> #REF! | K43: =IF(D43="","ZZZ9",IF(AND(#REF!>0,#REF!<5),D43&#REF!,D43&"9")) -> ZZZ9 | L43: =IF(Q43="",999,Q43) -> 999 | M43: =IF(P43=999,999,1) -> 999 | P43: =IF(N43="DA",1,IF(N43="WC",2,IF(N43="SE",3,IF(N43="Q",4,IF(N43="LL",5,999))))) -> 999
