Workbook

Sheet Altalanos
A1: Magyar verseny táblakészítő
A2: Ezt az oldalt soha ne töröld le !!!
A4: Töltsd ki a zöld mezőket!
A5: A verseny neve:
A6: 2025/26. DO J-NK-SZ Vármegye
A7: Versenyszám 1 | B7: Versenyszám 2 | C7: Versenyszám 3 | D7: Versenyszám 4 | E7: Versenyszám 5
A9: A verseny dátuma (éééé.hh.nn) | C9: Város | E9: Versenybíró:
A10: 2026.04.23-24. | C10: Jászberény | E10: Sági István
C11: Orvos neve: | D11: Verseny rendezője: | E11: Versenyigazgató
E12: Tóth Éva

Sheet Birók
A1: =Altalanos!$A$6 -> 2025/26. DO J-NK-SZ Vármegye
B3: Közreműködő bírók
A4: Dátum | B4: Város
A5: 2026.04.23-24. | B5: Jászberény
A6: Töltsd ki a táblázatot a játékvezetők nevével. Az első 8 neve fog megjelenni a táblákban lévő legördülő menükben
A20: Székbírók
A21: Családi név | B21: Keresztnév | L21: Bíró
A22: Sági | B22: István | L22: =LEFT(B22,1)&" "&A22 -> I Sági
L23: =LEFT(B23,1)&" "&A23
L24: =LEFT(B24,1)&" "&A24
L25: =LEFT(B25,1)&" "&A25
L26: =LEFT(B26,1)&" "&A26
L27: =LEFT(B27,1)&" "&A27
L28: =LEFT(B28,1)&" "&A28
L29: =LEFT(B29,1)&" "&A29
L30: Egyik sem

Sheet Nevezések
B1: Korcsoport | C1: Nem | D1: Kategória | E1: Iskola | F1: Település | G1: Nevező | H1: Testnevelő | I1: Felkészítő
A2: 1. | B2: V.kcs Tenisz U14 | C2: F | D2: A | E2: Jászberényi Nagyboldogasszony Katolikus Óvoda, Kéttannyelvű Általános Iskola és Gimnázium | F2: Jászberény | G2: Kovács Szilárd | H2: Józsa Péter Pál | I2: Bábosik Bence
A3: 1. | B3: I.kcs Tenisz U8 piros labdával, P+S szabály | C3: F | D3: B | E3: Jászberényi Nagyboldogasszony Katolikus Óvoda, Kéttannyelvű Általános Iskola és Gimnázium | F3: Jászberény | G3: Nagy Mihály | H3: Józsa Péter Pál | I3: Kovács Lantos Erika
A4: 2. | B4: I.kcs Tenisz U8 piros labdával, P+S szabály | C4: F | D4: B | E4: Jászberényi Nagyboldogasszony Katolikus Óvoda, Kéttannyelvű Általános Iskola és Gimnázium | F4: Jászberény | G4: Kalla Konrád | H4: Józsa Péter Pál | I4: Kovács Lantos Erika
A5: 3. | B5: I.kcs Tenisz U8 piros labdával, P+S szabály | C5: F | D5: B | E5: Jászberényi Nagyboldogasszony Katolikus Óvoda, Kéttannyelvű Általános Iskola és Gimnázium | F5: Jászberény | G5: Papp Milán | H5: Józsa Péter Pál | I5: Sződi-Háfra Edina
A6: 4. | B6: I.kcs Tenisz U8 piros labdával, P+S szabály | C6: F | D6: B | E6: Jászberényi Nagyboldogasszony Katolikus Óvoda, Kéttannyelvű Általános Iskola és Gimnázium | F6: Jászberény | G6: Tóth Levente | H6: Józsa Péter Pál | I6: Sződi-Háfra Edina
A7: 5. | B7: I.kcs Tenisz U8 piros labdával, P+S szabály | C7: F | D7: B | E7: Jászsági Gróf Apponyi Albert Általános Iskola és Alapfokú Művészeti Iskola | F7: Jászberény | G7: Bálint Máté | H7: Ludasi Martin
A8: 1. | B8: I.kcs Tenisz U8 piros labdával, P+S szabály | C8: L | D8: B | E8: Jászberényi Nagyboldogasszony Katolikus Óvoda, Kéttannyelvű Általános Iskola és Gimnázium | F8: Jászberény | G8: Kovács Kata | H8: Józsa Péter Pál | I8: Kovács Lantos Erika
A9: 2. | B9: I.kcs Tenisz U8 piros labdával, P+S szabály | C9: L | D9: B | E9: Jászberényi Nagyboldogasszony Katolikus Óvoda, Kéttannyelvű Általános Iskola és Gimnázium | F9: Jászberény | G9: Munkácsi Frida | H9: Józsa Péter Pál | I9: Kovács Lantos Erika
A10: 3. | B10: I.kcs Tenisz U8 piros labdával, P+S szabály | C10: L | D10: B | E10: Szent István Sport Általános Iskola és Gimnázium | F10: Jászberény | G10: Szabó Anna | H10: Halápi Ákos
A11: 4. | B11: I.kcs Tenisz U8 piros labdával, P+S szabály | C11: L | D11: B | E11: Szent István Sport Általános Iskola és Gimnázium | F11: Jászberény | G11: Székely Szonja | H11: Halápi Ákos
A12: 1. | B12: II.kcs Tenisz U10 narancs labdával, P+S szabály | C12: F | D12: B | E12: Bercsényi Miklós Általános Iskola | F12: Jászberény | G12: Sárközi Levente | H12: Kiss Attila József
A13: 2. | B13: II.kcs Tenisz U10 narancs labdával, P+S szabály | C13: F | D13: B | E13: Bercsényi Miklós Általános Iskola | F13: Jászberény | G13: Vámos Donát | H13: Kiss Attila József
A14: 3. | B14: II.kcs Tenisz U10 narancs labdával, P+S szabály | C14: F | D14: B | E14: Bercsényi Miklós Általános Iskola | F14: Jászberény | G14: Cseh Edvin Gábor | H14: Kiss Attila József
A15: 4. | B15: II.kcs Tenisz U10 narancs labdával, P+S szabály | C15: F | D15: B | E15: Bercsényi Miklós Általános Iskola | F15: Jászberény | G15: Pócz-Nagy Benett | H15: Ambrúzs Krisztina
A16: 5. | B16: II.kcs Tenisz U10 narancs labdával, P+S szabály | C16: F | D16: B | E16: Jászberényi Nagyboldogasszony Katolikus Óvoda, Kéttannyelvű Általános Iskola és Gimnázium | F16: Jászberény | G16: Kovács Milán Zétény | H16: Józsa Péter Pál | I16: Kovács Lantos Erika
A17: 6. | B17: II.kcs Tenisz U10 narancs labdával, P+S szabály | C17: F | D17: B | E17: Jászberényi Nagyboldogasszony Katolikus Óvoda, Kéttannyelvű Általános Iskola és Gimnázium | F17: Jászberény | G17: Molnár Benedek | H17: Józsa Péter Pál | I17: Kovács Lantos Erika
A18: 7. | B18: II.kcs Tenisz U10 narancs labdával, P+S szabály | C18: F | D18: B | E18: Jászberényi Nagyboldogasszony Katolikus Óvoda, Kéttannyelvű Általános Iskola és Gimnázium | F18: Jászberény | G18: Molnár Zalán Lehel | H18: Józsa Péter Pál | I18: Kovács Lantos Erika
A19: 8. | B19: II.kcs Tenisz U10 narancs labdával, P+S szabály | C19: F | D19: B | E19: Jászberényi Nagyboldogasszony Katolikus Óvoda, Kéttannyelvű Általános Iskola és Gimnázium | F19: Jászberény | G19: Sebestyén Nolen | H19: Józsa Péter Pál | I19: Sződi-Háfra Edina
A20: 9. | B20: II.kcs Tenisz U10 narancs labdával, P+S szabály | C20: F | D20: B | E20: Jászberényi Nagyboldogasszony Katolikus Óvoda, Kéttannyelvű Általános Iskola és Gimnázium | F20: Jászberény | G20: Tóth Benedek | H20: Józsa Péter Pál | I20: Sződi-Háfra Edina
A21: 10. | B21: II.kcs Tenisz U10 narancs labdával, P+S szabály | C21: F | D21: B | E21: Jászberényi Nagyboldogasszony Katolikus Óvoda, Kéttannyelvű Általános Iskola és Gimnázium | F21: Jászberény | G21: Szabó Mátyás | H21: Józsa Péter Pál | I21: Sződi-Háfra Edina
A22: 11. | B22: II.kcs Tenisz U10 narancs labdával, P+S szabály | C22: F | D22: B | E22: Jászsági Gróf Apponyi Albert Általános Iskola és Alapfokú Művészeti Iskola | F22: Jászberény | G22: Oláh Levente László | H22: Ludasi Martin
A23: 12. | B23: II.kcs Tenisz U10 narancs labdával, P+S szabály | C23: F | D23: B | E23: Szent István Katolikus Általános Iskola és Óvoda | F23: Mezőtúr | G23: Ábrahám Zoltán | H23: Lantai Laura
A24: 13. | B24: II.kcs Tenisz U10 narancs labdával, P+S szabály | C24: F | D24: B | E24: Szent István Sport Általános Iskola és Gimnázium | F24: Jászberény | G24: Hamar Lőrinc | H24: Halápi Ákos
A25: 14. | B25: II.kcs Tenisz U10 narancs labdával, P+S szabály | C25: F | D25: B | E25: Szent István Sport Általános Iskola és Gimnázium | F25: Jászberény | G25: Koczka Ákos | H25: Halápi Ákos
A26: 15. | B26: II.kcs Tenisz U10 narancs labdával, P+S szabály | C26: F | D26: B | E26: Szent István Sport Általános Iskola és Gimnázium | F26: Jászberény | G26: Zsólyomi Zsombor | H26: Halápi Ákos
A27: 1. | B27: II.kcs Tenisz U10 narancs labdával, P+S szabály | C27: L | D27: B | E27: Jászberényi Nagyboldogasszony Katolikus Óvoda, Kéttannyelvű Általános Iskola és Gimnázium | F27: Jászberény | G27: Szőke Emma | H27: Józsa Péter Pál | I27: Kovács Lantos Erika
A28: 2. | B28: II.kcs Tenisz U10 narancs labdával, P+S szabály | C28: L | D28: B | E28: Jászberényi Nagyboldogasszony Katolikus Óvoda, Kéttannyelvű Általános Iskola és Gimnázium | F28: Jászberény | G28: Holczer Hanna | H28: Józsa Péter Pál | I28: Sződi-Háfra Edina
A29: 3. | B29: II.kcs Tenisz U10 narancs labdával, P+S szabály | C29: L | D29: B | E29: Szent István Sport Általános Iskola és Gimnázium | F29: Jászberény | G29: Bojtos Zsuzsanna | H29: Halápi Ákos
A30: 1. | B30: III.kcs Tenisz U11 zöld labdával, P+S szabály | C30: F | D30: B | E30: Bercsényi Miklós Általános Iskola | F30: Jászberény | G30: Magyar Albert | H30: Kiss Attila József
A31: 2. | B31: III.kcs Tenisz U11 zöld labdával, P+S szabály | C31: F | D31: B | E31: Bercsényi Miklós Általános Iskola | F31: Jászberény | G31: Szántai Levente | H31: Kiss Attila József
A32: 3. | B32: III.kcs Tenisz U11 zöld labdával, P+S szabály | C32: F | D32: B | E32: Jászsági Gróf Apponyi Albert Általános Iskola és Alapfokú Művészeti Iskola | F32: Jászberény | G32: Koczka Gergő | H32: Ludasi Martin
A33: 4. | B33: III.kcs Tenisz U11 zöld labdával, P+S szabály | C33: F | D33: B | E33: Jászsági Gróf Apponyi Albert Általános Iskola és Alapfokú Művészeti Iskola | F33: Jászberény | G33: Bálint Ádám | H33: Ludasi Martin
A34: 5. | B34: III.kcs Tenisz U11 zöld labdával, P+S szabály | C34: F | D34: B | E34: Lehel Vezér Gimnázium | F34: Jászberény | G34: Zimonyi Bercel | H34: Ilonka Zoltán
A35: 6. | B35: III.kcs Tenisz U11 zöld labdával, P+S szabály | C35: F | D35: B | E35: Székely Mihály Általános Iskola | F35: Jászberény | G35: Teleki Zétény | H35: Bajáriné Pesti Anikó
A36: 7. | B36: III.kcs Tenisz U11 zöld labdával, P+S szabály | C36: F | D36: B | E36: Szent István Sport Általános Iskola és Gimnázium | F36: Jászberény | G36: Balogh Milán | H36: Halápi Ákos
A37: 8. | B37: III.kcs Tenisz U11 zöld labdával, P+S szabály | C37: F | D37: B | E37: Szent István Sport Általános Iskola és Gimnázium | F37: Jászberény | G37: Kalla Zsombor | H37: Halápi Ákos
A38: 9. | B38: III.kcs Tenisz U11 zöld labdával, P+S szabály | C38: F | D38: B | E38: Szent István Sport Általános Iskola és Gimnázium | F38: Jászberény | G38: Terjéki Benett | H38: Halápi Ákos
A39: 1. | B39: III.kcs Tenisz U11 zöld labdával, P+S szabály | C39: L | D39: B | E39: Bercsényi Miklós Általános Iskola | F39: Jászberény | G39: Kerekes Leonóra | H39: Kiss Attila József
A40: 2. | B40: III.kcs Tenisz U11 zöld labdával, P+S szabály | C40: L | D40: B | E40: Lehel Vezér Gimnázium | F40: Jászberény | G40: Szabó Anna | H40: Ilonka Zoltán
... A42: 1. | B42: IV.kcs Tenisz U12 | C42: F | D42: B | E42: Bercsényi Miklós Általános Iskola | F42: Jászberény | G42: Török Ádám Márk | H42: Kiss Attila József
A43: 2. | B43: IV.kcs Tenisz U12 | C43: F | D43: B | E43: Jászberényi Nagyboldogasszony Katolikus Óvoda, Kéttannyelvű Általános Iskola és Gimnázium | F43: Jászberény | G43: Bordás Félix | H43: Józsa Péter Pál | I43: Sződi-Háfra Edina
A44: 3. | B44: IV.kcs Tenisz U12 | C44: F | D44: B | E44: Jászsági Gróf Apponyi Albert Általános Iskola és Alapfokú Művészeti Iskola | F44: Jászberény | G44: Banya Ádám | H44: Ludasi Martin
A45: 4. | B45: IV.kcs Tenisz U12 | C45: F | D45: B | E45: Székely Mihály Általános Iskola | F45: Jászberény | G45: Pócz Kornél Norbert | H45: Bajáriné Pesti Anikó
A46: 5. | B46: IV.kcs Tenisz U12 | C46: F | D46: B | E46: Szent István Sport Általános Iskola és Gimnázium | F46: Jászberény | G46: Kemény Mirkó | H46: Halápi Ákos
A47: 6. | B47: IV.kcs Tenisz U12 | C47: F | D47: B | E47: Szent István Sport Általános Iskola és Gimnázium | F47: Jászberény | G47: Oláh Ádám | H47: Halápi Ákos
A48: 1. | B48: IV.kcs Tenisz U12 | C48: L | D48: B | E48: Jászberényi Nagyboldogasszony Katolikus Óvoda, Kéttannyelvű Általános Iskola és Gimnázium | F48: Jászberény | G48: Gulyás Lora | H48: Józsa Péter Pál | I48: Bábosik Bence
A49: 2. | B49: IV.kcs Tenisz U12 | C49: L | D49: B | E49: Mezőtúri II. Rákóczi Ferenc Magyar-Angol Két Tanítási Nyelvű Általános Iskola | F49: Mezőtúr | G49: Csató Eszter | H49: Győri Zita
A50: 1. | B50: V.kcs Tenisz U14 | C50: F | D50: B | E50: Jászárokszállási Széchenyi István Általános Iskola és Alapfokú Művészeti Iskola | F50: Jászárokszállás | G50: Faragó Máté Béla | H50: Bankáné Mező Katalin
A51: 2. | B51: V.kcs Tenisz U14 | C51: F | D51: A | E51: Jászberényi Nagyboldogasszony Katolikus Óvoda, Kéttannyelvű Általános Iskola és Gimnázium | F51: Jászberény | G51: Borics Benett | H51: Józsa Péter Pál | I51: Bábosik Bence
A52: 3. | B52: V.kcs Tenisz U14 | C52: F | D52: B | E52: Jászberényi Nagyboldogasszony Katolikus Óvoda, Kéttannyelvű Általános Iskola és Gimnázium | F52: Jászberény | G52: Kovács Kornél Máté | H52: Józsa Péter Pál | I52: Bábosik Bence
A53: 4. | B53: V.kcs Tenisz U14 | C53: F | D53: B | E53: Jászberényi Nagyboldogasszony Katolikus Óvoda, Kéttannyelvű Általános Iskola és Gimnázium | F53: Jászberény | G53: Szabó Sebestyén | H53: Józsa Péter Pál | I53: Sződi-Háfra Edina
A54: 5. | B54: V.kcs Tenisz U14 | C54: F | D54: B | E54: Jászsági Gróf Apponyi Albert Általános Iskola és Alapfokú Művészeti Iskola | F54: Jászberény | G54: German László | H54: Ludasi Martin
A55: 6. | B55: V.kcs Tenisz U14 | C55: F | D55: B | E55: Jászsági Gróf Apponyi Albert Általános Iskola és Alapfokú Művészeti Iskola | F55: Jászberény | G55: Bencsik Máté | H55: Ludasi Martin
A56: 7. | B56: V.kcs Tenisz U14 | C56: F | D56: B | E56: Lehel Vezér Gimnázium | F56: Jászberény | G56: Magera Péter | H56: Ilonka Zoltán
A57: 8. | B57: V.kcs Tenisz U14 | C57: F | D57: B | E57: Lehel Vezér Gimnázium | F57: Jászberény | G57: Édes Dániel György | H57: Bartóki József Gábor
A58: 9. | B58: V.kcs Tenisz U14 | C58: F | D58: B | E58: Lehel Vezér Gimnázium | F58: Jászberény | G58: Magoss György Bálint | H58: Bartóki József Gábor
A59: 10. | B59: V.kcs Tenisz U14 | C59: F | D59: B | E59: Szent István Sport Általános Iskola és Gimnázium | F59: Jászberény | G59: Farkas Dániel | H59: Halápi Ákos
A60: 1. | B60: V.kcs Tenisz U14 | C60: L | D60: B | E60: Bercsényi Miklós Általános Iskola | F60: Jászberény | G60: Vince Véda | H60: Kiss Attila József
A61: 2. | B61: V.kcs Tenisz U14 | C61: L | D61: B | E61: Szent István Sport Általános Iskola és Gimnázium | F61: Jászberény | G61: Fedor Szonja | H61: Halápi Ákos
A62: 3. | B62: V.kcs Tenisz U14 | C62: L | D62: B | E62: Szent István Sport Általános Iskola és Gimnázium | F62: Jászberény | G62: Kovács Bianka | H62: Halápi Ákos
A63: 4. | B63: V.kcs Tenisz U14 | C63: L | D63: B | E63: Szent István Sport Általános Iskola és Gimnázium | F63: Jászberény | G63: Oláh Luca | H63: Halápi Ákos
A64: 5. | B64: V.kcs Tenisz U14 | C64: L | D64: B | E64: Szent István Sport Általános Iskola és Gimnázium | F64: Jászberény | G64: Yiadom Lilly Irie | H64: Halápi Ákos
A65: 1. | B65: VI.kcs Tenisz U16 | C65: F | D65: B | E65: Bercsényi Miklós Általános Iskola | F65: Jászberény | G65: Békefi Szabolcs | H65: Kiss Attila József
... A67: 3. | B67: VI.kcs Tenisz U16 | C67: F | D67: B | E67: Jászárokszállási Széchenyi István Általános Iskola és Alapfokú Művészeti Iskola | F67: Jászárokszállás | G67: Szőke Patrik Gergő | H67: Bankáné Mező Katalin
A68: 4. | B68: VI.kcs Tenisz U16 | C68: F | D68: A | E68: Jászberényi Nagyboldogasszony Katolikus Óvoda, Kéttannyelvű Általános Iskola és Gimnázium | F68: Jászberény | G68: Kovács Olivér | H68: Józsa Péter Pál | I68: Bábosik Bence
A69: 5. | B69: VI.kcs Tenisz U16 | C69: F | D69: B | E69: Jászberényi Nagyboldogasszony Katolikus Óvoda, Kéttannyelvű Általános Iskola és Gimnázium | F69: Jászberény | G69: Molnár Bendegúz Sándor | H69: Józsa Péter Pál | I69: Bábosik Bence
A70: 6. | B70: VI.kcs Tenisz U16 | C70: F | D70: B | E70: Jászberényi Nagyboldogasszony Katolikus Óvoda, Kéttannyelvű Általános Iskola és Gimnázium | F70: Jászberény | G70: Kiss Barnabás | H70: Józsa Péter Pál | I70: Sződi-Háfra Edina
A71: 7. | B71: VI.kcs Tenisz U16 | C71: F | D71: B | E71: Jászberényi Nagyboldogasszony Katolikus Óvoda, Kéttannyelvű Általános Iskola és Gimnázium | F71: Jászberény | G71: Szeremi Dániel | H71: Józsa Péter Pál | I71: Sződi-Háfra Edina
A72: 8. | B72: VI.kcs Tenisz U16 | C72: F | D72: B | E72: Jászberényi Nagyboldogasszony Katolikus Óvoda, Kéttannyelvű Általános Iskola és Gimnázium | F72: Jászberény | G72: Szebenyi-Kiss Dominik | H72: Józsa Péter Pál | I72: Sződi-Háfra Edina
A73: 9. | B73: VI.kcs Tenisz U16 | C73: F | D73: B | E73: Lehel Vezér Gimnázium | F73: Jászberény | G73: Bathó András Barnabás | H73: Ilonka Zoltán
A74: 10. | B74: VI.kcs Tenisz U16 | C74: F | D74: B | E74: Lehel Vezér Gimnázium | F74: Jászberény | G74: Orosz Ádám Attila | H74: Bartóki József Gábor
A75: 11. | B75: VI.kcs Tenisz U16 | C75: F | D75: B | E75: Lehel Vezér Gimnázium | F75: Jászberény | G75: Édes László Sándor | H75: Bartóki József Gábor
A76: 12. | B76: VI.kcs Tenisz U16 | C76: F | D76: B | E76: Szent István Sport Általános Iskola és Gimnázium | F76: Jászberény | G76: Földi Krisztián | H76: Halápi Ákos
A77: 13. | B77: VI.kcs Tenisz U16 | C77: F | D77: B | E77: Szent István Sport Általános Iskola és Gimnázium | F77: Jászberény | G77: Lukáts Zalán | H77: Halápi Ákos
A78: 1. | B78: VI.kcs Tenisz U16 | C78: L | D78: B | E78: Jászberényi Nagyboldogasszony Katolikus Óvoda, Kéttannyelvű Általános Iskola és Gimnázium | F78: Jászberény | G78: Kispál Eliza | H78: Józsa Péter Pál | I78: Halápi Ákos
A79: 2. | B79: VI.kcs Tenisz U16 | C79: L | D79: B | E79: Lehel Vezér Gimnázium | F79: Jászberény | G79: Szabó Kata | H79: Ilonka Zoltán
A80: 3. | B80: VI.kcs Tenisz U16 | C80: L | D80: B | E80: Lehel Vezér Gimnázium | F80: Jászberény | G80: Csibra Laura | H80: Bartóki József Gábor
A81: 4. | B81: VI.kcs Tenisz U16 | C81: L | D81: B | E81: Lehel Vezér Gimnázium | F81: Jászberény | G81: Csoma Nóra | H81: Bartóki József Gábor
A82: 5. | B82: VI.kcs Tenisz U16 | C82: L | D82: B | E82: Lehel Vezér Gimnázium | F82: Jászberény | G82: Gulyás Dorottya | H82: Bartóki József Gábor
A83: 6. | B83: VI.kcs Tenisz U16 | C83: L | D83: B | E83: Szent István Sport Általános Iskola és Gimnázium | F83: Jászberény | G83: André Hanga | H83: Halápi Ákos
A84: 7. | B84: VI.kcs Tenisz U16 | C84: L | D84: B | E84: Szent István Sport Általános Iskola és Gimnázium | F84: Jászberény | G84: Görbe Liza | H84: Halápi Ákos
A85: 8. | B85: VI.kcs Tenisz U16 | C85: L | D85: B | E85: Szent István Sport Általános Iskola és Gimnázium | F85: Jászberény | G85: Kollár Zoé | H85: Halápi Ákos
A86: 9. | B86: VI.kcs Tenisz U16 | C86: L | D86: B | E86: Szent István Sport Általános Iskola és Gimnázium | F86: Jászberény | G86: Marinka-Tóth Anna | H86: Halápi Ákos
A87: 10. | B87: VI.kcs Tenisz U16 | C87: L | D87: B | E87: Szent István Sport Általános Iskola és Gimnázium | F87: Jászberény | G87: Mohei Jázmin | H87: Halápi Ákos
A88: 11. | B88: VI.kcs Tenisz U16 | C88: L | D88: B | E88: Szent István Sport Általános Iskola és Gimnázium | F88: Jászberény | G88: Tóth Regina | H88: Halápi Ákos
A89: 12. | B89: VI.kcs Tenisz U16 | C89: L | D89: B | E89: Szent István Sport Általános Iskola és Gimnázium | F89: Jászberény | G89: Gál Réka | H89: Halápi Ákos
A90: 1. | B90: VII.kcs Tenisz U18 | C90: F | D90: B | E90: Lehel Vezér Gimnázium | F90: Jászberény | G90: Lukáts Zsombor | H90: Bartóki József Gábor
... A104: 2. | B104: VIII.kcs Tenisz U18+ | C104: L | D104: B | E104: Szent István Sport Általános Iskola és Gimnázium | F104: Jászberény | G104: Deák Janka | H104: Halápi Ákos

Sheet Eredmények
A1: Létszám | B1: Korcsoport | C1: Nem | D1: Kategória | E1: Iskola | F1: Település | G1: Nevező | H1: Helyezés
A2: 1 | B2: I.kcs Tenisz U8 piros labdával, P+S szabály | C2: F | D2: B | E2: Jászsági Gróf Apponyi Albert Általános Iskola és Alapfokú Művészeti Iskola | F2: Jászberény | G2: Bálint Máté | H2: 1.
A3: 2 | B3: I.kcs Tenisz U8 piros labdával, P+S szabály | C3: F | D3: B | E3: Jászberényi Nagyboldogasszony Katolikus Óvoda, Kéttannyelvű Általános Iskola és Gimnázium | F3: Jászberény | G3: Papp Milán | H3: 2.
A4: 3 | B4: I.kcs Tenisz U8 piros labdával, P+S szabály | C4: F | D4: B | E4: Jászberényi Nagyboldogasszony Katolikus Óvoda, Kéttannyelvű Általános Iskola és Gimnázium | F4: Jászberény | G4: Nagy Mihály | H4: 3.
A5: 4 | B5: I.kcs Tenisz U8 piros labdával, P+S szabály | C5: F | D5: B | E5: Jászberényi Nagyboldogasszony Katolikus Óvoda, Kéttannyelvű Általános Iskola és Gimnázium | F5: Jászberény | G5: Tóth Levente | H5: 4.
A6: 5 | B6: I.kcs Tenisz U8 piros labdával, P+S szabály | C6: F | D6: B | E6: Jászberényi Nagyboldogasszony Katolikus Óvoda, Kéttannyelvű Általános Iskola és Gimnázium | F6: Jászberény | G6: Kalla Konrád | H6: 5.
A8: 1 | B8: I.kcs Tenisz U8 piros labdával, P+S szabály | C8: L | D8: B | E8: Szent István Sport Általános Iskola és Gimnázium | F8: Jászberény | G8: Székely Szonja | H8: 1.
A9: 2 | B9: I.kcs Tenisz U8 piros labdával, P+S szabály | C9: L | D9: B | E9: Jászberényi Nagyboldogasszony Katolikus Óvoda, Kéttannyelvű Általános Iskola és Gimnázium | F9: Jászberény | G9: Kovács Kata | H9: 2.
A10: 3. | B10: I.kcs Tenisz U8 piros labdával, P+S szabály | C10: L | D10: B | E10: Szent István Sport Általános Iskola és Gimnázium | F10: Jászberény | G10: Szabó Anna | H10: 3.
A11: 4 | B11: I.kcs Tenisz U8 piros labdával, P+S szabály | C11: L | D11: B | E11: Jászberényi Nagyboldogasszony Katolikus Óvoda, Kéttannyelvű Általános Iskola és Gimnázium | F11: Jászberény | G11: Munkácsi Frida | H11: 4.
A13: 1 | B13: II.kcs Tenisz U10 narancs labdával, P+S szabály | C13: F | D13: B | E13: Szent István Katolikus Általános Iskola és Óvoda | F13: Mezőtúr | G13: Ábrahám Zoltán | H13: 1.
A14: 2 | B14: II.kcs Tenisz U10 narancs labdával, P+S szabály | C14: F | D14: B | E14: Jászberényi Nagyboldogasszony Katolikus Óvoda, Kéttannyelvű Általános Iskola és Gimnázium | F14: Jászberény | G14: Kovács Milán Zétény | H14: 2.
A15: 3 | B15: II.kcs Tenisz U10 narancs labdával, P+S szabály | C15: F | D15: B | E15: Jászberényi Nagyboldogasszony Katolikus Óvoda, Kéttannyelvű Általános Iskola és Gimnázium | F15: Jászberény | G15: Tóth Benedek | H15: 3.
A16: 4 | B16: II.kcs Tenisz U10 narancs labdával, P+S szabály | C16: F | D16: B | E16: Jászberényi Nagyboldogasszony Katolikus Óvoda, Kéttannyelvű Általános Iskola és Gimnázium | F16: Jászberény | G16: Szabó Mátyás | H16: 3.
A17: 5 | B17: II.kcs Tenisz U10 narancs labdával, P+S szabály | C17: F | D17: B | E17: Bercsényi Miklós Általános Iskola | F17: Jászberény | G17: Pócz-Nagy Benett | H17: 5-8.
A18: 6 | B18: II.kcs Tenisz U10 narancs labdával, P+S szabály | C18: F | D18: B | E18: Szent István Sport Általános Iskola és Gimnázium | F18: Jászberény | G18: Hamar Lőrinc | H18: 5-8.
A19: 7 | B19: II.kcs Tenisz U10 narancs labdával, P+S szabály | C19: F | D19: B | E19: Szent István Sport Általános Iskola és Gimnázium | F19: Jászberény | G19: Koczka Ákos | H19: 5-8.
A20: 8 | B20: II.kcs Tenisz U10 narancs labdával, P+S szabály | C20: F | D20: B | E20: Szent István Sport Általános Iskola és Gimnázium | F20: Jászberény | G20: Zsólyomi Zsombor | H20: 5-8.
A21: 9 | B21: II.kcs Tenisz U10 narancs labdával, P+S szabály | C21: F | D21: B | E21: Bercsényi Miklós Általános Iskola | F21: Jászberény | G21: Sárközi Levente | H21: 9-12.
A22: 10 | B22: II.kcs Tenisz U10 narancs labdával, P+S szabály | C22: F | D22: B | E22: Bercsényi Miklós Általános Iskola | F22: Jászberény | G22: Cseh Edvin Gábor | H22: 9-12.
A23: 11 | B23: II.kcs Tenisz U10 narancs labdával, P+S szabály | C23: F | D23: B | E23: Jászberényi Nagyboldogasszony Katolikus Óvoda, Kéttannyelvű Általános Iskola és Gimnázium | F23: Jászberény | G23: Sebestyén Nolen | H23: 9-12.
... A122: 2 | B122: VIII.kcs Tenisz U18+ | C122: L | D122: B | E122: Szent István Sport Általános Iskola és Gimnázium | F122: Jászberény | G122: Deák Janka | H122: 2.

Sheet játékrend-23-24-e
A1: DIÁKOLIMPIA JÁTÉKREND 2026.04.23. csütörtök
A2: Az aktuális helyzetről +36203485403 (Tóth Éva versenyigazgató) számon érdeklődhet.
A3: A verseny 8:30-kor kezdődik: I. kcs. Fiú B., I. kcs. Lány B. 9:30-től várható: II. kcs. Fiú B., II. kcs. Lány B., III. kcs. Fiú B., III. kcs. Lány B. és V. kcs. Fiú B, V. kcs. Lány B. 9:30-kor közös fotózás (kérem addig mindenki maradjon, illetve érkezzen meg) és az addig befejeződött korosztályok eredményhirdetése. Egyéb eredményhirdetés a versenyszámok utolsó mérkőzése után. A mérkőzések sorrendjét határozzuk meg, a pontos kezdést nem. Minden versenyszámból az 1-2. helyezett jut az országos döntőbe. A nevezéseknél (nevezések fül, munkalap) a félkövérrel, narancssárgával kiemelt diákok egyből, játék nélkül az országos döntőbe jutottak (illetve azok is akinél menetközben lecsökken a megjelenők száma 2, vagy 1 főre).
A4: Kezdés | B4: Pályán van | C4: Korcsoport | D4: Pálya | F4: Név | H4: Név | J4: Eredmény | K4: Sorszám
A5: 8:30 | C5: I. kcs. Fiú B | F5: Kalla Konrád | H5: Bálint Máté | J5: 1/15 | K5: 1.
C6: I. kcs. Fiú B | F6: Papp Milán | H6: Tóth Levente | J6: 15/11 | K6: 2.
C7: I. kcs. Fiú B | F7: Tóth Levente | H7: Kalla Konrád | J7: 15/12 | K7: 3.
C8: I. kcs. Fiú B | F8: Bálint Máté | H8: Nagy Mihály | J8: 15/3 | K8: 4.
C9: I. kcs. Fiú B | F9: Nagy Mihály | H9: Tóth Levente | J9: 15/13 | K9: 5.
C10: I. kcs. Fiú B | F10: Kalla Konrád | H10: Papp Milán | J10: 12/15 | K10: 6.
C11: I. kcs. Fiú B | F11: Papp Milán | H11: Nagy Mihály | J11: 15/5 | K11: 7.
C12: I. kcs. Fiú B | F12: Tóth Levente | H12: Bálint Máté | J12: 7/15 | K12: 8.
C13: I. kcs. Fiú B | F13: Nagy Mihály | H13: Kalla Konrád | J13: 15/9 | K13: 9.
C14: I. kcs. Fiú B | F14: Bálint Máté | H14: Papp Milán | J14: 15/8 | K14: 10.
A15: 8:30 | C15: I. kcs. Leány B | F15: Kovács Kata | H15: Munkácsi Frida | J15: 15/6 | K15: 11.
C16: I. kcs. Leány B | F16: Szabó Anna | H16: Székely Szonja | J16: 13/15 | K16: 12.
C17: I. kcs. Leány B | F17: Munkácsi Frida | H17: Szabó Anna | J17: 11/15 | K17: 13.
C18: I. kcs. Leány B | F18: Kovács Kata | H18: Székely Szonja | J18: 14/16 | K18: 14.
C19: I. kcs. Leány B | F19: Szabó Anna | H19: Kovács Kata | J19: 11/15 | K19: 15.
C20: I. kcs. Leány B | F20: Székely Szonja | H20: Munkácsi Frida | J20: 15/1 | K20: 16.
A21: 9:30 | C21: II. kcs. Fiú B/A.csop. | F21: Ábrahám Zoltán | H21: Cseh Edvin Gábor | J21: 7/1 7/3 | K21: 17.
C22: II. kcs. Fiú B/A.csop. | F22: Koczka Ákos | H22: Molnár Benedek | J22: 7/0 7/1 | K22: 18.
C23: II. kcs. Fiú B/A.csop. | F23: Cseh Edvin Gábor | H23: Koczka Ákos | J23: 5/7 0/7 | K23: 19.
C24: II. kcs. Fiú B/A.csop. | F24: Molnár Benedek | H24: Ábrahám Zoltán | J24: 5/7 0/7 | K24: 20.
C25: II. kcs. Fiú B/A.csop. | F25: Koczka Ákos | H25: Ábrahám Zoltán | J25: 5/7 10/12 | K25: 21.
C26: II. kcs. Fiú B/A.csop. | F26: Cseh Edvin Gábor | H26: Molnár Benedek | J26: 7/1 7/0 | K26: 22.
C27: II. kcs. Fiú B/B.csop. | F27: Sárközi Levente | H27: Pócz-Nagy Benett | J27: 6/8 7/9 | K27: 23.
C28: II. kcs. Fiú B/B.csop. | F28: Tóth Benedek | H28: Molnár Zalán Lehel | J28: 7/3 7/5 | K28: 24.
C29: II. kcs. Fiú B/B.csop. | F29: Pócz-Nagy Benett | H29: Tóth Benedek | J29: 5/7 9/11 | K29: 25.
C30: II. kcs. Fiú B/B.csop. | F30: Molnár Zalán Lehel | H30: Sárközi Levente | J30: 5/7 3/7 | K30: 26.
C31: II. kcs. Fiú B/B.csop. | F31: Tóth Benedek | H31: Sárközi Levente | J31: 7/5 7/5 | K31: 27.
C32: II. kcs. Fiú B/B.csop. | F32: Pócz-Nagy Benett | H32: Molnár Zalán Lehel | J32: 13/11 7/2 | K32: 28.
C33: II. kcs. Fiú B/C.csop. | F33: Zsólyomi Zsombor | H33: Vámos Donát | J33: 7/1 7/1 | K33: 29.
... C44: II. kcs. Fiú B/Döntő | F44: Ábrahám Zoltán | H44: Kovács Milán Zétény | J44: 7/4 7/3 | K44: 40.
A45: 9:30 | C45: II. kcs. Leány B | F45: Holczer Hanna | H45: Bojtos Zsuzsanna | J45: 7/3 7/2 | K45: 41.
C46: II. kcs. Leány B | F46: Bojtos Zsuzsanna | H46: Szőke Emma | J46: 3/7 4/7 | K46: 42.
C47: II. kcs. Leány B | F47: Szőke Emma | H47: Holczer Hanna | J47: 7/3 7/2 | K47: 43.
A48: 9:30 | C48: III. kcs. Fiú B/A. csop. | F48: Magyar Albert | H48: Kalla Zsombor | J48: 5/0 | K48: 44.
C49: III. kcs. Fiú B/A. csop. | F49: Kalla Zsombor | H49: Teleki Zétény | J49: 0/5 | K49: 45.
C50: III. kcs. Fiú B/A. csop. | F50: Teleki Zétény | H50: Magyar Albert | J50: 5/4 | K50: 46.
C51: III. kcs. Fiú B/B. csop. | F51: Balogh Milán | H51: Bálint Ádám | J51: 2/4 | K51: 47.
C52: III. kcs. Fiú B/B. csop. | F52: Bálint Ádám | H52: Szántai Levente | J52: 0/4 | K52: 48.
C53: III. kcs. Fiú B/B. csop. | F53: Szántai Levente | H53: Balogh Milán | J53: 4/0 | K53: 49.
C54: III. kcs. Fiú B/C. csop. | F54: Terjéki Benett | H54: Zimonyi Bercel | J54: 4/0 | K54: 50.
C55: III. kcs. Fiú B/C. csop. | F55: Zimonyi Bercel | H55: Koczka Gergő | J55: 0/4 | K55: 51.
C56: III. kcs. Fiú B/C. csop. | F56: Koczka Gergő | H56: Terjéki Benett | J56: 5/3 | K56: 52.
C57: III. kcs. Fiú B/Döntő | F57: Szántai Levente | H57: Koczka Gergő | J57: 4/2 | K57: 53.
C58: III. kcs. Fiú B/Döntő | F58: Koczka Gergő | H58: Teleki Zétény | J58: 0/4 | K58: 54.
C59: III. kcs. Fiú B/Döntő | F59: Teleki Zétény | H59: Szántai Levente | J59: 4/2 | K59: 55.
A60: 9:30 | C60: III. kcs. Leány B | F60: Szabó Anna | H60: Székely Alina | J60: 4/1 | K60: 56.
C61: III. kcs. Leány B | F61: Székely Alina | H61: Kerekes Leonóra | J61: 4/5 | K61: 57.
C62: III. kcs. Leány B | F62: Kerekes Leonóra | H62: Szabó Anna | J62: 1/4 | K62: 58.
A63: 9:30 | C63: V. kcs. Fiú B/16 | F63: Szabó Sebestyén | H63: Édes Dániel György | J63: 4/1 4/2 | K63: 59.
C64: V. kcs. Fiú B/16 | F64: Faragó Máté Béla | H64: Magera Péter | J64: Farago jn. | K64: 60.
C65: V. kcs. Fiú B/8 | F65: Kovács Kornél Máté | H65: Magoss György Bálint | J65: 4/1 4/1 | K65: 61.
C66: V. kcs. Fiú B/8 | F66: Borics Benett | H66: Farkas Dániel | J66: Farkas jn. | K66: 62.
C67: V. kcs. Fiú B/8 | F67: German László | H67: Szabó Sebestyén | J67: 5/4 4/0 | K67: 63.
C68: V. kcs. Fiú B/8 | F68: Bencsik Máté | H68: Faragó Máté Béla | J68: 4/0 4/0 | K68: 64.
C69: V. kcs. Fiú B/4 | F69: German László | H69: Kovács Kornél Máté | J69: 5/3 1/4 12/10 | K69: 65.
C70: V. kcs. Fiú B/4 | F70: Bencsik Máté | H70: Farkas Dániel | J70: 4/0 4/0 | K70: 66.
C71: V. kcs. Fiú B/döntő | F71: Bencsik Máté | H71: German László | J71: 5/3 4/0 | K71: 67.
A72: 9:30 | C72: V. kcs. Leány B | F72: Fedor Szonja | H72: Yiadom Lilly Irie | J72: 0/4 0/4 | K72: 68.
C73: V. kcs. Leány B | F73: Kovács Bianka | H73: Oláh Luca | J73: 4/1 4/1 | K73: 69.
C74: V. kcs. Leány B | F74: Oláh Luca | H74: Fedor Szonja | J74: 4/0 4/0 | K74: 70.
C75: V. kcs. Leány B | F75: Yiadom Lilly Irie | H75: Vince Véda | J75: 3/5 4/1 2/7 | K75: 71.
C76: V. kcs. Leány B | F76: Vince Véda | H76: Oláh Luca | J76: 4/2 5/4 | K76: 72.
C77: V. kcs. Leány B | F77: Fedor Szonja | H77: Kovács Bianka | J77: 0/4 0/4 | K77: 73.
C78: V. kcs. Leány B | F78: Kovács Bianka | H78: Vince Véda | J78: 4/2 4/2 | K78: 74.
C79: V. kcs. Leány B | F79: Oláh Luca | H79: Yiadom Lilly Irie | J79: 4/2 4/2 | K79: 75.
C80: V. kcs. Leány B | F80: Vince Véda | H80: Fedor Szonja | J80: 4/0 4/1 | K80: 76.
C81: V. kcs. Leány B | F81: Yiadom Lilly Irie | H81: Kovács Bianka | J81: 0/4 2/4 | K81: 77.
A83: DIÁKOLIMPIA JÁTÉKREND 2026.04.24. péntek
A84: Az aktuális helyzetről +36203485403 (Tóth Éva versenyigazgató) számon érdeklődhet.
A85: A verseny 9:00-kor kezdődik: IV. kcs. Fiú B., VI. kcs. Fiú B., VI. kcs. Lány B., VII. kcs. Fiú B., VII. kcs. Lány B., VIII. kcs. Fiú B. 11:00-kor közös fotózás (kérem addig mindenki maradjon, illetve érkezzen meg) és az addig befejeződött korosztályok eredményhirdetése. Egyéb eredményhirdetés a versenyszámok utolsó mérkőzése után. A mérkőzések sorrendjét határozzuk meg, a pontos kezdést nem. Minden versenyszámból az 1-2. helyezett jut az országos döntőbe. A nevezéseknél (nevezések fül, munkalap) a félkövérrel, narancssárgával kiemelt diákok egyből, játék nélkül az országos döntőbe jutottak (illetve azok is akinél menetközben lecsökken a megjelenők száma 2, vagy 1 főre).
A86: Ketdés | B86: Pályán van | C86: Korcsoport | E86: Pálya | G86: Név | I86: Név | J86: Eredmény | K86: Sorszám
A87: 9:00 | C87: IV.kcs. Fiú 1. csop. | G87: Oláh Ádám | I87: Banya Ádám | J87: 4/0 4/0 | K87: 1.
C88: IV.kcs. Fiú 1. csop. | G88: Banya Ádám | I88: Bordás Félix | J88: 0/4 0/4 | K88: 2.
C89: IV.kcs. Fiú 1. csop. | G89: Bordás Félix | I89: Oláh Ádám | J89: 4/0 4/1 | K89: 3.
C90: IV.kcs. Fiú 2. csop. | G90: Kemény Mirkó | I90: Török Ádám Márk | J90: 2/4 4/1 10/5 | K90: 4.
C91: IV.kcs. Fiú 2. csop. | G91: Török Ádám Márk | I91: Pócz Kornél Norbert | J91: 0/4 1/4 | K91: 5.
C92: IV.kcs. Fiú 2. csop. | G92: Pócz Kornél Norbert | I92: Kemény Mirkó | J92: 4/0 5/3 | K92: 6.
C93: IV. kcs. Fiú Döntő (csoportelsők) | G93: Bordás Félix | I93: Pócz Kornél Norbert | J93: 2/4 4/2 10/4 | K93: 7.
A94: 9:00 | C94: VI. kcs. Fiú B/16 | G94: Földi Krisztián | I94: Szeremi Dániel | J94: 4/0 4/1 | K94: 8.
C95: VI. kcs. Fiú B/16 | G95: Lukáts Zalán | I95: Kiss Bence | J95: 4/1 4/2 | K95: 9.
C96: VI. kcs. Fiú B/16 | G96: Szőke Patrik Gergő | I96: Kiss Barnabás | J96: 4/1 4/1 | K96: 10.
C97: VI. kcs. Fiú B/16 | G97: Molnár Bendegúz Sándor | I97: Édes László Sándor | J97: 4/0 4/1 | K97: 11.
C98: VI. kcs. Fiú B/16 | G98: Bathó András Barnabás | I98: Orosz Ádám Attila | J98: 0/4 2/4 | K98: 12.
C99: VI. kcs. Fiú B/8 | G99: Kovács Olivér | I99: Szeremi Dániel | J99: Szeremi jn. | K99: 13.
C100: VI. kcs. Fiú B/8 | G100: Szebenyi-Kiss Dominik | I100: Lukáts Zalán | J100: 4/2 7/5 | K100: 14.
C101: VI. kcs. Fiú B/8 | G101: Békefi Szabolcs | I101: Orosz Ádám Attila | J101: 7/5 1/4 6/10 | K101: 15.
C102: VI. kcs. Fiú B/8 | G102: Molnár Bendegúz Sándor | I102: Szőke Patrik Gergő | J102: 3/5 4/2 10/3 | K102: 16.
C103: VI. kcs. Fiú B/4 | G103: Szebenyi-Kiss Dominik | I103: Szeremi Dániel | J103: 4/1 4/2 | K103: 17.
C104: VI. kcs. Fiú B/4 | G104: Orosz Ádám Attila | I104: Szebenyi-Kiss Dominik | J104: 4/0 4/2 | K104: 18.
C105: VI. kcs. Fiú B/döntő | G105: Szebenyi-Kiss Dominik | I105: Orosz Ádám Attila | J105: 4/2 4/1 | K105: 19.
A106: 9:00 | C106: VI. kcs. Leány B/16 | G106: Csibra Laura | I106: Csoma Nóra | J106: Csoma jn. | K106: 20.
C107: VI. kcs. Leány B/16 | G107: Gulyás Dorottya | I107: Mohei Jázmin | J107: 4/0 4/0 | K107: 21.
C108: VI. kcs. Leány B/16 | G108: Tóth Regina | I108: Gál Réka | J108: 2/4 2/4 | K108: 22.
C109: VI. kcs. Leány B/16 | G109: Kispál Eliza | I109: Marinka-Tóth Anna | J109: 4/2 4/2 | K109: 23.
C110: VI. kcs. Leány B/8 | G110: Szabó Kata | I110: Csoma Nóra | J110: Csoma jn. | K110: 24.
C111: VI. kcs. Leány B/8 | G111: André Hanga | I111: Gulyás Dorottya | J111: Gulyás jn. | K111: 25.
...

Sheet I.F.B-D-5
A1: 2025/26. DO J-NK-SZ Vármegye | R1: =IF(O5=1,CONCATENATE(VLOOKUP(O3,Q16:X27,2)),CONCATENATE(VLOOKUP(O3,Q2:AA13,2))) -> #REF! | S1: =IF(O5=1,CONCATENATE(VLOOKUP(O3,Q16:AA27,3)),CONCATENATE(VLOOKUP(O3,Q2:AA13,3))) -> #REF! | T1: =IF(O5=1,CONCATENATE(VLOOKUP(O3,Q16:AA27,4)),CONCATENATE(VLOOKUP(O3,Q2:AA13,4))) -> #REF! | U1: =IF(O5=1,CONCATENATE(VLOOKUP(O3,Q16:AA27,5)),CONCATENATE(VLOOKUP(O3,Q2:AA13,5))) -> #REF! | V1: =IF(O5=1,CONCATENATE(VLOOKUP(O3,Q16:AA27,6)),CONCATENATE(VLOOKUP(O3,Q2:AA13,6))) -> #REF! | W1: =IF(O5=1,CONCATENATE(VLOOKUP(O3,Q16:AA27,7)),CONCATENATE(VLOOKUP(O3,Q2:AA13,7))) -> #REF! | X1: =IF(O5=1,CONCATENATE(VLOOKUP(O3,Q16:AA27,8)),CONCATENATE(VLOOKUP(O3,Q2:AA13,8))) -> #REF! | Y1: =IF(O5=1,CONCATENATE(VLOOKUP(O3,Q16:AA27,9)),CONCATENATE(VLOOKUP(O3,Q2:AA13,9))) -> #REF! | Z1: =IF(O5=1,CONCATENATE(VLOOKUP(O3,Q16:AA27,10)),CONCATENATE(VLOOKUP(O3,Q2:AA13,10))) -> #REF! | AA1: =IF(O5=1,CONCATENATE(VLOOKUP(O3,Q16:AA27,11)),CONCATENATE(VLOOKUP(O3,Q2:AA13,11))) -> #REF!
A2: Versenyszám: | E2: I. F./B - Döntő | Q2: A | R2: 150 | S2: 120 | T2: 100 | U2: 80 | V2: 70 | W2: 60 | X2: 55 | Y2: 50 | Z2: 45 | AA2: 40
A3: Dátum | E3: Város | J3: Versenybíró | O3: =IF(#REF!="OB","A",IF(#REF!="IX","W",#REF!)) -> #REF! | Q3: I | R3: 120 | S3: 90 | T3: 65 | U3: 55 | V3: 50 | W3: 45 | X3: 40 | Y3: 35 | Z3: 25 | AA3: 20
A4: 46135 | E4: Jászberény | J4: 0 | Q4: II | R4: 90 | S4: 60 | T4: 45 | U4: 34 | V4: 27 | W4: 22 | X4: 18 | Y4: 15 | Z4: 12 | AA4: 9
B5: kiem | C5: kódszám | D5: Rangsor | E5: Vezetéknév | G5: Egyesület | I5: Helyezés | J5: Pontszám | K5: Bónusz | O5: 2 | Q5: III | R5: 60 | S5: 40 | T5: 30 | U5: 20 | V5: 18 | W5: 15 | X5: 12 | Y5: 10 | Z5: 8 | AA5: 6
Q6: IV | R6: 40 | S6: 25 | T6: 18 | U6: 13 | V6: 10 | W6: 8 | X6: 6 | Y6: 5 | Z6: 4 | AA6: 3
A7: A | B7: 1 | C7: 0 | D7: 0 | E7: Nagy Mihály | G7: Jb Nagyboldog | I7: 3. | J7: 4 | Q7: V | R7: 25 | S7: 15 | T7: 13 | U7: 8 | V7: 6 | W7: 4 | X7: 3 | Y7: 2 | Z7: 1 | AA7: 0
Q8: VI | R8: 15 | S8: 10 | T8: 7 | U8: 5 | V8: 4 | W8: 3 | X8: 2 | Y8: 1 | Z8: 0 | AA8: 0
A9: B | B9: 2 | C9: 0 | D9: 0 | E9: Kalla Konrád | G9: Jb Nagyboldog | I9: 5. | J9: 0 | Q9: VII | R9: 10 | S9: 6 | T9: 4 | U9: 2 | V9: 1 | W9: 0 | X9: 0 | Y9: 0 | Z9: 0 | AA9: 0
Q10: VIII | R10: 6 | S10: 3 | T10: 2 | U10: 1 | V10: 0 | W10: 0 | X10: 0 | Y10: 0 | Z10: 0 | AA10: 0
A11: C | B11: 3 | C11: 0 | D11: 0 | E11: Papp Milán | G11: Jb Nagyboldog | I11: 2. | J11: 6 | Q11: W | R11: 3 | S11: 2 | T11: 1 | U11: 0 | V11: 0 | W11: 0 | X11: 0 | Y11: 0 | Z11: 0 | AA11: 0
Q12: X | R12: 0 | S12: 0 | T12: 0 | U12: 0 | V12: 0 | W12: 0 | X12: 0 | Y12: 0 | Z12: 0 | AA12: 0
A13: D | B13: 4 | C13: 0 | D13: 0 | E13: Tóth Levente | G13: Jb Nagyboldog | I13: 4. | J13: 2 | Q13: XI | R13: 0 | S13: 0 | T13: 0 | U13: 0 | V13: 0 | W13: 0 | X13: 0 | Y13: 0 | Z13: 0 | AA13: 0
A15: E | B15: 5 | C15: 0 | D15: 0 | E15: Bálint Máté | G15: Gróf App | I15: 1. | J15: 8
Q16: A | R16: 300 | S16: 250 | T16: 220 | U16: 180 | V16: 160 | W16: 150 | X16: 140 | Y16: 130 | Z16: 120 | AA16: 110
Q17: I | R17: 250 | S17: 200 | T17: 160 | U17: 140 | V17: 120 | W17: 110 | X17: 100 | Y17: 90 | Z17: 80 | AA17: 70
D18: =E7 -> Nagy Mihály | F18: =E9 -> Kalla Konrád | G18: =E11 -> Papp Milán | H18: =E13 -> Tóth Levente | J18: =E15 -> Bálint Máté | Q18: II | R18: 200 | S18: 150 | T18: 130 | U18: 110 | V18: 95 | W18: 80 | X18: 70 | Y18: 60 | Z18: 55 | AA18: 50
A19: A | B19: =E7 -> Nagy Mihály | F19: 15/9 | G19: 5/15 | H19: 15/13 | J19: 3/15 | Q19: III | R19: 150 | S19: 120 | T19: 100 | U19: 80 | V19: 70 | W19: 60 | X19: 55 | Y19: 50 | Z19: 45 | AA19: 40
A20: B | B20: =E9 -> Kalla Konrád | D20: 9/15 | G20: 12/15 | H20: 12/15 | J20: 1/15 | Q20: IV | R20: 120 | S20: 90 | T20: 65 | U20: 55 | V20: 50 | W20: 45 | X20: 40 | Y20: 35 | Z20: 25 | AA20: 20
A21: C | B21: =E11 -> Papp Milán | D21: 15/5 | F21: 15/12 | H21: 15/11 | J21: 8/15 | Q21: V | R21: 90 | S21: 60 | T21: 45 | U21: 34 | V21: 27 | W21: 22 | X21: 18 | Y21: 15 | Z21: 12 | AA21: 9
A22: D | B22: =E13 -> Tóth Levente | D22: 13/15 | F22: 15/12 | G22: 11/15 | J22: 7/15 | Q22: VI | R22: 60 | S22: 40 | T22: 30 | U22: 20 | V22: 18 | W22: 15 | X22: 12 | Y22: 10 | Z22: 8 | AA22: 6
A23: E | B23: =E15 -> Bálint Máté | D23: 15/3 | F23: 15/1 | G23: 15/8 | H23: 15/7 | Q23: VII | R23: 40 | S23: 25 | T23: 18 | U23: 13 | V23: 8 | W23: 7 | X23: 6 | Y23: 5 | Z23: 4 | AA23: 3
Q24: VIII | R24: 25 | S24: 15 | T24: 13 | U24: 7 | V24: 6 | W24: 5 | X24: 4 | Y24: 3 | Z24: 2 | AA24: 1
D25: 1 FORDULÓ | E25: B - E | F25: C - D | Q25: W | R25: 15 | S25: 10 | T25: 8 | U25: 4 | V25: 3 | W25: 2 | X25: 1 | Y25: 0 | Z25: 0 | AA25: 0
D26: 2 FORDULÓ | E26: D - B | F26: E - A | Q26: X | R26: 10 | S26: 6 | T26: 4 | U26: 2 | V26: 1 | W26: 0 | X26: 0 | Y26: 0 | Z26: 0 | AA26: 0
D27: 3 FORDULÓ | E27: A - D | F27: B - C | Q27: XI | R27: 3 | S27: 2 | T27: 1 | U27: 0 | V27: 0 | W27: 0 | X27: 0 | Y27: 0 | Z27: 0 | AA27: 0
D28: 4 FORDULÓ | E28: C - A | F28: D - E
D29: 5 FORDULÓ | E29: A - B | F29: E - C
A33: Rangsor | D33: # | E33: Kiemeltek | H33: Helyettesíti | I33: Sorsolás időpontja
A34: Dátuma | I34: Utolsó elfogadott játékos
A35: Utolsó DA
I36: Sorsoló játékosok
I39: Versenybíró aláírása
I41: =J4 -> 0

Sheet I.L.B-D-4
A1: 2025/26. DO J-NK-SZ Vármegye | T1: =IF(Q5=1,CONCATENATE(VLOOKUP(Q3,S16:Z27,2)),CONCATENATE(VLOOKUP(Q3,S2:AC13,2))) -> #REF! | U1: =IF(Q5=1,CONCATENATE(VLOOKUP(Q3,S16:AC27,3)),CONCATENATE(VLOOKUP(Q3,S2:AC13,3))) -> #REF! | V1: =IF(Q5=1,CONCATENATE(VLOOKUP(Q3,S16:AC27,4)),CONCATENATE(VLOOKUP(Q3,S2:AC13,4))) -> #REF! | W1: =IF(Q5=1,CONCATENATE(VLOOKUP(Q3,S16:AC27,5)),CONCATENATE(VLOOKUP(Q3,S2:AC13,5))) -> #REF! | X1: =IF(Q5=1,CONCATENATE(VLOOKUP(Q3,S16:AC27,6)),CONCATENATE(VLOOKUP(Q3,S2:AC13,6))) -> #REF! | Y1: =IF(Q5=1,CONCATENATE(VLOOKUP(Q3,S16:AC27,7)),CONCATENATE(VLOOKUP(Q3,S2:AC13,7))) -> #REF! | Z1: =IF(Q5=1,CONCATENATE(VLOOKUP(Q3,S16:AC27,8)),CONCATENATE(VLOOKUP(Q3,S2:AC13,8))) -> #REF! | AA1: =IF(Q5=1,CONCATENATE(VLOOKUP(Q3,S16:AC27,9)),CONCATENATE(VLOOKUP(Q3,S2:AC13,9))) -> #REF! | AB1: =IF(Q5=1,CONCATENATE(VLOOKUP(Q3,S16:AC27,10)),CONCATENATE(VLOOKUP(Q3,S2:AC13,10))) -> #REF! | AC1: =IF(Q5=1,CONCATENATE(VLOOKUP(Q3,S16:AC27,11)),CONCATENATE(VLOOKUP(Q3,S2:AC13,11))) -> #REF!
A2: Versenyszám: | E2: I. L./B - Döntő | S2: A | T2: 150 | U2: 120 | V2: 100 | W2: 80 | X2: 70 | Y2: 60 | Z2: 55 | AA2: 50 | AB2: 45 | AC2: 40
A3: Dátum | E3: Város | K3: Versenybíró | Q3: =IF(#REF!="OB","A",IF(#REF!="IX","W",#REF!)) -> #REF! | S3: I | T3: 120 | U3: 90 | V3: 65 | W3: 55 | X3: 50 | Y3: 45 | Z3: 40 | AA3: 35 | AB3: 25 | AC3: 20
A4: 46135 | E4: =Altalanos!$C$10 -> Jászberény | K4: =Altalanos!$E$10 -> Sági István | S4: II | T4: 90 | U4: 60 | V4: 45 | W4: 34 | X4: 27 | Y4: 22 | Z4: 18 | AA4: 15 | AB4: 12 | AC4: 9
B5: kiem | C5: kódszám | D5: Rangsor | E5: Vezetéknév | G5: Egyesölet | I5: Helyezés | J5: Pontszám | K5: Bónusz | Q5: =IF(OR(Altalanos!$A$8="F1",Altalanos!$A$8="F2",Altalanos!$A$8="N1",Altalanos!$A$8="N2"),1,2) -> 2 | S5: III | T5: 60 | U5: 40 | V5: 30 | W5: 20 | X5: 18 | Y5: 15 | Z5: 12 | AA5: 10 | AB5: 8 | AC5: 6
S6: IV | T6: 40 | U6: 25 | V6: 18 | W6: 13 | X6: 10 | Y6: 8 | Z6: 6 | AA6: 5 | AB6: 4 | AC6: 3
A7: A | C7: =IF($B7="","",VLOOKUP($B7,#REF!,5)) | D7: =IF($B7="","",VLOOKUP($B7,#REF!,15)) | E7: Kovács Kata | G7: Jb Nagyboldog | I7: 2. | J7: 4 | S7: V | T7: 25 | U7: 15 | V7: 13 | W7: 8 | X7: 6 | Y7: 4 | Z7: 3 | AA7: 2 | AB7: 1 | AC7: 0
S8: VI | T8: 15 | U8: 10 | V8: 7 | W8: 5 | X8: 4 | Y8: 3 | Z8: 2 | AA8: 1 | AB8: 0 | AC8: 0
A9: B | C9: =IF($B9="","",VLOOKUP($B9,#REF!,5)) | D9: =IF($B9="","",VLOOKUP($B9,#REF!,15)) | E9: Munkácsi Frida | G9: Jb Nagyboldog | I9: 4. | J9: 0 | S9: VII | T9: 10 | U9: 6 | V9: 4 | W9: 2 | X9: 1 | Y9: 0 | Z9: 0 | AA9: 0 | AB9: 0 | AC9: 0
S10: VIII | T10: 6 | U10: 3 | V10: 2 | W10: 1 | X10: 0 | Y10: 0 | Z10: 0 | AA10: 0 | AB10: 0 | AC10: 0
A11: C | C11: =IF($B11="","",VLOOKUP($B11,#REF!,5)) | D11: =IF($B11="","",VLOOKUP($B11,#REF!,15)) | E11: Szabó Anna | G11: Szent István | I11: 3. | J11: 2 | S11: W | T11: 3 | U11: 2 | V11: 1 | W11: 0 | X11: 0 | Y11: 0 | Z11: 0 | AA11: 0 | AB11: 0 | AC11: 0
S12: X | T12: 0 | U12: 0 | V12: 0 | W12: 0 | X12: 0 | Y12: 0 | Z12: 0 | AA12: 0 | AB12: 0 | AC12: 0
A13: D | C13: =IF($B13="","",VLOOKUP($B13,#REF!,5)) | D13: =IF($B13="","",VLOOKUP($B13,#REF!,15)) | E13: Székely Szonja | G13: Szent István | I13: 1. | J13: 6 | S13: XI | T13: 0 | U13: 0 | V13: 0 | W13: 0 | X13: 0 | Y13: 0 | Z13: 0 | AA13: 0 | AB13: 0 | AC13: 0
S16: A | T16: 300 | U16: 250 | V16: 220 | W16: 180 | X16: 160 | Y16: 150 | Z16: 140 | AA16: 130 | AB16: 120 | AC16: 110
S17: I | T17: 250 | U17: 200 | V17: 160 | W17: 140 | X17: 120 | Y17: 110 | Z17: 100 | AA17: 90 | AB17: 80 | AC17: 70
D18: =E7 -> Kovács Kata | F18: =E9 -> Munkácsi Frida | G18: =E11 -> Szabó Anna | H18: =E13 -> Székely Szonja | S18: II | T18: 200 | U18: 150 | V18: 130 | W18: 110 | X18: 95 | Y18: 80 | Z18: 70 | AA18: 60 | AB18: 55 | AC18: 50
A19: A | B19: =E7 -> Kovács Kata | F19: 15/6 | G19: 15/11 | H19: 14/16 | S19: III | T19: 150 | U19: 120 | V19: 100 | W19: 80 | X19: 70 | Y19: 60 | Z19: 55 | AA19: 50 | AB19: 45 | AC19: 40
A20: B | B20: =E9 -> Munkácsi Frida | D20: 6/15 | G20: 11/15 | H20: 1/15 | S20: IV | T20: 120 | U20: 90 | V20: 65 | W20: 55 | X20: 50 | Y20: 45 | Z20: 40 | AA20: 35 | AB20: 25 | AC20: 20
A21: C | B21: =E11 -> Szabó Anna | D21: 11/15 | F21: 15/11 | H21: 13/15 | S21: V | T21: 90 | U21: 60 | V21: 45 | W21: 34 | X21: 27 | Y21: 22 | Z21: 18 | AA21: 15 | AB21: 12 | AC21: 9
A22: D | B22: =E13 -> Székely Szonja | D22: 16/14 | F22: 15/1 | G22: 15/13 | S22: VI | T22: 60 | U22: 40 | V22: 30 | W22: 20 | X22: 18 | Y22: 15 | Z22: 12 | AA22: 10 | AB22: 8 | AC22: 6
S23: VII | T23: 40 | U23: 25 | V23: 18 | W23: 13 | X23: 8 | Y23: 7 | Z23: 6 | AA23: 5 | AB23: 4 | AC23: 3
S24: VIII | T24: 25 | U24: 15 | V24: 13 | W24: 7 | X24: 6 | Y24: 5 | Z24: 4 | AA24: 3 | AB24: 2 | AC24: 1
C25: 1 FORDULÓ | D25: B - C | E25: A -D | S25: W | T25: 15 | U25: 10 | V25: 8 | W25: 4 | X25: 3 | Y25: 2 | Z25: 1 | AA25: 0 | AB25: 0 | AC25: 0
C26: 2 FORDULÓ | D26: C - A | E26: D - B | S26: X | T26: 10 | U26: 6 | V26: 4 | W26: 2 | X26: 1 | Y26: 0 | Z26: 0 | AA26: 0 | AB26: 0 | AC26: 0
C27: 3 FORDULÓ | D27: A - B | E27: C - D | S27: XI | T27: 3 | U27: 2 | V27: 1 | W27: 0 | X27: 0 | Y27: 0 | Z27: 0 | AA27: 0 | AB27: 0 | AC27: 0
A33: Rangsor | D33: # | E33: Kiemeltek | H33: Helyettesíti | I33: Sorsolás időpontja
A34: Dátuma | I34: Utolsó elfogadott játékos
A35: Utolsó DA
I36: Sorsoló játékosok
I39: Versenybíró aláírása
I41: =K4 -> Sági István

Sheet II.F.B-A.csop.
A1: 2025/26. DO J-NK-SZ Vármegye | T1: =IF(Q5=1,CONCATENATE(VLOOKUP(Q3,S16:Z27,2)),CONCATENATE(VLOOKUP(Q3,S2:AC13,2))) -> #REF! | U1: =IF(Q5=1,CONCATENATE(VLOOKUP(Q3,S16:AC27,3)),CONCATENATE(VLOOKUP(Q3,S2:AC13,3))) -> #REF! | V1: =IF(Q5=1,CONCATENATE(VLOOKUP(Q3,S16:AC27,4)),CONCATENATE(VLOOKUP(Q3,S2:AC13,4))) -> #REF! | W1: =IF(Q5=1,CONCATENATE(VLOOKUP(Q3,S16:AC27,5)),CONCATENATE(VLOOKUP(Q3,S2:AC13,5))) -> #REF! | X1: =IF(Q5=1,CONCATENATE(VLOOKUP(Q3,S16:AC27,6)),CONCATENATE(VLOOKUP(Q3,S2:AC13,6))) -> #REF! | Y1: =IF(Q5=1,CONCATENATE(VLOOKUP(Q3,S16:AC27,7)),CONCATENATE(VLOOKUP(Q3,S2:AC13,7))) -> #REF! | Z1: =IF(Q5=1,CONCATENATE(VLOOKUP(Q3,S16:AC27,8)),CONCATENATE(VLOOKUP(Q3,S2:AC13,8))) -> #REF! | AA1: =IF(Q5=1,CONCATENATE(VLOOKUP(Q3,S16:AC27,9)),CONCATENATE(VLOOKUP(Q3,S2:AC13,9))) -> #REF! | AB1: =IF(Q5=1,CONCATENATE(VLOOKUP(Q3,S16:AC27,10)),CONCATENATE(VLOOKUP(Q3,S2:AC13,10))) -> #REF! | AC1: =IF(Q5=1,CONCATENATE(VLOOKUP(Q3,S16:AC27,11)),CONCATENATE(VLOOKUP(Q3,S2:AC13,11))) -> #REF!
A2: Versenyszám: | E2: II. F./B - A. csoport | S2: A | T2: 150 | U2: 120 | V2: 100 | W2: 80 | X2: 70 | Y2: 60 | Z2: 55 | AA2: 50 | AB2: 45 | AC2: 40
A3: Dátum | E3: Város | K3: Versenybíró | Q3: =IF(#REF!="OB","A",IF(#REF!="IX","W",#REF!)) -> #REF! | S3: I | T3: 120 | U3: 90 | V3: 65 | W3: 55 | X3: 50 | Y3: 45 | Z3: 40 | AA3: 35 | AB3: 25 | AC3: 20
A4: 46135 | E4: =Altalanos!$C$10 -> Jászberény | K4: =Altalanos!$E$10 -> Sági István | S4: II | T4: 90 | U4: 60 | V4: 45 | W4: 34 | X4: 27 | Y4: 22 | Z4: 18 | AA4: 15 | AB4: 12 | AC4: 9
B5: kiem | C5: kódszám | D5: Rangsor | E5: Vezetéknév | G5: Egyesület | I5: Helyezés | J5: Pontszám | K5: Bónusz | Q5: =IF(OR(Altalanos!$A$8="F1",Altalanos!$A$8="F2",Altalanos!$A$8="N1",Altalanos!$A$8="N2"),1,2) -> 2 | S5: III | T5: 60 | U5: 40 | V5: 30 | W5: 20 | X5: 18 | Y5: 15 | Z5: 12 | AA5: 10 | AB5: 8 | AC5: 6
S6: IV | T6: 40 | U6: 25 | V6: 18 | W6: 13 | X6: 10 | Y6: 8 | Z6: 6 | AA6: 5 | AB6: 4 | AC6: 3
A7: A | C7: =IF($B7="","",VLOOKUP($B7,#REF!,5)) | D7: =IF($B7="","",VLOOKUP($B7,#REF!,15)) | E7: Koczka Ákos | G7: Szent István | I7: 2. | J7: 4 | S7: V | T7: 25 | U7: 15 | V7: 13 | W7: 8 | X7: 6 | Y7: 4 | Z7: 3 | AA7: 2 | AB7: 1 | AC7: 0
S8: VI | T8: 15 | U8: 10 | V8: 7 | W8: 5 | X8: 4 | Y8: 3 | Z8: 2 | AA8: 1 | AB8: 0 | AC8: 0
A9: B | C9: =IF($B9="","",VLOOKUP($B9,#REF!,5)) | D9: =IF($B9="","",VLOOKUP($B9,#REF!,15)) | E9: Ábrahám Zoltán | G9: Mezőtúr Szent István | I9: 1. | J9: 6 | S9: VII | T9: 10 | U9: 6 | V9: 4 | W9: 2 | X9: 1 | Y9: 0 | Z9: 0 | AA9: 0 | AB9: 0 | AC9: 0
S10: VIII | T10: 6 | U10: 3 | V10: 2 | W10: 1 | X10: 0 | Y10: 0 | Z10: 0 | AA10: 0 | AB10: 0 | AC10: 0
A11: C | C11: =IF($B11="","",VLOOKUP($B11,#REF!,5)) | D11: =IF($B11="","",VLOOKUP($B11,#REF!,15)) | E11: Cseh Edvin Gábor | G11: Bercsényi | I11: 3. | J11: 2 | S11: W | T11: 3 | U11: 2 | V11: 1 | W11: 0 | X11: 0 | Y11: 0 | Z11: 0 | AA11: 0 | AB11: 0 | AC11: 0
S12: X | T12: 0 | U12: 0 | V12: 0 | W12: 0 | X12: 0 | Y12: 0 | Z12: 0 | AA12: 0 | AB12: 0 | AC12: 0
A13: D | C13: =IF($B13="","",VLOOKUP($B13,#REF!,5)) | D13: =IF($B13="","",VLOOKUP($B13,#REF!,15)) | E13: Molnár Benedek | G13: Nagyboldog | I13: 4. | J13: 0 | S13: XI | T13: 0 | U13: 0 | V13: 0 | W13: 0 | X13: 0 | Y13: 0 | Z13: 0 | AA13: 0 | AB13: 0 | AC13: 0
S16: A | T16: 300 | U16: 250 | V16: 220 | W16: 180 | X16: 160 | Y16: 150 | Z16: 140 | AA16: 130 | AB16: 120 | AC16: 110
S17: I | T17: 250 | U17: 200 | V17: 160 | W17: 140 | X17: 120 | Y17: 110 | Z17: 100 | AA17: 90 | AB17: 80 | AC17: 70
D18: Koczka Ákos | F18: Ábrahám Zoltán | G18: Cseh Edvin Gábor | H18: Molnár Benedek | S18: II | T18: 200 | U18: 150 | V18: 130 | W18: 110 | X18: 95 | Y18: 80 | Z18: 70 | AA18: 60 | AB18: 55 | AC18: 50
A19: A | B19: Koczka Ákos | F19: 5/7 10/12 | G19: 7/5 7/0 | H19: 7/0 7/1 | S19: III | T19: 150 | U19: 120 | V19: 100 | W19: 80 | X19: 70 | Y19: 60 | Z19: 55 | AA19: 50 | AB19: 45 | AC19: 40
A20: B | B20: Ábrahám Zoltán | D20: 7/5 12/10 | G20: 7/1 7/3 | H20: 7/5 7/0 | S20: IV | T20: 120 | U20: 90 | V20: 65 | W20: 55 | X20: 50 | Y20: 45 | Z20: 40 | AA20: 35 | AB20: 25 | AC20: 20
A21: C | B21: Cseh Edvin Gábor | D21: 5/7 0/7 | F21: 1/7 3/7 | H21: 7/1 7/0 | S21: V | T21: 90 | U21: 60 | V21: 45 | W21: 34 | X21: 27 | Y21: 22 | Z21: 18 | AA21: 15 | AB21: 12 | AC21: 9
A22: D | B22: Molnár Benedek | D22: 0/7 1/7 | F22: 5/7 0/7 | G22: 1/7 0/7 | S22: VI | T22: 60 | U22: 40 | V22: 30 | W22: 20 | X22: 18 | Y22: 15 | Z22: 12 | AA22: 10 | AB22: 8 | AC22: 6
S23: VII | T23: 40 | U23: 25 | V23: 18 | W23: 13 | X23: 8 | Y23: 7 | Z23: 6 | AA23: 5 | AB23: 4 | AC23: 3
S24: VIII | T24: 25 | U24: 15 | V24: 13 | W24: 7 | X24: 6 | Y24: 5 | Z24: 4 | AA24: 3 | AB24: 2 | AC24: 1
C25: 1 FORDULÓ | D25: B - C | E25: A -D | S25: W | T25: 15 | U25: 10 | V25: 8 | W25: 4 | X25: 3 | Y25: 2 | Z25: 1 | AA25: 0 | AB25: 0 | AC25: 0
C26: 2 FORDULÓ | D26: C - A | E26: D - B | S26: X | T26: 10 | U26: 6 | V26: 4 | W26: 2 | X26: 1 | Y26: 0 | Z26: 0 | AA26: 0 | AB26: 0 | AC26: 0
C27: 3 FORDULÓ | D27: A - B | E27: C - D | S27: XI | T27: 3 | U27: 2 | V27: 1 | W27: 0 | X27: 0 | Y27: 0 | Z27: 0 | AA27: 0 | AB27: 0 | AC27: 0
A33: Rangsor | D33: # | E33: Kiemeltek | H33: Helyettesíti | I33: Sorsolás időpontja
A34: Dátuma | I34: Utolsó elfogadott játékos
A35: Utolsó DA
I36: Sorsoló játékosok
I39: Versenybíró aláírása
I41: =K4 -> Sági István

Sheet II.F.B-B.csop.
A1: 2025/26. DO J-NK-SZ Vármegye | T1: =IF(Q5=1,CONCATENATE(VLOOKUP(Q3,S16:Z27,2)),CONCATENATE(VLOOKUP(Q3,S2:AC13,2))) -> #REF! | U1: =IF(Q5=1,CONCATENATE(VLOOKUP(Q3,S16:AC27,3)),CONCATENATE(VLOOKUP(Q3,S2:AC13,3))) -> #REF! | V1: =IF(Q5=1,CONCATENATE(VLOOKUP(Q3,S16:AC27,4)),CONCATENATE(VLOOKUP(Q3,S2:AC13,4))) -> #REF! | W1: =IF(Q5=1,CONCATENATE(VLOOKUP(Q3,S16:AC27,5)),CONCATENATE(VLOOKUP(Q3,S2:AC13,5))) -> #REF! | X1: =IF(Q5=1,CONCATENATE(VLOOKUP(Q3,S16:AC27,6)),CONCATENATE(VLOOKUP(Q3,S2:AC13,6))) -> #REF! | Y1: =IF(Q5=1,CONCATENATE(VLOOKUP(Q3,S16:AC27,7)),CONCATENATE(VLOOKUP(Q3,S2:AC13,7))) -> #REF! | Z1: =IF(Q5=1,CONCATENATE(VLOOKUP(Q3,S16:AC27,8)),CONCATENATE(VLOOKUP(Q3,S2:AC13,8))) -> #REF! | AA1: =IF(Q5=1,CONCATENATE(VLOOKUP(Q3,S16:AC27,9)),CONCATENATE(VLOOKUP(Q3,S2:AC13,9))) -> #REF! | AB1: =IF(Q5=1,CONCATENATE(VLOOKUP(Q3,S16:AC27,10)),CONCATENATE(VLOOKUP(Q3,S2:AC13,10))) -> #REF! | AC1: =IF(Q5=1,CONCATENATE(VLOOKUP(Q3,S16:AC27,11)),CONCATENATE(VLOOKUP(Q3,S2:AC13,11))) -> #REF!
A2: Versenyszám: | E2: II. F./B - B. csoport | S2: A | T2: 150 | U2: 120 | V2: 100 | W2: 80 | X2: 70 | Y2: 60 | Z2: 55 | AA2: 50 | AB2: 45 | AC2: 40
A3: Dátum | E3: Város | K3: Versenybíró | Q3: =IF(#REF!="OB","A",IF(#REF!="IX","W",#REF!)) -> #REF! | S3: I | T3: 120 | U3: 90 | V3: 65 | W3: 55 | X3: 50 | Y3: 45 | Z3: 40 | AA3: 35 | AB3: 25 | AC3: 20
A4: 46135 | E4: =Altalanos!$C$10 -> Jászberény | K4: =Altalanos!$E$10 -> Sági István | S4: II | T4: 90 | U4: 60 | V4: 45 | W4: 34 | X4: 27 | Y4: 22 | Z4: 18 | AA4: 15 | AB4: 12 | AC4: 9
B5: kiem | C5: kódszám | D5: Rangsor | E5: Vezetéknév | G5: Egyesület | I5: Helyezés | J5: Pontszám | K5: Bónusz | Q5: =IF(OR(Altalanos!$A$8="F1",Altalanos!$A$8="F2",Altalanos!$A$8="N1",Altalanos!$A$8="N2"),1,2) -> 2 | S5: III | T5: 60 | U5: 40 | V5: 30 | W5: 20 | X5: 18 | Y5: 15 | Z5: 12 | AA5: 10 | AB5: 8 | AC5: 6
S6: IV | T6: 40 | U6: 25 | V6: 18 | W6: 13 | X6: 10 | Y6: 8 | Z6: 6 | AA6: 5 | AB6: 4 | AC6: 3
A7: A | C7: =IF($B7="","",VLOOKUP($B7,#REF!,5)) | D7: =IF($B7="","",VLOOKUP($B7,#REF!,15)) | E7: Tóth Benedek | G7: Nagyboldog | I7: 1. | J7: 6 | S7: V | T7: 25 | U7: 15 | V7: 13 | W7: 8 | X7: 6 | Y7: 4 | Z7: 3 | AA7: 2 | AB7: 1 | AC7: 0
S8: VI | T8: 15 | U8: 10 | V8: 7 | W8: 5 | X8: 4 | Y8: 3 | Z8: 2 | AA8: 1 | AB8: 0 | AC8: 0
A9: B | C9: =IF($B9="","",VLOOKUP($B9,#REF!,5)) | D9: =IF($B9="","",VLOOKUP($B9,#REF!,15)) | E9: Sárközi Levente | G9: Bercsényi | I9: 3. | J9: 2 | S9: VII | T9: 10 | U9: 6 | V9: 4 | W9: 2 | X9: 1 | Y9: 0 | Z9: 0 | AA9: 0 | AB9: 0 | AC9: 0
S10: VIII | T10: 6 | U10: 3 | V10: 2 | W10: 1 | X10: 0 | Y10: 0 | Z10: 0 | AA10: 0 | AB10: 0 | AC10: 0
A11: C | C11: =IF($B11="","",VLOOKUP($B11,#REF!,5)) | D11: =IF($B11="","",VLOOKUP($B11,#REF!,15)) | E11: Pócz-Nagy Benett | G11: Bercsényi | I11: 2. | J11: 4 | S11: W | T11: 3 | U11: 2 | V11: 1 | W11: 0 | X11: 0 | Y11: 0 | Z11: 0 | AA11: 0 | AB11: 0 | AC11: 0
S12: X | T12: 0 | U12: 0 | V12: 0 | W12: 0 | X12: 0 | Y12: 0 | Z12: 0 | AA12: 0 | AB12: 0 | AC12: 0
A13: D | C13: =IF($B13="","",VLOOKUP($B13,#REF!,5)) | D13: =IF($B13="","",VLOOKUP($B13,#REF!,15)) | E13: Molnár Zalán Lehel | G13: Nagyboldog | I13: 4. | J13: 0 | S13: XI | T13: 0 | U13: 0 | V13: 0 | W13: 0 | X13: 0 | Y13: 0 | Z13: 0 | AA13: 0 | AB13: 0 | AC13: 0
S16: A | T16: 300 | U16: 250 | V16: 220 | W16: 180 | X16: 160 | Y16: 150 | Z16: 140 | AA16: 130 | AB16: 120 | AC16: 110
S17: I | T17: 250 | U17: 200 | V17: 160 | W17: 140 | X17: 120 | Y17: 110 | Z17: 100 | AA17: 90 | AB17: 80 | AC17: 70
D18: Tóth Benedek | F18: Sárközi Levente | G18: Pócz-Nagy Benett | H18: Molnár Zalán Lehel | S18: II | T18: 200 | U18: 150 | V18: 130 | W18: 110 | X18: 95 | Y18: 80 | Z18: 70 | AA18: 60 | AB18: 55 | AC18: 50
A19: A | B19: Tóth Benedek | F19: 7/5 7/5 | G19: 7/5 11/9 | H19: 7/3 7/5 | S19: III | T19: 150 | U19: 120 | V19: 100 | W19: 80 | X19: 70 | Y19: 60 | Z19: 55 | AA19: 50 | AB19: 45 | AC19: 40
A20: B | B20: Sárközi Levente | D20: 5/7 5/7 | G20: 6/8 7/9 | H20: 7/5 7/3 | S20: IV | T20: 120 | U20: 90 | V20: 65 | W20: 55 | X20: 50 | Y20: 45 | Z20: 40 | AA20: 35 | AB20: 25 | AC20: 20
A21: C | B21: Pócz-Nagy Benett | D21: 5/7 9/11 | F21: 8/6 9/7 | H21: 13/11 7/2 | S21: V | T21: 90 | U21: 60 | V21: 45 | W21: 34 | X21: 27 | Y21: 22 | Z21: 18 | AA21: 15 | AB21: 12 | AC21: 9
A22: D | B22: Molnár Zalán Lehel | D22: 3/7 5/7 | F22: 5/7 3/7 | G22: 11/13 2/7 | S22: VI | T22: 60 | U22: 40 | V22: 30 | W22: 20 | X22: 18 | Y22: 15 | Z22: 12 | AA22: 10 | AB22: 8 | AC22: 6
S23: VII | T23: 40 | U23: 25 | V23: 18 | W23: 13 | X23: 8 | Y23: 7 | Z23: 6 | AA23: 5 | AB23: 4 | AC23: 3
S24: VIII | T24: 25 | U24: 15 | V24: 13 | W24: 7 | X24: 6 | Y24: 5 | Z24: 4 | AA24: 3 | AB24: 2 | AC24: 1
C25: 1 FORDULÓ | D25: B - C | E25: A -D | S25: W | T25: 15 | U25: 10 | V25: 8 | W25: 4 | X25: 3 | Y25: 2 | Z25: 1 | AA25: 0 | AB25: 0 | AC25: 0
C26: 2 FORDULÓ | D26: C - A | E26: D - B | S26: X | T26: 10 | U26: 6 | V26: 4 | W26: 2 | X26: 1 | Y26: 0 | Z26: 0 | AA26: 0 | AB26: 0 | AC26: 0
C27: 3 FORDULÓ | D27: A - B | E27: C - D | S27: XI | T27: 3 | U27: 2 | V27: 1 | W27: 0 | X27: 0 | Y27: 0 | Z27: 0 | AA27: 0 | AB27: 0 | AC27: 0
A33: Rangsor | D33: # | E33: Kiemeltek | H33: Helyettesíti | I33: Sorsolás időpontja
A34: Dátuma | I34: Utolsó elfogadott játékos
A35: Utolsó DA
I36: Sorsoló játékosok
I39: Versenybíró aláírása
I41: =K4 -> Sági István

Sheet II.F.B-C.csop.
A1: 2025/26. DO J-NK-SZ Vármegye | T1: =IF(Q5=1,CONCATENATE(VLOOKUP(Q3,S16:Z27,2)),CONCATENATE(VLOOKUP(Q3,S2:AC13,2))) -> #REF! | U1: =IF(Q5=1,CONCATENATE(VLOOKUP(Q3,S16:AC27,3)),CONCATENATE(VLOOKUP(Q3,S2:AC13,3))) -> #REF! | V1: =IF(Q5=1,CONCATENATE(VLOOKUP(Q3,S16:AC27,4)),CONCATENATE(VLOOKUP(Q3,S2:AC13,4))) -> #REF! | W1: =IF(Q5=1,CONCATENATE(VLOOKUP(Q3,S16:AC27,5)),CONCATENATE(VLOOKUP(Q3,S2:AC13,5))) -> #REF! | X1: =IF(Q5=1,CONCATENATE(VLOOKUP(Q3,S16:AC27,6)),CONCATENATE(VLOOKUP(Q3,S2:AC13,6))) -> #REF! | Y1: =IF(Q5=1,CONCATENATE(VLOOKUP(Q3,S16:AC27,7)),CONCATENATE(VLOOKUP(Q3,S2:AC13,7))) -> #REF! | Z1: =IF(Q5=1,CONCATENATE(VLOOKUP(Q3,S16:AC27,8)),CONCATENATE(VLOOKUP(Q3,S2:AC13,8))) -> #REF! | AA1: =IF(Q5=1,CONCATENATE(VLOOKUP(Q3,S16:AC27,9)),CONCATENATE(VLOOKUP(Q3,S2:AC13,9))) -> #REF! | AB1: =IF(Q5=1,CONCATENATE(VLOOKUP(Q3,S16:AC27,10)),CONCATENATE(VLOOKUP(Q3,S2:AC13,10))) -> #REF! | AC1: =IF(Q5=1,CONCATENATE(VLOOKUP(Q3,S16:AC27,11)),CONCATENATE(VLOOKUP(Q3,S2:AC13,11))) -> #REF!
A2: Versenyszám: | E2: II. F./B - C. csoport | S2: A | T2: 150 | U2: 120 | V2: 100 | W2: 80 | X2: 70 | Y2: 60 | Z2: 55 | AA2: 50 | AB2: 45 | AC2: 40
A3: Dátum | E3: Város | K3: Versenybíró | Q3: =IF(#REF!="OB","A",IF(#REF!="IX","W",#REF!)) -> #REF! | S3: I | T3: 120 | U3: 90 | V3: 65 | W3: 55 | X3: 50 | Y3: 45 | Z3: 40 | AA3: 35 | AB3: 25 | AC3: 20
A4: 46135 | E4: =Altalanos!$C$10 -> Jászberény | K4: =Altalanos!$E$10 -> Sági István | S4: II | T4: 90 | U4: 60 | V4: 45 | W4: 34 | X4: 27 | Y4: 22 | Z4: 18 | AA4: 15 | AB4: 12 | AC4: 9
B5: kiem | C5: kódszám | D5: Rangsor | E5: Vezetéknév | G5: Egyesület | I5: Helyezés | J5: Pontszám | K5: Bónusz | Q5: =IF(OR(Altalanos!$A$8="F1",Altalanos!$A$8="F2",Altalanos!$A$8="N1",Altalanos!$A$8="N2"),1,2) -> 2 | S5: III | T5: 60 | U5: 40 | V5: 30 | W5: 20 | X5: 18 | Y5: 15 | Z5: 12 | AA5: 10 | AB5: 8 | AC5: 6
S6: IV | T6: 40 | U6: 25 | V6: 18 | W6: 13 | X6: 10 | Y6: 8 | Z6: 6 | AA6: 5 | AB6: 4 | AC6: 3
A7: A | C7: =IF($B7="","",VLOOKUP($B7,#REF!,5)) | D7: =IF($B7="","",VLOOKUP($B7,#REF!,15)) | E7: Sebestyén Nolen | G7: Nagyboldog | I7: 3. | J7: 2 | S7: V | T7: 25 | U7: 15 | V7: 13 | W7: 8 | X7: 6 | Y7: 4 | Z7: 3 | AA7: 2 | AB7: 1 | AC7: 0
S8: VI | T8: 15 | U8: 10 | V8: 7 | W8: 5 | X8: 4 | Y8: 3 | Z8: 2 | AA8: 1 | AB8: 0 | AC8: 0
A9: B | C9: =IF($B9="","",VLOOKUP($B9,#REF!,5)) | D9: =IF($B9="","",VLOOKUP($B9,#REF!,15)) | E9: Zsólyomi Zsombor | G9: Szent István | I9: 2. | J9: 4 | S9: VII | T9: 10 | U9: 6 | V9: 4 | W9: 2 | X9: 1 | Y9: 0 | Z9: 0 | AA9: 0 | AB9: 0 | AC9: 0
S10: VIII | T10: 6 | U10: 3 | V10: 2 | W10: 1 | X10: 0 | Y10: 0 | Z10: 0 | AA10: 0 | AB10: 0 | AC10: 0
A11: C | C11: =IF($B11="","",VLOOKUP($B11,#REF!,5)) | D11: =IF($B11="","",VLOOKUP($B11,#REF!,15)) | E11: Vámos Donát | G11: Bercsényi | I11: 4. | J11: 0 | S11: W | T11: 3 | U11: 2 | V11: 1 | W11: 0 | X11: 0 | Y11: 0 | Z11: 0 | AA11: 0 | AB11: 0 | AC11: 0
S12: X | T12: 0 | U12: 0 | V12: 0 | W12: 0 | X12: 0 | Y12: 0 | Z12: 0 | AA12: 0 | AB12: 0 | AC12: 0
A13: D | C13: =IF($B13="","",VLOOKUP($B13,#REF!,5)) | D13: =IF($B13="","",VLOOKUP($B13,#REF!,15)) | E13: Szabó Mátyás | G13: Nagyboldog | I13: 1. | J13: 6 | S13: XI | T13: 0 | U13: 0 | V13: 0 | W13: 0 | X13: 0 | Y13: 0 | Z13: 0 | AA13: 0 | AB13: 0 | AC13: 0
S16: A | T16: 300 | U16: 250 | V16: 220 | W16: 180 | X16: 160 | Y16: 150 | Z16: 140 | AA16: 130 | AB16: 120 | AC16: 110
S17: I | T17: 250 | U17: 200 | V17: 160 | W17: 140 | X17: 120 | Y17: 110 | Z17: 100 | AA17: 90 | AB17: 80 | AC17: 70
D18: Sebestyén Nolen | F18: Zsólyomi Zsombor | G18: Vámos Donát | H18: Szabó Mátyás | S18: II | T18: 200 | U18: 150 | V18: 130 | W18: 110 | X18: 95 | Y18: 80 | Z18: 70 | AA18: 60 | AB18: 55 | AC18: 50
A19: A | B19: Sebestyén Nolen | F19: 7/5 4/7 2/5 | G19: 7/3 7/2 | H19: 5/7 7/5 1/5 | S19: III | T19: 150 | U19: 120 | V19: 100 | W19: 80 | X19: 70 | Y19: 60 | Z19: 55 | AA19: 50 | AB19: 45 | AC19: 40
A20: B | B20: Zsólyomi Zsombor | D20: 5/7 7/4 5/2 | G20: 7/1 7/1 | H20: 7/4 5/7 4/5 | S20: IV | T20: 120 | U20: 90 | V20: 65 | W20: 55 | X20: 50 | Y20: 45 | Z20: 40 | AA20: 35 | AB20: 25 | AC20: 20
A21: C | B21: Vámos Donát | D21: 3/7 2/7 | F21: 1/7 1/7 | H21: 3/7 0/7 | S21: V | T21: 90 | U21: 60 | V21: 45 | W21: 34 | X21: 27 | Y21: 22 | Z21: 18 | AA21: 15 | AB21: 12 | AC21: 9
A22: D | B22: Szabó Mátyás | D22: 7/5 5/7 5/1 | F22: 4/7 7/5 5/4 | G22: 7/3 7/0 | S22: VI | T22: 60 | U22: 40 | V22: 30 | W22: 20 | X22: 18 | Y22: 15 | Z22: 12 | AA22: 10 | AB22: 8 | AC22: 6
S23: VII | T23: 40 | U23: 25 | V23: 18 | W23: 13 | X23: 8 | Y23: 7 | Z23: 6 | AA23: 5 | AB23: 4 | AC23: 3
S24: VIII | T24: 25 | U24: 15 | V24: 13 | W24: 7 | X24: 6 | Y24: 5 | Z24: 4 | AA24: 3 | AB24: 2 | AC24: 1
C25: 1 FORDULÓ | D25: B - C | E25: A -D | S25: W | T25: 15 | U25: 10 | V25: 8 | W25: 4 | X25: 3 | Y25: 2 | Z25: 1 | AA25: 0 | AB25: 0 | AC25: 0
C26: 2 FORDULÓ | D26: C - A | E26: D - B | S26: X | T26: 10 | U26: 6 | V26: 4 | W26: 2 | X26: 1 | Y26: 0 | Z26: 0 | AA26: 0 | AB26: 0 | AC26: 0
C27: 3 FORDULÓ | D27: A - B | E27: C - D | S27: XI | T27: 3 | U27: 2 | V27: 1 | W27: 0 | X27: 0 | Y27: 0 | Z27: 0 | AA27: 0 | AB27: 0 | AC27: 0
A33: Rangsor | D33: # | E33: Kiemeltek | H33: Helyettesíti | I33: Sorsolás időpontja
A34: Dátuma | I34: Utolsó elfogadott játékos
A35: Utolsó DA
I36: Sorsoló játékosok
I39: Versenybíró aláírása
I41: =K4 -> Sági István

Sheet II.F.B-D.csop.
A1: 2025/26. DO J-NK-SZ Vármegye | W1: =IF(T5=1,CONCATENATE(VLOOKUP(T3,V16:AC27,2)),CONCATENATE(VLOOKUP(T3,V2:AF13,2))) -> #REF! | X1: =IF(T5=1,CONCATENATE(VLOOKUP(T3,V16:AF27,3)),CONCATENATE(VLOOKUP(T3,V2:AF13,3))) -> #REF! | Y1: =IF(T5=1,CONCATENATE(VLOOKUP(T3,V16:AF27,4)),CONCATENATE(VLOOKUP(T3,V2:AF13,4))) -> #REF! | Z1: =IF(T5=1,CONCATENATE(VLOOKUP(T3,V16:AF27,5)),CONCATENATE(VLOOKUP(T3,V2:AF13,5))) -> #REF! | AA1: =IF(T5=1,CONCATENATE(VLOOKUP(T3,V16:AF27,6)),CONCATENATE(VLOOKUP(T3,V2:AF13,6))) -> #REF! | AB1: =IF(T5=1,CONCATENATE(VLOOKUP(T3,V16:AF27,7)),CONCATENATE(VLOOKUP(T3,V2:AF13,7))) -> #REF! | AC1: =IF(T5=1,CONCATENATE(VLOOKUP(T3,V16:AF27,8)),CONCATENATE(VLOOKUP(T3,V2:AF13,8))) -> #REF! | AD1: =IF(T5=1,CONCATENATE(VLOOKUP(T3,V16:AF27,9)),CONCATENATE(VLOOKUP(T3,V2:AF13,9))) -> #REF! | AE1: =IF(T5=1,CONCATENATE(VLOOKUP(T3,V16:AF27,10)),CONCATENATE(VLOOKUP(T3,V2:AF13,10))) -> #REF! | AF1: =IF(T5=1,CONCATENATE(VLOOKUP(T3,V16:AF27,11)),CONCATENATE(VLOOKUP(T3,V2:AF13,11))) -> #REF!
A2: Versenyszám: | E2: II. F./B - D. csoport | V2: A | W2: 150 | X2: 120 | Y2: 100 | Z2: 80 | AA2: 70 | AB2: 60 | AC2: 55 | AD2: 50 | AE2: 45 | AF2: 40
A3: Dátum | E3: Város | I3: Versenybíró | T3: =IF(#REF!="OB","A",IF(#REF!="IX","W",#REF!)) -> #REF! | V3: I | W3: 120 | X3: 90 | Y3: 65 | Z3: 55 | AA3: 50 | AB3: 45 | AC3: 40 | AD3: 35 | AE3: 25 | AF3: 20
A4: 46135 | E4: =Altalanos!$C$10 -> Jászberény | I4: =Altalanos!$E$10 -> Sági István | V4: II | W4: 90 | X4: 60 | Y4: 45 | Z4: 34 | AA4: 27 | AB4: 22 | AC4: 18 | AD4: 15 | AE4: 12 | AF4: 9
B5: kiem | C5: kódszám | D5: Rangsor | E5: Vezetéknév | H5: Helyezés | I5: Pontszám | J5: Bónusz | T5: =IF(OR(Altalanos!$A$8="F1",Altalanos!$A$8="F2",Altalanos!$A$8="N1",Altalanos!$A$8="N2"),1,2) -> 2 | V5: III | W5: 60 | X5: 40 | Y5: 30 | Z5: 20 | AA5: 18 | AB5: 15 | AC5: 12 | AD5: 10 | AE5: 8 | AF5: 6
V6: IV | W6: 40 | X6: 25 | Y6: 18 | Z6: 13 | AA6: 10 | AB6: 8 | AC6: 6 | AD6: 5 | AE6: 4 | AF6: 3
A7: A | C7: =IF($B7="","",VLOOKUP($B7,#REF!,5)) | D7: =IF($B7="","",VLOOKUP($B7,#REF!,15)) | E7: Kovács Milán Zétény | G7: Nagyboldog | H7: 1. | I7: 4 | V7: V | W7: 25 | X7: 15 | Y7: 13 | Z7: 8 | AA7: 6 | AB7: 4 | AC7: 3 | AD7: 2 | AE7: 1 | AF7: 0
V8: VI | W8: 15 | X8: 10 | Y8: 7 | Z8: 5 | AA8: 4 | AB8: 3 | AC8: 2 | AD8: 1 | AE8: 0 | AF8: 0
A9: B | C9: =IF($B9="","",VLOOKUP($B9,#REF!,5)) | D9: =IF($B9="","",VLOOKUP($B9,#REF!,15)) | E9: Hamar Lőrinc | G9: Szent István | H9: 2. | I9: 2 | V9: VII | W9: 10 | X9: 6 | Y9: 4 | Z9: 2 | AA9: 1 | AB9: 0 | AC9: 0 | AD9: 0 | AE9: 0 | AF9: 0
V10: VIII | W10: 6 | X10: 3 | Y10: 2 | Z10: 1 | AA10: 0 | AB10: 0 | AC10: 0 | AD10: 0 | AE10: 0 | AF10: 0
A11: C | C11: =IF($B11="","",VLOOKUP($B11,#REF!,5)) | D11: =IF($B11="","",VLOOKUP($B11,#REF!,15)) | E11: Oláh Levente László | G11: Gróf Apponyi | H11: 3. | I11: 0 | V11: W | W11: 3 | X11: 2 | Y11: 1 | Z11: 0 | AA11: 0 | AB11: 0 | AC11: 0 | AD11: 0 | AE11: 0 | AF11: 0
V12: X | W12: 0 | X12: 0 | Y12: 0 | Z12: 0 | AA12: 0 | AB12: 0 | AC12: 0 | AD12: 0 | AE12: 0 | AF12: 0
V13: XI | W13: 0 | X13: 0 | Y13: 0 | Z13: 0 | AA13: 0 | AB13: 0 | AC13: 0 | AD13: 0 | AE13: 0 | AF13: 0
V16: A | W16: 300 | X16: 250 | Y16: 220 | Z16: 180 | AA16: 160 | AB16: 150 | AC16: 140 | AD16: 130 | AE16: 120 | AF16: 110
V17: I | W17: 250 | X17: 200 | Y17: 160 | Z17: 140 | AA17: 120 | AB17: 110 | AC17: 100 | AD17: 90 | AE17: 80 | AF17: 70
D18: =E7 -> Kovács Milán Zétény | F18: =E9 -> Hamar Lőrinc | G18: =E11 -> Oláh Levente László | V18: II | W18: 200 | X18: 150 | Y18: 130 | Z18: 110 | AA18: 95 | AB18: 80 | AC18: 70 | AD18: 60 | AE18: 55 | AF18: 50
A19: A | B19: =E7 -> Kovács Milán Zétény | F19: 7/2 4/7 5/1 | G19: 7/1 7/2 | V19: III | W19: 150 | X19: 120 | Y19: 100 | Z19: 80 | AA19: 70 | AB19: 60 | AC19: 55 | AD19: 50 | AE19: 45 | AF19: 40
A20: B | B20: =E9 -> Hamar Lőrinc | D20: 2/7 7/4 1/5 | G20: 7/3 7/2 | V20: IV | W20: 120 | X20: 90 | Y20: 65 | Z20: 55 | AA20: 50 | AB20: 45 | AC20: 40 | AD20: 35 | AE20: 25 | AF20: 20
A21: C | B21: =E11 -> Oláh Levente László | D21: 3/7 2/7 | F21: 3/7 2/7 | V21: V | W21: 90 | X21: 60 | Y21: 45 | Z21: 34 | AA21: 27 | AB21: 22 | AC21: 18 | AD21: 15 | AE21: 12 | AF21: 9
V22: VI | W22: 60 | X22: 40 | Y22: 30 | Z22: 20 | AA22: 18 | AB22: 15 | AC22: 12 | AD22: 10 | AE22: 8 | AF22: 6
C23: 1 FORDULÓ | D23: B - C | V23: VII | W23: 40 | X23: 25 | Y23: 18 | Z23: 13 | AA23: 8 | AB23: 7 | AC23: 6 | AD23: 5 | AE23: 4 | AF23: 3
C24: 2 FORDULÓ | D24: C - A | V24: VIII | W24: 25 | X24: 15 | Y24: 13 | Z24: 7 | AA24: 6 | AB24: 5 | AC24: 4 | AD24: 3 | AE24: 2 | AF24: 1
C25: 3 FORDULÓ | D25: A - B | V25: W | W25: 15 | X25: 10 | Y25: 8 | Z25: 4 | AA25: 3 | AB25: 2 | AC25: 1 | AD25: 0 | AE25: 0 | AF25: 0
V26: X | W26: 10 | X26: 6 | Y26: 4 | Z26: 2 | AA26: 1 | AB26: 0 | AC26: 0 | AD26: 0 | AE26: 0 | AF26: 0
V27: XI | W27: 3 | X27: 2 | Y27: 1 | Z27: 0 | AA27: 0 | AB27: 0 | AC27: 0 | AD27: 0 | AE27: 0 | AF27: 0
A33: Rangsor | D33: # | E33: Kiemeltek | H33: Sorsolás időpontja
A34: Dátuma | H34: Utolsó elfogadott játékos
A35: Utolsó DA
H36: Sorsoló játékosok
H39: Versenybíró aláírása
H41: =I4 -> Sági István

Sheet II.F.B-Döntő-4
A1: =Altalanos!$A$6 -> 2025/26. DO J-NK-SZ Vármegye | G1: Egyéni főtábla | X1: =IF($U$5=1,CONCATENATE(VLOOKUP($U$3,$W$2:$AD$14,2)),CONCATENATE(VLOOKUP($U$3,$W$16:$AD$25,2))) -> #N/A | Y1: =IF($U$5=1,CONCATENATE(VLOOKUP($U$3,$W$2:$AD$14,3)),CONCATENATE(VLOOKUP($U$3,$W$16:$AD$25,3))) -> #N/A | Z1: =IF($U$5=1,CONCATENATE(VLOOKUP($U$3,$W$2:$AD$14,4)),CONCATENATE(VLOOKUP($U$3,$W$16:$AD$25,4))) -> #N/A | AA1: =IF($U$5=1,CONCATENATE(VLOOKUP($U$3,$W$2:$AD$14,5)),CONCATENATE(VLOOKUP($U$3,$W$16:$AD$25,5))) -> #N/A | AB1: =IF($U$5=1,CONCATENATE(VLOOKUP($U$3,$W$2:$AD$14,6)),CONCATENATE(VLOOKUP($U$3,$W$16:$AD$25,6))) -> #N/A | AC1: =IF($U$5=1,CONCATENATE(VLOOKUP($U$3,$W$2:$AD$14,7)),CONCATENATE(VLOOKUP($U$3,$W$16:$AD$25,7))) -> #N/A | AD1: =IF($U$5=1,CONCATENATE(VLOOKUP($U$3,$W$2:$AD$14,8)),CONCATENATE(VLOOKUP($U$3,$W$16:$AD$25,8))) -> #N/A
A2: Versenyszám: | E2: II. F./B - Döntő | W2: A | X2: 300 | Y2: 250 | Z2: 200 | AA2: 150 | AB2: 120 | AC2: 90 | AD2: 40
A3: Dátum | G3: Kategória | N3: Versenybíró | U3: =IF(G4="OB","A",IF(G4="IX","W",IF(G4="","",G4))) | W3: B | X3: 280 | Y3: 230 | Z3: 180 | AA3: 140 | AB3: 80 | AC3: 0 | AD3: 0
A4: 46136 | N4: =Altalanos!$E$10 -> Sági István | W4: I | X4: 250 | Y4: 200 | Z4: 150 | AA4: 120 | AB4: 90 | AC4: 60 | AD4: 25
B5: St. | C5: Rangsor | D5: kód | E5: Kiem | G5: 2. forduló | I5: Döntő | K5: Győztes | U5: =IF(OR(Altalanos!$A$8="F1",Altalanos!$A$8="F2",Altalanos!$A$8="N1",Altalanos!$A$8="N2"),1,2) -> 2 | W5: II | X5: 200 | Y5: 150 | Z5: 120 | AA5: 90 | AB5: 60 | AC5: 40 | AD5: 15
G6: =IF(U3="","",CONCATENATE(VLOOKUP(U3,X1:AD1,3)," pont")) | I6: =IF(U3="","",CONCATENATE(VLOOKUP(U3,X1:AD1,2)," pont")) | K6: =IF(U3="","",CONCATENATE(VLOOKUP(U3,X1:AD1,1)," pont")) | W6: III | X6: 150 | Y6: 120 | Z6: 90 | AA6: 60 | AB6: 40 | AC6: 25 | AD6: 10
A7: 1 | B7: =IF($E7="","",VLOOKUP($E7,#REF!,14)) | C7: A. csoport győztese | Q7: =Birók!L21 -> Bíró | W7: IV | X7: 120 | Y7: 90 | Z7: 60 | AA7: 40 | AB7: 25 | AC7: 10 | AD7: 5
G8: Ábrahám Zoltán | Q8: =Birók!L22 -> I Sági | W8: V | X8: 90 | Y8: 60 | Z8: 40 | AA8: 25 | AB8: 10 | AC8: 5 | AD8: 2
A9: 2 | B9: =IF($E9="","",VLOOKUP($E9,#REF!,14)) | C9: =IF($E9="","",VLOOKUP($E9,#REF!,15)) | D9: x | Q9: =Birók!L23 | W9: VI | X9: 60 | Y9: 40 | Z9: 25 | AA9: 10 | AB9: 5 | AC9: 2 | AD9: 1
G10: Umpire | I10: Ábrahám | Q10: =Birók!L24 | W10: VII | X10: 40 | Y10: 25 | Z10: 15 | AA10: 7 | AB10: 4 | AC10: 1 | AD10: 0
A11: 3 | B11: =IF($E11="","",VLOOKUP($E11,#REF!,14)) | C11: C. csoport győztese | I11: 7/2 7/4 | Q11: =Birók!L25 | W11: VIII | X11: 25 | Y11: 15 | Z11: 10 | AA11: 6 | AB11: 3 | AC11: 1 | AD11: 0
G12: Szabó Mátyás | Q12: =Birók!L26 | W12: W | X12: 15 | Y12: 10 | Z12: 6 | AA12: 3 | AB12: 1 | AC12: 0 | AD12: 0
A13: 4 | B13: =IF($E13="","",VLOOKUP($E13,#REF!,14)) | C13: =IF($E13="","",VLOOKUP($E13,#REF!,15)) | D13: x | Q13: =Birók!L27 | W13: X | X13: 10 | Y13: 6 | Z13: 3 | AA13: 1 | AB13: 0 | AC13: 0 | AD13: 0
I14: Umpire | K14: Ábrahám | Q14: =Birók!L28 | W14: XI | X14: 3 | Y14: 2 | Z14: 1 | AA14: 0 | AB14: 0 | AC14: 0 | AD14: 0
A15: 5 | B15: =IF($E15="","",VLOOKUP($E15,#REF!,14)) | C15: B. csoport győztese | K15: 7/4 7/3 | Q15: =Birók!L29
G16: Tóth Benedek | Q16: =Birók!L30 -> Egyik sem | W16: A | X16: 150 | Y16: 120 | Z16: 90 | AA16: 60 | AB16: 40 | AC16: 25 | AD16: 15
A17: 6 | B17: =IF($E17="","",VLOOKUP($E17,#REF!,14)) | C17: =IF($E17="","",VLOOKUP($E17,#REF!,15)) | D17: x | W17: I | X17: 120 | Y17: 90 | Z17: 60 | AA17: 40 | AB17: 25 | AC17: 15 | AD17: 8
G18: Umpire | I18: Kovács | W18: II | X18: 90 | Y18: 60 | Z18: 40 | AA18: 25 | AB18: 15 | AC18: 8 | AD18: 4
A19: 7 | B19: =IF($E19="","",VLOOKUP($E19,#REF!,14)) | C19: =IF($E19="","",VLOOKUP($E19,#REF!,15)) | D19: x | I19: 7/5 7/3 | W19: III | X19: 60 | Y19: 40 | Z19: 25 | AA19: 15 | AB19: 8 | AC19: 4 | AD19: 2
G20: Kovács Milán Zétény | W20: IV | X20: 40 | Y20: 25 | Z20: 15 | AA20: 8 | AB20: 4 | AC20: 2 | AD20: 1
A21: 8 | B21: =IF($E21="","",VLOOKUP($E21,#REF!,14)) | C21: D. csoport győztese | W21: V | X21: 25 | Y21: 15 | Z21: 10 | AA21: 6 | AB21: 3 | AC21: 1 | AD21: 0
W22: VI | X22: 15 | Y22: 10 | Z22: 6 | AA22: 3 | AB22: 1 | AC22: 0 | AD22: 0
W23: VII | X23: 10 | Y23: 6 | Z23: 3 | AA23: 1 | AB23: 0 | AC23: 0 | AD23: 0
W24: VIII | X24: 6 | Y24: 3 | Z24: 1 | AA24: 0 | AB24: 0 | AC24: 0 | AD24: 0
W25: W | X25: 3 | Y25: 2 | Z25: 1 | AA25: 0 | AB25: 0 | AC25: 0 | AD25: 0
A54: Rangsor | E54: # | F54: # | G54: Szerencés Vesztes | I54: Helyettesíti | K54: Sorsolás időpontja
A55: Dátuma | E55: 1 | F55: 1 | K55: Utolsó elfogadott játékos
A56: Utolsó DA | E56: 2 | F56: 2
F57: 3 | K57: Sorsoló játékosok
F58: 4
F59: 5
F60: 6 | K60: Versenybíró aláírása
F61: 7
F62: 8 | K62: =N4 -> Sági István | N62: =MIN(4,#REF!) -> #REF!

Sheet II.L.B-D-3
A1: 2025/26. DO J-NK-SZ Vármegye | W1: =IF(T5=1,CONCATENATE(VLOOKUP(T3,V16:AC26,2)),CONCATENATE(VLOOKUP(T3,V2:AF13,2))) -> #REF! | X1: =IF(T5=1,CONCATENATE(VLOOKUP(T3,V16:AF26,3)),CONCATENATE(VLOOKUP(T3,V2:AF13,3))) -> #REF! | Y1: =IF(T5=1,CONCATENATE(VLOOKUP(T3,V16:AF26,4)),CONCATENATE(VLOOKUP(T3,V2:AF13,4))) -> #REF! | Z1: =IF(T5=1,CONCATENATE(VLOOKUP(T3,V16:AF26,5)),CONCATENATE(VLOOKUP(T3,V2:AF13,5))) -> #REF! | AA1: =IF(T5=1,CONCATENATE(VLOOKUP(T3,V16:AF26,6)),CONCATENATE(VLOOKUP(T3,V2:AF13,6))) -> #REF! | AB1: =IF(T5=1,CONCATENATE(VLOOKUP(T3,V16:AF26,7)),CONCATENATE(VLOOKUP(T3,V2:AF13,7))) -> #REF! | AC1: =IF(T5=1,CONCATENATE(VLOOKUP(T3,V16:AF26,8)),CONCATENATE(VLOOKUP(T3,V2:AF13,8))) -> #REF! | AD1: =IF(T5=1,CONCATENATE(VLOOKUP(T3,V16:AF26,9)),CONCATENATE(VLOOKUP(T3,V2:AF13,9))) -> #REF! | AE1: =IF(T5=1,CONCATENATE(VLOOKUP(T3,V16:AF26,10)),CONCATENATE(VLOOKUP(T3,V2:AF13,10))) -> #REF! | AF1: =IF(T5=1,CONCATENATE(VLOOKUP(T3,V16:AF26,11)),CONCATENATE(VLOOKUP(T3,V2:AF13,11))) -> #REF!
A2: Versenyszám: | E2: II. L./B - Döntő | V2: A | W2: 150 | X2: 120 | Y2: 100 | Z2: 80 | AA2: 70 | AB2: 60 | AC2: 55 | AD2: 50 | AE2: 45 | AF2: 40
A3: Dátum | E3: Város | I3: Versenybíró | T3: =IF(#REF!="OB","A",IF(#REF!="IX","W",#REF!)) -> #REF! | V3: I | W3: 120 | X3: 90 | Y3: 65 | Z3: 55 | AA3: 50 | AB3: 45 | AC3: 40 | AD3: 35 | AE3: 25 | AF3: 20
A4: 46135 | E4: =Altalanos!$C$10 -> Jászberény | I4: =Altalanos!$E$10 -> Sági István | V4: II | W4: 90 | X4: 60 | Y4: 45 | Z4: 34 | AA4: 27 | AB4: 22 | AC4: 18 | AD4: 15 | AE4: 12 | AF4: 9
B5: kiem | C5: kódszám | D5: Rangsor | E5: Vezetéknév | H5: Helyezés | I5: Pontszám | J5: Bónusz | T5: =IF(OR(Altalanos!$A$8="F1",Altalanos!$A$8="F2",Altalanos!$A$8="N1",Altalanos!$A$8="N2"),1,2) -> 2 | V5: III | W5: 60 | X5: 40 | Y5: 30 | Z5: 20 | AA5: 18 | AB5: 15 | AC5: 12 | AD5: 10 | AE5: 8 | AF5: 6
V6: IV | W6: 40 | X6: 25 | Y6: 18 | Z6: 13 | AA6: 10 | AB6: 8 | AC6: 6 | AD6: 5 | AE6: 4 | AF6: 3
A7: A | C7: =IF($B7="","",VLOOKUP($B7,#REF!,5)) | D7: =IF($B7="","",VLOOKUP($B7,#REF!,15)) | E7: Szőke Emma | G7: Jb Nagyboldog | H7: 1. | I7: 4 | V7: V | W7: 25 | X7: 15 | Y7: 13 | Z7: 8 | AA7: 6 | AB7: 4 | AC7: 3 | AD7: 2 | AE7: 1 | AF7: 0
V8: VI | W8: 15 | X8: 10 | Y8: 7 | Z8: 5 | AA8: 4 | AB8: 3 | AC8: 2 | AD8: 1 | AE8: 0 | AF8: 0
A9: B | C9: =IF($B9="","",VLOOKUP($B9,#REF!,5)) | D9: =IF($B9="","",VLOOKUP($B9,#REF!,15)) | E9: Holczer Hanna | G9: Jb Nagyboldog | H9: 2. | I9: 2 | V9: VII | W9: 10 | X9: 6 | Y9: 4 | Z9: 2 | AA9: 1 | AB9: 0 | AC9: 0 | AD9: 0 | AE9: 0 | AF9: 0
V10: VIII | W10: 6 | X10: 3 | Y10: 2 | Z10: 1 | AA10: 0 | AB10: 0 | AC10: 0 | AD10: 0 | AE10: 0 | AF10: 0
A11: C | C11: =IF($B11="","",VLOOKUP($B11,#REF!,5)) | D11: =IF($B11="","",VLOOKUP($B11,#REF!,15)) | E11: Bojtos Zsuzsanna | G11: Szent István | H11: 3. | I11: 0 | V11: W | W11: 3 | X11: 2 | Y11: 1 | Z11: 0 | AA11: 0 | AB11: 0 | AC11: 0 | AD11: 0 | AE11: 0 | AF11: 0
V12: X | W12: 0 | X12: 0 | Y12: 0 | Z12: 0 | AA12: 0 | AB12: 0 | AC12: 0 | AD12: 0 | AE12: 0 | AF12: 0
V13: XI | W13: 0 | X13: 0 | Y13: 0 | Z13: 0 | AA13: 0 | AB13: 0 | AC13: 0 | AD13: 0 | AE13: 0 | AF13: 0
V16: A | W16: 300 | X16: 250 | Y16: 220 | Z16: 180 | AA16: 160 | AB16: 150 | AC16: 140 | AD16: 130 | AE16: 120 | AF16: 110
V17: I | W17: 250 | X17: 200 | Y17: 160 | Z17: 140 | AA17: 120 | AB17: 110 | AC17: 100 | AD17: 90 | AE17: 80 | AF17: 70
D18: =E7 -> Szőke Emma | F18: =E9 -> Holczer Hanna | G18: =E11 -> Bojtos Zsuzsanna | V18: II | W18: 200 | X18: 150 | Y18: 130 | Z18: 110 | AA18: 95 | AB18: 80 | AC18: 70 | AD18: 60 | AE18: 55 | AF18: 50
A19: A | B19: =E7 -> Szőke Emma | F19: 7/3 7/2 | G19: 7/3 7/4 | V19: III | W19: 150 | X19: 120 | Y19: 100 | Z19: 80 | AA19: 70 | AB19: 60 | AC19: 55 | AD19: 50 | AE19: 45 | AF19: 40
A20: B | B20: =E9 -> Holczer Hanna | D20: 3/7 2/7 | G20: 7/3 7/2 | V20: IV | W20: 120 | X20: 90 | Y20: 65 | Z20: 55 | AA20: 50 | AB20: 45 | AC20: 40 | AD20: 35 | AE20: 25 | AF20: 20
A21: C | B21: =E11 -> Bojtos Zsuzsanna | D21: 3/7 4/7 | F21: 3/7 2/7 | V21: V | W21: 90 | X21: 60 | Y21: 45 | Z21: 34 | AA21: 27 | AB21: 22 | AC21: 18 | AD21: 15 | AE21: 12 | AF21: 9
V22: VI | W22: 60 | X22: 40 | Y22: 30 | Z22: 20 | AA22: 18 | AB22: 15 | AC22: 12 | AD22: 10 | AE22: 8 | AF22: 6
C23: 1 FORDULÓ | D23: B - C | V23: VII | W23: 40 | X23: 25 | Y23: 18 | Z23: 13 | AA23: 8 | AB23: 7 | AC23: 6 | AD23: 5 | AE23: 4 | AF23: 3
C24: 2 FORDULÓ | D24: C - A | V24: VIII | W24: 25 | X24: 15 | Y24: 13 | Z24: 7 | AA24: 6 | AB24: 5 | AC24: 4 | AD24: 3 | AE24: 2 | AF24: 1
C25: 3 FORDULÓ | D25: A - B | V25: W | W25: 15 | X25: 10 | Y25: 8 | Z25: 4 | AA25: 3 | AB25: 2 | AC25: 1 | AD25: 0 | AE25: 0 | AF25: 0
V26: X | W26: 10 | X26: 6 | Y26: 4 | Z26: 2 | AA26: 1 | AB26: 0 | AC26: 0 | AD26: 0 | AE26: 0 | AF26: 0
A31: Rangsor | D31: # | E31: Kiemeltek | H31: Sorsolás időpontja
A32: Dátuma | H32: Utolsó elfogadott játékos
A33: Utolsó DA
H34: Sorsoló játékosok
H37: Versenybíró aláírása
H39: =I4 -> Sági István

Sheet III.F.B-A.csop.
A1: 2025/26. DO J-NK-SZ Vármegye | W1: =IF(T5=1,CONCATENATE(VLOOKUP(T3,V16:AC26,2)),CONCATENATE(VLOOKUP(T3,V2:AF13,2))) -> #REF! | X1: =IF(T5=1,CONCATENATE(VLOOKUP(T3,V16:AF26,3)),CONCATENATE(VLOOKUP(T3,V2:AF13,3))) -> #REF! | Y1: =IF(T5=1,CONCATENATE(VLOOKUP(T3,V16:AF26,4)),CONCATENATE(VLOOKUP(T3,V2:AF13,4))) -> #REF! | Z1: =IF(T5=1,CONCATENATE(VLOOKUP(T3,V16:AF26,5)),CONCATENATE(VLOOKUP(T3,V2:AF13,5))) -> #REF! | AA1: =IF(T5=1,CONCATENATE(VLOOKUP(T3,V16:AF26,6)),CONCATENATE(VLOOKUP(T3,V2:AF13,6))) -> #REF! | AB1: =IF(T5=1,CONCATENATE(VLOOKUP(T3,V16:AF26,7)),CONCATENATE(VLOOKUP(T3,V2:AF13,7))) -> #REF! | AC1: =IF(T5=1,CONCATENATE(VLOOKUP(T3,V16:AF26,8)),CONCATENATE(VLOOKUP(T3,V2:AF13,8))) -> #REF! | AD1: =IF(T5=1,CONCATENATE(VLOOKUP(T3,V16:AF26,9)),CONCATENATE(VLOOKUP(T3,V2:AF13,9))) -> #REF! | AE1: =IF(T5=1,CONCATENATE(VLOOKUP(T3,V16:AF26,10)),CONCATENATE(VLOOKUP(T3,V2:AF13,10))) -> #REF! | AF1: =IF(T5=1,CONCATENATE(VLOOKUP(T3,V16:AF26,11)),CONCATENATE(VLOOKUP(T3,V2:AF13,11))) -> #REF!
A2: Versenyszám: | E2: III. F./B - A. csoport | V2: A | W2: 150 | X2: 120 | Y2: 100 | Z2: 80 | AA2: 70 | AB2: 60 | AC2: 55 | AD2: 50 | AE2: 45 | AF2: 40
A3: Dátum | E3: Város | I3: Versenybíró | T3: =IF(#REF!="OB","A",IF(#REF!="IX","W",#REF!)) -> #REF! | V3: I | W3: 120 | X3: 90 | Y3: 65 | Z3: 55 | AA3: 50 | AB3: 45 | AC3: 40 | AD3: 35 | AE3: 25 | AF3: 20
A4: 46135 | E4: =Altalanos!$C$10 -> Jászberény | I4: =Altalanos!$E$10 -> Sági István | V4: II | W4: 90 | X4: 60 | Y4: 45 | Z4: 34 | AA4: 27 | AB4: 22 | AC4: 18 | AD4: 15 | AE4: 12 | AF4: 9
B5: kiem | C5: kódszám | D5: Rangsor | E5: Vezetéknév | H5: Helyezés | I5: Pontszám | J5: Bónusz | T5: =IF(OR(Altalanos!$A$8="F1",Altalanos!$A$8="F2",Altalanos!$A$8="N1",Altalanos!$A$8="N2"),1,2) -> 2 | V5: III | W5: 60 | X5: 40 | Y5: 30 | Z5: 20 | AA5: 18 | AB5: 15 | AC5: 12 | AD5: 10 | AE5: 8 | AF5: 6
V6: IV | W6: 40 | X6: 25 | Y6: 18 | Z6: 13 | AA6: 10 | AB6: 8 | AC6: 6 | AD6: 5 | AE6: 4 | AF6: 3
A7: A | C7: =IF($B7="","",VLOOKUP($B7,#REF!,5)) | D7: =IF($B7="","",VLOOKUP($B7,#REF!,15)) | E7: Teleki Zétény | G7: Székely Mihály | H7: 1. | I7: 4 | V7: V | W7: 25 | X7: 15 | Y7: 13 | Z7: 8 | AA7: 6 | AB7: 4 | AC7: 3 | AD7: 2 | AE7: 1 | AF7: 0
V8: VI | W8: 15 | X8: 10 | Y8: 7 | Z8: 5 | AA8: 4 | AB8: 3 | AC8: 2 | AD8: 1 | AE8: 0 | AF8: 0
A9: B | C9: =IF($B9="","",VLOOKUP($B9,#REF!,5)) | D9: =IF($B9="","",VLOOKUP($B9,#REF!,15)) | E9: Magyar Albert | G9: Bercsényi | H9: 2. | I9: 2 | V9: VII | W9: 10 | X9: 6 | Y9: 4 | Z9: 2 | AA9: 1 | AB9: 0 | AC9: 0 | AD9: 0 | AE9: 0 | AF9: 0
V10: VIII | W10: 6 | X10: 3 | Y10: 2 | Z10: 1 | AA10: 0 | AB10: 0 | AC10: 0 | AD10: 0 | AE10: 0 | AF10: 0
A11: C | C11: =IF($B11="","",VLOOKUP($B11,#REF!,5)) | D11: =IF($B11="","",VLOOKUP($B11,#REF!,15)) | E11: Kalla Zsombor | G11: Szent István | H11: 3. | I11: 0 | V11: W | W11: 3 | X11: 2 | Y11: 1 | Z11: 0 | AA11: 0 | AB11: 0 | AC11: 0 | AD11: 0 | AE11: 0 | AF11: 0
V12: X | W12: 0 | X12: 0 | Y12: 0 | Z12: 0 | AA12: 0 | AB12: 0 | AC12: 0 | AD12: 0 | AE12: 0 | AF12: 0
V13: XI | W13: 0 | X13: 0 | Y13: 0 | Z13: 0 | AA13: 0 | AB13: 0 | AC13: 0 | AD13: 0 | AE13: 0 | AF13: 0
V16: A | W16: 300 | X16: 250 | Y16: 220 | Z16: 180 | AA16: 160 | AB16: 150 | AC16: 140 | AD16: 130 | AE16: 120 | AF16: 110
V17: I | W17: 250 | X17: 200 | Y17: 160 | Z17: 140 | AA17: 120 | AB17: 110 | AC17: 100 | AD17: 90 | AE17: 80 | AF17: 70
D18: =E7 -> Teleki Zétény | F18: =E9 -> Magyar Albert | G18: =E11 -> Kalla Zsombor | V18: II | W18: 200 | X18: 150 | Y18: 130 | Z18: 110 | AA18: 95 | AB18: 80 | AC18: 70 | AD18: 60 | AE18: 55 | AF18: 50
A19: A | B19: =E7 -> Teleki Zétény | F19: 5/4 | G19: 5/0 | V19: III | W19: 150 | X19: 120 | Y19: 100 | Z19: 80 | AA19: 70 | AB19: 60 | AC19: 55 | AD19: 50 | AE19: 45 | AF19: 40
A20: B | B20: =E9 -> Magyar Albert | D20: 4/5 | G20: 5/0 | V20: IV | W20: 120 | X20: 90 | Y20: 65 | Z20: 55 | AA20: 50 | AB20: 45 | AC20: 40 | AD20: 35 | AE20: 25 | AF20: 20
A21: C | B21: =E11 -> Kalla Zsombor | D21: 0/5 | F21: 0/5 | V21: V | W21: 90 | X21: 60 | Y21: 45 | Z21: 34 | AA21: 27 | AB21: 22 | AC21: 18 | AD21: 15 | AE21: 12 | AF21: 9
V22: VI | W22: 60 | X22: 40 | Y22: 30 | Z22: 20 | AA22: 18 | AB22: 15 | AC22: 12 | AD22: 10 | AE22: 8 | AF22: 6
C23: 1 FORDULÓ | D23: B - C | V23: VII | W23: 40 | X23: 25 | Y23: 18 | Z23: 13 | AA23: 8 | AB23: 7 | AC23: 6 | AD23: 5 | AE23: 4 | AF23: 3
C24: 2 FORDULÓ | D24: C - A | V24: VIII | W24: 25 | X24: 15 | Y24: 13 | Z24: 7 | AA24: 6 | AB24: 5 | AC24: 4 | AD24: 3 | AE24: 2 | AF24: 1
C25: 3 FORDULÓ | D25: A - B | V25: W | W25: 15 | X25: 10 | Y25: 8 | Z25: 4 | AA25: 3 | AB25: 2 | AC25: 1 | AD25: 0 | AE25: 0 | AF25: 0
V26: X | W26: 10 | X26: 6 | Y26: 4 | Z26: 2 | AA26: 1 | AB26: 0 | AC26: 0 | AD26: 0 | AE26: 0 | AF26: 0
A31: Rangsor | D31: # | E31: Kiemeltek | H31: Sorsolás időpontja
A32: Dátuma | H32: Utolsó elfogadott játékos
A33: Utolsó DA
H34: Sorsoló játékosok
H37: Versenybíró aláírása
H39: =I4 -> Sági István

Sheet III.F.B-B.csop.
A1: 2025/26. DO J-NK-SZ Vármegye | W1: =IF(T5=1,CONCATENATE(VLOOKUP(T3,V16:AC26,2)),CONCATENATE(VLOOKUP(T3,V2:AF13,2))) -> #REF! | X1: =IF(T5=1,CONCATENATE(VLOOKUP(T3,V16:AF26,3)),CONCATENATE(VLOOKUP(T3,V2:AF13,3))) -> #REF! | Y1: =IF(T5=1,CONCATENATE(VLOOKUP(T3,V16:AF26,4)),CONCATENATE(VLOOKUP(T3,V2:AF13,4))) -> #REF! | Z1: =IF(T5=1,CONCATENATE(VLOOKUP(T3,V16:AF26,5)),CONCATENATE(VLOOKUP(T3,V2:AF13,5))) -> #REF! | AA1: =IF(T5=1,CONCATENATE(VLOOKUP(T3,V16:AF26,6)),CONCATENATE(VLOOKUP(T3,V2:AF13,6))) -> #REF! | AB1: =IF(T5=1,CONCATENATE(VLOOKUP(T3,V16:AF26,7)),CONCATENATE(VLOOKUP(T3,V2:AF13,7))) -> #REF! | AC1: =IF(T5=1,CONCATENATE(VLOOKUP(T3,V16:AF26,8)),CONCATENATE(VLOOKUP(T3,V2:AF13,8))) -> #REF! | AD1: =IF(T5=1,CONCATENATE(VLOOKUP(T3,V16:AF26,9)),CONCATENATE(VLOOKUP(T3,V2:AF13,9))) -> #REF! | AE1: =IF(T5=1,CONCATENATE(VLOOKUP(T3,V16:AF26,10)),CONCATENATE(VLOOKUP(T3,V2:AF13,10))) -> #REF! | AF1: =IF(T5=1,CONCATENATE(VLOOKUP(T3,V16:AF26,11)),CONCATENATE(VLOOKUP(T3,V2:AF13,11))) -> #REF!
A2: Versenyszám: | E2: III. F./B - B. csoport | V2: A | W2: 150 | X2: 120 | Y2: 100 | Z2: 80 | AA2: 70 | AB2: 60 | AC2: 55 | AD2: 50 | AE2: 45 | AF2: 40
A3: Dátum | E3: Város | I3: Versenybíró | T3: =IF(#REF!="OB","A",IF(#REF!="IX","W",#REF!)) -> #REF! | V3: I | W3: 120 | X3: 90 | Y3: 65 | Z3: 55 | AA3: 50 | AB3: 45 | AC3: 40 | AD3: 35 | AE3: 25 | AF3: 20
A4: 46135 | E4: =Altalanos!$C$10 -> Jászberény | I4: =Altalanos!$E$10 -> Sági István | V4: II | W4: 90 | X4: 60 | Y4: 45 | Z4: 34 | AA4: 27 | AB4: 22 | AC4: 18 | AD4: 15 | AE4: 12 | AF4: 9
B5: kiem | C5: kódszám | D5: Rangsor | E5: Vezetéknév | H5: Helyezés | I5: Pontszám | J5: Bónusz | T5: =IF(OR(Altalanos!$A$8="F1",Altalanos!$A$8="F2",Altalanos!$A$8="N1",Altalanos!$A$8="N2"),1,2) -> 2 | V5: III | W5: 60 | X5: 40 | Y5: 30 | Z5: 20 | AA5: 18 | AB5: 15 | AC5: 12 | AD5: 10 | AE5: 8 | AF5: 6
V6: IV | W6: 40 | X6: 25 | Y6: 18 | Z6: 13 | AA6: 10 | AB6: 8 | AC6: 6 | AD6: 5 | AE6: 4 | AF6: 3
A7: A | C7: =IF($B7="","",VLOOKUP($B7,#REF!,5)) | D7: =IF($B7="","",VLOOKUP($B7,#REF!,15)) | E7: Szántai Levente | G7: Bercsényi | H7: 1. | I7: 4 | V7: V | W7: 25 | X7: 15 | Y7: 13 | Z7: 8 | AA7: 6 | AB7: 4 | AC7: 3 | AD7: 2 | AE7: 1 | AF7: 0
V8: VI | W8: 15 | X8: 10 | Y8: 7 | Z8: 5 | AA8: 4 | AB8: 3 | AC8: 2 | AD8: 1 | AE8: 0 | AF8: 0
A9: B | C9: =IF($B9="","",VLOOKUP($B9,#REF!,5)) | D9: =IF($B9="","",VLOOKUP($B9,#REF!,15)) | E9: Balogh Milán | G9: Szent István | H9: 2. | I9: 2 | V9: VII | W9: 10 | X9: 6 | Y9: 4 | Z9: 2 | AA9: 1 | AB9: 0 | AC9: 0 | AD9: 0 | AE9: 0 | AF9: 0
V10: VIII | W10: 6 | X10: 3 | Y10: 2 | Z10: 1 | AA10: 0 | AB10: 0 | AC10: 0 | AD10: 0 | AE10: 0 | AF10: 0
A11: C | C11: =IF($B11="","",VLOOKUP($B11,#REF!,5)) | D11: =IF($B11="","",VLOOKUP($B11,#REF!,15)) | E11: Bálint Ádám | G11: Gróf Apponyi | H11: 3. | I11: 0 | V11: W | W11: 3 | X11: 2 | Y11: 1 | Z11: 0 | AA11: 0 | AB11: 0 | AC11: 0 | AD11: 0 | AE11: 0 | AF11: 0
V12: X | W12: 0 | X12: 0 | Y12: 0 | Z12: 0 | AA12: 0 | AB12: 0 | AC12: 0 | AD12: 0 | AE12: 0 | AF12: 0
V13: XI | W13: 0 | X13: 0 | Y13: 0 | Z13: 0 | AA13: 0 | AB13: 0 | AC13: 0 | AD13: 0 | AE13: 0 | AF13: 0
V16: A | W16: 300 | X16: 250 | Y16: 220 | Z16: 180 | AA16: 160 | AB16: 150 | AC16: 140 | AD16: 130 | AE16: 120 | AF16: 110
V17: I | W17: 250 | X17: 200 | Y17: 160 | Z17: 140 | AA17: 120 | AB17: 110 | AC17: 100 | AD17: 90 | AE17: 80 | AF17: 70
D18: =E7 -> Szántai Levente | F18: =E9 -> Balogh Milán | G18: =E11 -> Bálint Ádám | V18: II | W18: 200 | X18: 150 | Y18: 130 | Z18: 110 | AA18: 95 | AB18: 80 | AC18: 70 | AD18: 60 | AE18: 55 | AF18: 50
A19: A | B19: =E7 -> Szántai Levente | F19: 4/0 | G19: 4/0 | V19: III | W19: 150 | X19: 120 | Y19: 100 | Z19: 80 | AA19: 70 | AB19: 60 | AC19: 55 | AD19: 50 | AE19: 45 | AF19: 40
A20: B | B20: =E9 -> Balogh Milán | D20: 0/4 | G20: 2/4 | V20: IV | W20: 120 | X20: 90 | Y20: 65 | Z20: 55 | AA20: 50 | AB20: 45 | AC20: 40 | AD20: 35 | AE20: 25 | AF20: 20
A21: C | B21: =E11 -> Bálint Ádám | D21: 0/4 | F21: 4/2 | V21: V | W21: 90 | X21: 60 | Y21: 45 | Z21: 34 | AA21: 27 | AB21: 22 | AC21: 18 | AD21: 15 | AE21: 12 | AF21: 9
V22: VI | W22: 60 | X22: 40 | Y22: 30 | Z22: 20 | AA22: 18 | AB22: 15 | AC22: 12 | AD22: 10 | AE22: 8 | AF22: 6
C23: 1 FORDULÓ | D23: B - C | V23: VII | W23: 40 | X23: 25 | Y23: 18 | Z23: 13 | AA23: 8 | AB23: 7 | AC23: 6 | AD23: 5 | AE23: 4 | AF23: 3
C24: 2 FORDULÓ | D24: C - A | V24: VIII | W24: 25 | X24: 15 | Y24: 13 | Z24: 7 | AA24: 6 | AB24: 5 | AC24: 4 | AD24: 3 | AE24: 2 | AF24: 1
C25: 3 FORDULÓ | D25: A - B | V25: W | W25: 15 | X25: 10 | Y25: 8 | Z25: 4 | AA25: 3 | AB25: 2 | AC25: 1 | AD25: 0 | AE25: 0 | AF25: 0
V26: X | W26: 10 | X26: 6 | Y26: 4 | Z26: 2 | AA26: 1 | AB26: 0 | AC26: 0 | AD26: 0 | AE26: 0 | AF26: 0
A31: Rangsor | D31: # | E31: Kiemeltek | H31: Sorsolás időpontja
A32: Dátuma | H32: Utolsó elfogadott játékos
A33: Utolsó DA
H34: Sorsoló játékosok
H37: Versenybíró aláírása
H39: =I4 -> Sági István

Sheet III.F.B-C.csop.
A1: 2025/26. DO J-NK-SZ Vármegye | W1: =IF(T5=1,CONCATENATE(VLOOKUP(T3,V16:AC26,2)),CONCATENATE(VLOOKUP(T3,V2:AF13,2))) -> #REF! | X1: =IF(T5=1,CONCATENATE(VLOOKUP(T3,V16:AF26,3)),CONCATENATE(VLOOKUP(T3,V2:AF13,3))) -> #REF! | Y1: =IF(T5=1,CONCATENATE(VLOOKUP(T3,V16:AF26,4)),CONCATENATE(VLOOKUP(T3,V2:AF13,4))) -> #REF! | Z1: =IF(T5=1,CONCATENATE(VLOOKUP(T3,V16:AF26,5)),CONCATENATE(VLOOKUP(T3,V2:AF13,5))) -> #REF! | AA1: =IF(T5=1,CONCATENATE(VLOOKUP(T3,V16:AF26,6)),CONCATENATE(VLOOKUP(T3,V2:AF13,6))) -> #REF! | AB1: =IF(T5=1,CONCATENATE(VLOOKUP(T3,V16:AF26,7)),CONCATENATE(VLOOKUP(T3,V2:AF13,7))) -> #REF! | AC1: =IF(T5=1,CONCATENATE(VLOOKUP(T3,V16:AF26,8)),CONCATENATE(VLOOKUP(T3,V2:AF13,8))) -> #REF! | AD1: =IF(T5=1,CONCATENATE(VLOOKUP(T3,V16:AF26,9)),CONCATENATE(VLOOKUP(T3,V2:AF13,9))) -> #REF! | AE1: =IF(T5=1,CONCATENATE(VLOOKUP(T3,V16:AF26,10)),CONCATENATE(VLOOKUP(T3,V2:AF13,10))) -> #REF! | AF1: =IF(T5=1,CONCATENATE(VLOOKUP(T3,V16:AF26,11)),CONCATENATE(VLOOKUP(T3,V2:AF13,11))) -> #REF!
A2: Versenyszám: | E2: III. F./B - C. csoport | V2: A | W2: 150 | X2: 120 | Y2: 100 | Z2: 80 | AA2: 70 | AB2: 60 | AC2: 55 | AD2: 50 | AE2: 45 | AF2: 40
A3: Dátum | E3: Város | I3: Versenybíró | T3: =IF(#REF!="OB","A",IF(#REF!="IX","W",#REF!)) -> #REF! | V3: I | W3: 120 | X3: 90 | Y3: 65 | Z3: 55 | AA3: 50 | AB3: 45 | AC3: 40 | AD3: 35 | AE3: 25 | AF3: 20
A4: 46135 | E4: =Altalanos!$C$10 -> Jászberény | I4: =Altalanos!$E$10 -> Sági István | V4: II | W4: 90 | X4: 60 | Y4: 45 | Z4: 34 | AA4: 27 | AB4: 22 | AC4: 18 | AD4: 15 | AE4: 12 | AF4: 9
B5: kiem | C5: kódszám | D5: Rangsor | E5: Vezetéknév | H5: Helyezés | I5: Pontszám | J5: Bónusz | T5: =IF(OR(Altalanos!$A$8="F1",Altalanos!$A$8="F2",Altalanos!$A$8="N1",Altalanos!$A$8="N2"),1,2) -> 2 | V5: III | W5: 60 | X5: 40 | Y5: 30 | Z5: 20 | AA5: 18 | AB5: 15 | AC5: 12 | AD5: 10 | AE5: 8 | AF5: 6
V6: IV | W6: 40 | X6: 25 | Y6: 18 | Z6: 13 | AA6: 10 | AB6: 8 | AC6: 6 | AD6: 5 | AE6: 4 | AF6: 3
A7: A | C7: =IF($B7="","",VLOOKUP($B7,#REF!,5)) | D7: =IF($B7="","",VLOOKUP($B7,#REF!,15)) | E7: Koczka Gergő | G7: Gróf Apponyi | H7: 1. | I7: 4 | V7: V | W7: 25 | X7: 15 | Y7: 13 | Z7: 8 | AA7: 6 | AB7: 4 | AC7: 3 | AD7: 2 | AE7: 1 | AF7: 0
V8: VI | W8: 15 | X8: 10 | Y8: 7 | Z8: 5 | AA8: 4 | AB8: 3 | AC8: 2 | AD8: 1 | AE8: 0 | AF8: 0
A9: B | C9: =IF($B9="","",VLOOKUP($B9,#REF!,5)) | D9: =IF($B9="","",VLOOKUP($B9,#REF!,15)) | E9: Terjéki Benett | G9: Szent István | H9: 2. | I9: 2 | V9: VII | W9: 10 | X9: 6 | Y9: 4 | Z9: 2 | AA9: 1 | AB9: 0 | AC9: 0 | AD9: 0 | AE9: 0 | AF9: 0
V10: VIII | W10: 6 | X10: 3 | Y10: 2 | Z10: 1 | AA10: 0 | AB10: 0 | AC10: 0 | AD10: 0 | AE10: 0 | AF10: 0
A11: C | C11: =IF($B11="","",VLOOKUP($B11,#REF!,5)) | D11: =IF($B11="","",VLOOKUP($B11,#REF!,15)) | E11: Zimonyi Bercel | G11: LVG | H11: 3. | I11: 0 | V11: W | W11: 3 | X11: 2 | Y11: 1 | Z11: 0 | AA11: 0 | AB11: 0 | AC11: 0 | AD11: 0 | AE11: 0 | AF11: 0
V12: X | W12: 0 | X12: 0 | Y12: 0 | Z12: 0 | AA12: 0 | AB12: 0 | AC12: 0 | AD12: 0 | AE12: 0 | AF12: 0
V13: XI | W13: 0 | X13: 0 | Y13: 0 | Z13: 0 | AA13: 0 | AB13: 0 | AC13: 0 | AD13: 0 | AE13: 0 | AF13: 0
V16: A | W16: 300 | X16: 250 | Y16: 220 | Z16: 180 | AA16: 160 | AB16: 150 | AC16: 140 | AD16: 130 | AE16: 120 | AF16: 110
V17: I | W17: 250 | X17: 200 | Y17: 160 | Z17: 140 | AA17: 120 | AB17: 110 | AC17: 100 | AD17: 90 | AE17: 80 | AF17: 70
D18: =E7 -> Koczka Gergő | F18: =E9 -> Terjéki Benett | G18: =E11 -> Zimonyi Bercel | V18: II | W18: 200 | X18: 150 | Y18: 130 | Z18: 110 | AA18: 95 | AB18: 80 | AC18: 70 | AD18: 60 | AE18: 55 | AF18: 50
A19: A | B19: =E7 -> Koczka Gergő | F19: 5/3 | G19: 4/0 | V19: III | W19: 150 | X19: 120 | Y19: 100 | Z19: 80 | AA19: 70 | AB19: 60 | AC19: 55 | AD19: 50 | AE19: 45 | AF19: 40
A20: B | B20: =E9 -> Terjéki Benett | D20: 3/5 | G20: 4/0 | V20: IV | W20: 120 | X20: 90 | Y20: 65 | Z20: 55 | AA20: 50 | AB20: 45 | AC20: 40 | AD20: 35 | AE20: 25 | AF20: 20
A21: C | B21: =E11 -> Zimonyi Bercel | D21: 0/4 | F21: 0/4 | V21: V | W21: 90 | X21: 60 | Y21: 45 | Z21: 34 | AA21: 27 | AB21: 22 | AC21: 18 | AD21: 15 | AE21: 12 | AF21: 9
V22: VI | W22: 60 | X22: 40 | Y22: 30 | Z22: 20 | AA22: 18 | AB22: 15 | AC22: 12 | AD22: 10 | AE22: 8 | AF22: 6
C23: 1 FORDULÓ | D23: B - C | V23: VII | W23: 40 | X23: 25 | Y23: 18 | Z23: 13 | AA23: 8 | AB23: 7 | AC23: 6 | AD23: 5 | AE23: 4 | AF23: 3
C24: 2 FORDULÓ | D24: C - A | V24: VIII | W24: 25 | X24: 15 | Y24: 13 | Z24: 7 | AA24: 6 | AB24: 5 | AC24: 4 | AD24: 3 | AE24: 2 | AF24: 1
C25: 3 FORDULÓ | D25: A - B | V25: W | W25: 15 | X25: 10 | Y25: 8 | Z25: 4 | AA25: 3 | AB25: 2 | AC25: 1 | AD25: 0 | AE25: 0 | AF25: 0
V26: X | W26: 10 | X26: 6 | Y26: 4 | Z26: 2 | AA26: 1 | AB26: 0 | AC26: 0 | AD26: 0 | AE26: 0 | AF26: 0
A31: Rangsor | D31: # | E31: Kiemeltek | H31: Sorsolás időpontja
A32: Dátuma | H32: Utolsó elfogadott játékos
A33: Utolsó DA
H34: Sorsoló játékosok
H37: Versenybíró aláírása
H39: =I4 -> Sági István

Sheet III.F.B-Döntő-3
A1: 2025/26. DO J-NK-SZ Vármegye | W1: =IF(T5=1,CONCATENATE(VLOOKUP(T3,V16:AC26,2)),CONCATENATE(VLOOKUP(T3,V2:AF13,2))) -> #REF! | X1: =IF(T5=1,CONCATENATE(VLOOKUP(T3,V16:AF26,3)),CONCATENATE(VLOOKUP(T3,V2:AF13,3))) -> #REF! | Y1: =IF(T5=1,CONCATENATE(VLOOKUP(T3,V16:AF26,4)),CONCATENATE(VLOOKUP(T3,V2:AF13,4))) -> #REF! | Z1: =IF(T5=1,CONCATENATE(VLOOKUP(T3,V16:AF26,5)),CONCATENATE(VLOOKUP(T3,V2:AF13,5))) -> #REF! | AA1: =IF(T5=1,CONCATENATE(VLOOKUP(T3,V16:AF26,6)),CONCATENATE(VLOOKUP(T3,V2:AF13,6))) -> #REF! | AB1: =IF(T5=1,CONCATENATE(VLOOKUP(T3,V16:AF26,7)),CONCATENATE(VLOOKUP(T3,V2:AF13,7))) -> #REF! | AC1: =IF(T5=1,CONCATENATE(VLOOKUP(T3,V16:AF26,8)),CONCATENATE(VLOOKUP(T3,V2:AF13,8))) -> #REF! | AD1: =IF(T5=1,CONCATENATE(VLOOKUP(T3,V16:AF26,9)),CONCATENATE(VLOOKUP(T3,V2:AF13,9))) -> #REF! | AE1: =IF(T5=1,CONCATENATE(VLOOKUP(T3,V16:AF26,10)),CONCATENATE(VLOOKUP(T3,V2:AF13,10))) -> #REF! | AF1: =IF(T5=1,CONCATENATE(VLOOKUP(T3,V16:AF26,11)),CONCATENATE(VLOOKUP(T3,V2:AF13,11))) -> #REF!
A2: Versenyszám: | E2: III. F./B - DÖNTŐ | V2: A | W2: 150 | X2: 120 | Y2: 100 | Z2: 80 | AA2: 70 | AB2: 60 | AC2: 55 | AD2: 50 | AE2: 45 | AF2: 40
A3: Dátum | E3: Város | I3: Versenybíró | T3: =IF(#REF!="OB","A",IF(#REF!="IX","W",#REF!)) -> #REF! | V3: I | W3: 120 | X3: 90 | Y3: 65 | Z3: 55 | AA3: 50 | AB3: 45 | AC3: 40 | AD3: 35 | AE3: 25 | AF3: 20
A4: 46135 | E4: =Altalanos!$C$10 -> Jászberény | I4: =Altalanos!$E$10 -> Sági István | V4: II | W4: 90 | X4: 60 | Y4: 45 | Z4: 34 | AA4: 27 | AB4: 22 | AC4: 18 | AD4: 15 | AE4: 12 | AF4: 9
B5: kiem | C5: kódszám | D5: Rangsor | E5: Vezetéknév | H5: Helyezés | I5: Pontszám | J5: Bónusz | T5: =IF(OR(Altalanos!$A$8="F1",Altalanos!$A$8="F2",Altalanos!$A$8="N1",Altalanos!$A$8="N2"),1,2) -> 2 | V5: III | W5: 60 | X5: 40 | Y5: 30 | Z5: 20 | AA5: 18 | AB5: 15 | AC5: 12 | AD5: 10 | AE5: 8 | AF5: 6
V6: IV | W6: 40 | X6: 25 | Y6: 18 | Z6: 13 | AA6: 10 | AB6: 8 | AC6: 6 | AD6: 5 | AE6: 4 | AF6: 3
A7: A | C7: A1. | D7: =IF($B7="","",VLOOKUP($B7,#REF!,15)) | E7: Teleki Zétény | H7: 1. | I7: 4 | V7: V | W7: 25 | X7: 15 | Y7: 13 | Z7: 8 | AA7: 6 | AB7: 4 | AC7: 3 | AD7: 2 | AE7: 1 | AF7: 0
V8: VI | W8: 15 | X8: 10 | Y8: 7 | Z8: 5 | AA8: 4 | AB8: 3 | AC8: 2 | AD8: 1 | AE8: 0 | AF8: 0
A9: B | C9: B1. | D9: =IF($B9="","",VLOOKUP($B9,#REF!,15)) | E9: Szántai Levente | H9: 2. | I9: 2 | V9: VII | W9: 10 | X9: 6 | Y9: 4 | Z9: 2 | AA9: 1 | AB9: 0 | AC9: 0 | AD9: 0 | AE9: 0 | AF9: 0
V10: VIII | W10: 6 | X10: 3 | Y10: 2 | Z10: 1 | AA10: 0 | AB10: 0 | AC10: 0 | AD10: 0 | AE10: 0 | AF10: 0
A11: C | C11: C1. | D11: =IF($B11="","",VLOOKUP($B11,#REF!,15)) | E11: Koczka Gergő | H11: 3. | I11: 0 | V11: W | W11: 3 | X11: 2 | Y11: 1 | Z11: 0 | AA11: 0 | AB11: 0 | AC11: 0 | AD11: 0 | AE11: 0 | AF11: 0
V12: X | W12: 0 | X12: 0 | Y12: 0 | Z12: 0 | AA12: 0 | AB12: 0 | AC12: 0 | AD12: 0 | AE12: 0 | AF12: 0
V13: XI | W13: 0 | X13: 0 | Y13: 0 | Z13: 0 | AA13: 0 | AB13: 0 | AC13: 0 | AD13: 0 | AE13: 0 | AF13: 0
V16: A | W16: 300 | X16: 250 | Y16: 220 | Z16: 180 | AA16: 160 | AB16: 150 | AC16: 140 | AD16: 130 | AE16: 120 | AF16: 110
V17: I | W17: 250 | X17: 200 | Y17: 160 | Z17: 140 | AA17: 120 | AB17: 110 | AC17: 100 | AD17: 90 | AE17: 80 | AF17: 70
D18: Teleki Zétény | F18: Szántai Levente | G18: Koczka Gergő | V18: II | W18: 200 | X18: 150 | Y18: 130 | Z18: 110 | AA18: 95 | AB18: 80 | AC18: 70 | AD18: 60 | AE18: 55 | AF18: 50
A19: A | B19: Teleki Zétény | F19: 4/2 | G19: 4/0 | V19: III | W19: 150 | X19: 120 | Y19: 100 | Z19: 80 | AA19: 70 | AB19: 60 | AC19: 55 | AD19: 50 | AE19: 45 | AF19: 40
A20: B | B20: Szántai Levente | D20: 2/4 | G20: 4/2 | V20: IV | W20: 120 | X20: 90 | Y20: 65 | Z20: 55 | AA20: 50 | AB20: 45 | AC20: 40 | AD20: 35 | AE20: 25 | AF20: 20
A21: C | B21: Koczka Gergő | D21: 0/4 | F21: 2/4 | V21: V | W21: 90 | X21: 60 | Y21: 45 | Z21: 34 | AA21: 27 | AB21: 22 | AC21: 18 | AD21: 15 | AE21: 12 | AF21: 9
V22: VI | W22: 60 | X22: 40 | Y22: 30 | Z22: 20 | AA22: 18 | AB22: 15 | AC22: 12 | AD22: 10 | AE22: 8 | AF22: 6
C23: 1 FORDULÓ | D23: B - C | V23: VII | W23: 40 | X23: 25 | Y23: 18 | Z23: 13 | AA23: 8 | AB23: 7 | AC23: 6 | AD23: 5 | AE23: 4 | AF23: 3
C24: 2 FORDULÓ | D24: C - A | V24: VIII | W24: 25 | X24: 15 | Y24: 13 | Z24: 7 | AA24: 6 | AB24: 5 | AC24: 4 | AD24: 3 | AE24: 2 | AF24: 1
C25: 3 FORDULÓ | D25: A - B | V25: W | W25: 15 | X25: 10 | Y25: 8 | Z25: 4 | AA25: 3 | AB25: 2 | AC25: 1 | AD25: 0 | AE25: 0 | AF25: 0
V26: X | W26: 10 | X26: 6 | Y26: 4 | Z26: 2 | AA26: 1 | AB26: 0 | AC26: 0 | AD26: 0 | AE26: 0 | AF26: 0
A31: Rangsor | D31: # | E31: Kiemeltek | H31: Sorsolás időpontja
A32: Dátuma | H32: Utolsó elfogadott játékos
A33: Utolsó DA
H34: Sorsoló játékosok
H37: Versenybíró aláírása
H39: =I4 -> Sági István

Sheet III.L.B-D-3
A1: 2025/26. DO J-NK-SZ Vármegye | W1: =IF(T5=1,CONCATENATE(VLOOKUP(T3,V16:AC27,2)),CONCATENATE(VLOOKUP(T3,V2:AF13,2))) -> #REF! | X1: =IF(T5=1,CONCATENATE(VLOOKUP(T3,V16:AF27,3)),CONCATENATE(VLOOKUP(T3,V2:AF13,3))) -> #REF! | Y1: =IF(T5=1,CONCATENATE(VLOOKUP(T3,V16:AF27,4)),CONCATENATE(VLOOKUP(T3,V2:AF13,4))) -> #REF! | Z1: =IF(T5=1,CONCATENATE(VLOOKUP(T3,V16:AF27,5)),CONCATENATE(VLOOKUP(T3,V2:AF13,5))) -> #REF! | AA1: =IF(T5=1,CONCATENATE(VLOOKUP(T3,V16:AF27,6)),CONCATENATE(VLOOKUP(T3,V2:AF13,6))) -> #REF! | AB1: =IF(T5=1,CONCATENATE(VLOOKUP(T3,V16:AF27,7)),CONCATENATE(VLOOKUP(T3,V2:AF13,7))) -> #REF! | AC1: =IF(T5=1,CONCATENATE(VLOOKUP(T3,V16:AF27,8)),CONCATENATE(VLOOKUP(T3,V2:AF13,8))) -> #REF! | AD1: =IF(T5=1,CONCATENATE(VLOOKUP(T3,V16:AF27,9)),CONCATENATE(VLOOKUP(T3,V2:AF13,9))) -> #REF! | AE1: =IF(T5=1,CONCATENATE(VLOOKUP(T3,V16:AF27,10)),CONCATENATE(VLOOKUP(T3,V2:AF13,10))) -> #REF! | AF1: =IF(T5=1,CONCATENATE(VLOOKUP(T3,V16:AF27,11)),CONCATENATE(VLOOKUP(T3,V2:AF13,11))) -> #REF!
A2: Versenyszám: | E2: III. L./B - Döntő | V2: A | W2: 150 | X2: 120 | Y2: 100 | Z2: 80 | AA2: 70 | AB2: 60 | AC2: 55 | AD2: 50 | AE2: 45 | AF2: 40
A3: Dátum | E3: Város | I3: Versenybíró | T3: =IF(#REF!="OB","A",IF(#REF!="IX","W",#REF!)) -> #REF! | V3: I | W3: 120 | X3: 90 | Y3: 65 | Z3: 55 | AA3: 50 | AB3: 45 | AC3: 40 | AD3: 35 | AE3: 25 | AF3: 20
A4: 46135 | E4: =Altalanos!$C$10 -> Jászberény | I4: =Altalanos!$E$10 -> Sági István | V4: II | W4: 90 | X4: 60 | Y4: 45 | Z4: 34 | AA4: 27 | AB4: 22 | AC4: 18 | AD4: 15 | AE4: 12 | AF4: 9
B5: kiem | C5: kódszám | D5: Rangsor | E5: Vezetéknév | H5: Helyezés | I5: Pontszám | J5: Bónusz | T5: =IF(OR(Altalanos!$A$8="F1",Altalanos!$A$8="F2",Altalanos!$A$8="N1",Altalanos!$A$8="N2"),1,2) -> 2 | V5: III | W5: 60 | X5: 40 | Y5: 30 | Z5: 20 | AA5: 18 | AB5: 15 | AC5: 12 | AD5: 10 | AE5: 8 | AF5: 6
V6: IV | W6: 40 | X6: 25 | Y6: 18 | Z6: 13 | AA6: 10 | AB6: 8 | AC6: 6 | AD6: 5 | AE6: 4 | AF6: 3
A7: A | C7: =IF($B7="","",VLOOKUP($B7,#REF!,5)) | D7: =IF($B7="","",VLOOKUP($B7,#REF!,15)) | E7: Kerekes Leonóra | G7: Bercsényi M | H7: 2. | I7: 2 | V7: V | W7: 25 | X7: 15 | Y7: 13 | Z7: 8 | AA7: 6 | AB7: 4 | AC7: 3 | AD7: 2 | AE7: 1 | AF7: 0
V8: VI | W8: 15 | X8: 10 | Y8: 7 | Z8: 5 | AA8: 4 | AB8: 3 | AC8: 2 | AD8: 1 | AE8: 0 | AF8: 0
A9: B | C9: =IF($B9="","",VLOOKUP($B9,#REF!,5)) | D9: =IF($B9="","",VLOOKUP($B9,#REF!,15)) | E9: Szabó Anna | G9: LVG | H9: 1. | I9: 4 | V9: VII | W9: 10 | X9: 6 | Y9: 4 | Z9: 2 | AA9: 1 | AB9: 0 | AC9: 0 | AD9: 0 | AE9: 0 | AF9: 0
V10: VIII | W10: 6 | X10: 3 | Y10: 2 | Z10: 1 | AA10: 0 | AB10: 0 | AC10: 0 | AD10: 0 | AE10: 0 | AF10: 0
A11: C | C11: =IF($B11="","",VLOOKUP($B11,#REF!,5)) | D11: =IF($B11="","",VLOOKUP($B11,#REF!,15)) | E11: Székely Alina | G11: Szent István | H11: 3. | I11: 0 | V11: W | W11: 3 | X11: 2 | Y11: 1 | Z11: 0 | AA11: 0 | AB11: 0 | AC11: 0 | AD11: 0 | AE11: 0 | AF11: 0
V12: X | W12: 0 | X12: 0 | Y12: 0 | Z12: 0 | AA12: 0 | AB12: 0 | AC12: 0 | AD12: 0 | AE12: 0 | AF12: 0
V13: XI | W13: 0 | X13: 0 | Y13: 0 | Z13: 0 | AA13: 0 | AB13: 0 | AC13: 0 | AD13: 0 | AE13: 0 | AF13: 0
V16: A | W16: 300 | X16: 250 | Y16: 220 | Z16: 180 | AA16: 160 | AB16: 150 | AC16: 140 | AD16: 130 | AE16: 120 | AF16: 110
V17: I | W17: 250 | X17: 200 | Y17: 160 | Z17: 140 | AA17: 120 | AB17: 110 | AC17: 100 | AD17: 90 | AE17: 80 | AF17: 70
D18: =E7 -> Kerekes Leonóra | F18: =E9 -> Szabó Anna | G18: =E11 -> Székely Alina | V18: II | W18: 200 | X18: 150 | Y18: 130 | Z18: 110 | AA18: 95 | AB18: 80 | AC18: 70 | AD18: 60 | AE18: 55 | AF18: 50
A19: A | B19: =E7 -> Kerekes Leonóra | F19: 1/4 | G19: 5/4 | V19: III | W19: 150 | X19: 120 | Y19: 100 | Z19: 80 | AA19: 70 | AB19: 60 | AC19: 55 | AD19: 50 | AE19: 45 | AF19: 40
A20: B | B20: =E9 -> Szabó Anna | D20: 4/1 | G20: 4/1 | V20: IV | W20: 120 | X20: 90 | Y20: 65 | Z20: 55 | AA20: 50 | AB20: 45 | AC20: 40 | AD20: 35 | AE20: 25 | AF20: 20
A21: C | B21: =E11 -> Székely Alina | D21: 4/5 | F21: 1/4 | V21: V | W21: 90 | X21: 60 | Y21: 45 | Z21: 34 | AA21: 27 | AB21: 22 | AC21: 18 | AD21: 15 | AE21: 12 | AF21: 9
V22: VI | W22: 60 | X22: 40 | Y22: 30 | Z22: 20 | AA22: 18 | AB22: 15 | AC22: 12 | AD22: 10 | AE22: 8 | AF22: 6
C23: 1 FORDULÓ | D23: B - C | V23: VII | W23: 40 | X23: 25 | Y23: 18 | Z23: 13 | AA23: 8 | AB23: 7 | AC23: 6 | AD23: 5 | AE23: 4 | AF23: 3
C24: 2 FORDULÓ | D24: C - A | V24: VIII | W24: 25 | X24: 15 | Y24: 13 | Z24: 7 | AA24: 6 | AB24: 5 | AC24: 4 | AD24: 3 | AE24: 2 | AF24: 1
C25: 3 FORDULÓ | D25: A - B | V25: W | W25: 15 | X25: 10 | Y25: 8 | Z25: 4 | AA25: 3 | AB25: 2 | AC25: 1 | AD25: 0 | AE25: 0 | AF25: 0
V26: X | W26: 10 | X26: 6 | Y26: 4 | Z26: 2 | AA26: 1 | AB26: 0 | AC26: 0 | AD26: 0 | AE26: 0 | AF26: 0
V27: XI | W27: 3 | X27: 2 | Y27: 1 | Z27: 0 | AA27: 0 | AB27: 0 | AC27: 0 | AD27: 0 | AE27: 0 | AF27: 0
A33: Rangsor | D33: # | E33: Kiemeltek | H33: Sorsolás időpontja
A34: Dátuma | H34: Utolsó elfogadott játékos
A35: Utolsó DA
H36: Sorsoló játékosok
H39: Versenybíró aláírása
H41: =I4 -> Sági István

Sheet IV.F.B-D-1.csop.
A1: 2025/26. DO J-NK-SZ Vármegye | W1: =IF(T5=1,CONCATENATE(VLOOKUP(T3,V16:AC27,2)),CONCATENATE(VLOOKUP(T3,V2:AF13,2))) -> #REF! | X1: =IF(T5=1,CONCATENATE(VLOOKUP(T3,V16:AF27,3)),CONCATENATE(VLOOKUP(T3,V2:AF13,3))) -> #REF! | Y1: =IF(T5=1,CONCATENATE(VLOOKUP(T3,V16:AF27,4)),CONCATENATE(VLOOKUP(T3,V2:AF13,4))) -> #REF! | Z1: =IF(T5=1,CONCATENATE(VLOOKUP(T3,V16:AF27,5)),CONCATENATE(VLOOKUP(T3,V2:AF13,5))) -> #REF! | AA1: =IF(T5=1,CONCATENATE(VLOOKUP(T3,V16:AF27,6)),CONCATENATE(VLOOKUP(T3,V2:AF13,6))) -> #REF! | AB1: =IF(T5=1,CONCATENATE(VLOOKUP(T3,V16:AF27,7)),CONCATENATE(VLOOKUP(T3,V2:AF13,7))) -> #REF! | AC1: =IF(T5=1,CONCATENATE(VLOOKUP(T3,V16:AF27,8)),CONCATENATE(VLOOKUP(T3,V2:AF13,8))) -> #REF! | AD1: =IF(T5=1,CONCATENATE(VLOOKUP(T3,V16:AF27,9)),CONCATENATE(VLOOKUP(T3,V2:AF13,9))) -> #REF! | AE1: =IF(T5=1,CONCATENATE(VLOOKUP(T3,V16:AF27,10)),CONCATENATE(VLOOKUP(T3,V2:AF13,10))) -> #REF! | AF1: =IF(T5=1,CONCATENATE(VLOOKUP(T3,V16:AF27,11)),CONCATENATE(VLOOKUP(T3,V2:AF13,11))) -> #REF!
A2: Versenyszám: | E2: IV. F./B - 1. csoport | V2: A | W2: 150 | X2: 120 | Y2: 100 | Z2: 80 | AA2: 70 | AB2: 60 | AC2: 55 | AD2: 50 | AE2: 45 | AF2: 40
A3: Dátum | E3: Város | I3: Versenybíró | T3: =IF(#REF!="OB","A",IF(#REF!="IX","W",#REF!)) -> #REF! | V3: I | W3: 120 | X3: 90 | Y3: 65 | Z3: 55 | AA3: 50 | AB3: 45 | AC3: 40 | AD3: 35 | AE3: 25 | AF3: 20
A4: 46136 | E4: =Altalanos!$C$10 -> Jászberény | I4: =Altalanos!$E$10 -> Sági István | V4: II | W4: 90 | X4: 60 | Y4: 45 | Z4: 34 | AA4: 27 | AB4: 22 | AC4: 18 | AD4: 15 | AE4: 12 | AF4: 9
B5: kiem | C5: kódszám | D5: Rangsor | E5: Vezetéknév | H5: Helyezés | I5: Pontszám | J5: Bónusz | T5: =IF(OR(Altalanos!$A$8="F1",Altalanos!$A$8="F2",Altalanos!$A$8="N1",Altalanos!$A$8="N2"),1,2) -> 2 | V5: III | W5: 60 | X5: 40 | Y5: 30 | Z5: 20 | AA5: 18 | AB5: 15 | AC5: 12 | AD5: 10 | AE5: 8 | AF5: 6
V6: IV | W6: 40 | X6: 25 | Y6: 18 | Z6: 13 | AA6: 10 | AB6: 8 | AC6: 6 | AD6: 5 | AE6: 4 | AF6: 3
A7: A | C7: =IF($B7="","",VLOOKUP($B7,#REF!,5)) | D7: =IF($B7="","",VLOOKUP($B7,#REF!,15)) | E7: Bordás Félix | G7: Jb Nagyboldog | H7: 1. | I7: 4 | V7: V | W7: 25 | X7: 15 | Y7: 13 | Z7: 8 | AA7: 6 | AB7: 4 | AC7: 3 | AD7: 2 | AE7: 1 | AF7: 0
V8: VI | W8: 15 | X8: 10 | Y8: 7 | Z8: 5 | AA8: 4 | AB8: 3 | AC8: 2 | AD8: 1 | AE8: 0 | AF8: 0
A9: B | C9: =IF($B9="","",VLOOKUP($B9,#REF!,5)) | D9: =IF($B9="","",VLOOKUP($B9,#REF!,15)) | E9: Oláh Ádám | G9: Szent István | H9: 2. | I9: 2 | V9: VII | W9: 10 | X9: 6 | Y9: 4 | Z9: 2 | AA9: 1 | AB9: 0 | AC9: 0 | AD9: 0 | AE9: 0 | AF9: 0
V10: VIII | W10: 6 | X10: 3 | Y10: 2 | Z10: 1 | AA10: 0 | AB10: 0 | AC10: 0 | AD10: 0 | AE10: 0 | AF10: 0
A11: C | C11: =IF($B11="","",VLOOKUP($B11,#REF!,5)) | D11: =IF($B11="","",VLOOKUP($B11,#REF!,15)) | E11: Banya Ádám | G11: Gróf App | H11: 3. | I11: 0 | V11: W | W11: 3 | X11: 2 | Y11: 1 | Z11: 0 | AA11: 0 | AB11: 0 | AC11: 0 | AD11: 0 | AE11: 0 | AF11: 0
V12: X | W12: 0 | X12: 0 | Y12: 0 | Z12: 0 | AA12: 0 | AB12: 0 | AC12: 0 | AD12: 0 | AE12: 0 | AF12: 0
V13: XI | W13: 0 | X13: 0 | Y13: 0 | Z13: 0 | AA13: 0 | AB13: 0 | AC13: 0 | AD13: 0 | AE13: 0 | AF13: 0
V16: A | W16: 300 | X16: 250 | Y16: 220 | Z16: 180 | AA16: 160 | AB16: 150 | AC16: 140 | AD16: 130 | AE16: 120 | AF16: 110
V17: I | W17: 250 | X17: 200 | Y17: 160 | Z17: 140 | AA17: 120 | AB17: 110 | AC17: 100 | AD17: 90 | AE17: 80 | AF17: 70
D18: =E7 -> Bordás Félix | F18: =E9 -> Oláh Ádám | G18: =E11 -> Banya Ádám | V18: II | W18: 200 | X18: 150 | Y18: 130 | Z18: 110 | AA18: 95 | AB18: 80 | AC18: 70 | AD18: 60 | AE18: 55 | AF18: 50
A19: A | B19: =E7 -> Bordás Félix | F19: 4/0 4/1 | G19: 4/0 4/0 | V19: III | W19: 150 | X19: 120 | Y19: 100 | Z19: 80 | AA19: 70 | AB19: 60 | AC19: 55 | AD19: 50 | AE19: 45 | AF19: 40
A20: B | B20: =E9 -> Oláh Ádám | D20: 0/4 1/4 | G20: 4/0 4/0 | V20: IV | W20: 120 | X20: 90 | Y20: 65 | Z20: 55 | AA20: 50 | AB20: 45 | AC20: 40 | AD20: 35 | AE20: 25 | AF20: 20
A21: C | B21: =E11 -> Banya Ádám | D21: 0/4 0/4 | F21: 0/4 0/4 | V21: V | W21: 90 | X21: 60 | Y21: 45 | Z21: 34 | AA21: 27 | AB21: 22 | AC21: 18 | AD21: 15 | AE21: 12 | AF21: 9
V22: VI | W22: 60 | X22: 40 | Y22: 30 | Z22: 20 | AA22: 18 | AB22: 15 | AC22: 12 | AD22: 10 | AE22: 8 | AF22: 6
C23: 1 FORDULÓ | D23: B - C | V23: VII | W23: 40 | X23: 25 | Y23: 18 | Z23: 13 | AA23: 8 | AB23: 7 | AC23: 6 | AD23: 5 | AE23: 4 | AF23: 3
C24: 2 FORDULÓ | D24: C - A | V24: VIII | W24: 25 | X24: 15 | Y24: 13 | Z24: 7 | AA24: 6 | AB24: 5 | AC24: 4 | AD24: 3 | AE24: 2 | AF24: 1
C25: 3 FORDULÓ | D25: A - B | V25: W | W25: 15 | X25: 10 | Y25: 8 | Z25: 4 | AA25: 3 | AB25: 2 | AC25: 1 | AD25: 0 | AE25: 0 | AF25: 0
V26: X | W26: 10 | X26: 6 | Y26: 4 | Z26: 2 | AA26: 1 | AB26: 0 | AC26: 0 | AD26: 0 | AE26: 0 | AF26: 0
V27: XI | W27: 3 | X27: 2 | Y27: 1 | Z27: 0 | AA27: 0 | AB27: 0 | AC27: 0 | AD27: 0 | AE27: 0 | AF27: 0
A33: Rangsor | D33: # | E33: Kiemeltek | H33: Sorsolás időpontja
A34: Dátuma | H34: Utolsó elfogadott játékos
A35: Utolsó DA
H36: Sorsoló játékosok
H39: Versenybíró aláírása
H41: =I4 -> Sági István

Sheet IV.F.B-D-2.csop.
A1: 2025/26. DO J-NK-SZ Vármegye | W1: =IF(T5=1,CONCATENATE(VLOOKUP(T3,V16:AC27,2)),CONCATENATE(VLOOKUP(T3,V2:AF13,2))) -> #REF! | X1: =IF(T5=1,CONCATENATE(VLOOKUP(T3,V16:AF27,3)),CONCATENATE(VLOOKUP(T3,V2:AF13,3))) -> #REF! | Y1: =IF(T5=1,CONCATENATE(VLOOKUP(T3,V16:AF27,4)),CONCATENATE(VLOOKUP(T3,V2:AF13,4))) -> #REF! | Z1: =IF(T5=1,CONCATENATE(VLOOKUP(T3,V16:AF27,5)),CONCATENATE(VLOOKUP(T3,V2:AF13,5))) -> #REF! | AA1: =IF(T5=1,CONCATENATE(VLOOKUP(T3,V16:AF27,6)),CONCATENATE(VLOOKUP(T3,V2:AF13,6))) -> #REF! | AB1: =IF(T5=1,CONCATENATE(VLOOKUP(T3,V16:AF27,7)),CONCATENATE(VLOOKUP(T3,V2:AF13,7))) -> #REF! | AC1: =IF(T5=1,CONCATENATE(VLOOKUP(T3,V16:AF27,8)),CONCATENATE(VLOOKUP(T3,V2:AF13,8))) -> #REF! | AD1: =IF(T5=1,CONCATENATE(VLOOKUP(T3,V16:AF27,9)),CONCATENATE(VLOOKUP(T3,V2:AF13,9))) -> #REF! | AE1: =IF(T5=1,CONCATENATE(VLOOKUP(T3,V16:AF27,10)),CONCATENATE(VLOOKUP(T3,V2:AF13,10))) -> #REF! | AF1: =IF(T5=1,CONCATENATE(VLOOKUP(T3,V16:AF27,11)),CONCATENATE(VLOOKUP(T3,V2:AF13,11))) -> #REF!
A2: Versenyszám: | E2: IV. F./B - 2. csoport | V2: A | W2: 150 | X2: 120 | Y2: 100 | Z2: 80 | AA2: 70 | AB2: 60 | AC2: 55 | AD2: 50 | AE2: 45 | AF2: 40
A3: Dátum | E3: Város | I3: Versenybíró | T3: =IF(#REF!="OB","A",IF(#REF!="IX","W",#REF!)) -> #REF! | V3: I | W3: 120 | X3: 90 | Y3: 65 | Z3: 55 | AA3: 50 | AB3: 45 | AC3: 40 | AD3: 35 | AE3: 25 | AF3: 20
A4: 46136 | E4: =Altalanos!$C$10 -> Jászberény | I4: =Altalanos!$E$10 -> Sági István | V4: II | W4: 90 | X4: 60 | Y4: 45 | Z4: 34 | AA4: 27 | AB4: 22 | AC4: 18 | AD4: 15 | AE4: 12 | AF4: 9
B5: kiem | C5: kódszám | D5: Rangsor | E5: Vezetéknév | H5: Helyezés | I5: Pontszám | J5: Bónusz | T5: =IF(OR(Altalanos!$A$8="F1",Altalanos!$A$8="F2",Altalanos!$A$8="N1",Altalanos!$A$8="N2"),1,2) -> 2 | V5: III | W5: 60 | X5: 40 | Y5: 30 | Z5: 20 | AA5: 18 | AB5: 15 | AC5: 12 | AD5: 10 | AE5: 8 | AF5: 6
V6: IV | W6: 40 | X6: 25 | Y6: 18 | Z6: 13 | AA6: 10 | AB6: 8 | AC6: 6 | AD6: 5 | AE6: 4 | AF6: 3
A7: A | C7: =IF($B7="","",VLOOKUP($B7,#REF!,5)) | D7: =IF($B7="","",VLOOKUP($B7,#REF!,15)) | E7: Pócz Kornél Norbert | G7: Székely Mihály | H7: 1. | I7: 4 | V7: V | W7: 25 | X7: 15 | Y7: 13 | Z7: 8 | AA7: 6 | AB7: 4 | AC7: 3 | AD7: 2 | AE7: 1 | AF7: 0
V8: VI | W8: 15 | X8: 10 | Y8: 7 | Z8: 5 | AA8: 4 | AB8: 3 | AC8: 2 | AD8: 1 | AE8: 0 | AF8: 0
A9: B | C9: =IF($B9="","",VLOOKUP($B9,#REF!,5)) | D9: =IF($B9="","",VLOOKUP($B9,#REF!,15)) | E9: Kemény Mirkó | G9: Szent István | H9: 2. | I9: 2 | V9: VII | W9: 10 | X9: 6 | Y9: 4 | Z9: 2 | AA9: 1 | AB9: 0 | AC9: 0 | AD9: 0 | AE9: 0 | AF9: 0
V10: VIII | W10: 6 | X10: 3 | Y10: 2 | Z10: 1 | AA10: 0 | AB10: 0 | AC10: 0 | AD10: 0 | AE10: 0 | AF10: 0
A11: C | C11: =IF($B11="","",VLOOKUP($B11,#REF!,5)) | D11: =IF($B11="","",VLOOKUP($B11,#REF!,15)) | E11: Török Ádám Márk | G11: Bercsényi M | H11: 3. | I11: 0 | V11: W | W11: 3 | X11: 2 | Y11: 1 | Z11: 0 | AA11: 0 | AB11: 0 | AC11: 0 | AD11: 0 | AE11: 0 | AF11: 0
V12: X | W12: 0 | X12: 0 | Y12: 0 | Z12: 0 | AA12: 0 | AB12: 0 | AC12: 0 | AD12: 0 | AE12: 0 | AF12: 0
V13: XI | W13: 0 | X13: 0 | Y13: 0 | Z13: 0 | AA13: 0 | AB13: 0 | AC13: 0 | AD13: 0 | AE13: 0 | AF13: 0
V16: A | W16: 300 | X16: 250 | Y16: 220 | Z16: 180 | AA16: 160 | AB16: 150 | AC16: 140 | AD16: 130 | AE16: 120 | AF16: 110
V17: I | W17: 250 | X17: 200 | Y17: 160 | Z17: 140 | AA17: 120 | AB17: 110 | AC17: 100 | AD17: 90 | AE17: 80 | AF17: 70
D18: =E7 -> Pócz Kornél Norbert | F18: =E9 -> Kemény Mirkó | G18: =E11 -> Török Ádám Márk | V18: II | W18: 200 | X18: 150 | Y18: 130 | Z18: 110 | AA18: 95 | AB18: 80 | AC18: 70 | AD18: 60 | AE18: 55 | AF18: 50
A19: A | B19: =E7 -> Pócz Kornél Norbert | F19: 4/2 1/4 5/10 | G19: 4/0 4/1 | V19: III | W19: 150 | X19: 120 | Y19: 100 | Z19: 80 | AA19: 70 | AB19: 60 | AC19: 55 | AD19: 50 | AE19: 45 | AF19: 40
A20: B | B20: =E9 -> Kemény Mirkó | D20: 2/4 4/1 10/5 | G20: 2/4 4/1 10/5 | V20: IV | W20: 120 | X20: 90 | Y20: 65 | Z20: 55 | AA20: 50 | AB20: 45 | AC20: 40 | AD20: 35 | AE20: 25 | AF20: 20
A21: C | B21: =E11 -> Török Ádám Márk | D21: 0/4 1/4 | F21: 4/2 1/4 5/10 | V21: V | W21: 90 | X21: 60 | Y21: 45 | Z21: 34 | AA21: 27 | AB21: 22 | AC21: 18 | AD21: 15 | AE21: 12 | AF21: 9
V22: VI | W22: 60 | X22: 40 | Y22: 30 | Z22: 20 | AA22: 18 | AB22: 15 | AC22: 12 | AD22: 10 | AE22: 8 | AF22: 6
C23: 1 FORDULÓ | D23: B - C | V23: VII | W23: 40 | X23: 25 | Y23: 18 | Z23: 13 | AA23: 8 | AB23: 7 | AC23: 6 | AD23: 5 | AE23: 4 | AF23: 3
C24: 2 FORDULÓ | D24: C - A | V24: VIII | W24: 25 | X24: 15 | Y24: 13 | Z24: 7 | AA24: 6 | AB24: 5 | AC24: 4 | AD24: 3 | AE24: 2 | AF24: 1
C25: 3 FORDULÓ | D25: A - B | V25: W | W25: 15 | X25: 10 | Y25: 8 | Z25: 4 | AA25: 3 | AB25: 2 | AC25: 1 | AD25: 0 | AE25: 0 | AF25: 0
V26: X | W26: 10 | X26: 6 | Y26: 4 | Z26: 2 | AA26: 1 | AB26: 0 | AC26: 0 | AD26: 0 | AE26: 0 | AF26: 0
V27: XI | W27: 3 | X27: 2 | Y27: 1 | Z27: 0 | AA27: 0 | AB27: 0 | AC27: 0 | AD27: 0 | AE27: 0 | AF27: 0
A33: Rangsor | D33: # | E33: Kiemeltek | H33: Sorsolás időpontja
A34: Dátuma | H34: Utolsó elfogadott játékos
A35: Utolsó DA
H36: Sorsoló játékosok
H39: Versenybíró aláírása
H41: =I4 -> Sági István

Sheet IV.F.B-D-2
A1: =Altalanos!$A$6 -> 2025/26. DO J-NK-SZ Vármegye | G1: Egyéni főtábla | X1: =IF($U$5=1,CONCATENATE(VLOOKUP($U$3,$W$2:$AD$14,2)),CONCATENATE(VLOOKUP($U$3,$W$16:$AD$25,2))) -> #N/A | Y1: =IF($U$5=1,CONCATENATE(VLOOKUP($U$3,$W$2:$AD$14,3)),CONCATENATE(VLOOKUP($U$3,$W$16:$AD$25,3))) -> #N/A | Z1: =IF($U$5=1,CONCATENATE(VLOOKUP($U$3,$W$2:$AD$14,4)),CONCATENATE(VLOOKUP($U$3,$W$16:$AD$25,4))) -> #N/A | AA1: =IF($U$5=1,CONCATENATE(VLOOKUP($U$3,$W$2:$AD$14,5)),CONCATENATE(VLOOKUP($U$3,$W$16:$AD$25,5))) -> #N/A | AB1: =IF($U$5=1,CONCATENATE(VLOOKUP($U$3,$W$2:$AD$14,6)),CONCATENATE(VLOOKUP($U$3,$W$16:$AD$25,6))) -> #N/A | AC1: =IF($U$5=1,CONCATENATE(VLOOKUP($U$3,$W$2:$AD$14,7)),CONCATENATE(VLOOKUP($U$3,$W$16:$AD$25,7))) -> #N/A | AD1: =IF($U$5=1,CONCATENATE(VLOOKUP($U$3,$W$2:$AD$14,8)),CONCATENATE(VLOOKUP($U$3,$W$16:$AD$25,8))) -> #N/A
A2: Versenyszám: | E2: IV. F./B - Döntő | W2: A | X2: 300 | Y2: 250 | Z2: 200 | AA2: 150 | AB2: 120 | AC2: 90 | AD2: 40
A3: Dátum | G3: Kategória | N3: Versenybíró | U3: =IF(G4="OB","A",IF(G4="IX","W",IF(G4="","",G4))) | W3: B | X3: 280 | Y3: 230 | Z3: 180 | AA3: 140 | AB3: 80 | AC3: 0 | AD3: 0
A4: 46136 | N4: =Altalanos!$E$10 -> Sági István | W4: I | X4: 250 | Y4: 200 | Z4: 150 | AA4: 120 | AB4: 90 | AC4: 60 | AD4: 25
B5: St. | C5: Rangsor | D5: kód | E5: Kiem | G5: 2. forduló | I5: Döntő | K5: Győztes | U5: =IF(OR(Altalanos!$A$8="F1",Altalanos!$A$8="F2",Altalanos!$A$8="N1",Altalanos!$A$8="N2"),1,2) -> 2 | W5: II | X5: 200 | Y5: 150 | Z5: 120 | AA5: 90 | AB5: 60 | AC5: 40 | AD5: 15
G6: =IF(U3="","",CONCATENATE(VLOOKUP(U3,X1:AD1,3)," pont")) | I6: =IF(U3="","",CONCATENATE(VLOOKUP(U3,X1:AD1,2)," pont")) | K6: =IF(U3="","",CONCATENATE(VLOOKUP(U3,X1:AD1,1)," pont")) | W6: III | X6: 150 | Y6: 120 | Z6: 90 | AA6: 60 | AB6: 40 | AC6: 25 | AD6: 10
A7: 1 | B7: =IF($E7="","",VLOOKUP($E7,#REF!,14)) | C7: =IF($E7="","",VLOOKUP($E7,#REF!,15)) | D7: =IF($E7="","",VLOOKUP($E7,#REF!,5)) | Q7: =Birók!L21 -> Bíró | W7: IV | X7: 120 | Y7: 90 | Z7: 60 | AA7: 40 | AB7: 25 | AC7: 10 | AD7: 5
G8: 1. csoport győztese | Q8: =Birók!L22 -> I Sági | W8: V | X8: 90 | Y8: 60 | Z8: 40 | AA8: 25 | AB8: 10 | AC8: 5 | AD8: 2
A9: 2 | B9: =IF($E9="","",VLOOKUP($E9,#REF!,14)) | C9: =IF($E9="","",VLOOKUP($E9,#REF!,15)) | D9: =IF($E9="","",VLOOKUP($E9,#REF!,5)) | Q9: =Birók!L23 | W9: VI | X9: 60 | Y9: 40 | Z9: 25 | AA9: 10 | AB9: 5 | AC9: 2 | AD9: 1
G10: Umpire | I10: Bordás Félix | Q10: =Birók!L24 | W10: VII | X10: 40 | Y10: 25 | Z10: 15 | AA10: 7 | AB10: 4 | AC10: 1 | AD10: 0
A11: 3 | B11: =IF($E11="","",VLOOKUP($E11,#REF!,14)) | C11: =IF($E11="","",VLOOKUP($E11,#REF!,15)) | D11: =IF($E11="","",VLOOKUP($E11,#REF!,5)) | Q11: =Birók!L25 | W11: VIII | X11: 25 | Y11: 15 | Z11: 10 | AA11: 6 | AB11: 3 | AC11: 1 | AD11: 0
G12: X | Q12: =Birók!L26 | W12: W | X12: 15 | Y12: 10 | Z12: 6 | AA12: 3 | AB12: 1 | AC12: 0 | AD12: 0
A13: 4 | B13: =IF($E13="","",VLOOKUP($E13,#REF!,14)) | C13: =IF($E13="","",VLOOKUP($E13,#REF!,15)) | D13: =IF($E13="","",VLOOKUP($E13,#REF!,5)) | Q13: =Birók!L27 | W13: X | X13: 10 | Y13: 6 | Z13: 3 | AA13: 1 | AB13: 0 | AC13: 0 | AD13: 0
I14: Umpire | K14: Bordás Félix | Q14: =Birók!L28 | W14: XI | X14: 3 | Y14: 2 | Z14: 1 | AA14: 0 | AB14: 0 | AC14: 0 | AD14: 0
A15: 5 | B15: =IF($E15="","",VLOOKUP($E15,#REF!,14)) | C15: =IF($E15="","",VLOOKUP($E15,#REF!,15)) | D15: =IF($E15="","",VLOOKUP($E15,#REF!,5)) | K15: 2/4 4/2 10/4 | Q15: =Birók!L29
G16: X | Q16: =Birók!L30 -> Egyik sem | W16: A | X16: 150 | Y16: 120 | Z16: 90 | AA16: 60 | AB16: 40 | AC16: 25 | AD16: 15
A17: 6 | B17: =IF($E17="","",VLOOKUP($E17,#REF!,14)) | C17: =IF($E17="","",VLOOKUP($E17,#REF!,15)) | D17: =IF($E17="","",VLOOKUP($E17,#REF!,5)) | W17: I | X17: 120 | Y17: 90 | Z17: 60 | AA17: 40 | AB17: 25 | AC17: 15 | AD17: 8
G18: Umpire | I18: Pócz Kornél Norbert | W18: II | X18: 90 | Y18: 60 | Z18: 40 | AA18: 25 | AB18: 15 | AC18: 8 | AD18: 4
A19: 7 | B19: =IF($E19="","",VLOOKUP($E19,#REF!,14)) | C19: =IF($E19="","",VLOOKUP($E19,#REF!,15)) | D19: =IF($E19="","",VLOOKUP($E19,#REF!,5)) | W19: III | X19: 60 | Y19: 40 | Z19: 25 | AA19: 15 | AB19: 8 | AC19: 4 | AD19: 2
G20: 2. csoport győztese | W20: IV | X20: 40 | Y20: 25 | Z20: 15 | AA20: 8 | AB20: 4 | AC20: 2 | AD20: 1
A21: 8 | B21: =IF($E21="","",VLOOKUP($E21,#REF!,14)) | C21: =IF($E21="","",VLOOKUP($E21,#REF!,15)) | D21: =IF($E21="","",VLOOKUP($E21,#REF!,5)) | W21: V | X21: 25 | Y21: 15 | Z21: 10 | AA21: 6 | AB21: 3 | AC21: 1 | AD21: 0
W22: VI | X22: 15 | Y22: 10 | Z22: 6 | AA22: 3 | AB22: 1 | AC22: 0 | AD22: 0
W23: VII | X23: 10 | Y23: 6 | Z23: 3 | AA23: 1 | AB23: 0 | AC23: 0 | AD23: 0
W24: VIII | X24: 6 | Y24: 3 | Z24: 1 | AA24: 0 | AB24: 0 | AC24: 0 | AD24: 0
W25: W | X25: 3 | Y25: 2 | Z25: 1 | AA25: 0 | AB25: 0 | AC25: 0 | AD25: 0
A54: Rangsor | E54: # | F54: # | G54: Szerencés Vesztes | I54: Helyettesíti | K54: Sorsolás időpontja
A55: Dátuma | E55: 1 | F55: 1 | K55: Utolsó elfogadott játékos
A56: Utolsó DA | E56: 2 | F56: 2
F57: 3 | K57: Sorsoló játékosok
F58: 4
F59: 5
F60: 6 | K60: Versenybíró aláírása
F61: 7
F62: 8 | K62: =N4 -> Sági István | N62: =MIN(4,#REF!) -> #REF!

Sheet V.F.B-D-10
A1: 2025/26. DO J-NK-SZ Vármegye | H1: Egyéni főtábla | L1: CU | Y1: =IF($V$5=1,CONCATENATE(VLOOKUP($V$3,$X$2:$AE$14,2)),CONCATENATE(VLOOKUP($V$3,$X$16:$AE$25,2))) -> #REF! | Z1: =IF($V$5=1,CONCATENATE(VLOOKUP($V$3,$X$2:$AE$14,3)),CONCATENATE(VLOOKUP($V$3,$X$16:$AE$25,3))) -> #REF! | AA1: =IF($V$5=1,CONCATENATE(VLOOKUP($V$3,$X$2:$AE$14,4)),CONCATENATE(VLOOKUP($V$3,$X$16:$AE$25,4))) -> #REF! | AB1: =IF($V$5=1,CONCATENATE(VLOOKUP($V$3,$X$2:$AE$14,5)),CONCATENATE(VLOOKUP($V$3,$X$16:$AE$25,5))) -> #REF! | AC1: =IF($V$5=1,CONCATENATE(VLOOKUP($V$3,$X$2:$AE$14,6)),CONCATENATE(VLOOKUP($V$3,$X$16:$AE$25,6))) -> #REF! | AD1: =IF($V$5=1,CONCATENATE(VLOOKUP($V$3,$X$2:$AE$14,7)),CONCATENATE(VLOOKUP($V$3,$X$16:$AE$25,7))) -> #REF! | AE1: =IF($V$5=1,CONCATENATE(VLOOKUP($V$3,$X$2:$AE$14,8)),CONCATENATE(VLOOKUP($V$3,$X$16:$AE$25,8))) -> #REF!
A2: Versenyszám: | E2: V. F./B - Döntő | X2: A | Y2: 300 | Z2: 250 | AA2: 200 | AB2: 150 | AC2: 120 | AD2: 90 | AE2: 40
A3: Dátum | H3: Kategória | O3: Versenybíró | V3: =IF(H4="OB","A",IF(H4="IX","W",IF(H4="","",H4))) | X3: B | Y3: 280 | Z3: 230 | AA3: 180 | AB3: 140 | AC3: 80 | AD3: 0 | AE3: 0
A4: 45405 | O4: Sági István | X4: I | Y4: 250 | Z4: 200 | AA4: 150 | AB4: 120 | AC4: 90 | AD4: 60 | AE4: 25
B5: St. | C5: Rangsor | D5: kód | E5: Kiem | H5: 2. forduló | J5: Elődöntők | L5: Döntő | N5: Győztes | V5: #REF! | X5: II | Y5: 200 | Z5: 150 | AA5: 120 | AB5: 90 | AC5: 60 | AD5: 40 | AE5: 15
H6: =IF(V3="","",CONCATENATE(VLOOKUP(V3,Y1:AE1,4)," pont")) | J6: =IF(V3="","",CONCATENATE(VLOOKUP(V3,Y1:AE1,3)," pont")) | L6: =IF(V3="","",CONCATENATE(VLOOKUP(V3,Y1:AE1,2)," pont")) | N6: =IF(V3="","",CONCATENATE(VLOOKUP(V3,Y1:AE1,1)," pont")) | X6: III | Y6: 150 | Z6: 120 | AA6: 90 | AB6: 60 | AC6: 40 | AD6: 25 | AE6: 10
A7: 1 | E7: German László | F7: Gróf App | R7: =#REF! -> #REF! | X7: IV | Y7: 120 | Z7: 90 | AA7: 60 | AB7: 40 | AC7: 25 | AD7: 10 | AE7: 5
H8: German László | R8: =#REF! -> #REF! | X8: V | Y8: 90 | Z8: 60 | AA8: 40 | AB8: 25 | AC8: 10 | AD8: 5 | AE8: 2
A9: 2 | E9: X | R9: =#REF! -> #REF! | X9: VI | Y9: 60 | Z9: 40 | AA9: 25 | AB9: 10 | AC9: 5 | AD9: 2 | AE9: 1
J10: German László | R10: =#REF! -> #REF! | X10: VII | Y10: 40 | Z10: 25 | AA10: 15 | AB10: 7 | AC10: 4 | AD10: 1 | AE10: 0
A11: 3 | E11: Szabó sebestyén | F11: Gróf App | J11: 5/4 4/0 | R11: =#REF! -> #REF! | X11: VIII | Y11: 25 | Z11: 15 | AA11: 10 | AB11: 6 | AC11: 3 | AD11: 1 | AE11: 0
H12: Szabó sebestyén | R12: =#REF! -> #REF! | X12: W | Y12: 15 | Z12: 10 | AA12: 6 | AB12: 3 | AC12: 1 | AD12: 0 | AE12: 0
A13: 4 | E13: Édes Dániel György | F13: LVG | H13: 4/1 4/2 | R13: =#REF! -> #REF! | X13: X | Y13: 10 | Z13: 6 | AA13: 3 | AB13: 1 | AC13: 0 | AD13: 0 | AE13: 0
L14: German László | R14: =#REF! -> #REF! | X14: XI | Y14: 3 | Z14: 2 | AA14: 1 | AB14: 0 | AC14: 0 | AD14: 0 | AE14: 0
A15: 5 | E15: Kovács Kornél Máté | F15: Jb Nagyboldog | L15: 5/3 1/4 12/10 | R15: =#REF! -> #REF!
H16: Kovács Kornél Máté | R16: =#REF! -> #REF! | X16: A | Y16: 150 | Z16: 120 | AA16: 90 | AB16: 60 | AC16: 40 | AD16: 25 | AE16: 15
A17: 6 | E17: X | X17: I | Y17: 120 | Z17: 90 | AA17: 60 | AB17: 40 | AC17: 25 | AD17: 15 | AE17: 8
J18: Kovács Kornél Máté | X18: II | Y18: 90 | Z18: 60 | AA18: 40 | AB18: 25 | AC18: 15 | AD18: 8 | AE18: 4
A19: 7 | E19: Magoss György Bálint | F19: LVG | J19: 4/1 4/1 | X19: III | Y19: 60 | Z19: 40 | AA19: 25 | AB19: 15 | AC19: 8 | AD19: 4 | AE19: 2
H20: Magoss György Bálint | X20: IV | Y20: 40 | Z20: 25 | AA20: 15 | AB20: 8 | AC20: 4 | AD20: 2 | AE20: 1
A21: 8 | E21: X | X21: V | Y21: 25 | Z21: 15 | AA21: 10 | AB21: 6 | AC21: 3 | AD21: 1 | AE21: 0
N22: Bencsik Máté | X22: VI | Y22: 15 | Z22: 10 | AA22: 6 | AB22: 3 | AC22: 1 | AD22: 0 | AE22: 0
A23: 9 | E23: Borics Benett | F23: Jb Nagyboldog | N23: 5/3 4/0 | X23: VII | Y23: 10 | Z23: 6 | AA23: 3 | AB23: 1 | AC23: 0 | AD23: 0 | AE23: 0
H24: Borics Benett | X24: VIII | Y24: 6 | Z24: 3 | AA24: 1 | AB24: 0 | AC24: 0 | AD24: 0 | AE24: 0
A25: 10 | E25: X | X25: W | Y25: 3 | Z25: 2 | AA25: 1 | AB25: 0 | AC25: 0 | AD25: 0 | AE25: 0
J26: Farkas Dániel
A27: 11 | E27: Farkas Dániel | F27: Szent István | J27: jn.
H28: Farkas Dániel
A29: 12 | E29: X
L30: Bencsik Máté
A31: 13 | E31: Faragó Máté Béla | F31: Jászárokszállás | L31: 4/0 4/0
H32: Faragó Máté Béla
A33: 14 | E33: Magera Péter | F33: LVG | H33: jn.
J34: Bencsik Máté
A35: 15 | E35: X | J35: 4/0 4/0
H36: Bencsik Máté
A37: 16 | E37: Bencsik Máté | F37: Gróf App
A49: Rangsor | E49: # | G49: # | H49: Szerencés Vesztes | J49: Helyettesíti | L49: Sorsolás időpontja
A50: Dátuma | E50: 1 | G50: 1 | L50: Utolsó elfogadott játékos
A51: Utolsó DA | E51: 2 | G51: 2
E52: 3 | G52: 3 | L52: Sorsoló játékosok
E53: 4 | G53: 4
G54: 5
G55: 6 | L55: Versenybíró aláírása
G56: 7
G57: 8 | L57: =O4 -> Sági István | O57: =MIN(4,#REF!) -> #REF!

Sheet V.L.B-D-5
A1: 2025/26. DO J-NK-SZ Vármegye | P1: =IF(M5=1,CONCATENATE(VLOOKUP(M3,O16:V27,2)),CONCATENATE(VLOOKUP(M3,O2:Y13,2))) -> #REF! | Q1: =IF(M5=1,CONCATENATE(VLOOKUP(M3,O16:Y27,3)),CONCATENATE(VLOOKUP(M3,O2:Y13,3))) -> #REF! | R1: =IF(M5=1,CONCATENATE(VLOOKUP(M3,O16:Y27,4)),CONCATENATE(VLOOKUP(M3,O2:Y13,4))) -> #REF! | S1: =IF(M5=1,CONCATENATE(VLOOKUP(M3,O16:Y27,5)),CONCATENATE(VLOOKUP(M3,O2:Y13,5))) -> #REF! | T1: =IF(M5=1,CONCATENATE(VLOOKUP(M3,O16:Y27,6)),CONCATENATE(VLOOKUP(M3,O2:Y13,6))) -> #REF! | U1: =IF(M5=1,CONCATENATE(VLOOKUP(M3,O16:Y27,7)),CONCATENATE(VLOOKUP(M3,O2:Y13,7))) -> #REF! | V1: =IF(M5=1,CONCATENATE(VLOOKUP(M3,O16:Y27,8)),CONCATENATE(VLOOKUP(M3,O2:Y13,8))) -> #REF! | W1: =IF(M5=1,CONCATENATE(VLOOKUP(M3,O16:Y27,9)),CONCATENATE(VLOOKUP(M3,O2:Y13,9))) -> #REF! | X1: =IF(M5=1,CONCATENATE(VLOOKUP(M3,O16:Y27,10)),CONCATENATE(VLOOKUP(M3,O2:Y13,10))) -> #REF! | Y1: =IF(M5=1,CONCATENATE(VLOOKUP(M3,O16:Y27,11)),CONCATENATE(VLOOKUP(M3,O2:Y13,11))) -> #REF!
A2: Versenyszám: | E2: V. L./B - Döntő | O2: A | P2: 150 | Q2: 120 | R2: 100 | S2: 80 | T2: 70 | U2: 60 | V2: 55 | W2: 50 | X2: 45 | Y2: 40
A3: Dátum | E3: Város | I3: Versenybíró | M3: =IF(#REF!="OB","A",IF(#REF!="IX","W",#REF!)) -> #REF! | O3: I | P3: 120 | Q3: 90 | R3: 65 | S3: 55 | T3: 50 | U3: 45 | V3: 40 | W3: 35 | X3: 25 | Y3: 20
A4: 46135 | E4: Jászberény | I4: 0 | O4: II | P4: 90 | Q4: 60 | R4: 45 | S4: 34 | T4: 27 | U4: 22 | V4: 18 | W4: 15 | X4: 12 | Y4: 9
B5: kiem | C5: kódszám | D5: Rangsor | E5: Vezetéknév | H5: Helyezés | I5: Pontszám | J5: Bónusz | M5: 2 | O5: III | P5: 60 | Q5: 40 | R5: 30 | S5: 20 | T5: 18 | U5: 15 | V5: 12 | W5: 10 | X5: 8 | Y5: 6
O6: IV | P6: 40 | Q6: 25 | R6: 18 | S6: 13 | T6: 10 | U6: 8 | V6: 6 | W6: 5 | X6: 4 | Y6: 3
A7: A | B7: 1 | C7: 0 | D7: 0 | E7: Vince Véda | G7: Bercsényi M | H7: 2. | I7: 6 | O7: V | P7: 25 | Q7: 15 | R7: 13 | S7: 8 | T7: 6 | U7: 4 | V7: 3 | W7: 2 | X7: 1 | Y7: 0
O8: VI | P8: 15 | Q8: 10 | R8: 7 | S8: 5 | T8: 4 | U8: 3 | V8: 2 | W8: 1 | X8: 0 | Y8: 0
A9: B | B9: 2 | C9: 0 | D9: 0 | E9: Fedor Szonja | G9: Szent István | H9: 5. | I9: 0 | O9: VII | P9: 10 | Q9: 6 | R9: 4 | S9: 2 | T9: 1 | U9: 0 | V9: 0 | W9: 0 | X9: 0 | Y9: 0
O10: VIII | P10: 6 | Q10: 3 | R10: 2 | S10: 1 | T10: 0 | U10: 0 | V10: 0 | W10: 0 | X10: 0 | Y10: 0
A11: C | B11: 3 | C11: 0 | D11: 0 | E11: Kovács Bianka | G11: Szent István | H11: 1. | I11: 8 | O11: W | P11: 3 | Q11: 2 | R11: 1 | S11: 0 | T11: 0 | U11: 0 | V11: 0 | W11: 0 | X11: 0 | Y11: 0
O12: X | P12: 0 | Q12: 0 | R12: 0 | S12: 0 | T12: 0 | U12: 0 | V12: 0 | W12: 0 | X12: 0 | Y12: 0
A13: D | B13: 4 | C13: 0 | D13: 0 | E13: Oláh Luca | G13: Szent István | H13: 3. | I13: 4 | O13: XI | P13: 0 | Q13: 0 | R13: 0 | S13: 0 | T13: 0 | U13: 0 | V13: 0 | W13: 0 | X13: 0 | Y13: 0
A15: E | B15: 5 | C15: 0 | D15: 0 | E15: Yiadom Lilly Irie | G15: Szent István | H15: 4. | I15: 2
O16: A | P16: 300 | Q16: 250 | R16: 220 | S16: 180 | T16: 160 | U16: 150 | V16: 140 | W16: 130 | X16: 120 | Y16: 110
O17: I | P17: 250 | Q17: 200 | R17: 160 | S17: 140 | T17: 120 | U17: 110 | V17: 100 | W17: 90 | X17: 80 | Y17: 70
D18: =E7 -> Vince Véda | F18: =E9 -> Fedor Szonja | G18: =E11 -> Kovács Bianka | H18: =E13 -> Oláh Luca | I18: =E15 -> Yiadom Lilly Irie | O18: II | P18: 200 | Q18: 150 | R18: 130 | S18: 110 | T18: 95 | U18: 80 | V18: 70 | W18: 60 | X18: 55 | Y18: 50
A19: A | B19: =E7 -> Vince Véda | F19: 4/0 4/1 | G19: 2/4 2/4 | H19: 4/2 5/4 | I19: 5/3 1/4 7/2 | O19: III | P19: 150 | Q19: 120 | R19: 100 | S19: 80 | T19: 70 | U19: 60 | V19: 55 | W19: 50 | X19: 45 | Y19: 40
A20: B | B20: =E9 -> Fedor Szonja | D20: 0/4 1/4 | G20: 0/4 0/4 | H20: 0/4 0/4 | I20: 0/4 0/4 | O20: IV | P20: 120 | Q20: 90 | R20: 65 | S20: 55 | T20: 50 | U20: 45 | V20: 40 | W20: 35 | X20: 25 | Y20: 20
A21: C | B21: =E11 -> Kovács Bianka | D21: 4/2 4/2 | F21: 4/0 4/0 | H21: 4/1 4/1 | I21: 4/0 4/2 | O21: V | P21: 90 | Q21: 60 | R21: 45 | S21: 34 | T21: 27 | U21: 22 | V21: 18 | W21: 15 | X21: 12 | Y21: 9
A22: D | B22: =E13 -> Oláh Luca | D22: 2/4 5/4 8/10 | F22: 4/0 4/0 | G22: 1/4 1/4 | I22: 4/2 4/2 | O22: VI | P22: 60 | Q22: 40 | R22: 30 | S22: 20 | T22: 18 | U22: 15 | V22: 12 | W22: 10 | X22: 8 | Y22: 6
A23: E | B23: =E15 -> Yiadom Lilly Irie | D23: 3/5 4/1 2/7 | F23: 4/0 4/0 | G23: 0/4 2/4 | H23: 2/4 2/4 | O23: VII | P23: 40 | Q23: 25 | R23: 18 | S23: 13 | T23: 8 | U23: 7 | V23: 6 | W23: 5 | X23: 4 | Y23: 3
O24: VIII | P24: 25 | Q24: 15 | R24: 13 | S24: 7 | T24: 6 | U24: 5 | V24: 4 | W24: 3 | X24: 2 | Y24: 1
O25: W | P25: 15 | Q25: 10 | R25: 8 | S25: 4 | T25: 3 | U25: 2 | V25: 1 | W25: 0 | X25: 0 | Y25: 0
B26: 1 FORDULÓ | C26: B - E | D26: C - D | O26: X | P26: 10 | Q26: 6 | R26: 4 | S26: 2 | T26: 1 | U26: 0 | V26: 0 | W26: 0 | X26: 0 | Y26: 0
B27: 2 FORDULÓ | C27: D - B | D27: E - A | O27: XI | P27: 3 | Q27: 2 | R27: 1 | S27: 0 | T27: 0 | U27: 0 | V27: 0 | W27: 0 | X27: 0 | Y27: 0
B28: 3 FORDULÓ | C28: A - D | D28: B - C
B29: 4 FORDULÓ | C29: C - A | D29: D - E
B30: 5 FORDULÓ | C30: A - B | D30: E - C
A33: Rangsor | D33: # | E33: Kiemeltek | H33: Sorsolás időpontja
A34: Dátuma | H34: Utolsó elfogadott játékos
A35: Utolsó DA
H36: Sorsoló játékosok
H39: Versenybíró aláírása
H41: =I4 -> 0

Sheet VI.F.B-D-13
A1: 2025/26. DO J-NK-SZ Vármegye | I1: Egyéni főtábla | M1: CU | Z1: =IF($W$5=1,CONCATENATE(VLOOKUP($W$3,$Y$2:$AF$14,2)),CONCATENATE(VLOOKUP($W$3,$Y$16:$AF$25,2))) -> #REF! | AA1: =IF($W$5=1,CONCATENATE(VLOOKUP($W$3,$Y$2:$AF$14,3)),CONCATENATE(VLOOKUP($W$3,$Y$16:$AF$25,3))) -> #REF! | AB1: =IF($W$5=1,CONCATENATE(VLOOKUP($W$3,$Y$2:$AF$14,4)),CONCATENATE(VLOOKUP($W$3,$Y$16:$AF$25,4))) -> #REF! | AC1: =IF($W$5=1,CONCATENATE(VLOOKUP($W$3,$Y$2:$AF$14,5)),CONCATENATE(VLOOKUP($W$3,$Y$16:$AF$25,5))) -> #REF! | AD1: =IF($W$5=1,CONCATENATE(VLOOKUP($W$3,$Y$2:$AF$14,6)),CONCATENATE(VLOOKUP($W$3,$Y$16:$AF$25,6))) -> #REF! | AE1: =IF($W$5=1,CONCATENATE(VLOOKUP($W$3,$Y$2:$AF$14,7)),CONCATENATE(VLOOKUP($W$3,$Y$16:$AF$25,7))) -> #REF! | AF1: =IF($W$5=1,CONCATENATE(VLOOKUP($W$3,$Y$2:$AF$14,8)),CONCATENATE(VLOOKUP($W$3,$Y$16:$AF$25,8))) -> #REF!
A2: Versenyszám: | E2: VI. F./B - Döntő | Y2: A | Z2: 300 | AA2: 250 | AB2: 200 | AC2: 150 | AD2: 120 | AE2: 90 | AF2: 40
A3: Dátum | I3: Kategória | P3: Versenybíró | W3: =IF(I4="OB","A",IF(I4="IX","W",IF(I4="","",I4))) | Y3: B | Z3: 280 | AA3: 230 | AB3: 180 | AC3: 140 | AD3: 80 | AE3: 0 | AF3: 0
A4: 45406 | P4: Sági István | Y4: I | Z4: 250 | AA4: 200 | AB4: 150 | AC4: 120 | AD4: 90 | AE4: 60 | AF4: 25
B5: St. | C5: Rangsor | D5: kód | E5: Kiem | I5: 2. forduló | K5: Elődöntők | M5: Döntő | O5: Győztes | W5: #REF! | Y5: II | Z5: 200 | AA5: 150 | AB5: 120 | AC5: 90 | AD5: 60 | AE5: 40 | AF5: 15
I6: =IF(W3="","",CONCATENATE(VLOOKUP(W3,Z1:AF1,4)," pont")) | K6: =IF(W3="","",CONCATENATE(VLOOKUP(W3,Z1:AF1,3)," pont")) | M6: =IF(W3="","",CONCATENATE(VLOOKUP(W3,Z1:AF1,2)," pont")) | O6: =IF(W3="","",CONCATENATE(VLOOKUP(W3,Z1:AF1,1)," pont")) | Y6: III | Z6: 150 | AA6: 120 | AB6: 90 | AC6: 60 | AD6: 40 | AE6: 25 | AF6: 10
A7: 1 | B7: =IF($E7="","",VLOOKUP($E7,#REF!,14)) -> #REF! | C7: =IF($E7="","",VLOOKUP($E7,#REF!,15)) -> #REF! | D7: =IF($E7="","",VLOOKUP($E7,#REF!,5)) -> #REF! | E7: A | F7: Kovács Olivér | G7: Jb Nagyboldog | S7: =#REF! -> #REF! | Y7: IV | Z7: 120 | AA7: 90 | AB7: 60 | AC7: 40 | AD7: 25 | AE7: 10 | AF7: 5
I8: Kovács Olivér | S8: =#REF! -> #REF! | Y8: V | Z8: 90 | AA8: 60 | AB8: 40 | AC8: 25 | AD8: 10 | AE8: 5 | AF8: 2
A9: 2 | B9: =IF($E9="","",VLOOKUP($E9,#REF!,14)) | C9: =IF($E9="","",VLOOKUP($E9,#REF!,15)) | D9: =IF($E9="","",VLOOKUP($E9,#REF!,5)) | F9: X | S9: =#REF! -> #REF! | Y9: VI | Z9: 60 | AA9: 40 | AB9: 25 | AC9: 10 | AD9: 5 | AE9: 2 | AF9: 1
K10: Szeremi Dániel | S10: =#REF! -> #REF! | Y10: VII | Z10: 40 | AA10: 25 | AB10: 15 | AC10: 7 | AD10: 4 | AE10: 1 | AF10: 0
A11: 3 | B11: =IF($E11="","",VLOOKUP($E11,#REF!,14)) | C11: =IF($E11="","",VLOOKUP($E11,#REF!,15)) | D11: =IF($E11="","",VLOOKUP($E11,#REF!,5)) | F11: Földi Krisztián | G11: Szent István | K11: jn. | S11: =#REF! -> #REF! | Y11: VIII | Z11: 25 | AA11: 15 | AB11: 10 | AC11: 6 | AD11: 3 | AE11: 1 | AF11: 0
I12: Szeremi Dániel | S12: =#REF! -> #REF! | Y12: W | Z12: 15 | AA12: 10 | AB12: 6 | AC12: 3 | AD12: 1 | AE12: 0 | AF12: 0
A13: 4 | B13: =IF($E13="","",VLOOKUP($E13,#REF!,14)) | C13: =IF($E13="","",VLOOKUP($E13,#REF!,15)) | D13: =IF($E13="","",VLOOKUP($E13,#REF!,5)) | F13: Szeremi Dániel | G13: Jb Nagyboldog | I13: 4/0 4/1 | S13: =#REF! -> #REF! | Y13: X | Z13: 10 | AA13: 6 | AB13: 3 | AC13: 1 | AD13: 0 | AE13: 0 | AF13: 0
M14: Szebenyi-Kiss Dominik | S14: =#REF! -> #REF! | Y14: XI | Z14: 3 | AA14: 2 | AB14: 1 | AC14: 0 | AD14: 0 | AE14: 0 | AF14: 0
A15: 5 | B15: =IF($E15="","",VLOOKUP($E15,#REF!,14)) | C15: =IF($E15="","",VLOOKUP($E15,#REF!,15)) | D15: =IF($E15="","",VLOOKUP($E15,#REF!,5)) | F15: Szebenyi-Kiss Dominik | G15: Jb Nagyboldog | M15: 4/1 4/2 | S15: =#REF! -> #REF!
I16: Szebenyi-Kiss Dominik | S16: =#REF! -> #REF! | Y16: A | Z16: 150 | AA16: 120 | AB16: 90 | AC16: 60 | AD16: 40 | AE16: 25 | AF16: 15
A17: 6 | B17: =IF($E17="","",VLOOKUP($E17,#REF!,14)) | C17: =IF($E17="","",VLOOKUP($E17,#REF!,15)) | D17: =IF($E17="","",VLOOKUP($E17,#REF!,5)) | F17: X | Y17: I | Z17: 120 | AA17: 90 | AB17: 60 | AC17: 40 | AD17: 25 | AE17: 15 | AF17: 8
K18: Szebenyi-Kiss Dominik | Y18: II | Z18: 90 | AA18: 60 | AB18: 40 | AC18: 25 | AD18: 15 | AE18: 8 | AF18: 4
A19: 7 | B19: =IF($E19="","",VLOOKUP($E19,#REF!,14)) | C19: =IF($E19="","",VLOOKUP($E19,#REF!,15)) | D19: =IF($E19="","",VLOOKUP($E19,#REF!,5)) | F19: Lukáts Zalán | G19: Szent István | K19: 4/2 7/5 | Y19: III | Z19: 60 | AA19: 40 | AB19: 25 | AC19: 15 | AD19: 8 | AE19: 4 | AF19: 2
I20: Lukáts Zalán | Y20: IV | Z20: 40 | AA20: 25 | AB20: 15 | AC20: 8 | AD20: 4 | AE20: 2 | AF20: 1
A21: 8 | B21: =IF($E21="","",VLOOKUP($E21,#REF!,14)) | C21: =IF($E21="","",VLOOKUP($E21,#REF!,15)) | D21: =IF($E21="","",VLOOKUP($E21,#REF!,5)) | F21: Kiss Bence | G21: Bercsényi M | I21: 4/1 4/2 | Y21: V | Z21: 25 | AA21: 15 | AB21: 10 | AC21: 6 | AD21: 3 | AE21: 1 | AF21: 0
O22: Szebenyi-Kiss Dominik | Y22: VI | Z22: 15 | AA22: 10 | AB22: 6 | AC22: 3 | AD22: 1 | AE22: 0 | AF22: 0
A23: 9 | B23: =IF($E23="","",VLOOKUP($E23,#REF!,14)) | C23: =IF($E23="","",VLOOKUP($E23,#REF!,15)) | D23: =IF($E23="","",VLOOKUP($E23,#REF!,5)) | F23: Szőke Patrik Gergő | G23: Jászárokszállás | O23: 4/2 4/1 | Y23: VII | Z23: 10 | AA23: 6 | AB23: 3 | AC23: 1 | AD23: 0 | AE23: 0 | AF23: 0
I24: Szőke Patrik Gergő | Y24: VIII | Z24: 6 | AA24: 3 | AB24: 1 | AC24: 0 | AD24: 0 | AE24: 0 | AF24: 0
A25: 10 | B25: =IF($E25="","",VLOOKUP($E25,#REF!,14)) | C25: =IF($E25="","",VLOOKUP($E25,#REF!,15)) | D25: =IF($E25="","",VLOOKUP($E25,#REF!,5)) | F25: Kiss Barnabás | G25: Jb Nagyboldog | I25: 4/1 4/1 | Y25: W | Z25: 3 | AA25: 2 | AB25: 1 | AC25: 0 | AD25: 0 | AE25: 0 | AF25: 0
K26: Molnár Bendegúz Sándor
A27: 11 | B27: =IF($E27="","",VLOOKUP($E27,#REF!,14)) | C27: =IF($E27="","",VLOOKUP($E27,#REF!,15)) | D27: =IF($E27="","",VLOOKUP($E27,#REF!,5)) | F27: Molnár Bendegúz Sándor | G27: Jb Nagyboldog | K27: 3/5 4/2 10/3
I28: Molnár Bendegúz Sándor
A29: 12 | B29: =IF($E29="","",VLOOKUP($E29,#REF!,14)) | C29: =IF($E29="","",VLOOKUP($E29,#REF!,15)) | D29: =IF($E29="","",VLOOKUP($E29,#REF!,5)) | F29: Édes László Sándor | G29: LVG | I29: 4/0 4/1
M30: Orosz Ádám Attila
A31: 13 | B31: =IF($E31="","",VLOOKUP($E31,#REF!,14)) | C31: =IF($E31="","",VLOOKUP($E31,#REF!,15)) | D31: =IF($E31="","",VLOOKUP($E31,#REF!,5)) | F31: Bathó András Barnabás | G31: LVG | M31: 4/0 4/2
I32: Orosz Ádám Attila
A33: 14 | B33: =IF($E33="","",VLOOKUP($E33,#REF!,14)) | C33: =IF($E33="","",VLOOKUP($E33,#REF!,15)) | D33: =IF($E33="","",VLOOKUP($E33,#REF!,5)) | F33: Orosz Ádám Attila | G33: LVG | I33: 4/0 4/2
K34: Orosz Ádám Attila
A35: 15 | B35: =IF($E35="","",VLOOKUP($E35,#REF!,14)) | C35: =IF($E35="","",VLOOKUP($E35,#REF!,15)) | D35: =IF($E35="","",VLOOKUP($E35,#REF!,5)) | F35: X | K35: 5/7 4/1 10/6
I36: Békefi Szabolcs
A37: 16 | B37: =IF($E37="","",VLOOKUP($E37,#REF!,14)) | C37: =IF($E37="","",VLOOKUP($E37,#REF!,15)) | D37: =IF($E37="","",VLOOKUP($E37,#REF!,5)) | F37: Békefi Szabolcs | G37: Bercsényi M
A49: Rangsor | E49: # | H49: # | I49: Szerencés Vesztes | K49: Helyettesíti | M49: Sorsolás időpontja
A50: Dátuma | E50: 1 | H50: 1 | M50: Utolsó elfogadott játékos
A51: Utolsó DA | E51: 2 | H51: 2
E52: 3 | H52: 3 | M52: Sorsoló játékosok
E53: 4 | H53: 4
H54: 5
H55: 6 | M55: Versenybíró aláírása
H56: 7
H57: 8 | M57: =P4 -> Sági István | P57: =MIN(4,#REF!) -> #REF!

Sheet VI.L.B-D-12
A1: 2025/26. DO J-NK-SZ Vármegye | I1: Egyéni főtábla | M1: CU | Z1: =IF($W$5=1,CONCATENATE(VLOOKUP($W$3,$Y$2:$AF$14,2)),CONCATENATE(VLOOKUP($W$3,$Y$16:$AF$25,2))) -> #REF! | AA1: =IF($W$5=1,CONCATENATE(VLOOKUP($W$3,$Y$2:$AF$14,3)),CONCATENATE(VLOOKUP($W$3,$Y$16:$AF$25,3))) -> #REF! | AB1: =IF($W$5=1,CONCATENATE(VLOOKUP($W$3,$Y$2:$AF$14,4)),CONCATENATE(VLOOKUP($W$3,$Y$16:$AF$25,4))) -> #REF! | AC1: =IF($W$5=1,CONCATENATE(VLOOKUP($W$3,$Y$2:$AF$14,5)),CONCATENATE(VLOOKUP($W$3,$Y$16:$AF$25,5))) -> #REF! | AD1: =IF($W$5=1,CONCATENATE(VLOOKUP($W$3,$Y$2:$AF$14,6)),CONCATENATE(VLOOKUP($W$3,$Y$16:$AF$25,6))) -> #REF! | AE1: =IF($W$5=1,CONCATENATE(VLOOKUP($W$3,$Y$2:$AF$14,7)),CONCATENATE(VLOOKUP($W$3,$Y$16:$AF$25,7))) -> #REF! | AF1: =IF($W$5=1,CONCATENATE(VLOOKUP($W$3,$Y$2:$AF$14,8)),CONCATENATE(VLOOKUP($W$3,$Y$16:$AF$25,8))) -> #REF!
A2: Versenyszám: | E2: VI. L./B - Döntő | Y2: A | Z2: 300 | AA2: 250 | AB2: 200 | AC2: 150 | AD2: 120 | AE2: 90 | AF2: 40
A3: Dátum | I3: Kategória | P3: Versenybíró | W3: =IF(I4="OB","A",IF(I4="IX","W",IF(I4="","",I4))) | Y3: B | Z3: 280 | AA3: 230 | AB3: 180 | AC3: 140 | AD3: 80 | AE3: 0 | AF3: 0
A4: 45406 | P4: Sági István | Y4: I | Z4: 250 | AA4: 200 | AB4: 150 | AC4: 120 | AD4: 90 | AE4: 60 | AF4: 25
B5: St. | C5: Rangsor | D5: kód | E5: Kiem | I5: 2. forduló | K5: Elődöntők | M5: Döntő | O5: Győztes | W5: #REF! | Y5: II | Z5: 200 | AA5: 150 | AB5: 120 | AC5: 90 | AD5: 60 | AE5: 40 | AF5: 15
I6: =IF(W3="","",CONCATENATE(VLOOKUP(W3,Z1:AF1,4)," pont")) | K6: =IF(W3="","",CONCATENATE(VLOOKUP(W3,Z1:AF1,3)," pont")) | M6: =IF(W3="","",CONCATENATE(VLOOKUP(W3,Z1:AF1,2)," pont")) | O6: =IF(W3="","",CONCATENATE(VLOOKUP(W3,Z1:AF1,1)," pont")) | Y6: III | Z6: 150 | AA6: 120 | AB6: 90 | AC6: 60 | AD6: 40 | AE6: 25 | AF6: 10
A7: 1 | B7: =IF($E7="","",VLOOKUP($E7,#REF!,14)) | C7: =IF($E7="","",VLOOKUP($E7,#REF!,15)) | D7: =IF($E7="","",VLOOKUP($E7,#REF!,5)) | F7: Szabó Kata | G7: LVG | S7: =#REF! -> #REF! | Y7: IV | Z7: 120 | AA7: 90 | AB7: 60 | AC7: 40 | AD7: 25 | AE7: 10 | AF7: 5
I8: Szabó Kata | S8: =#REF! -> #REF! | Y8: V | Z8: 90 | AA8: 60 | AB8: 40 | AC8: 25 | AD8: 10 | AE8: 5 | AF8: 2
A9: 2 | B9: =IF($E9="","",VLOOKUP($E9,#REF!,14)) | C9: =IF($E9="","",VLOOKUP($E9,#REF!,15)) | D9: =IF($E9="","",VLOOKUP($E9,#REF!,5)) | F9: X | S9: =#REF! -> #REF! | Y9: VI | Z9: 60 | AA9: 40 | AB9: 25 | AC9: 10 | AD9: 5 | AE9: 2 | AF9: 1
K10: Csoma Nóra | S10: =#REF! -> #REF! | Y10: VII | Z10: 40 | AA10: 25 | AB10: 15 | AC10: 7 | AD10: 4 | AE10: 1 | AF10: 0
A11: 3 | B11: =IF($E11="","",VLOOKUP($E11,#REF!,14)) | C11: =IF($E11="","",VLOOKUP($E11,#REF!,15)) | D11: =IF($E11="","",VLOOKUP($E11,#REF!,5)) | F11: Csibra Laura | G11: LVG | K11: jn. | S11: =#REF! -> #REF! | Y11: VIII | Z11: 25 | AA11: 15 | AB11: 10 | AC11: 6 | AD11: 3 | AE11: 1 | AF11: 0
I12: Csoma Nóra | S12: =#REF! -> #REF! | Y12: W | Z12: 15 | AA12: 10 | AB12: 6 | AC12: 3 | AD12: 1 | AE12: 0 | AF12: 0
A13: 4 | B13: =IF($E13="","",VLOOKUP($E13,#REF!,14)) | C13: =IF($E13="","",VLOOKUP($E13,#REF!,15)) | D13: =IF($E13="","",VLOOKUP($E13,#REF!,5)) | F13: Csoma Nóra | G13: LVG | I13: jn. | S13: =#REF! -> #REF! | Y13: X | Z13: 10 | AA13: 6 | AB13: 3 | AC13: 1 | AD13: 0 | AE13: 0 | AF13: 0
M14: Gulyás Dorottya | S14: =#REF! -> #REF! | Y14: XI | Z14: 3 | AA14: 2 | AB14: 1 | AC14: 0 | AD14: 0 | AE14: 0 | AF14: 0
A15: 5 | B15: =IF($E15="","",VLOOKUP($E15,#REF!,14)) | C15: =IF($E15="","",VLOOKUP($E15,#REF!,15)) | D15: =IF($E15="","",VLOOKUP($E15,#REF!,5)) | F15: André Hanga | G15: Szent István | M15: 4/0 4/0 | S15: =#REF! -> #REF!
I16: André Hanga | S16: =#REF! -> #REF! | Y16: A | Z16: 150 | AA16: 120 | AB16: 90 | AC16: 60 | AD16: 40 | AE16: 25 | AF16: 15
A17: 6 | B17: =IF($E17="","",VLOOKUP($E17,#REF!,14)) | C17: =IF($E17="","",VLOOKUP($E17,#REF!,15)) | D17: =IF($E17="","",VLOOKUP($E17,#REF!,5)) | F17: X | Y17: I | Z17: 120 | AA17: 90 | AB17: 60 | AC17: 40 | AD17: 25 | AE17: 15 | AF17: 8
K18: Gulyás Dorottya | Y18: II | Z18: 90 | AA18: 60 | AB18: 40 | AC18: 25 | AD18: 15 | AE18: 8 | AF18: 4
A19: 7 | B19: =IF($E19="","",VLOOKUP($E19,#REF!,14)) | C19: =IF($E19="","",VLOOKUP($E19,#REF!,15)) | D19: =IF($E19="","",VLOOKUP($E19,#REF!,5)) | F19: Gulyás Dorottya | G19: LVG | K19: jn. | Y19: III | Z19: 60 | AA19: 40 | AB19: 25 | AC19: 15 | AD19: 8 | AE19: 4 | AF19: 2
I20: Gulyás Dorottya | Y20: IV | Z20: 40 | AA20: 25 | AB20: 15 | AC20: 8 | AD20: 4 | AE20: 2 | AF20: 1
A21: 8 | B21: =IF($E21="","",VLOOKUP($E21,#REF!,14)) | C21: =IF($E21="","",VLOOKUP($E21,#REF!,15)) | D21: =IF($E21="","",VLOOKUP($E21,#REF!,5)) | F21: Mohei Jázmin | G21: Szent István | I21: 4/0 4/0 | Y21: V | Z21: 25 | AA21: 15 | AB21: 10 | AC21: 6 | AD21: 3 | AE21: 1 | AF21: 0
O22: Gulyás Dorottya | Y22: VI | Z22: 15 | AA22: 10 | AB22: 6 | AC22: 3 | AD22: 1 | AE22: 0 | AF22: 0
A23: 9 | B23: =IF($E23="","",VLOOKUP($E23,#REF!,14)) | C23: =IF($E23="","",VLOOKUP($E23,#REF!,15)) | D23: =IF($E23="","",VLOOKUP($E23,#REF!,5)) | F23: Kollár Zoé | G23: Szent István | O23: 4/2 4/2 | Y23: VII | Z23: 10 | AA23: 6 | AB23: 3 | AC23: 1 | AD23: 0 | AE23: 0 | AF23: 0
I24: Kollár Zoé | Y24: VIII | Z24: 6 | AA24: 3 | AB24: 1 | AC24: 0 | AD24: 0 | AE24: 0 | AF24: 0
A25: 10 | B25: =IF($E25="","",VLOOKUP($E25,#REF!,14)) | C25: =IF($E25="","",VLOOKUP($E25,#REF!,15)) | D25: =IF($E25="","",VLOOKUP($E25,#REF!,5)) | F25: X | I25: 4/0 4/0 | Y25: W | Z25: 3 | AA25: 2 | AB25: 1 | AC25: 0 | AD25: 0 | AE25: 0 | AF25: 0
K26: Kollár Zoé
A27: 11 | B27: =IF($E27="","",VLOOKUP($E27,#REF!,14)) | C27: =IF($E27="","",VLOOKUP($E27,#REF!,15)) | D27: =IF($E27="","",VLOOKUP($E27,#REF!,5)) | F27: Tóth Regina | G27: Szent István | K27: 4/2 4/1
I28: Gál Réka
A29: 12 | B29: =IF($E29="","",VLOOKUP($E29,#REF!,14)) | C29: =IF($E29="","",VLOOKUP($E29,#REF!,15)) | D29: =IF($E29="","",VLOOKUP($E29,#REF!,5)) | F29: Gál Réka | G29: Szent István | I29: 4/2 4/2
M30: Kollár Zoé
A31: 13 | B31: =IF($E31="","",VLOOKUP($E31,#REF!,14)) | C31: =IF($E31="","",VLOOKUP($E31,#REF!,15)) | D31: =IF($E31="","",VLOOKUP($E31,#REF!,5)) | F31: Kispál Eliza | G31: Jb Nagyboldog | M31: 4/2 4/1
I32: Kispál Eliza
A33: 14 | B33: =IF($E33="","",VLOOKUP($E33,#REF!,14)) | C33: =IF($E33="","",VLOOKUP($E33,#REF!,15)) | D33: =IF($E33="","",VLOOKUP($E33,#REF!,5)) | F33: Marinka-Tóth Anna | G33: Szent István | I33: 4/2 4/2
K34: Kispál Eliza
A35: 15 | B35: =IF($E35="","",VLOOKUP($E35,#REF!,14)) | C35: =IF($E35="","",VLOOKUP($E35,#REF!,15)) | D35: =IF($E35="","",VLOOKUP($E35,#REF!,5)) | F35: X | K35: jn.
I36: Görbe Liza
A37: 16 | B37: =IF($E37="","",VLOOKUP($E37,#REF!,14)) | C37: =IF($E37="","",VLOOKUP($E37,#REF!,15)) | D37: =IF($E37="","",VLOOKUP($E37,#REF!,5)) | F37: Görbe Liza | G37: Szent István
A49: Rangsor | E49: # | H49: # | I49: Szerencés Vesztes | K49: Helyettesíti | M49: Sorsolás időpontja
A50: Dátuma | E50: 1 | H50: 1 | M50: Utolsó elfogadott játékos
A51: Utolsó DA | E51: 2 | H51: 2
E52: 3 | H52: 3 | M52: Sorsoló játékosok
E53: 4 | H53: 4
H54: 5
H55: 6 | M55: Versenybíró aláírása
H56: 7
H57: 8 | M57: =P4 -> Sági István | P57: =MIN(4,#REF!) -> #REF!

Sheet VII.F.B-D-5
A1: 2025/26. DO J-NK-SZ Vármegye | P1: =IF(M5=1,CONCATENATE(VLOOKUP(M3,O16:V27,2)),CONCATENATE(VLOOKUP(M3,O2:Y13,2))) -> #REF! | Q1: =IF(M5=1,CONCATENATE(VLOOKUP(M3,O16:Y27,3)),CONCATENATE(VLOOKUP(M3,O2:Y13,3))) -> #REF! | R1: =IF(M5=1,CONCATENATE(VLOOKUP(M3,O16:Y27,4)),CONCATENATE(VLOOKUP(M3,O2:Y13,4))) -> #REF! | S1: =IF(M5=1,CONCATENATE(VLOOKUP(M3,O16:Y27,5)),CONCATENATE(VLOOKUP(M3,O2:Y13,5))) -> #REF! | T1: =IF(M5=1,CONCATENATE(VLOOKUP(M3,O16:Y27,6)),CONCATENATE(VLOOKUP(M3,O2:Y13,6))) -> #REF! | U1: =IF(M5=1,CONCATENATE(VLOOKUP(M3,O16:Y27,7)),CONCATENATE(VLOOKUP(M3,O2:Y13,7))) -> #REF! | V1: =IF(M5=1,CONCATENATE(VLOOKUP(M3,O16:Y27,8)),CONCATENATE(VLOOKUP(M3,O2:Y13,8))) -> #REF! | W1: =IF(M5=1,CONCATENATE(VLOOKUP(M3,O16:Y27,9)),CONCATENATE(VLOOKUP(M3,O2:Y13,9))) -> #REF! | X1: =IF(M5=1,CONCATENATE(VLOOKUP(M3,O16:Y27,10)),CONCATENATE(VLOOKUP(M3,O2:Y13,10))) -> #REF! | Y1: =IF(M5=1,CONCATENATE(VLOOKUP(M3,O16:Y27,11)),CONCATENATE(VLOOKUP(M3,O2:Y13,11))) -> #REF!
A2: Versenyszám: | E2: VII. F./B - Döntő | O2: A | P2: 150 | Q2: 120 | R2: 100 | S2: 80 | T2: 70 | U2: 60 | V2: 55 | W2: 50 | X2: 45 | Y2: 40
A3: Dátum | E3: Város | I3: Versenybíró | M3: =IF(#REF!="OB","A",IF(#REF!="IX","W",#REF!)) -> #REF! | O3: I | P3: 120 | Q3: 90 | R3: 65 | S3: 55 | T3: 50 | U3: 45 | V3: 40 | W3: 35 | X3: 25 | Y3: 20
A4: 46136 | E4: Jászberény | I4: 0 | O4: II | P4: 90 | Q4: 60 | R4: 45 | S4: 34 | T4: 27 | U4: 22 | V4: 18 | W4: 15 | X4: 12 | Y4: 9
B5: kiem | C5: kódszám | D5: Rangsor | E5: Vezetéknév | H5: Helyezés | I5: Pontszám | J5: Bónusz | M5: 2 | O5: III | P5: 60 | Q5: 40 | R5: 30 | S5: 20 | T5: 18 | U5: 15 | V5: 12 | W5: 10 | X5: 8 | Y5: 6
O6: IV | P6: 40 | Q6: 25 | R6: 18 | S6: 13 | T6: 10 | U6: 8 | V6: 6 | W6: 5 | X6: 4 | Y6: 3
A7: A | B7: 1 | C7: 0 | D7: 0 | E7: Lukáts Zsombor | G7: LVG | H7: 2. | I7: 2 | O7: V | P7: 25 | Q7: 15 | R7: 13 | S7: 8 | T7: 6 | U7: 4 | V7: 3 | W7: 2 | X7: 1 | Y7: 0
O8: VI | P8: 15 | Q8: 10 | R8: 7 | S8: 5 | T8: 4 | U8: 3 | V8: 2 | W8: 1 | X8: 0 | Y8: 0
A9: B | B9: 2 | C9: 0 | D9: 0 | E9: Szabó Balázs | G9: LVG | H9: 3. | I9: 0 | O9: VII | P9: 10 | Q9: 6 | R9: 4 | S9: 2 | T9: 1 | U9: 0 | V9: 0 | W9: 0 | X9: 0 | Y9: 0
O10: VIII | P10: 6 | Q10: 3 | R10: 2 | S10: 1 | T10: 0 | U10: 0 | V10: 0 | W10: 0 | X10: 0 | Y10: 0
A11: C | B11: 3 | C11: 0 | D11: 0 | E11: Rédei Barnabás | G11: LVG | H11: 4-5. | I11: 0 | O11: W | P11: 3 | Q11: 2 | R11: 1 | S11: 0 | T11: 0 | U11: 0 | V11: 0 | W11: 0 | X11: 0 | Y11: 0
O12: X | P12: 0 | Q12: 0 | R12: 0 | S12: 0 | T12: 0 | U12: 0 | V12: 0 | W12: 0 | X12: 0 | Y12: 0
A13: D | B13: 4 | C13: 0 | D13: 0 | E13: Takács Norbert | G13: LVG | H13: 4-5. | I13: 0 | O13: XI | P13: 0 | Q13: 0 | R13: 0 | S13: 0 | T13: 0 | U13: 0 | V13: 0 | W13: 0 | X13: 0 | Y13: 0
A15: E | B15: 5 | C15: 0 | D15: 0 | E15: Vince Zoárd | G15: Szent István | H15: 1. | I15: 4
O16: A | P16: 300 | Q16: 250 | R16: 220 | S16: 180 | T16: 160 | U16: 150 | V16: 140 | W16: 130 | X16: 120 | Y16: 110
O17: I | P17: 250 | Q17: 200 | R17: 160 | S17: 140 | T17: 120 | U17: 110 | V17: 100 | W17: 90 | X17: 80 | Y17: 70
D18: =E7 -> Lukáts Zsombor | F18: =E9 -> Szabó Balázs | G18: =E11 -> Rédei Barnabás | H18: =E13 -> Takács Norbert | I18: =E15 -> Vince Zoárd | O18: II | P18: 200 | Q18: 150 | R18: 130 | S18: 110 | T18: 95 | U18: 80 | V18: 70 | W18: 60 | X18: 55 | Y18: 50
A19: A | B19: =E7 -> Lukáts Zsombor | F19: 4/0 4/0 | G19: x | H19: x | I19: 2/4 2/4 | O19: III | P19: 150 | Q19: 120 | R19: 100 | S19: 80 | T19: 70 | U19: 60 | V19: 55 | W19: 50 | X19: 45 | Y19: 40
A20: B | B20: =E9 -> Szabó Balázs | D20: 0/4 0/4 | G20: x | H20: x | I20: 1/4 1/4 | O20: IV | P20: 120 | Q20: 90 | R20: 65 | S20: 55 | T20: 50 | U20: 45 | V20: 40 | W20: 35 | X20: 25 | Y20: 20
A21: C | B21: =E11 -> Rédei Barnabás | D21: x | F21: x | H21: x | I21: x | O21: V | P21: 90 | Q21: 60 | R21: 45 | S21: 34 | T21: 27 | U21: 22 | V21: 18 | W21: 15 | X21: 12 | Y21: 9
A22: D | B22: =E13 -> Takács Norbert | D22: x | F22: x | G22: x | I22: x | O22: VI | P22: 60 | Q22: 40 | R22: 30 | S22: 20 | T22: 18 | U22: 15 | V22: 12 | W22: 10 | X22: 8 | Y22: 6
A23: E | B23: =E15 -> Vince Zoárd | D23: 4/2 4/2 | F23: 4/1 4/1 | G23: x | H23: x | O23: VII | P23: 40 | Q23: 25 | R23: 18 | S23: 13 | T23: 8 | U23: 7 | V23: 6 | W23: 5 | X23: 4 | Y23: 3
O24: VIII | P24: 25 | Q24: 15 | R24: 13 | S24: 7 | T24: 6 | U24: 5 | V24: 4 | W24: 3 | X24: 2 | Y24: 1
C25: 1 FORDULÓ | D25: B - E | E25: C - D | O25: W | P25: 15 | Q25: 10 | R25: 8 | S25: 4 | T25: 3 | U25: 2 | V25: 1 | W25: 0 | X25: 0 | Y25: 0
C26: 2 FORDULÓ | D26: D - B | E26: E - A | O26: X | P26: 10 | Q26: 6 | R26: 4 | S26: 2 | T26: 1 | U26: 0 | V26: 0 | W26: 0 | X26: 0 | Y26: 0
C27: 3 FORDULÓ | D27: A - D | E27: B - C | O27: XI | P27: 3 | Q27: 2 | R27: 1 | S27: 0 | T27: 0 | U27: 0 | V27: 0 | W27: 0 | X27: 0 | Y27: 0
C28: 4 FORDULÓ | D28: C - A | E28: D - E
C29: 5 FORDULÓ | D29: A - B | E29: E - C
A33: Rangsor | D33: # | E33: Kiemeltek | H33: Sorsolás időpontja
A34: Dátuma | H34: Utolsó elfogadott játékos
A35: Utolsó DA
H36: Sorsoló játékosok
H39: Versenybíró aláírása
H41: =I4 -> 0

Sheet VII.L.B-D-3
A1: 2025/26. DO J-NK-SZ Vármegye | W1: =IF(T5=1,CONCATENATE(VLOOKUP(T3,V16:AC27,2)),CONCATENATE(VLOOKUP(T3,V2:AF13,2))) -> #REF! | X1: =IF(T5=1,CONCATENATE(VLOOKUP(T3,V16:AF27,3)),CONCATENATE(VLOOKUP(T3,V2:AF13,3))) -> #REF! | Y1: =IF(T5=1,CONCATENATE(VLOOKUP(T3,V16:AF27,4)),CONCATENATE(VLOOKUP(T3,V2:AF13,4))) -> #REF! | Z1: =IF(T5=1,CONCATENATE(VLOOKUP(T3,V16:AF27,5)),CONCATENATE(VLOOKUP(T3,V2:AF13,5))) -> #REF! | AA1: =IF(T5=1,CONCATENATE(VLOOKUP(T3,V16:AF27,6)),CONCATENATE(VLOOKUP(T3,V2:AF13,6))) -> #REF! | AB1: =IF(T5=1,CONCATENATE(VLOOKUP(T3,V16:AF27,7)),CONCATENATE(VLOOKUP(T3,V2:AF13,7))) -> #REF! | AC1: =IF(T5=1,CONCATENATE(VLOOKUP(T3,V16:AF27,8)),CONCATENATE(VLOOKUP(T3,V2:AF13,8))) -> #REF! | AD1: =IF(T5=1,CONCATENATE(VLOOKUP(T3,V16:AF27,9)),CONCATENATE(VLOOKUP(T3,V2:AF13,9))) -> #REF! | AE1: =IF(T5=1,CONCATENATE(VLOOKUP(T3,V16:AF27,10)),CONCATENATE(VLOOKUP(T3,V2:AF13,10))) -> #REF! | AF1: =IF(T5=1,CONCATENATE(VLOOKUP(T3,V16:AF27,11)),CONCATENATE(VLOOKUP(T3,V2:AF13,11))) -> #REF!
A2: Versenyszám: | E2: VII. L./B - Döntő | V2: A | W2: 150 | X2: 120 | Y2: 100 | Z2: 80 | AA2: 70 | AB2: 60 | AC2: 55 | AD2: 50 | AE2: 45 | AF2: 40
A3: Dátum | E3: Város | I3: Versenybíró | T3: =IF(#REF!="OB","A",IF(#REF!="IX","W",#REF!)) -> #REF! | V3: I | W3: 120 | X3: 90 | Y3: 65 | Z3: 55 | AA3: 50 | AB3: 45 | AC3: 40 | AD3: 35 | AE3: 25 | AF3: 20
A4: 46136 | E4: =Altalanos!$C$10 -> Jászberény | I4: =Altalanos!$E$10 -> Sági István | V4: II | W4: 90 | X4: 60 | Y4: 45 | Z4: 34 | AA4: 27 | AB4: 22 | AC4: 18 | AD4: 15 | AE4: 12 | AF4: 9
B5: kiem | C5: kódszám | D5: Rangsor | E5: Vezetéknév | H5: Helyezés | I5: Pontszám | J5: Bónusz | T5: =IF(OR(Altalanos!$A$8="F1",Altalanos!$A$8="F2",Altalanos!$A$8="N1",Altalanos!$A$8="N2"),1,2) -> 2 | V5: III | W5: 60 | X5: 40 | Y5: 30 | Z5: 20 | AA5: 18 | AB5: 15 | AC5: 12 | AD5: 10 | AE5: 8 | AF5: 6
V6: IV | W6: 40 | X6: 25 | Y6: 18 | Z6: 13 | AA6: 10 | AB6: 8 | AC6: 6 | AD6: 5 | AE6: 4 | AF6: 3
A7: A | C7: =IF($B7="","",VLOOKUP($B7,#REF!,5)) | D7: =IF($B7="","",VLOOKUP($B7,#REF!,15)) | E7: Tábori Petra | G7: LVG | H7: 1. | I7: 4 | V7: V | W7: 25 | X7: 15 | Y7: 13 | Z7: 8 | AA7: 6 | AB7: 4 | AC7: 3 | AD7: 2 | AE7: 1 | AF7: 0
V8: VI | W8: 15 | X8: 10 | Y8: 7 | Z8: 5 | AA8: 4 | AB8: 3 | AC8: 2 | AD8: 1 | AE8: 0 | AF8: 0
A9: B | C9: =IF($B9="","",VLOOKUP($B9,#REF!,5)) | D9: =IF($B9="","",VLOOKUP($B9,#REF!,15)) | E9: Fedor Zsófia | G9: Szent István | H9: 3. | I9: 0 | V9: VII | W9: 10 | X9: 6 | Y9: 4 | Z9: 2 | AA9: 1 | AB9: 0 | AC9: 0 | AD9: 0 | AE9: 0 | AF9: 0
V10: VIII | W10: 6 | X10: 3 | Y10: 2 | Z10: 1 | AA10: 0 | AB10: 0 | AC10: 0 | AD10: 0 | AE10: 0 | AF10: 0
A11: C | C11: =IF($B11="","",VLOOKUP($B11,#REF!,5)) | D11: =IF($B11="","",VLOOKUP($B11,#REF!,15)) | E11: Horti Hanga | G11: Szent István | H11: 2. | I11: 2 | V11: W | W11: 3 | X11: 2 | Y11: 1 | Z11: 0 | AA11: 0 | AB11: 0 | AC11: 0 | AD11: 0 | AE11: 0 | AF11: 0
V12: X | W12: 0 | X12: 0 | Y12: 0 | Z12: 0 | AA12: 0 | AB12: 0 | AC12: 0 | AD12: 0 | AE12: 0 | AF12: 0
V13: XI | W13: 0 | X13: 0 | Y13: 0 | Z13: 0 | AA13: 0 | AB13: 0 | AC13: 0 | AD13: 0 | AE13: 0 | AF13: 0
V16: A | W16: 300 | X16: 250 | Y16: 220 | Z16: 180 | AA16: 160 | AB16: 150 | AC16: 140 | AD16: 130 | AE16: 120 | AF16: 110
V17: I | W17: 250 | X17: 200 | Y17: 160 | Z17: 140 | AA17: 120 | AB17: 110 | AC17: 100 | AD17: 90 | AE17: 80 | AF17: 70
D18: =E7 -> Tábori Petra | F18: =E9 -> Fedor Zsófia | G18: =E11 -> Horti Hanga | V18: II | W18: 200 | X18: 150 | Y18: 130 | Z18: 110 | AA18: 95 | AB18: 80 | AC18: 70 | AD18: 60 | AE18: 55 | AF18: 50
A19: A | B19: =E7 -> Tábori Petra | F19: 4/0 4/0 | G19: 4/0 4/0 | V19: III | W19: 150 | X19: 120 | Y19: 100 | Z19: 80 | AA19: 70 | AB19: 60 | AC19: 55 | AD19: 50 | AE19: 45 | AF19: 40
A20: B | B20: =E9 -> Fedor Zsófia | D20: 0/4 0/4 | G20: 0/4 0/4 | V20: IV | W20: 120 | X20: 90 | Y20: 65 | Z20: 55 | AA20: 50 | AB20: 45 | AC20: 40 | AD20: 35 | AE20: 25 | AF20: 20
A21: C | B21: =E11 -> Horti Hanga | D21: 0/4 0/4 | F21: 4/0 4/0 | V21: V | W21: 90 | X21: 60 | Y21: 45 | Z21: 34 | AA21: 27 | AB21: 22 | AC21: 18 | AD21: 15 | AE21: 12 | AF21: 9
V22: VI | W22: 60 | X22: 40 | Y22: 30 | Z22: 20 | AA22: 18 | AB22: 15 | AC22: 12 | AD22: 10 | AE22: 8 | AF22: 6
C23: 1 FORDULÓ | D23: B - C | V23: VII | W23: 40 | X23: 25 | Y23: 18 | Z23: 13 | AA23: 8 | AB23: 7 | AC23: 6 | AD23: 5 | AE23: 4 | AF23: 3
C24: 2 FORDULÓ | D24: C - A | V24: VIII | W24: 25 | X24: 15 | Y24: 13 | Z24: 7 | AA24: 6 | AB24: 5 | AC24: 4 | AD24: 3 | AE24: 2 | AF24: 1
C25: 3 FORDULÓ | D25: A - B | V25: W | W25: 15 | X25: 10 | Y25: 8 | Z25: 4 | AA25: 3 | AB25: 2 | AC25: 1 | AD25: 0 | AE25: 0 | AF25: 0
V26: X | W26: 10 | X26: 6 | Y26: 4 | Z26: 2 | AA26: 1 | AB26: 0 | AC26: 0 | AD26: 0 | AE26: 0 | AF26: 0
V27: XI | W27: 3 | X27: 2 | Y27: 1 | Z27: 0 | AA27: 0 | AB27: 0 | AC27: 0 | AD27: 0 | AE27: 0 | AF27: 0
A33: Rangsor | D33: # | E33: Kiemeltek | H33: Sorsolás időpontja
A34: Dátuma | H34: Utolsó elfogadott játékos
A35: Utolsó DA
H36: Sorsoló játékosok
H39: Versenybíró aláírása
H41: =I4 -> Sági István

Sheet VIII.F.B-D-5
A1: 2025/26. DO J-NK-SZ Vármegye | P1: =IF(M5=1,CONCATENATE(VLOOKUP(M3,O16:V27,2)),CONCATENATE(VLOOKUP(M3,O2:Y13,2))) -> #REF! | Q1: =IF(M5=1,CONCATENATE(VLOOKUP(M3,O16:Y27,3)),CONCATENATE(VLOOKUP(M3,O2:Y13,3))) -> #REF! | R1: =IF(M5=1,CONCATENATE(VLOOKUP(M3,O16:Y27,4)),CONCATENATE(VLOOKUP(M3,O2:Y13,4))) -> #REF! | S1: =IF(M5=1,CONCATENATE(VLOOKUP(M3,O16:Y27,5)),CONCATENATE(VLOOKUP(M3,O2:Y13,5))) -> #REF! | T1: =IF(M5=1,CONCATENATE(VLOOKUP(M3,O16:Y27,6)),CONCATENATE(VLOOKUP(M3,O2:Y13,6))) -> #REF! | U1: =IF(M5=1,CONCATENATE(VLOOKUP(M3,O16:Y27,7)),CONCATENATE(VLOOKUP(M3,O2:Y13,7))) -> #REF! | V1: =IF(M5=1,CONCATENATE(VLOOKUP(M3,O16:Y27,8)),CONCATENATE(VLOOKUP(M3,O2:Y13,8))) -> #REF! | W1: =IF(M5=1,CONCATENATE(VLOOKUP(M3,O16:Y27,9)),CONCATENATE(VLOOKUP(M3,O2:Y13,9))) -> #REF! | X1: =IF(M5=1,CONCATENATE(VLOOKUP(M3,O16:Y27,10)),CONCATENATE(VLOOKUP(M3,O2:Y13,10))) -> #REF! | Y1: =IF(M5=1,CONCATENATE(VLOOKUP(M3,O16:Y27,11)),CONCATENATE(VLOOKUP(M3,O2:Y13,11))) -> #REF!
A2: Versenyszám: | E2: VIII. F./B - Döntő | O2: A | P2: 150 | Q2: 120 | R2: 100 | S2: 80 | T2: 70 | U2: 60 | V2: 55 | W2: 50 | X2: 45 | Y2: 40
A3: Dátum | E3: Város | J3: Versenybíró | M3: =IF(#REF!="OB","A",IF(#REF!="IX","W",#REF!)) -> #REF! | O3: I | P3: 120 | Q3: 90 | R3: 65 | S3: 55 | T3: 50 | U3: 45 | V3: 40 | W3: 35 | X3: 25 | Y3: 20
A4: 46136 | E4: Jászberény | J4: 0 | O4: II | P4: 90 | Q4: 60 | R4: 45 | S4: 34 | T4: 27 | U4: 22 | V4: 18 | W4: 15 | X4: 12 | Y4: 9
B5: kiem | C5: kódszám | D5: Rangsor | E5: Vezetéknév | I5: Helyezés | J5: Pontszám | K5: Bónusz | M5: 2 | O5: III | P5: 60 | Q5: 40 | R5: 30 | S5: 20 | T5: 18 | U5: 15 | V5: 12 | W5: 10 | X5: 8 | Y5: 6
O6: IV | P6: 40 | Q6: 25 | R6: 18 | S6: 13 | T6: 10 | U6: 8 | V6: 6 | W6: 5 | X6: 4 | Y6: 3
A7: A | B7: 1 | C7: 0 | D7: 0 | E7: Halápi Áron | I7: A | O7: V | P7: 25 | Q7: 15 | R7: 13 | S7: 8 | T7: 6 | U7: 4 | V7: 3 | W7: 2 | X7: 1 | Y7: 0
O8: VI | P8: 15 | Q8: 10 | R8: 7 | S8: 5 | T8: 4 | U8: 3 | V8: 2 | W8: 1 | X8: 0 | Y8: 0
A9: B | B9: 2 | C9: 0 | D9: 0 | E9: Kármán Erik | I9: 2. | O9: VII | P9: 10 | Q9: 6 | R9: 4 | S9: 2 | T9: 1 | U9: 0 | V9: 0 | W9: 0 | X9: 0 | Y9: 0
O10: VIII | P10: 6 | Q10: 3 | R10: 2 | S10: 1 | T10: 0 | U10: 0 | V10: 0 | W10: 0 | X10: 0 | Y10: 0
A11: C | B11: 3 | C11: 0 | D11: 0 | E11: Édes Gergely István | I11: 3. | O11: W | P11: 3 | Q11: 2 | R11: 1 | S11: 0 | T11: 0 | U11: 0 | V11: 0 | W11: 0 | X11: 0 | Y11: 0
O12: X | P12: 0 | Q12: 0 | R12: 0 | S12: 0 | T12: 0 | U12: 0 | V12: 0 | W12: 0 | X12: 0 | Y12: 0
A13: D | B13: 4 | C13: 0 | D13: 0 | E13: Juhász Bálint | I13: A | O13: XI | P13: 0 | Q13: 0 | R13: 0 | S13: 0 | T13: 0 | U13: 0 | V13: 0 | W13: 0 | X13: 0 | Y13: 0
A15: E | B15: 5 | C15: 0 | D15: 0 | E15: Sárközi Olivér | I15: 1.
O16: A | P16: 300 | Q16: 250 | R16: 220 | S16: 180 | T16: 160 | U16: 150 | V16: 140 | W16: 130 | X16: 120 | Y16: 110
O17: I | P17: 250 | Q17: 200 | R17: 160 | S17: 140 | T17: 120 | U17: 110 | V17: 100 | W17: 90 | X17: 80 | Y17: 70
D18: =E7 -> Halápi Áron | F18: =E9 -> Kármán Erik | G18: =E11 -> Édes Gergely István | H18: =E13 -> Juhász Bálint | J18: =E15 -> Sárközi Olivér | O18: II | P18: 200 | Q18: 150 | R18: 130 | S18: 110 | T18: 95 | U18: 80 | V18: 70 | W18: 60 | X18: 55 | Y18: 50
A19: A | B19: =E7 -> Halápi Áron | F19: x | G19: x | H19: x | J19: x | O19: III | P19: 150 | Q19: 120 | R19: 100 | S19: 80 | T19: 70 | U19: 60 | V19: 55 | W19: 50 | X19: 45 | Y19: 40
A20: B | B20: =E9 -> Kármán Erik | D20: x | G20: 4/3 4/0 | H20: x | J20: 0/4 1/4 | O20: IV | P20: 120 | Q20: 90 | R20: 65 | S20: 55 | T20: 50 | U20: 45 | V20: 40 | W20: 35 | X20: 25 | Y20: 20
A21: C | B21: =E11 -> Édes Gergely István | D21: x | F21: 3/4 0/4 | H21: x | J21: 1/4 1/4 | O21: V | P21: 90 | Q21: 60 | R21: 45 | S21: 34 | T21: 27 | U21: 22 | V21: 18 | W21: 15 | X21: 12 | Y21: 9
A22: D | B22: =E13 -> Juhász Bálint | D22: x | F22: x | G22: x | J22: x | O22: VI | P22: 60 | Q22: 40 | R22: 30 | S22: 20 | T22: 18 | U22: 15 | V22: 12 | W22: 10 | X22: 8 | Y22: 6
A23: E | B23: =E15 -> Sárközi Olivér | D23: x | F23: 4/0 4/1 | G23: 4/1 4/1 | H23: x | O23: VII | P23: 40 | Q23: 25 | R23: 18 | S23: 13 | T23: 8 | U23: 7 | V23: 6 | W23: 5 | X23: 4 | Y23: 3
O24: VIII | P24: 25 | Q24: 15 | R24: 13 | S24: 7 | T24: 6 | U24: 5 | V24: 4 | W24: 3 | X24: 2 | Y24: 1
O25: W | P25: 15 | Q25: 10 | R25: 8 | S25: 4 | T25: 3 | U25: 2 | V25: 1 | W25: 0 | X25: 0 | Y25: 0
C26: 1 FORDULÓ | D26: B - E | E26: C - D | O26: X | P26: 10 | Q26: 6 | R26: 4 | S26: 2 | T26: 1 | U26: 0 | V26: 0 | W26: 0 | X26: 0 | Y26: 0
C27: 2 FORDULÓ | D27: D - B | E27: E - A | O27: XI | P27: 3 | Q27: 2 | R27: 1 | S27: 0 | T27: 0 | U27: 0 | V27: 0 | W27: 0 | X27: 0 | Y27: 0
C28: 3 FORDULÓ | D28: A - D | E28: B - C
C29: 4 FORDULÓ | D29: C - A | E29: D - E
C30: 5 FORDULÓ | D30: A - B | E30: E - C
A33: Rangsor | D33: # | E33: Kiemeltek | H33: Helyettesíti | I33: Sorsolás időpontja
A34: Dátuma | I34: Utolsó elfogadott játékos
A35: Utolsó DA
I36: Sorsoló játékosok
I39: Versenybíró aláírása
I41: =J4 -> 0
