Workbook

Sheet Altalanos
A1: Magyar verseny táblakészítő
A2: Ezt az oldalt soha ne töröld le !!!
A4: Töltsd ki a zöld mezőket!
A5: A verseny neve:
A6: 2025/26. DO J-NK-SZ Vármegye
A7: Versenyszám 1 | B7: Versenyszám 2 | C7: Versenyszám 3 | D7: Versenyszám 4 | E7: Versenyszám 5
A9: A verseny dátuma (éééé.hh.nn) | C9: Város | E9: Versenybíró:
A10: 2026.04.23-24. | C10: Jászberény | E10: Sági István
C11: Orvos neve: | D11: Verseny rendezője: | E11: Versenyigazgató
E12: Tóth Éva

Sheet Birók
A1: =Altalanos!$A$6 -> 2025/26. DO J-NK-SZ Vármegye
B3: Közreműködő bírók
A4: Dátum | B4: Város
A5: 2026.04.23-24. | B5: Jászberény
A6: Töltsd ki a táblázatot a játékvezetők nevével. Az első 8 neve fog megjelenni a táblákban lévő legördülő menükben
A20: Székbírók
A21: Családi név | B21: Keresztnév | L21: Bíró
A22: Sági | B22: István | L22: =LEFT(B22,1)&" "&A22 -> I Sági
L23: =LEFT(B23,1)&" "&A23
L24: =LEFT(B24,1)&" "&A24
L25: =LEFT(B25,1)&" "&A25
L26: =LEFT(B26,1)&" "&A26
L27: =LEFT(B27,1)&" "&A27
L28: =LEFT(B28,1)&" "&A28
L29: =LEFT(B29,1)&" "&A29
L30: Egyik sem

Sheet Nevezések
B1: Korcsoport | C1: Nem | D1: Kategória | E1: Iskola | F1: Település | G1: Nevező | H1: Testnevelő | I1: Felkészítő
A2: 1. | B2: V.kcs Tenisz U14 | C2: F | D2: A | E2: Jászberényi Nagyboldogasszony Katolikus Óvoda, Kéttannyelvű Általános Iskola és Gimnázium | F2: Jászberény | G2: Kovács Szilárd | H2: Józsa Péter Pál | I2: Bábosik Bence
A3: 1. | B3: I.kcs Tenisz U8 piros labdával, P+S szabály | C3: F | D3: B | E3: Jászberényi Nagyboldogasszony Katolikus Óvoda, Kéttannyelvű Általános Iskola és Gimnázium | F3: Jászberény | G3: Nagy Mihály | H3: Józsa Péter Pál | I3: Kovács Lantos Erika
A4: 2. | B4: I.kcs Tenisz U8 piros labdával, P+S szabály | C4: F | D4: B | E4: Jászberényi Nagyboldogasszony Katolikus Óvoda, Kéttannyelvű Általános Iskola és Gimnázium | F4: Jászberény | G4: Kalla Konrád | H4: Józsa Péter Pál | I4: Kovács Lantos Erika
A5: 3. | B5: I.kcs Tenisz U8 piros labdával, P+S szabály | C5: F | D5: B | E5: Jászberényi Nagyboldogasszony Katolikus Óvoda, Kéttannyelvű Általános Iskola és Gimnázium | F5: Jászberény | G5: Papp Milán | H5: Józsa Péter Pál | I5: Sződi-Háfra Edina
A6: 4. | B6: I.kcs Tenisz U8 piros labdával, P+S szabály | C6: F | D6: B | E6: Jászberényi Nagyboldogasszony Katolikus Óvoda, Kéttannyelvű Általános Iskola és Gimnázium | F6: Jászberény | G6: Tóth Levente | H6: Józsa Péter Pál | I6: Sződi-Háfra Edina
A7: 5. | B7: I.kcs Tenisz U8 piros labdával, P+S szabály | C7: F | D7: B | E7: Jászsági Gróf Apponyi Albert Általános Iskola és Alapfokú Művészeti Iskola | F7: Jászberény | G7: Bálint Máté | H7: Ludasi Martin
A8: 1. | B8: I.kcs Tenisz U8 piros labdával, P+S szabály | C8: L | D8: B | E8: Jászberényi Nagyboldogasszony Katolikus Óvoda, Kéttannyelvű Általános Iskola és Gimnázium | F8: Jászberény | G8: Kovács Kata | H8: Józsa Péter Pál | I8: Kovács Lantos Erika
A9: 2. | B9: I.kcs Tenisz U8 piros labdával, P+S szabály | C9: L | D9: B | E9: Jászberényi Nagyboldogasszony Katolikus Óvoda, Kéttannyelvű Általános Iskola és Gimnázium | F9: Jászberény | G9: Munkácsi Frida | H9: Józsa Péter Pál | I9: Kovács Lantos Erika
A10: 3. | B10: I.kcs Tenisz U8 piros labdával, P+S szabály | C10: L | D10: B | E10: Szent István Sport Általános Iskola és Gimnázium | F10: Jászberény | G10: Szabó Anna | H10: Halápi Ákos
A11: 4. | B11: I.kcs Tenisz U8 piros labdával, P+S szabály | C11: L | D11: B | E11: Szent István Sport Általános Iskola és Gimnázium | F11: Jászberény | G11: Székely Szonja | H11: Halápi Ákos
A12: 1. | B12: II.kcs Tenisz U10 narancs labdával, P+S szabály | C12: F | D12: B | E12: Bercsényi Miklós Általános Iskola | F12: Jászberény | G12: Sárközi Levente | H12: Kiss Attila József
A13: 2. | B13: II.kcs Tenisz U10 narancs labdával, P+S szabály | C13: F | D13: B | E13: Bercsényi Miklós Általános Iskola | F13: Jászberény | G13: Vámos Donát | H13: Kiss Attila József
A14: 3. | B14: II.kcs Tenisz U10 narancs labdával, P+S szabály | C14: F | D14: B | E14: Bercsényi Miklós Általános Iskola | F14: Jászberény | G14: Cseh Edvin Gábor | H14: Kiss Attila József
A15: 4. | B15: II.kcs Tenisz U10 narancs labdával, P+S szabály | C15: F | D15: B | E15: Bercsényi Miklós Általános Iskola | F15: Jászberény | G15: Pócz-Nagy Benett | H15: Ambrúzs Krisztina
A16: 5. | B16: II.kcs Tenisz U10 narancs labdával, P+S szabály | C16: F | D16: B | E16: Jászberényi Nagyboldogasszony Katolikus Óvoda, Kéttannyelvű Általános Iskola és Gimnázium | F16: Jászberény | G16: Kovács Milán Zétény | H16: Józsa Péter Pál | I16: Kovács Lantos Erika
A17: 6. | B17: II.kcs Tenisz U10 narancs labdával, P+S szabály | C17: F | D17: B | E17: Jászberényi Nagyboldogasszony Katolikus Óvoda, Kéttannyelvű Általános Iskola és Gimnázium | F17: Jászberény | G17: Molnár Benedek | H17: Józsa Péter Pál | I17: Kovács Lantos Erika
A18: 7. | B18: II.kcs Tenisz U10 narancs labdával, P+S szabály | C18: F | D18: B | E18: Jászberényi Nagyboldogasszony Katolikus Óvoda, Kéttannyelvű Általános Iskola és Gimnázium | F18: Jászberény | G18: Molnár Zalán Lehel | H18: Józsa Péter Pál | I18: Kovács Lantos Erika
A19: 8. | B19: II.kcs Tenisz U10 narancs labdával, P+S szabály | C19: F | D19: B | E19: Jászberényi Nagyboldogasszony Katolikus Óvoda, Kéttannyelvű Általános Iskola és Gimnázium | F19: Jászberény | G19: Sebestyén Nolen | H19: Józsa Péter Pál | I19: Sződi-Háfra Edina
A20: 9. | B20: II.kcs Tenisz U10 narancs labdával, P+S szabály | C20: F | D20: B | E20: Jászberényi Nagyboldogasszony Katolikus Óvoda, Kéttannyelvű Általános Iskola és Gimnázium | F20: Jászberény | G20: Tóth Benedek | H20: Józsa Péter Pál | I20: Sződi-Háfra Edina
A21: 10. | B21: II.kcs Tenisz U10 narancs labdával, P+S szabály | C21: F | D21: B | E21: Jászberényi Nagyboldogasszony Katolikus Óvoda, Kéttannyelvű Általános Iskola és Gimnázium | F21: Jászberény | G21: Szabó Mátyás | H21: Józsa Péter Pál | I21: Sződi-Háfra Edina
A22: 11. | B22: II.kcs Tenisz U10 narancs labdával, P+S szabály | C22: F | D22: B | E22: Jászsági Gróf Apponyi Albert Általános Iskola és Alapfokú Művészeti Iskola | F22: Jászberény | G22: Oláh Levente László | H22: Ludasi Martin
A23: 12. | B23: II.kcs Tenisz U10 narancs labdával, P+S szabály | C23: F | D23: B | E23: Szent István Katolikus Általános Iskola és Óvoda | F23: Mezőtúr | G23: Ábrahám Zoltán | H23: Lantai Laura
A24: 13. | B24: II.kcs Tenisz U10 narancs labdával, P+S szabály | C24: F | D24: B | E24: Szent István Sport Általános Iskola és Gimnázium | F24: Jászberény | G24: Hamar Lőrinc | H24: Halápi Ákos
A25: 14. | B25: II.kcs Tenisz U10 narancs labdával, P+S szabály | C25: F | D25: B | E25: Szent István Sport Általános Iskola és Gimnázium | F25: Jászberény | G25: Koczka Ákos | H25: Halápi Ákos
A26: 15. | B26: II.kcs Tenisz U10 narancs labdával, P+S szabály | C26: F | D26: B | E26: Szent István Sport Általános Iskola és Gimnázium | F26: Jászberény | G26: Zsólyomi Zsombor | H26: Halápi Ákos
A27: 1. | B27: II.kcs Tenisz U10 narancs labdával, P+S szabály | C27: L | D27: B | E27: Jászberényi Nagyboldogasszony Katolikus Óvoda, Kéttannyelvű Általános Iskola és Gimnázium | F27: Jászberény | G27: Szőke Emma | H27: Józsa Péter Pál | I27: Kovács Lantos Erika
A28: 2. | B28: II.kcs Tenisz U10 narancs labdával, P+S szabály | C28: L | D28: B | E28: Jászberényi Nagyboldogasszony Katolikus Óvoda, Kéttannyelvű Általános Iskola és Gimnázium | F28: Jászberény | G28: Holczer Hanna | H28: Józsa Péter Pál | I28: Sződi-Háfra Edina
A29: 3. | B29: II.kcs Tenisz U10 narancs labdával, P+S szabály | C29: L | D29: B | E29: Szent István Sport Általános Iskola és Gimnázium | F29: Jászberény | G29: Bojtos Zsuzsanna | H29: Halápi Ákos
A30: 1. | B30: III.kcs Tenisz U11 zöld labdával, P+S szabály | C30: F | D30: B | E30: Bercsényi Miklós Általános Iskola | F30: Jászberény | G30: Magyar Albert | H30: Kiss Attila József
A31: 2. | B31: III.kcs Tenisz U11 zöld labdával, P+S szabály | C31: F | D31: B | E31: Bercsényi Miklós Általános Iskola | F31: Jászberény | G31: Szántai Levente | H31: Kiss Attila József
A32: 3. | B32: III.kcs Tenisz U11 zöld labdával, P+S szabály | C32: F | D32: B | E32: Jászsági Gróf Apponyi Albert Általános Iskola és Alapfokú Művészeti Iskola | F32: Jászberény | G32: Koczka Gergő | H32: Ludasi Martin
A33: 4. | B33: III.kcs Tenisz U11 zöld labdával, P+S szabály | C33: F | D33: B | E33: Jászsági Gróf Apponyi Albert Általános Iskola és Alapfokú Művészeti Iskola | F33: Jászberény | G33: Bálint Ádám | H33: Ludasi Martin
A34: 5. | B34: III.kcs Tenisz U11 zöld labdával, P+S szabály | C34: F | D34: B | E34: Lehel Vezér Gimnázium | F34: Jászberény | G34: Zimonyi Bercel | H34: Ilonka Zoltán
A35: 6. | B35: III.kcs Tenisz U11 zöld labdával, P+S szabály | C35: F | D35: B | E35: Székely Mihály Általános Iskola | F35: Jászberény | G35: Teleki Zétény | H35: Bajáriné Pesti Anikó
A36: 7. | B36: III.kcs Tenisz U11 zöld labdával, P+S szabály | C36: F | D36: B | E36: Szent István Sport Általános Iskola és Gimnázium | F36: Jászberény | G36: Balogh Milán | H36: Halápi Ákos
A37: 8. | B37: III.kcs Tenisz U11 zöld labdával, P+S szabály | C37: F | D37: B | E37: Szent István Sport Általános Iskola és Gimnázium | F37: Jászberény | G37: Kalla Zsombor | H37: Halápi Ákos
A38: 9. | B38: III.kcs Tenisz U11 zöld labdával, P+S szabály | C38: F | D38: B | E38: Szent István Sport Általános Iskola és Gimnázium | F38: Jászberény | G38: Terjéki Benett | H38: Halápi Ákos
A39: 1. | B39: III.kcs Tenisz U11 zöld labdával, P+S szabály | C39: L | D39: B | E39: Bercsényi Miklós Általános Iskola | F39: Jászberény | G39: Kerekes Leonóra | H39: Kiss Attila József
A40: 2. | B40: III.kcs Tenisz U11 zöld labdával, P+S szabály | C40: L | D40: B | E40: Lehel Vezér Gimnázium | F40: Jászberény | G40: Szabó Anna | H40: Ilonka Zoltán
...

Sheet Eredmények
A1: Létszám | B1: Korcsoport | C1: Nem | D1: Kategória | E1: Iskola | F1: Település | G1: Nevező | H1: Helyezés
A2: 1 | B2: I.kcs Tenisz U8 piros labdával, P+S szabály | C2: F | D2: B | E2: Jászsági Gróf Apponyi Albert Általános Iskola és Alapfokú Művészeti Iskola | F2: Jászberény | G2: Bálint Máté | H2: 1.
A3: 2 | B3: I.kcs Tenisz U8 piros labdával, P+S szabály | C3: F | D3: B | E3: Jászberényi Nagyboldogasszony Katolikus Óvoda, Kéttannyelvű Általános Iskola és Gimnázium | F3: Jászberény | G3: Papp Milán | H3: 2.
A4: 3 | B4: I.kcs Tenisz U8 piros labdával, P+S szabály | C4: F | D4: B | E4: Jászberényi Nagyboldogasszony Katolikus Óvoda, Kéttannyelvű Általános Iskola és Gimnázium | F4: Jászberény | G4: Nagy Mihály | H4: 3.
A5: 4 | B5: I.kcs Tenisz U8 piros labdával, P+S szabály | C5: F | D5: B | E5: Jászberényi Nagyboldogasszony Katolikus Óvoda, Kéttannyelvű Általános Iskola és Gimnázium | F5: Jászberény | G5: Tóth Levente | H5: 4.
A6: 5 | B6: I.kcs Tenisz U8 piros labdával, P+S szabály | C6: F | D6: B | E6: Jászberényi Nagyboldogasszony Katolikus Óvoda, Kéttannyelvű Általános Iskola és Gimnázium | F6: Jászberény | G6: Kalla Konrád | H6: 5.
A8: 1 | B8: I.kcs Tenisz U8 piros labdával, P+S szabály | C8: L | D8: B | E8: Szent István Sport Általános Iskola és Gimnázium | F8: Jászberény | G8: Székely Szonja | H8: 1.
A9: 2 | B9: I.kcs Tenisz U8 piros labdával, P+S szabály | C9: L | D9: B | E9: Jászberényi Nagyboldogasszony Katolikus Óvoda, Kéttannyelvű Általános Iskola és Gimnázium | F9: Jászberény | G9: Kovács Kata | H9: 2.
A10: 3. | B10: I.kcs Tenisz U8 piros labdával, P+S szabály | C10: L | D10: B | E10: Szent István Sport Általános Iskola és Gimnázium | F10: Jászberény | G10: Szabó Anna | H10: 3.
A11: 4 | B11: I.kcs Tenisz U8 piros labdával, P+S szabály | C11: L | D11: B | E11: Jászberényi Nagyboldogasszony Katolikus Óvoda, Kéttannyelvű Általános Iskola és Gimnázium | F11: Jászberény | G11: Munkácsi Frida | H11: 4.
A13: 1 | B13: II.kcs Tenisz U10 narancs labdával, P+S szabály | C13: F | D13: B | E13: Szent István Katolikus Általános Iskola és Óvoda | F13: Mezőtúr | G13: Ábrahám Zoltán | H13: 1.
A14: 2 | B14: II.kcs Tenisz U10 narancs labdával, P+S szabály | C14: F | D14: B | E14: Jászberényi Nagyboldogasszony Katolikus Óvoda, Kéttannyelvű Általános Iskola és Gimnázium | F14: Jászberény | G14: Kovács Milán Zétény | H14: 2.
A15: 3 | B15: II.kcs Tenisz U10 narancs labdával, P+S szabály | C15: F | D15: B | E15: Jászberényi Nagyboldogasszony Katolikus Óvoda, Kéttannyelvű Általános Iskola és Gimnázium | F15: Jászberény | G15: Tóth Benedek | H15: 3.
A16: 4 | B16: II.kcs Tenisz U10 narancs labdával, P+S szabály | C16: F | D16: B | E16: Jászberényi Nagyboldogasszony Katolikus Óvoda, Kéttannyelvű Általános Iskola és Gimnázium | F16: Jászberény | G16: Szabó Mátyás | H16: 3.
A17: 5 | B17: II.kcs Tenisz U10 narancs labdával, P+S szabály | C17: F | D17: B | E17: Bercsényi Miklós Általános Iskola | F17: Jászberény | G17: Pócz-Nagy Benett | H17: 5-8.
A18: 6 | B18: II.kcs Tenisz U10 narancs labdával, P+S szabály | C18: F | D18: B | E18: Szent István Sport Általános Iskola és Gimnázium | F18: Jászberény | G18: Hamar Lőrinc | H18: 5-8.
A19: 7 | B19: II.kcs Tenisz U10 narancs labdával, P+S szabály | C19: F | D19: B | E19: Szent István Sport Általános Iskola és Gimnázium | F19: Jászberény | G19: Koczka Ákos | H19: 5-8.
A20: 8 | B20: II.kcs Tenisz U10 narancs labdával, P+S szabály | C20: F | D20: B | E20: Szent István Sport Általános Iskola és Gimnázium | F20: Jászberény | G20: Zsólyomi Zsombor | H20: 5-8.
A21: 9 | B21: II.kcs Tenisz U10 narancs labdával, P+S szabály | C21: F | D21: B | E21: Bercsényi Miklós Általános Iskola | F21: Jászberény | G21: Sárközi Levente | H21: 9-12.
A22: 10 | B22: II.kcs Tenisz U10 narancs labdával, P+S szabály | C22: F | D22: B | E22: Bercsényi Miklós Általános Iskola | F22: Jászberény | G22: Cseh Edvin Gábor | H22: 9-12.
A23: 11 | B23: II.kcs Tenisz U10 narancs labdával, P+S szabály | C23: F | D23: B | E23: Jászberényi Nagyboldogasszony Katolikus Óvoda, Kéttannyelvű Általános Iskola és Gimnázium | F23: Jászberény | G23: Sebestyén Nolen | H23: 9-12.
... A122: 2 | B122: VIII.kcs Tenisz U18+ | C122: L | D122: B | E122: Szent István Sport Általános Iskola és Gimnázium | F122: Jászberény | G122: Deák Janka | H122: 2.

Sheet játékrend-23-24-e
A1: DIÁKOLIMPIA JÁTÉKREND 2026.04.23. csütörtök
A2: Az aktuális helyzetről +36203485403 (Tóth Éva versenyigazgató) számon érdeklődhet.
A3: A verseny 8:30-kor kezdődik: I. kcs. Fiú B., I. kcs. Lány B. 9:30-től várható: II. kcs. Fiú B., II. kcs. Lány B., III. kcs. Fiú B., III. kcs. Lány B. és V. kcs. Fiú B, V. kcs. Lány B. 9:30-kor közös fotózás (kérem addig mindenki maradjon, illetve érkezzen meg) és az addig befejeződött korosztályok eredményhirdetése. Egyéb eredményhirdetés a versenyszámok utolsó mérkőzése után. A mérkőzések sorrendjét határozzuk meg, a pontos kezdést nem. Minden versenyszámból az 1-2. helyezett jut az országos döntőbe. A nevezéseknél (nevezések fül, munkalap) a félkövérrel, narancssárgával kiemelt diákok egyből, játék nélkül az országos döntőbe jutottak (illetve azok is akinél menetközben lecsökken a megjelenők száma 2, vagy 1 főre).
A4: Kezdés | B4: Pályán van | C4: Korcsoport | D4: Pálya | F4: Név | H4: Név | J4: Eredmény | K4: Sorszám
A5: 8:30 | C5: I. kcs. Fiú B | F5: Kalla Konrád | H5: Bálint Máté | J5: 1/15 | K5: 1.
C6: I. kcs. Fiú B | F6: Papp Milán | H6: Tóth Levente | J6: 15/11 | K6: 2.
C7: I. kcs. Fiú B | F7: Tóth Levente | H7: Kalla Konrád | J7: 15/12 | K7: 3.
C8: I. kcs. Fiú B | F8: Bálint Máté | H8: Nagy Mihály | J8: 15/3 | K8: 4.
C9: I. kcs. Fiú B | F9: Nagy Mihály | H9: Tóth Levente | J9: 15/13 | K9: 5.
C10: I. kcs. Fiú B | F10: Kalla Konrád | H10: Papp Milán | J10: 12/15 | K10: 6.
C11: I. kcs. Fiú B | F11: Papp Milán | H11: Nagy Mihály | J11: 15/5 | K11: 7.
C12: I. kcs. Fiú B | F12: Tóth Levente | H12: Bálint Máté | J12: 7/15 | K12: 8.
C13: I. kcs. Fiú B | F13: Nagy Mihály | H13: Kalla Konrád | J13: 15/9 | K13: 9.
C14: I. kcs. Fiú B | F14: Bálint Máté | H14: Papp Milán | J14: 15/8 | K14: 10.
A15: 8:30 | C15: I. kcs. Leány B | F15: Kovács Kata | H15: Munkácsi Frida | J15: 15/6 | K15: 11.
C16: I. kcs. Leány B | F16: Szabó Anna | H16: Székely Szonja | J16: 13/15 | K16: 12.
C17: I. kcs. Leány B | F17: Munkácsi Frida | H17: Szabó Anna | J17: 11/15 | K17: 13.
C18: I. kcs. Leány B | F18: Kovács Kata | H18: Székely Szonja | J18: 14/16 | K18: 14.
C19: I. kcs. Leány B | F19: Szabó Anna | H19: Kovács Kata | J19: 11/15 | K19: 15.
C20: I. kcs. Leány B | F20: Székely Szonja | H20: Munkácsi Frida | J20: 15/1 | K20: 16.
A21: 9:30 | C21: II. kcs. Fiú B/A.csop. | F21: Ábrahám Zoltán | H21: Cseh Edvin Gábor | J21: 7/1 7/3 | K21: 17.
C22: II. kcs. Fiú B/A.csop. | F22: Koczka Ákos | H22: Molnár Benedek | J22: 7/0 7/1 | K22: 18.
C23: II. kcs. Fiú B/A.csop. | F23: Cseh Edvin Gábor | H23: Koczka Ákos | J23: 5/7 0/7 | K23: 19.
C24: II. kcs. Fiú B/A.csop. | F24: Molnár Benedek | H24: Ábrahám Zoltán | J24: 5/7 0/7 | K24: 20.
C25: II. kcs. Fiú B/A.csop. | F25: Koczka Ákos | H25: Ábrahám Zoltán | J25: 5/7 10/12 | K25: 21.
C26: II. kcs. Fiú B/A.csop. | F26: Cseh Edvin Gábor | H26: Molnár Benedek | J26: 7/1 7/0 | K26: 22.
C27: II. kcs. Fiú B/B.csop. | F27: Sárközi Levente | H27: Pócz-Nagy Benett | J27: 6/8 7/9 | K27: 23.
C28: II. kcs. Fiú B/B.csop. | F28: Tóth Benedek | H28: Molnár Zalán Lehel | J28: 7/3 7/5 | K28: 24.
C29: II. kcs. Fiú B/B.csop. | F29: Pócz-Nagy Benett | H29: Tóth Benedek | J29: 5/7 9/11 | K29: 25.
C30: II. kcs. Fiú B/B.csop. | F30: Molnár Zalán Lehel | H30: Sárközi Levente | J30: 5/7 3/7 | K30: 26.
C31: II. kcs. Fiú B/B.csop. | F31: Tóth Benedek | H31: Sárközi Levente | J31: 7/5 7/5 | K31: 27.
C32: II. kcs. Fiú B/B.csop. | F32: Pócz-Nagy Benett | H32: Molnár Zalán Lehel | J32: 13/11 7/2 | K32: 28.
C33: II. kcs. Fiú B/C.csop. | F33: Zsólyomi Zsombor | H33: Vámos Donát | J33: 7/1 7/1 | K33: 29.
... C44: II. kcs. Fiú B/Döntő | F44: Ábrahám Zoltán | H44: Kovács Milán Zétény | J44: 7/4 7/3 | K44: 40.
A45: 9:30 | C45: II. kcs. Leány B | F45: Holczer Hanna | H45: Bojtos Zsuzsanna | J45: 7/3 7/2 | K45: 41.
C46: II. kcs. Leány B | F46: Bojtos Zsuzsanna | H46: Szőke Emma | J46: 3/7 4/7 | K46: 42.
C47: II. kcs. Leány B | F47: Szőke Emma | H47: Holczer Hanna | J47: 7/3 7/2 | K47: 43.
A48: 9:30 | C48: III. kcs. Fiú B/A. csop. | F48: Magyar Albert | H48: Kalla Zsombor | J48: 5/0 | K48: 44.
C49: III. kcs. Fiú B/A. csop. | F49: Kalla Zsombor | H49: Teleki Zétény | J49: 0/5 | K49: 45.
C50: III. kcs. Fiú B/A. csop. | F50: Teleki Zétény | H50: Magyar Albert | J50: 5/4 | K50: 46.
...

Sheet I.F.B-D-5
A1: 2025/26. DO J-NK-SZ Vármegye | R1: =IF(O5=1,CONCATENATE(VLOOKUP(O3,Q16:X27,2)),CONCATENATE(VLOOKUP(O3,Q2:AA13,2))) -> #REF! | S1: =IF(O5=1,CONCATENATE(VLOOKUP(O3,Q16:AA27,3)),CONCATENATE(VLOOKUP(O3,Q2:AA13,3))) -> #REF! | T1: =IF(O5=1,CONCATENATE(VLOOKUP(O3,Q16:AA27,4)),CONCATENATE(VLOOKUP(O3,Q2:AA13,4))) -> #REF! | U1: =IF(O5=1,CONCATENATE(VLOOKUP(O3,Q16:AA27,5)),CONCATENATE(VLOOKUP(O3,Q2:AA13,5))) -> #REF! | V1: =IF(O5=1,CONCATENATE(VLOOKUP(O3,Q16:AA27,6)),CONCATENATE(VLOOKUP(O3,Q2:AA13,6))) -> #REF! | W1: =IF(O5=1,CONCATENATE(VLOOKUP(O3,Q16:AA27,7)),CONCATENATE(VLOOKUP(O3,Q2:AA13,7))) -> #REF! | X1: =IF(O5=1,CONCATENATE(VLOOKUP(O3,Q16:AA27,8)),CONCATENATE(VLOOKUP(O3,Q2:AA13,8))) -> #REF! | Y1: =IF(O5=1,CONCATENATE(VLOOKUP(O3,Q16:AA27,9)),CONCATENATE(VLOOKUP(O3,Q2:AA13,9))) -> #REF! | Z1: =IF(O5=1,CONCATENATE(VLOOKUP(O3,Q16:AA27,10)),CONCATENATE(VLOOKUP(O3,Q2:AA13,10))) -> #REF! | AA1: =IF(O5=1,CONCATENATE(VLOOKUP(O3,Q16:AA27,11)),CONCATENATE(VLOOKUP(O3,Q2:AA13,11))) -> #REF!
A2: Versenyszám: | E2: I. F./B - Döntő | Q2: A | R2: 150 | S2: 120 | T2: 100 | U2: 80 | V2: 70 | W2: 60 | X2: 55 | Y2: 50 | Z2: 45 | AA2: 40
A3: Dátum | E3: Város | J3: Versenybíró | O3: =IF(#REF!="OB","A",IF(#REF!="IX","W",#REF!)) -> #REF! | Q3: I | R3: 120 | S3: 90 | T3: 65 | U3: 55 | V3: 50 | W3: 45 | X3: 40 | Y3: 35 | Z3: 25 | AA3: 20
A4: 46135 | E4: Jászberény | J4: 0 | Q4: II | R4: 90 | S4: 60 | T4: 45 | U4: 34 | V4: 27 | W4: 22 | X4: 18 | Y4: 15 | Z4: 12 | AA4: 9
B5: kiem | C5: kódszám | D5: Rangsor | E5: Vezetéknév | G5: Egyesület | I5: Helyezés | J5: Pontszám | K5: Bónusz | O5: 2 | Q5: III | R5: 60 | S5: 40 | T5: 30 | U5: 20 | V5: 18 | W5: 15 | X5: 12 | Y5: 10 | Z5: 8 | AA5: 6
Q6: IV | R6: 40 | S6: 25 | T6: 18 | U6: 13 | V6: 10 | W6: 8 | X6: 6 | Y6: 5 | Z6: 4 | AA6: 3
A7: A | B7: 1 | C7: 0 | D7: 0 | E7: Nagy Mihály | G7: Jb Nagyboldog | I7: 3. | J7: 4 | Q7: V | R7: 25 | S7: 15 | T7: 13 | U7: 8 | V7: 6 | W7: 4 | X7: 3 | Y7: 2 | Z7: 1 | AA7: 0
Q8: VI | R8: 15 | S8: 10 | T8: 7 | U8: 5 | V8: 4 | W8: 3 | X8: 2 | Y8: 1 | Z8: 0 | AA8: 0
A9: B | B9: 2 | C9: 0 | D9: 0 | E9: Kalla Konrád | G9: Jb Nagyboldog | I9: 5. | J9: 0 | Q9: VII | R9: 10 | S9: 6 | T9: 4 | U9: 2 | V9: 1 | W9: 0 | X9: 0 | Y9: 0 | Z9: 0 | AA9: 0
Q10: VIII | R10: 6 | S10: 3 | T10: 2 | U10: 1 | V10: 0 | W10: 0 | X10: 0 | Y10: 0 | Z10: 0 | AA10: 0
A11: C | B11: 3 | C11: 0 | D11: 0 | E11: Papp Milán | G11: Jb Nagyboldog | I11: 2. | J11: 6 | Q11: W | R11: 3 | S11: 2 | T11: 1 | U11: 0 | V11: 0 | W11: 0 | X11: 0 | Y11: 0 | Z11: 0 | AA11: 0
Q12: X | R12: 0 | S12: 0 | T12: 0 | U12: 0 | V12: 0 | W12: 0 | X12: 0 | Y12: 0 | Z12: 0 | AA12: 0
A13: D | B13: 4 | C13: 0 | D13: 0 | E13: Tóth Levente | G13: Jb Nagyboldog | I13: 4. | J13: 2 | Q13: XI | R13: 0 | S13: 0 | T13: 0 | U13: 0 | V13: 0 | W13: 0 | X13: 0 | Y13: 0 | Z13: 0 | AA13: 0
A15: E | B15: 5 | C15: 0 | D15: 0 | E15: Bálint Máté | G15: Gróf App | I15: 1. | J15: 8
Q16: A | R16: 300 | S16: 250 | T16: 220 | U16: 180 | V16: 160 | W16: 150 | X16: 140 | Y16: 130 | Z16: 120 | AA16: 110
Q17: I | R17: 250 | S17: 200 | T17: 160 | U17: 140 | V17: 120 | W17: 110 | X17: 100 | Y17: 90 | Z17: 80 | AA17: 70
D18: =E7 -> Nagy Mihály | F18: =E9 -> Kalla Konrád | G18: =E11 -> Papp Milán | H18: =E13 -> Tóth Levente | J18: =E15 -> Bálint Máté | Q18: II | R18: 200 | S18: 150 | T18: 130 | U18: 110 | V18: 95 | W18: 80 | X18: 70 | Y18: 60 | Z18: 55 | AA18: 50
A19: A | B19: =E7 -> Nagy Mihály | F19: 15/9 | G19: 5/15 | H19: 15/13 | J19: 3/15 | Q19: III | R19: 150 | S19: 120 | T19: 100 | U19: 80 | V19: 70 | W19: 60 | X19: 55 | Y19: 50 | Z19: 45 | AA19: 40
A20: B | B20: =E9 -> Kalla Konrád | D20: 9/15 | G20: 12/15 | H20: 12/15 | J20: 1/15 | Q20: IV | R20: 120 | S20: 90 | T20: 65 | U20: 55 | V20: 50 | W20: 45 | X20: 40 | Y20: 35 | Z20: 25 | AA20: 20
A21: C | B21: =E11 -> Papp Milán | D21: 15/5 | F21: 15/12 | H21: 15/11 | J21: 8/15 | Q21: V | R21: 90 | S21: 60 | T21: 45 | U21: 34 | V21: 27 | W21: 22 | X21: 18 | Y21: 15 | Z21: 12 | AA21: 9
A22: D | B22: =E13 -> Tóth Levente | D22: 13/15 | F22: 15/12 | G22: 11/15 | J22: 7/15 | Q22: VI | R22: 60 | S22: 40 | T22: 30 | U22: 20 | V22: 18 | W22: 15 | X22: 12 | Y22: 10 | Z22: 8 | AA22: 6
A23: E | B23: =E15 -> Bálint Máté | D23: 15/3 | F23: 15/1 | G23: 15/8 | H23: 15/7 | Q23: VII | R23: 40 | S23: 25 | T23: 18 | U23: 13 | V23: 8 | W23: 7 | X23: 6 | Y23: 5 | Z23: 4 | AA23: 3
Q24: VIII | R24: 25 | S24: 15 | T24: 13 | U24: 7 | V24: 6 | W24: 5 | X24: 4 | Y24: 3 | Z24: 2 | AA24: 1
D25: 1 FORDULÓ | E25: B - E | F25: C - D | Q25: W | R25: 15 | S25: 10 | T25: 8 | U25: 4 | V25: 3 | W25: 2 | X25: 1 | Y25: 0 | Z25: 0 | AA25: 0
D26: 2 FORDULÓ | E26: D - B | F26: E - A | Q26: X | R26: 10 | S26: 6 | T26: 4 | U26: 2 | V26: 1 | W26: 0 | X26: 0 | Y26: 0 | Z26: 0 | AA26: 0
D27: 3 FORDULÓ | E27: A - D | F27: B - C | Q27: XI | R27: 3 | S27: 2 | T27: 1 | U27: 0 | V27: 0 | W27: 0 | X27: 0 | Y27: 0 | Z27: 0 | AA27: 0
D28: 4 FORDULÓ | E28: C - A | F28: D - E
D29: 5 FORDULÓ | E29: A - B | F29: E - C
A33: Rangsor | D33: # | E33: Kiemeltek | H33: Helyettesíti | I33: Sorsolás időpontja
A34: Dátuma | I34: Utolsó elfogadott játékos
A35: Utolsó DA
I36: Sorsoló játékosok
I39: Versenybíró aláírása
I41: =J4 -> 0

Sheet I.L.B-D-4
A1: 2025/26. DO J-NK-SZ Vármegye | T1: =IF(Q5=1,CONCATENATE(VLOOKUP(Q3,S16:Z27,2)),CONCATENATE(VLOOKUP(Q3,S2:AC13,2))) -> #REF! | U1: =IF(Q5=1,CONCATENATE(VLOOKUP(Q3,S16:AC27,3)),CONCATENATE(VLOOKUP(Q3,S2:AC13,3))) -> #REF! | V1: =IF(Q5=1,CONCATENATE(VLOOKUP(Q3,S16:AC27,4)),CONCATENATE(VLOOKUP(Q3,S2:AC13,4))) -> #REF! | W1: =IF(Q5=1,CONCATENATE(VLOOKUP(Q3,S16:AC27,5)),CONCATENATE(VLOOKUP(Q3,S2:AC13,5))) -> #REF! | X1: =IF(Q5=1,CONCATENATE(VLOOKUP(Q3,S16:AC27,6)),CONCATENATE(VLOOKUP(Q3,S2:AC13,6))) -> #REF! | Y1: =IF(Q5=1,CONCATENATE(VLOOKUP(Q3,S16:AC27,7)),CONCATENATE(VLOOKUP(Q3,S2:AC13,7))) -> #REF! | Z1: =IF(Q5=1,CONCATENATE(VLOOKUP(Q3,S16:AC27,8)),CONCATENATE(VLOOKUP(Q3,S2:AC13,8))) -> #REF! | AA1: =IF(Q5=1,CONCATENATE(VLOOKUP(Q3,S16:AC27,9)),CONCATENATE(VLOOKUP(Q3,S2:AC13,9))) -> #REF! | AB1: =IF(Q5=1,CONCATENATE(VLOOKUP(Q3,S16:AC27,10)),CONCATENATE(VLOOKUP(Q3,S2:AC13,10))) -> #REF! | AC1: =IF(Q5=1,CONCATENATE(VLOOKUP(Q3,S16:AC27,11)),CONCATENATE(VLOOKUP(Q3,S2:AC13,11))) -> #REF!
A2: Versenyszám: | E2: I. L./B - Döntő | S2: A | T2: 150 | U2: 120 | V2: 100 | W2: 80 | X2: 70 | Y2: 60 | Z2: 55 | AA2: 50 | AB2: 45 | AC2: 40
A3: Dátum | E3: Város | K3: Versenybíró | Q3: =IF(#REF!="OB","A",IF(#REF!="IX","W",#REF!)) -> #REF! | S3: I | T3: 120 | U3: 90 | V3: 65 | W3: 55 | X3: 50 | Y3: 45 | Z3: 40 | AA3: 35 | AB3: 25 | AC3: 20
A4: 46135 | E4: =Altalanos!$C$10 -> Jászberény | K4: =Altalanos!$E$10 -> Sági István | S4: II | T4: 90 | U4: 60 | V4: 45 | W4: 34 | X4: 27 | Y4: 22 | Z4: 18 | AA4: 15 | AB4: 12 | AC4: 9
B5: kiem | C5: kódszám | D5: Rangsor | E5: Vezetéknév | G5: Egyesölet | I5: Helyezés | J5: Pontszám | K5: Bónusz | Q5: =IF(OR(Altalanos!$A$8="F1",Altalanos!$A$8="F2",Altalanos!$A$8="N1",Altalanos!$A$8="N2"),1,2) -> 2 | S5: III | T5: 60 | U5: 40 | V5: 30 | W5: 20 | X5: 18 | Y5: 15 | Z5: 12 | AA5: 10 | AB5: 8 | AC5: 6
S6: IV | T6: 40 | U6: 25 | V6: 18 | W6: 13 | X6: 10 | Y6: 8 | Z6: 6 | AA6: 5 | AB6: 4 | AC6: 3
A7: A | C7: =IF($B7="","",VLOOKUP($B7,#REF!,5)) | D7: =IF($B7="","",VLOOKUP($B7,#REF!,15)) | E7: Kovács Kata | G7: Jb Nagyboldog | I7: 2. | J7: 4 | S7: V | T7: 25 | U7: 15 | V7: 13 | W7: 8 | X7: 6 | Y7: 4 | Z7: 3 | AA7: 2 | AB7: 1 | AC7: 0
S8: VI | T8: 15 | U8: 10 | V8: 7 | W8: 5 | X8: 4 | Y8: 3 | Z8: 2 | AA8: 1 | AB8: 0 | AC8: 0
A9: B | C9: =IF($B9="","",VLOOKUP($B9,#REF!,5)) | D9: =IF($B9="","",VLOOKUP($B9,#REF!,15)) | E9: Munkácsi Frida | G9: Jb Nagyboldog | I9: 4. | J9: 0 | S9: VII | T9: 10 | U9: 6 | V9: 4 | W9: 2 | X9: 1 | Y9: 0 | Z9: 0 | AA9: 0 | AB9: 0 | AC9: 0
S10: VIII | T10: 6 | U10: 3 | V10: 2 | W10: 1 | X10: 0 | Y10: 0 | Z10: 0 | AA10: 0 | AB10: 0 | AC10: 0
A11: C | C11: =IF($B11="","",VLOOKUP($B11,#REF!,5)) | D11: =IF($B11="","",VLOOKUP($B11,#REF!,15)) | E11: Szabó Anna | G11: Szent István | I11: 3. | J11: 2 | S11: W | T11: 3 | U11: 2 | V11: 1 | W11: 0 | X11: 0 | Y11: 0 | Z11: 0 | AA11: 0 | AB11: 0 | AC11: 0
S12: X | T12: 0 | U12: 0 | V12: 0 | W12: 0 | X12: 0 | Y12: 0 | Z12: 0 | AA12: 0 | AB12: 0 | AC12: 0
A13: D | C13: =IF($B13="","",VLOOKUP($B13,#REF!,5)) | D13: =IF($B13="","",VLOOKUP($B13,#REF!,15)) | E13: Székely Szonja | G13: Szent István | I13: 1. | J13: 6 | S13: XI | T13: 0 | U13: 0 | V13: 0 | W13: 0 | X13: 0 | Y13: 0 | Z13: 0 | AA13: 0 | AB13: 0 | AC13: 0
S16: A | T16: 300 | U16: 250 | V16: 220 | W16: 180 | X16: 160 | Y16: 150 | Z16: 140 | AA16: 130 | AB16: 120 | AC16: 110
S17: I | T17: 250 | U17: 200 | V17: 160 | W17: 140 | X17: 120 | Y17: 110 | Z17: 100 | AA17: 90 | AB17: 80 | AC17: 70
D18: =E7 -> Kovács Kata | F18: =E9 -> Munkácsi Frida | G18: =E11 -> Szabó Anna | H18: =E13 -> Székely Szonja | S18: II | T18: 200 | U18: 150 | V18: 130 | W18: 110 | X18: 95 | Y18: 80 | Z18: 70 | AA18: 60 | AB18: 55 | AC18: 50
A19: A | B19: =E7 -> Kovács Kata | F19: 15/6 | G19: 15/11 | H19: 14/16 | S19: III | T19: 150 | U19: 120 | V19: 100 | W19: 80 | X19: 70 | Y19: 60 | Z19: 55 | AA19: 50 | AB19: 45 | AC19: 40
A20: B | B20: =E9 -> Munkácsi Frida | D20: 6/15 | G20: 11/15 | H20: 1/15 | S20: IV | T20: 120 | U20: 90 | V20: 65 | W20: 55 | X20: 50 | Y20: 45 | Z20: 40 | AA20: 35 | AB20: 25 | AC20: 20
A21: C | B21: =E11 -> Szabó Anna | D21: 11/15 | F21: 15/11 | H21: 13/15 | S21: V | T21: 90 | U21: 60 | V21: 45 | W21: 34 | X21: 27 | Y21: 22 | Z21: 18 | AA21: 15 | AB21: 12 | AC21: 9
A22: D | B22: =E13 -> Székely Szonja | D22: 16/14 | F22: 15/1 | G22: 15/13 | S22: VI | T22: 60 | U22: 40 | V22: 30 | W22: 20 | X22: 18 | Y22: 15 | Z22: 12 | AA22: 10 | AB22: 8 | AC22: 6
S23: VII | T23: 40 | U23: 25 | V23: 18 | W23: 13 | X23: 8 | Y23: 7 | Z23: 6 | AA23: 5 | AB23: 4 | AC23: 3
S24: VIII | T24: 25 | U24: 15 | V24: 13 | W24: 7 | X24: 6 | Y24: 5 | Z24: 4 | AA24: 3 | AB24: 2 | AC24: 1
C25: 1 FORDULÓ | D25: B - C | E25: A -D | S25: W | T25: 15 | U25: 10 | V25: 8 | W25: 4 | X25: 3 | Y25: 2 | Z25: 1 | AA25: 0 | AB25: 0 | AC25: 0
C26: 2 FORDULÓ | D26: C - A | E26: D - B | S26: X | T26: 10 | U26: 6 | V26: 4 | W26: 2 | X26: 1 | Y26: 0 | Z26: 0 | AA26: 0 | AB26: 0 | AC26: 0
C27: 3 FORDULÓ | D27: A - B | E27: C - D | S27: XI | T27: 3 | U27: 2 | V27: 1 | W27: 0 | X27: 0 | Y27: 0 | Z27: 0 | AA27: 0 | AB27: 0 | AC27: 0
A33: Rangsor | D33: # | E33: Kiemeltek | H33: Helyettesíti | I33: Sorsolás időpontja
A34: Dátuma | I34: Utolsó elfogadott játékos
A35: Utolsó DA
I36: Sorsoló játékosok
I39: Versenybíró aláírása
I41: =K4 -> Sági István

Sheet II.F.B-A.csop.
A1: 2025/26. DO J-NK-SZ Vármegye | T1: =IF(Q5=1,CONCATENATE(VLOOKUP(Q3,S16:Z27,2)),CONCATENATE(VLOOKUP(Q3,S2:AC13,2))) -> #REF! | U1: =IF(Q5=1,CONCATENATE(VLOOKUP(Q3,S16:AC27,3)),CONCATENATE(VLOOKUP(Q3,S2:AC13,3))) -> #REF! | V1: =IF(Q5=1,CONCATENATE(VLOOKUP(Q3,S16:AC27,4)),CONCATENATE(VLOOKUP(Q3,S2:AC13,4))) -> #REF! | W1: =IF(Q5=1,CONCATENATE(VLOOKUP(Q3,S16:AC27,5)),CONCATENATE(VLOOKUP(Q3,S2:AC13,5))) -> #REF! | X1: =IF(Q5=1,CONCATENATE(VLOOKUP(Q3,S16:AC27,6)),CONCATENATE(VLOOKUP(Q3,S2:AC13,6))) -> #REF! | Y1: =IF(Q5=1,CONCATENATE(VLOOKUP(Q3,S16:AC27,7)),CONCATENATE(VLOOKUP(Q3,S2:AC13,7))) -> #REF! | Z1: =IF(Q5=1,CONCATENATE(VLOOKUP(Q3,S16:AC27,8)),CONCATENATE(VLOOKUP(Q3,S2:AC13,8))) -> #REF! | AA1: =IF(Q5=1,CONCATENATE(VLOOKUP(Q3,S16:AC27,9)),CONCATENATE(VLOOKUP(Q3,S2:AC13,9))) -> #REF! | AB1: =IF(Q5=1,CONCATENATE(VLOOKUP(Q3,S16:AC27,10)),CONCATENATE(VLOOKUP(Q3,S2:AC13,10))) -> #REF! | AC1: =IF(Q5=1,CONCATENATE(VLOOKUP(Q3,S16:AC27,11)),CONCATENATE(VLOOKUP(Q3,S2:AC13,11))) -> #REF!
A2: Versenyszám: | E2: II. F./B - A. csoport | S2: A | T2: 150 | U2: 120 | V2: 100 | W2: 80 | X2: 70 | Y2: 60 | Z2: 55 | AA2: 50 | AB2: 45 | AC2: 40
A3: Dátum | E3: Város | K3: Versenybíró | Q3: =IF(#REF!="OB","A",IF(#REF!="IX","W",#REF!)) -> #REF! | S3: I | T3: 120 | U3: 90 | V3: 65 | W3: 55 | X3: 50 | Y3: 45 | Z3: 40 | AA3: 35 | AB3: 25 | AC3: 20
A4: 46135 | E4: =Altalanos!$C$10 -> Jászberény | K4: =Altalanos!$E$10 -> Sági István | S4: II | T4: 90 | U4: 60 | V4: 45 | W4: 34 | X4: 27 | Y4: 22 | Z4: 18 | AA4: 15 | AB4: 12 | AC4: 9
B5: kiem | C5: kódszám | D5: Rangsor | E5: Vezetéknév | G5: Egyesület | I5: Helyezés | J5: Pontszám | K5: Bónusz | Q5: =IF(OR(Altalanos!$A$8="F1",Altalanos!$A$8="F2",Altalanos!$A$8="N1",Altalanos!$A$8="N2"),1,2) -> 2 | S5: III | T5: 60 | U5: 40 | V5: 30 | W5: 20 | X5: 18 | Y5: 15 | Z5: 12 | AA5: 10 | AB5: 8 | AC5: 6
S6: IV | T6: 40 | U6: 25 | V6: 18 | W6: 13 | X6: 10 | Y6: 8 | Z6: 6 | AA6: 5 | AB6: 4 | AC6: 3
A7: A | C7: =IF($B7="","",VLOOKUP($B7,#REF!,5)) | D7: =IF($B7="","",VLOOKUP($B7,#REF!,15)) | E7: Koczka Ákos | G7: Szent István | I7: 2. | J7: 4 | S7: V | T7: 25 | U7: 15 | V7: 13 | W7: 8 | X7: 6 | Y7: 4 | Z7: 3 | AA7: 2 | AB7: 1 | AC7: 0
S8: VI | T8: 15 | U8: 10 | V8: 7 | W8: 5 | X8: 4 | Y8: 3 | Z8: 2 | AA8: 1 | AB8: 0 | AC8: 0
A9: B | C9: =IF($B9="","",VLOOKUP($B9,#REF!,5)) | D9: =IF($B9="","",VLOOKUP($B9,#REF!,15)) | E9: Ábrahám Zoltán | G9: Mezőtúr Szent István | I9: 1. | J9: 6 | S9: VII | T9: 10 | U9: 6 | V9: 4 | W9: 2 | X9: 1 | Y9: 0 | Z9: 0 | AA9: 0 | AB9: 0 | AC9: 0
S10: VIII | T10: 6 | U10: 3 | V10: 2 | W10: 1 | X10: 0 | Y10: 0 | Z10: 0 | AA10: 0 | AB10: 0 | AC10: 0
A11: C | C11: =IF($B11="","",VLOOKUP($B11,#REF!,5)) | D11: =IF($B11="","",VLOOKUP($B11,#REF!,15)) | E11: Cseh Edvin Gábor | G11: Bercsényi | I11: 3. | J11: 2 | S11: W | T11: 3 | U11: 2 | V11: 1 | W11: 0 | X11: 0 | Y11: 0 | Z11: 0 | AA11: 0 | AB11: 0 | AC11: 0
S12: X | T12: 0 | U12: 0 | V12: 0 | W12: 0 | X12: 0 | Y12: 0 | Z12: 0 | AA12: 0 | AB12: 0 | AC12: 0
A13: D | C13: =IF($B13="","",VLOOKUP($B13,#REF!,5)) | D13: =IF($B13="","",VLOOKUP($B13,#REF!,15)) | E13: Molnár Benedek | G13: Nagyboldog | I13: 4. | J13: 0 | S13: XI | T13: 0 | U13: 0 | V13: 0 | W13: 0 | X13: 0 | Y13: 0 | Z13: 0 | AA13: 0 | AB13: 0 | AC13: 0
S16: A | T16: 300 | U16: 250 | V16: 220 | W16: 180 | X16: 160 | Y16: 150 | Z16: 140 | AA16: 130 | AB16: 120 | AC16: 110
S17: I | T17: 250 | U17: 200 | V17: 160 | W17: 140 | X17: 120 | Y17: 110 | Z17: 100 | AA17: 90 | AB17: 80 | AC17: 70
D18: Koczka Ákos | F18: Ábrahám Zoltán | G18: Cseh Edvin Gábor | H18: Molnár Benedek | S18: II | T18: 200 | U18: 150 | V18: 130 | W18: 110 | X18: 95 | Y18: 80 | Z18: 70 | AA18: 60 | AB18: 55 | AC18: 50
A19: A | B19: Koczka Ákos | F19: 5/7 10/12 | G19: 7/5 7/0 | H19: 7/0 7/1 | S19: III | T19: 150 | U19: 120 | V19: 100 | W19: 80 | X19: 70 | Y19: 60 | Z19: 55 | AA19: 50 | AB19: 45 | AC19: 40
A20: B | B20: Ábrahám Zoltán | D20: 7/5 12/10 | G20: 7/1 7/3 | H20: 7/5 7/0 | S20: IV | T20: 120 | U20: 90 | V20: 65 | W20: 55 | X20: 50 | Y20: 45 | Z20: 40 | AA20: 35 | AB20: 25 | AC20: 20
A21: C | B21: Cseh Edvin Gábor | D21: 5/7 0/7 | F21: 1/7 3/7 | H21: 7/1 7/0 | S21: V | T21: 90 | U21: 60 | V21: 45 | W21: 34 | X21: 27 | Y21: 22 | Z21: 18 | AA21: 15 | AB21: 12 | AC21: 9
A22: D | B22: Molnár Benedek | D22: 0/7 1/7 | F22: 5/7 0/7 | G22: 1/7 0/7 | S22: VI | T22: 60 | U22: 40 | V22: 30 | W22: 20 | X22: 18 | Y22: 15 | Z22: 12 | AA22: 10 | AB22: 8 | AC22: 6
S23: VII | T23: 40 | U23: 25 | V23: 18 | W23: 13 | X23: 8 | Y23: 7 | Z23: 6 | AA23: 5 | AB23: 4 | AC23: 3
S24: VIII | T24: 25 | U24: 15 | V24: 13 | W24: 7 | X24: 6 | Y24: 5 | Z24: 4 | AA24: 3 | AB24: 2 | AC24: 1
C25: 1 FORDULÓ | D25: B - C | E25: A -D | S25: W | T25: 15 | U25: 10 | V25: 8 | W25: 4 | X25: 3 | Y25: 2 | Z25: 1 | AA25: 0 | AB25: 0 | AC25: 0
C26: 2 FORDULÓ | D26: C - A | E26: D - B | S26: X | T26: 10 | U26: 6 | V26: 4 | W26: 2 | X26: 1 | Y26: 0 | Z26: 0 | AA26: 0 | AB26: 0 | AC26: 0
C27: 3 FORDULÓ | D27: A - B | E27: C - D | S27: XI | T27: 3 | U27: 2 | V27: 1 | W27: 0 | X27: 0 | Y27: 0 | Z27: 0 | AA27: 0 | AB27: 0 | AC27: 0
A33: Rangsor | D33: # | E33: Kiemeltek | H33: Helyettesíti | I33: Sorsolás időpontja
A34: Dátuma | I34: Utolsó elfogadott játékos
A35: Utolsó DA
I36: Sorsoló játékosok
I39: Versenybíró aláírása
I41: =K4 -> Sági István

Sheet II.F.B-B.csop.
A1: 2025/26. DO J-NK-SZ Vármegye | T1: =IF(Q5=1,CONCATENATE(VLOOKUP(Q3,S16:Z27,2)),CONCATENATE(VLOOKUP(Q3,S2:AC13,2))) -> #REF! | U1: =IF(Q5=1,CONCATENATE(VLOOKUP(Q3,S16:AC27,3)),CONCATENATE(VLOOKUP(Q3,S2:AC13,3))) -> #REF! | V1: =IF(Q5=1,CONCATENATE(VLOOKUP(Q3,S16:AC27,4)),CONCATENATE(VLOOKUP(Q3,S2:AC13,4))) -> #REF! | W1: =IF(Q5=1,CONCATENATE(VLOOKUP(Q3,S16:AC27,5)),CONCATENATE(VLOOKUP(Q3,S2:AC13,5))) -> #REF! | X1: =IF(Q5=1,CONCATENATE(VLOOKUP(Q3,S16:AC27,6)),CONCATENATE(VLOOKUP(Q3,S2:AC13,6))) -> #REF! | Y1: =IF(Q5=1,CONCATENATE(VLOOKUP(Q3,S16:AC27,7)),CONCATENATE(VLOOKUP(Q3,S2:AC13,7))) -> #REF! | Z1: =IF(Q5=1,CONCATENATE(VLOOKUP(Q3,S16:AC27,8)),CONCATENATE(VLOOKUP(Q3,S2:AC13,8))) -> #REF! | AA1: =IF(Q5=1,CONCATENATE(VLOOKUP(Q3,S16:AC27,9)),CONCATENATE(VLOOKUP(Q3,S2:AC13,9))) -> #REF! | AB1: =IF(Q5=1,CONCATENATE(VLOOKUP(Q3,S16:AC27,10)),CONCATENATE(VLOOKUP(Q3,S2:AC13,10))) -> #REF! | AC1: =IF(Q5=1,CONCATENATE(VLOOKUP(Q3,S16:AC27,11)),CONCATENATE(VLOOKUP(Q3,S2:AC13,11))) -> #REF!
A2: Versenyszám: | E2: II. F./B - B. csoport | S2: A | T2: 150 | U2: 120 | V2: 100 | W2: 80 | X2: 70 | Y2: 60 | Z2: 55 | AA2: 50 | AB2: 45 | AC2: 40
A3: Dátum | E3: Város | K3: Versenybíró | Q3: =IF(#REF!="OB","A",IF(#REF!="IX","W",#REF!)) -> #REF! | S3: I | T3: 120 | U3: 90 | V3: 65 | W3: 55 | X3: 50 | Y3: 45 | Z3: 40 | AA3: 35 | AB3: 25 | AC3: 20
A4: 46135 | E4: =Altalanos!$C$10 -> Jászberény | K4: =Altalanos!$E$10 -> Sági István | S4: II | T4: 90 | U4: 60 | V4: 45 | W4: 34 | X4: 27 | Y4: 22 | Z4: 18 | AA4: 15 | AB4: 12 | AC4: 9
B5: kiem | C5: kódszám | D5: Rangsor | E5: Vezetéknév | G5: Egyesület | I5: Helyezés | J5: Pontszám | K5: Bónusz | Q5: =IF(OR(Altalanos!$A$8="F1",Altalanos!$A$8="F2",Altalanos!$A$8="N1",Altalanos!$A$8="N2"),1,2) -> 2 | S5: III | T5: 60 | U5: 40 | V5: 30 | W5: 20 | X5: 18 | Y5: 15 | Z5: 12 | AA5: 10 | AB5: 8 | AC5: 6
S6: IV | T6: 40 | U6: 25 | V6: 18 | W6: 13 | X6: 10 | Y6: 8 | Z6: 6 | AA6: 5 | AB6: 4 | AC6: 3
A7: A | C7: =IF($B7="","",VLOOKUP($B7,#REF!,5)) | D7: =IF($B7="","",VLOOKUP($B7,#REF!,15)) | E7: Tóth Benedek | G7: Nagyboldog | I7: 1. | J7: 6 | S7: V | T7: 25 | U7: 15 | V7: 13 | W7: 8 | X7: 6 | Y7: 4 | Z7: 3 | AA7: 2 | AB7: 1 | AC7: 0
S8: VI | T8: 15 | U8: 10 | V8: 7 | W8: 5 | X8: 4 | Y8: 3 | Z8: 2 | AA8: 1 | AB8: 0 | AC8: 0
A9: B | C9: =IF($B9="","",VLOOKUP($B9,#REF!,5)) | D9: =IF($B9="","",VLOOKUP($B9,#REF!,15)) | E9: Sárközi Levente | G9: Bercsényi | I9: 3. | J9: 2 | S9: VII | T9: 10 | U9: 6 | V9: 4 | W9: 2 | X9: 1 | Y9: 0 | Z9: 0 | AA9: 0 | AB9: 0 | AC9: 0
S10: VIII | T10: 6 | U10: 3 | V10: 2 | W10: 1 | X10: 0 | Y10: 0 | Z10: 0 | AA10: 0 | AB10: 0 | AC10: 0
A11: C | C11: =IF($B11="","",VLOOKUP($B11,#REF!,5)) | D11: =IF($B11="","",VLOOKUP($B11,#REF!,15)) | E11: Pócz-Nagy Benett | G11: Bercsényi | I11: 2. | J11: 4 | S11: W | T11: 3 | U11: 2 | V11: 1 | W11: 0 | X11: 0 | Y11: 0 | Z11: 0 | AA11: 0 | AB11: 0 | AC11: 0
S12: X | T12: 0 | U12: 0 | V12: 0 | W12: 0 | X12: 0 | Y12: 0 | Z12: 0 | AA12: 0 | AB12: 0 | AC12: 0
A13: D | C13: =IF($B13="","",VLOOKUP($B13,#REF!,5)) | D13: =IF($B13="","",VLOOKUP($B13,#REF!,15)) | E13: Molnár Zalán Lehel | G13: Nagyboldog | I13: 4. | J13: 0 | S13: XI | T13: 0 | U13: 0 | V13: 0 | W13: 0 | X13: 0 | Y13: 0 | Z13: 0 | AA13: 0 | AB13: 0 | AC13: 0
S16: A | T16: 300 | U16: 250 | V16: 220 | W16: 180 | X16: 160 | Y16: 150 | Z16: 140 | AA16: 130 | AB16: 120 | AC16: 110
S17: I | T17: 250 | U17: 200 | V17: 160 | W17: 140 | X17: 120 | Y17: 110 | Z17: 100 | AA17: 90 | AB17: 80 | AC17: 70
D18: Tóth Benedek | F18: Sárközi Levente | G18: Pócz-Nagy Benett | H18: Molnár Zalán Lehel | S18: II | T18: 200 | U18: 150 | V18: 130 | W18: 110 | X18: 95 | Y18: 80 | Z18: 70 | AA18: 60 | AB18: 55 | AC18: 50
A19: A | B19: Tóth Benedek | F19: 7/5 7/5 | G19: 7/5 11/9 | H19: 7/3 7/5 | S19: III | T19: 150 | U19: 120 | V19: 100 | W19: 80 | X19: 70 | Y19: 60 | Z19: 55 | AA19: 50 | AB19: 45 | AC19: 40
A20: B | B20: Sárközi Levente | D20: 5/7 5/7 | G20: 6/8 7/9 | H20: 7/5 7/3 | S20: IV | T20: 120 | U20: 90 | V20: 65 | W20: 55 | X20: 50 | Y20: 45 | Z20: 40 | AA20: 35 | AB20: 25 | AC20: 20
A21: C | B21: Pócz-Nagy Benett | D21: 5/7 9/11 | F21: 8/6 9/7 | H21: 13/11 7/2 | S21: V | T21: 90 | U21: 60 | V21: 45 | W21: 34 | X21: 27 | Y21: 22 | Z21: 18 | AA21: 15 | AB21: 12 | AC21: 9
A22: D | B22: Molnár Zalán Lehel | D22: 3/7 5/7 | F22: 5/7 3/7 | G22: 11/13 2/7 | S22: VI | T22: 60 | U22: 40 | V22: 30 | W22: 20 | X22: 18 | Y22: 15 | Z22: 12 | AA22: 10 | AB22: 8 | AC22: 6
S23: VII | T23: 40 | U23: 25 | V23: 18 | W23: 13 | X23: 8 | Y23: 7 | Z23: 6 | AA23: 5 | AB23: 4 | AC23: 3
S24: VIII | T24: 25 | U24: 15 | V24: 13 | W24: 7 | X24: 6 | Y24: 5 | Z24: 4 | AA24: 3 | AB24: 2 | AC24: 1
C25: 1 FORDULÓ | D25: B - C | E25: A -D | S25: W | T25: 15 | U25: 10 | V25: 8 | W25: 4 | X25: 3 | Y25: 2 | Z25: 1 | AA25: 0 | AB25: 0 | AC25: 0
C26: 2 FORDULÓ | D26: C - A | E26: D - B | S26: X | T26: 10 | U26: 6 | V26: 4 | W26: 2 | X26: 1 | Y26: 0 | Z26: 0 | AA26: 0 | AB26: 0 | AC26: 0
C27: 3 FORDULÓ | D27: A - B | E27: C - D | S27: XI | T27: 3 | U27: 2 | V27: 1 | W27: 0 | X27: 0 | Y27: 0 | Z27: 0 | AA27: 0 | AB27: 0 | AC27: 0
A33: Rangsor | D33: # | E33: Kiemeltek | H33: Helyettesíti | I33: Sorsolás időpontja
A34: Dátuma | I34: Utolsó elfogadott játékos
A35: Utolsó DA
I36: Sorsoló játékosok
I39: Versenybíró aláírása
I41: =K4 -> Sági István

Sheet II.F.B-C.csop.
A1: 2025/26. DO J-NK-SZ Vármegye | T1: =IF(Q5=1,CONCATENATE(VLOOKUP(Q3,S16:Z27,2)),CONCATENATE(VLOOKUP(Q3,S2:AC13,2))) -> #REF! | U1: =IF(Q5=1,CONCATENATE(VLOOKUP(Q3,S16:AC27,3)),CONCATENATE(VLOOKUP(Q3,S2:AC13,3))) -> #REF! | V1: =IF(Q5=1,CONCATENATE(VLOOKUP(Q3,S16:AC27,4)),CONCATENATE(VLOOKUP(Q3,S2:AC13,4))) -> #REF! | W1: =IF(Q5=1,CONCATENATE(VLOOKUP(Q3,S16:AC27,5)),CONCATENATE(VLOOKUP(Q3,S2:AC13,5))) -> #REF! | X1: =IF(Q5=1,CONCATENATE(VLOOKUP(Q3,S16:AC27,6)),CONCATENATE(VLOOKUP(Q3,S2:AC13,6))) -> #REF! | Y1: =IF(Q5=1,CONCATENATE(VLOOKUP(Q3,S16:AC27,7)),CONCATENATE(VLOOKUP(Q3,S2:AC13,7))) -> #REF! | Z1: =IF(Q5=1,CONCATENATE(VLOOKUP(Q3,S16:AC27,8)),CONCATENATE(VLOOKUP(Q3,S2:AC13,8))) -> #REF! | AA1: =IF(Q5=1,CONCATENATE(VLOOKUP(Q3,S16:AC27,9)),CONCATENATE(VLOOKUP(Q3,S2:AC13,9))) -> #REF! | AB1: =IF(Q5=1,CONCATENATE(VLOOKUP(Q3,S16:AC27,10)),CONCATENATE(VLOOKUP(Q3,S2:AC13,10))) -> #REF! | AC1: =IF(Q5=1,CONCATENATE(VLOOKUP(Q3,S16:AC27,11)),CONCATENATE(VLOOKUP(Q3,S2:AC13,11))) -> #REF!
A2: Versenyszám: | E2: II. F./B - C. csoport | S2: A | T2: 150 | U2: 120 | V2: 100 | W2: 80 | X2: 70 | Y2: 60 | Z2: 55 | AA2: 50 | AB2: 45 | AC2: 40
A3: Dátum | E3: Város | K3: Versenybíró | Q3: =IF(#REF!="OB","A",IF(#REF!="IX","W",#REF!)) -> #REF! | S3: I | T3: 120 | U3: 90 | V3: 65 | W3: 55 | X3: 50 | Y3: 45 | Z3: 40 | AA3: 35 | AB3: 25 | AC3: 20
A4: 46135 | E4: =Altalanos!$C$10 -> Jászberény | K4: =Altalanos!$E$10 -> Sági István | S4: II | T4: 90 | U4: 60 | V4: 45 | W4: 34 | X4: 27 | Y4: 22 | Z4: 18 | AA4: 15 | AB4: 12 | AC4: 9
B5: kiem | C5: kódszám | D5: Rangsor | E5: Vezetéknév | G5: Egyesület | I5: Helyezés | J5: Pontszám | K5: Bónusz | Q5: =IF(OR(Altalanos!$A$8="F1",Altalanos!$A$8="F2",Altalanos!$A$8="N1",Altalanos!$A$8="N2"),1,2) -> 2 | S5: III | T5: 60 | U5: 40 | V5: 30 | W5: 20 | X5: 18 | Y5: 15 | Z5: 12 | AA5: 10 | AB5: 8 | AC5: 6
S6: IV | T6: 40 | U6: 25 | V6: 18 | W6: 13 | X6: 10 | Y6: 8 | Z6: 6 | AA6: 5 | AB6: 4 | AC6: 3
A7: A | C7: =IF($B7="","",VLOOKUP($B7,#REF!,5)) | D7: =IF($B7="","",VLOOKUP($B7,#REF!,15)) | E7: Sebestyén Nolen | G7: Nagyboldog | I7: 3. | J7: 2 | S7: V | T7: 25 | U7: 15 | V7: 13 | W7: 8 | X7: 6 | Y7: 4 | Z7: 3 | AA7: 2 | AB7: 1 | AC7: 0
S8: VI | T8: 15 | U8: 10 | V8: 7 | W8: 5 | X8: 4 | Y8: 3 | Z8: 2 | AA8: 1 | AB8: 0 | AC8: 0
A9: B | C9: =IF($B9="","",VLOOKUP($B9,#REF!,5)) | D9: =IF($B9="","",VLOOKUP($B9,#REF!,15)) | E9: Zsólyomi Zsombor | G9: Szent István | I9: 2. | J9: 4 | S9: VII | T9: 10 | U9: 6 | V9: 4 | W9: 2 | X9: 1 | Y9: 0 | Z9: 0 | AA9: 0 | AB9: 0 | AC9: 0
S10: VIII | T10: 6 | U10: 3 | V10: 2 | W10: 1 | X10: 0 | Y10: 0 | Z10: 0 | AA10: 0 | AB10: 0 | AC10: 0
A11: C | C11: =IF($B11="","",VLOOKUP($B11,#REF!,5)) | D11: =IF($B11="","",VLOOKUP($B11,#REF!,15)) | E11: Vámos Donát | G11: Bercsényi | I11: 4. | J11: 0 | S11: W | T11: 3 | U11: 2 | V11: 1 | W11: 0 | X11: 0 | Y11: 0 | Z11: 0 | AA11: 0 | AB11: 0 | AC11: 0
S12: X | T12: 0 | U12: 0 | V12: 0 | W12: 0 | X12: 0 | Y12: 0 | Z12: 0 | AA12: 0 | AB12: 0 | AC12: 0
A13: D | C13: =IF($B13="","",VLOOKUP($B13,#REF!,5)) | D13: =IF($B13="","",VLOOKUP($B13,#REF!,15)) | E13: Szabó Mátyás | G13: Nagyboldog | I13: 1. | J13: 6 | S13: XI | T13: 0 | U13: 0 | V13: 0 | W13: 0 | X13: 0 | Y13: 0 | Z13: 0 | AA13: 0 | AB13: 0 | AC13: 0
S16: A | T16: 300 | U16: 250 | V16: 220 | W16: 180 | X16: 160 | Y16: 150 | Z16: 140 | AA16: 130 | AB16: 120 | AC16: 110
S17: I | T17: 250 | U17: 200 | V17: 160 | W17: 140 | X17: 120 | Y17: 110 | Z17: 100 | AA17: 90 | AB17: 80 | AC17: 70
D18: Sebestyén Nolen | F18: Zsólyomi Zsombor | G18: Vámos Donát | H18: Szabó Mátyás | S18: II | T18: 200 | U18: 150 | V18: 130 | W18: 110 | X18: 95 | Y18: 80 | Z18: 70 | AA18: 60 | AB18: 55 | AC18: 50
A19: A | B19: Sebestyén Nolen | F19: 7/5 4/7 2/5 | G19: 7/3 7/2 | H19: 5/7 7/5 1/5 | S19: III | T19: 150 | U19: 120 | V19: 100 | W19: 80 | X19: 70 | Y19: 60 | Z19: 55 | AA19: 50 | AB19: 45 | AC19: 40
A20: B | B20: Zsólyomi Zsombor | D20: 5/7 7/4 5/2 | G20: 7/1 7/1 | H20: 7/4 5/7 4/5 | S20: IV | T20: 120 | U20: 90 | V20: 65 | W20: 55 | X20: 50 | Y20: 45 | Z20: 40 | AA20: 35 | AB20: 25 | AC20: 20
A21: C | B21: Vámos Donát | D21: 3/7 2/7 | F21: 1/7 1/7 | H21: 3/7 0/7 | S21: V | T21: 90 | U21: 60 | V21: 45 | W21: 34 | X21: 27 | Y21: 22 | Z21: 18 | AA21: 15 | AB21: 12 | AC21: 9
A22: D | B22: Szabó Mátyás | D22: 7/5 5/7 5/1 | F22: 4/7 7/5 5/4 | G22: 7/3 7/0 | S22: VI | T22: 60 | U22: 40 | V22: 30 | W22: 20 | X22: 18 | Y22: 15 | Z22: 12 | AA22: 10 | AB22: 8 | AC22: 6
S23: VII | T23: 40 | U23: 25 | V23: 18 | W23: 13 | X23: 8 | Y23: 7 | Z23: 6 | AA23: 5 | AB23: 4 | AC23: 3
S24: VIII | T24: 25 | U24: 15 | V24: 13 | W24: 7 | X24: 6 | Y24: 5 | Z24: 4 | AA24: 3 | AB24: 2 | AC24: 1
C25: 1 FORDULÓ | D25: B - C | E25: A -D | S25: W | T25: 15 | U25: 10 | V25: 8 | W25: 4 | X25: 3 | Y25: 2 | Z25: 1 | AA25: 0 | AB25: 0 | AC25: 0
C26: 2 FORDULÓ | D26: C - A | E26: D - B | S26: X | T26: 10 | U26: 6 | V26: 4 | W26: 2 | X26: 1 | Y26: 0 | Z26: 0 | AA26: 0 | AB26: 0 | AC26: 0
C27: 3 FORDULÓ | D27: A - B | E27: C - D | S27: XI | T27: 3 | U27: 2 | V27: 1 | W27: 0 | X27: 0 | Y27: 0 | Z27: 0 | AA27: 0 | AB27: 0 | AC27: 0
A33: Rangsor | D33: # | E33: Kiemeltek | H33: Helyettesíti | I33: Sorsolás időpontja
A34: Dátuma | I34: Utolsó elfogadott játékos
A35: Utolsó DA
I36: Sorsoló játékosok
I39: Versenybíró aláírása
I41: =K4 -> Sági István

Sheet II.F.B-D.csop.
A1: 2025/26. DO J-NK-SZ Vármegye | W1: =IF(T5=1,CONCATENATE(VLOOKUP(T3,V16:AC27,2)),CONCATENATE(VLOOKUP(T3,V2:AF13,2))) -> #REF! | X1: =IF(T5=1,CONCATENATE(VLOOKUP(T3,V16:AF27,3)),CONCATENATE(VLOOKUP(T3,V2:AF13,3))) -> #REF! | Y1: =IF(T5=1,CONCATENATE(VLOOKUP(T3,V16:AF27,4)),CONCATENATE(VLOOKUP(T3,V2:AF13,4))) -> #REF! | Z1: =IF(T5=1,CONCATENATE(VLOOKUP(T3,V16:AF27,5)),CONCATENATE(VLOOKUP(T3,V2:AF13,5))) -> #REF! | AA1: =IF(T5=1,CONCATENATE(VLOOKUP(T3,V16:AF27,6)),CONCATENATE(VLOOKUP(T3,V2:AF13,6))) -> #REF! | AB1: =IF(T5=1,CONCATENATE(VLOOKUP(T3,V16:AF27,7)),CONCATENATE(VLOOKUP(T3,V2:AF13,7))) -> #REF! | AC1: =IF(T5=1,CONCATENATE(VLOOKUP(T3,V16:AF27,8)),CONCATENATE(VLOOKUP(T3,V2:AF13,8))) -> #REF! | AD1: =IF(T5=1,CONCATENATE(VLOOKUP(T3,V16:AF27,9)),CONCATENATE(VLOOKUP(T3,V2:AF13,9))) -> #REF! | AE1: =IF(T5=1,CONCATENATE(VLOOKUP(T3,V16:AF27,10)),CONCATENATE(VLOOKUP(T3,V2:AF13,10))) -> #REF! | AF1: =IF(T5=1,CONCATENATE(VLOOKUP(T3,V16:AF27,11)),CONCATENATE(VLOOKUP(T3,V2:AF13,11))) -> #REF!
A2: Versenyszám: | E2: II. F./B - D. csoport | V2: A | W2: 150 | X2: 120 | Y2: 100 | Z2: 80 | AA2: 70 | AB2: 60 | AC2: 55 | AD2: 50 | AE2: 45 | AF2: 40
A3: Dátum | E3: Város | I3: Versenybíró | T3: =IF(#REF!="OB","A",IF(#REF!="IX","W",#REF!)) -> #REF! | V3: I | W3: 120 | X3: 90 | Y3: 65 | Z3: 55 | AA3: 50 | AB3: 45 | AC3: 40 | AD3: 35 | AE3: 25 | AF3: 20
A4: 46135 | E4: =Altalanos!$C$10 -> Jászberény | I4: =Altalanos!$E$10 -> Sági István | V4: II | W4: 90 | X4: 60 | Y4: 45 | Z4: 34 | AA4: 27 | AB4: 22 | AC4: 18 | AD4: 15 | AE4: 12 | AF4: 9
B5: kiem | C5: kódszám | D5: Rangsor | E5: Vezetéknév | H5: Helyezés | I5: Pontszám | J5: Bónusz | T5: =IF(OR(Altalanos!$A$8="F1",Altalanos!$A$8="F2",Altalanos!$A$8="N1",Altalanos!$A$8="N2"),1,2) -> 2 | V5: III | W5: 60 | X5: 40 | Y5: 30 | Z5: 20 | AA5: 18 | AB5: 15 | AC5: 12 | AD5: 10 | AE5: 8 | AF5: 6
V6: IV | W6: 40 | X6: 25 | Y6: 18 | Z6: 13 | AA6: 10 | AB6: 8 | AC6: 6 | AD6: 5 | AE6: 4 | AF6: 3
A7: A | C7: =IF($B7="","",VLOOKUP($B7,#REF!,5)) | D7: =IF($B7="","",VLOOKUP($B7,#REF!,15)) | E7: Kovács Milán Zétény | G7: Nagyboldog | H7: 1. | I7: 4 | V7: V | W7: 25 | X7: 15 | Y7: 13 | Z7: 8 | AA7: 6 | AB7: 4 | AC7: 3 | AD7: 2 | AE7: 1 | AF7: 0
V8: VI | W8: 15 | X8: 10 | Y8: 7 | Z8: 5 | AA8: 4 | AB8: 3 | AC8: 2 | AD8: 1 | AE8: 0 | AF8: 0
A9: B | C9: =IF($B9="","",VLOOKUP($B9,#REF!,5)) | D9: =IF($B9="","",VLOOKUP($B9,#REF!,15)) | E9: Hamar Lőrinc | G9: Szent István | H9: 2. | I9: 2 | V9: VII | W9: 10 | X9: 6 | Y9: 4 | Z9: 2 | AA9: 1 | AB9: 0 | AC9: 0 | AD9: 0 | AE9: 0 | AF9: 0
V10: VIII | W10: 6 | X10: 3 | Y10: 2 | Z10: 1 | AA10: 0 | AB10: 0 | AC10: 0 | AD10: 0 | AE10: 0 | AF10: 0
A11: C | C11: =IF($B11="","",VLOOKUP($B11,#REF!,5)) | D11: =IF($B11="","",VLOOKUP($B11,#REF!,15)) | E11: Oláh Levente László | G11: Gróf Apponyi | H11: 3. | I11: 0 | V11: W | W11: 3 | X11: 2 | Y11: 1 | Z11: 0 | AA11: 0 | AB11: 0 | AC11: 0 | AD11: 0 | AE11: 0 | AF11: 0
V12: X | W12: 0 | X12: 0 | Y12: 0 | Z12: 0 | AA12: 0 | AB12: 0 | AC12: 0 | AD12: 0 | AE12: 0 | AF12: 0
V13: XI | W13: 0 | X13: 0 | Y13: 0 | Z13: 0 | AA13: 0 | AB13: 0 | AC13: 0 | AD13: 0 | AE13: 0 | AF13: 0
V16: A | W16: 300 | X16: 250 | Y16: 220 | Z16: 180 | AA16: 160 | AB16: 150 | AC16: 140 | AD16: 130 | AE16: 120 | AF16: 110
V17: I | W17: 250 | X17: 200 | Y17: 160 | Z17: 140 | AA17: 120 | AB17: 110 | AC17: 100 | AD17: 90 | AE17: 80 | AF17: 70
D18: =E7 -> Kovács Milán Zétény | F18: =E9 -> Hamar Lőrinc | G18: =E11 -> Oláh Levente László | V18: II | W18: 200 | X18: 150 | Y18: 130 | Z18: 110 | AA18: 95 | AB18: 80 | AC18: 70 | AD18: 60 | AE18: 55 | AF18: 50
A19: A | B19: =E7 -> Kovács Milán Zétény | F19: 7/2 4/7 5/1 | G19: 7/1 7/2 | V19: III | W19: 150 | X19: 120 | Y19: 100 | Z19: 80 | AA19: 70 | AB19: 60 | AC19: 55 | AD19: 50 | AE19: 45 | AF19: 40
A20: B | B20: =E9 -> Hamar Lőrinc | D20: 2/7 7/4 1/5 | G20: 7/3 7/2 | V20: IV | W20: 120 | X20: 90 | Y20: 65 | Z20: 55 | AA20: 50 | AB20: 45 | AC20: 40 | AD20: 35 | AE20: 25 | AF20: 20
A21: C | B21: =E11 -> Oláh Levente László | D21: 3/7 2/7 | F21: 3/7 2/7 | V21: V | W21: 90 | X21: 60 | Y21: 45 | Z21: 34 | AA21: 27 | AB21: 22 | AC21: 18 | AD21: 15 | AE21: 12 | AF21: 9
V22: VI | W22: 60 | X22: 40 | Y22: 30 | Z22: 20 | AA22: 18 | AB22: 15 | AC22: 12 | AD22: 10 | AE22: 8 | AF22: 6
C23: 1 FORDULÓ | D23: B - C | V23: VII | W23: 40 | X23: 25 | Y23: 18 | Z23: 13 | AA23: 8 | AB23: 7 | AC23: 6 | AD23: 5 | AE23: 4 | AF23: 3
C24: 2 FORDULÓ | D24: C - A | V24: VIII | W24: 25 | X24: 15 | Y24: 13 | Z24: 7 | AA24: 6 | AB24: 5 | AC24: 4 | AD24: 3 | AE24: 2 | AF24: 1
C25: 3 FORDULÓ | D25: A - B | V25: W | W25: 15 | X25: 10 | Y25: 8 | Z25: 4 | AA25: 3 | AB25: 2 | AC25: 1 | AD25: 0 | AE25: 0 | AF25: 0
V26: X | W26: 10 | X26: 6 | Y26: 4 | Z26: 2 | AA26: 1 | AB26: 0 | AC26: 0 | AD26: 0 | AE26: 0 | AF26: 0
V27: XI | W27: 3 | X27: 2 | Y27: 1 | Z27: 0 | AA27: 0 | AB27: 0 | AC27: 0 | AD27: 0 | AE27: 0 | AF27: 0
A33: Rangsor | D33: # | E33: Kiemeltek | H33: Sorsolás időpontja
A34: Dátuma | H34: Utolsó elfogadott játékos
A35: Utolsó DA
H36: Sorsoló játékosok
H39: Versenybíró aláírása
H41: =I4 -> Sági István

Sheet II.F.B-Döntő-4
A1: =Altalanos!$A$6 -> 2025/26. DO J-NK-SZ Vármegye | G1: Egyéni főtábla | X1: =IF($U$5=1,CONCATENATE(VLOOKUP($U$3,$W$2:$AD$14,2)),CONCATENATE(VLOOKUP($U$3,$W$16:$AD$25,2))) -> #N/A | Y1: =IF($U$5=1,CONCATENATE(VLOOKUP($U$3,$W$2:$AD$14,3)),CONCATENATE(VLOOKUP($U$3,$W$16:$AD$25,3))) -> #N/A | Z1: =IF($U$5=1,CONCATENATE(VLOOKUP($U$3,$W$2:$AD$14,4)),CONCATENATE(VLOOKUP($U$3,$W$16:$AD$25,4))) -> #N/A | AA1: =IF($U$5=1,CONCATENATE(VLOOKUP($U$3,$W$2:$AD$14,5)),CONCATENATE(VLOOKUP($U$3,$W$16:$AD$25,5))) -> #N/A | AB1: =IF($U$5=1,CONCATENATE(VLOOKUP($U$3,$W$2:$AD$14,6)),CONCATENATE(VLOOKUP($U$3,$W$16:$AD$25,6))) -> #N/A | AC1: =IF($U$5=1,CONCATENATE(VLOOKUP($U$3,$W$2:$AD$14,7)),CONCATENATE(VLOOKUP($U$3,$W$16:$AD$25,7))) -> #N/A | AD1: =IF($U$5=1,CONCATENATE(VLOOKUP($U$3,$W$2:$AD$14,8)),CONCATENATE(VLOOKUP($U$3,$W$16:$AD$25,8))) -> #N/A
A2: Versenyszám: | E2: II. F./B - Döntő | W2: A | X2: 300 | Y2: 250 | Z2: 200 | AA2: 150 | AB2: 120 | AC2: 90 | AD2: 40
A3: Dátum | G3: Kategória | N3: Versenybíró | U3: =IF(G4="OB","A",IF(G4="IX","W",IF(G4="","",G4))) | W3: B | X3: 280 | Y3: 230 | Z3: 180 | AA3: 140 | AB3: 80 | AC3: 0 | AD3: 0
A4: 46136 | N4: =Altalanos!$E$10 -> Sági István | W4: I | X4: 250 | Y4: 200 | Z4: 150 | AA4: 120 | AB4: 90 | AC4: 60 | AD4: 25
B5: St. | C5: Rangsor | D5: kód | E5: Kiem | G5: 2. forduló | I5: Döntő | K5: Győztes | U5: =IF(OR(Altalanos!$A$8="F1",Altalanos!$A$8="F2",Altalanos!$A$8="N1",Altalanos!$A$8="N2"),1,2) -> 2 | W5: II | X5: 200 | Y5: 150 | Z5: 120 | AA5: 90 | AB5: 60 | AC5: 40 | AD5: 15
G6: =IF(U3="","",CONCATENATE(VLOOKUP(U3,X1:AD1,3)," pont")) | I6: =IF(U3="","",CONCATENATE(VLOOKUP(U3,X1:AD1,2)," pont")) | K6: =IF(U3="","",CONCATENATE(VLOOKUP(U3,X1:AD1,1)," pont")) | W6: III | X6: 150 | Y6: 120 | Z6: 90 | AA6: 60 | AB6: 40 | AC6: 25 | AD6: 10
A7: 1 | B7: =IF($E7="","",VLOOKUP($E7,#REF!,14)) | C7: A. csoport győztese | Q7: =Birók!L21 -> Bíró | W7: IV | X7: 120 | Y7: 90 | Z7: 60 | AA7: 40 | AB7: 25 | AC7: 10 | AD7: 5
G8: Ábrahám Zoltán | Q8: =Birók!L22 -> I Sági | W8: V | X8: 90 | Y8: 60 | Z8: 40 | AA8: 25 | AB8: 10 | AC8: 5 | AD8: 2
A9: 2 | B9: =IF($E9="","",VLOOKUP($E9,#REF!,14)) | C9: =IF($E9="","",VLOOKUP($E9,#REF!,15)) | D9: x | Q9: =Birók!L23 | W9: VI | X9: 60 | Y9: 40 | Z9: 25 | AA9: 10 | AB9: 5 | AC9: 2 | AD9: 1
G10: Umpire | I10: Ábrahám | Q10: =Birók!L24 | W10: VII | X10: 40 | Y10: 25 | Z10: 15 | AA10: 7 | AB10: 4 | AC10: 1 | AD10: 0
A11: 3 | B11: =IF($E11="","",VLOOKUP($E11,#REF!,14)) | C11: C. csoport győztese | I11: 7/2 7/4 | Q11: =Birók!L25 | W11: VIII | X11: 25 | Y11: 15 | Z11: 10 | AA11: 6 | AB11: 3 | AC11: 1 | AD11: 0
G12: Szabó Mátyás | Q12: =Birók!L26 | W12: W | X12: 15 | Y12: 10 | Z12: 6 | AA12: 3 | AB12: 1 | AC12: 0 | AD12: 0
A13: 4 | B13: =IF($E13="","",VLOOKUP($E13,#REF!,14)) | C13: =IF($E13="","",VLOOKUP($E13,#REF!,15)) | D13: x | Q13: =Birók!L27 | W13: X | X13: 10 | Y13: 6 | Z13: 3 | AA13: 1 | AB13: 0 | AC13: 0 | AD13: 0
I14: Umpire | K14: Ábrahám | Q14: =Birók!L28 | W14: XI | X14: 3 | Y14: 2 | Z14: 1 | AA14: 0 | AB14: 0 | AC14: 0 | AD14: 0
A15: 5 | B15: =IF($E15="","",VLOOKUP($E15,#REF!,14)) | C15: B. csoport győztese | K15: 7/4 7/3 | Q15: =Birók!L29
G16: Tóth Benedek | Q16: =Birók!L30 -> Egyik sem | W16: A | X16: 150 | Y16: 120 | Z16: 90 | AA16: 60 | AB16: 40 | AC16: 25 | AD16: 15
A17: 6 | B17: =IF($E17="","",VLOOKUP($E17,#REF!,14)) | C17: =IF($E17="","",VLOOKUP($E17,#REF!,15)) | D17: x | W17: I | X17: 120 | Y17: 90 | Z17: 60 | AA17: 40 | AB17: 25 | AC17: 15 | AD17: 8
G18: Umpire | I18: Kovács | W18: II | X18: 90 | Y18: 60 | Z18: 40 | AA18: 25 | AB18: 15 | AC18: 8 | AD18: 4
A19: 7 | B19: =IF($E19="","",VLOOKUP($E19,#REF!,14)) | C19: =IF($E19="","",VLOOKUP($E19,#REF!,15)) | D19: x | I19: 7/5 7/3 | W19: III | X19: 60 | Y19: 40 | Z19: 25 | AA19: 15 | AB19: 8 | AC19: 4 | AD19: 2
G20: Kovács Milán Zétény | W20: IV | X20: 40 | Y20: 25 | Z20: 15 | AA20: 8 | AB20: 4 | AC20: 2 | AD20: 1
A21: 8 | B21: =IF($E21="","",VLOOKUP($E21,#REF!,14)) | C21: D. csoport győztese | W21: V | X21: 25 | Y21: 15 | Z21: 10 | AA21: 6 | AB21: 3 | AC21: 1 | AD21: 0
W22: VI | X22: 15 | Y22: 10 | Z22: 6 | AA22: 3 | AB22: 1 | AC22: 0 | AD22: 0
W23: VII | X23: 10 | Y23: 6 | Z23: 3 | AA23: 1 | AB23: 0 | AC23: 0 | AD23: 0
W24: VIII | X24: 6 | Y24: 3 | Z24: 1 | AA24: 0 | AB24: 0 | AC24: 0 | AD24: 0
W25: W | X25: 3 | Y25: 2 | Z25: 1 | AA25: 0 | AB25: 0 | AC25: 0 | AD25: 0
A54: Rangsor | E54: # | F54: # | G54: Szerencés Vesztes | I54: Helyettesíti | K54: Sorsolás időpontja
A55: Dátuma | E55: 1 | F55: 1 | K55: Utolsó elfogadott játékos
A56: Utolsó DA | E56: 2 | F56: 2
F57: 3 | K57: Sorsoló játékosok
F58: 4
F59: 5
F60: 6 | K60: Versenybíró aláírása
F61: 7
F62: 8 | K62: =N4 -> Sági István | N62: =MIN(4,#REF!) -> #REF!

Sheet II.L.B-D-3
A1: 2025/26. DO J-NK-SZ Vármegye | W1: =IF(T5=1,CONCATENATE(VLOOKUP(T3,V16:AC26,2)),CONCATENATE(VLOOKUP(T3,V2:AF13,2))) -> #REF! | X1: =IF(T5=1,CONCATENATE(VLOOKUP(T3,V16:AF26,3)),CONCATENATE(VLOOKUP(T3,V2:AF13,3))) -> #REF! | Y1: =IF(T5=1,CONCATENATE(VLOOKUP(T3,V16:AF26,4)),CONCATENATE(VLOOKUP(T3,V2:AF13,4))) -> #REF! | Z1: =IF(T5=1,CONCATENATE(VLOOKUP(T3,V16:AF26,5)),CONCATENATE(VLOOKUP(T3,V2:AF13,5))) -> #REF! | AA1: =IF(T5=1,CONCATENATE(VLOOKUP(T3,V16:AF26,6)),CONCATENATE(VLOOKUP(T3,V2:AF13,6))) -> #REF! | AB1: =IF(T5=1,CONCATENATE(VLOOKUP(T3,V16:AF26,7)),CONCATENATE(VLOOKUP(T3,V2:AF13,7))) -> #REF! | AC1: =IF(T5=1,CONCATENATE(VLOOKUP(T3,V16:AF26,8)),CONCATENATE(VLOOKUP(T3,V2:AF13,8))) -> #REF! | AD1: =IF(T5=1,CONCATENATE(VLOOKUP(T3,V16:AF26,9)),CONCATENATE(VLOOKUP(T3,V2:AF13,9))) -> #REF! | AE1: =IF(T5=1,CONCATENATE(VLOOKUP(T3,V16:AF26,10)),CONCATENATE(VLOOKUP(T3,V2:AF13,10))) -> #REF! | AF1: =IF(T5=1,CONCATENATE(VLOOKUP(T3,V16:AF26,11)),CONCATENATE(VLOOKUP(T3,V2:AF13,11))) -> #REF!
A2: Versenyszám: | E2: II. L./B - Döntő | V2: A | W2: 150 | X2: 120 | Y2: 100 | Z2: 80 | AA2: 70 | AB2: 60 | AC2: 55 | AD2: 50 | AE2: 45 | AF2: 40
A3: Dátum | E3: Város | I3: Versenybíró | T3: =IF(#REF!="OB","A",IF(#REF!="IX","W",#REF!)) -> #REF! | V3: I | W3: 120 | X3: 90 | Y3: 65 | Z3: 55 | AA3: 50 | AB3: 45 | AC3: 40 | AD3: 35 | AE3: 25 | AF3: 20
A4: 46135 | E4: =Altalanos!$C$10 -> Jászberény | I4: =Altalanos!$E$10 -> Sági István | V4: II | W4: 90 | X4: 60 | Y4: 45 | Z4: 34 | AA4: 27 | AB4: 22 | AC4: 18 | AD4: 15 | AE4: 12 | AF4: 9
B5: kiem | C5: kódszám | D5: Rangsor | E5: Vezetéknév | H5: Helyezés | I5: Pontszám | J5: Bónusz | T5: =IF(OR(Altalanos!$A$8="F1",Altalanos!$A$8="F2",Altalanos!$A$8="N1",Altalanos!$A$8="N2"),1,2) -> 2 | V5: III | W5: 60 | X5: 40 | Y5: 30 | Z5: 20 | AA5: 18 | AB5: 15 | AC5: 12 | AD5: 10 | AE5: 8 | AF5: 6
V6: IV | W6: 40 | X6: 25 | Y6: 18 | Z6: 13 | AA6: 10 | AB6: 8 | AC6: 6 | AD6: 5 | AE6: 4 | AF6: 3
A7: A | C7: =IF($B7="","",VLOOKUP($B7,#REF!,5)) | D7: =IF($B7="","",VLOOKUP($B7,#REF!,15)) | E7: Szőke Emma | G7: Jb Nagyboldog | H7: 1. | I7: 4 | V7: V | W7: 25 | X7: 15 | Y7: 13 | Z7: 8 | AA7: 6 | AB7: 4 | AC7: 3 | AD7: 2 | AE7: 1 | AF7: 0
V8: VI | W8: 15 | X8: 10 | Y8: 7 | Z8: 5 | AA8: 4 | AB8: 3 | AC8: 2 | AD8: 1 | AE8: 0 | AF8: 0
A9: B | C9: =IF($B9="","",VLOOKUP($B9,#REF!,5)) | D9: =IF($B9="","",VLOOKUP($B9,#REF!,15)) | E9: Holczer Hanna | G9: Jb Nagyboldog | H9: 2. | I9: 2 | V9: VII | W9: 10 | X9: 6 | Y9: 4 | Z9: 2 | AA9: 1 | AB9: 0 | AC9: 0 | AD9: 0 | AE9: 0 | AF9: 0
V10: VIII | W10: 6 | X10: 3 | Y10: 2 | Z10: 1 | AA10: 0 | AB10: 0 | AC10: 0 | AD10: 0 | AE10: 0 | AF10: 0
A11: C | C11: =IF($B11="","",VLOOKUP($B11,#REF!,5)) | D11: =IF($B11="","",VLOOKUP($B11,#REF!,15)) | E11: Bojtos Zsuzsanna | G11: Szent István | H11: 3. | I11: 0 | V11: W | W11: 3 | X11: 2 | Y11: 1 | Z11: 0 | AA11: 0 | AB11: 0 | AC11: 0 | AD11: 0 | AE11: 0 | AF11: 0
V12: X | W12: 0 | X12: 0 | Y12: 0 | Z12: 0 | AA12: 0 | AB12: 0 | AC12: 0 | AD12: 0 | AE12: 0 | AF12: 0
V13: XI | W13: 0 | X13: 0 | Y13: 0 | Z13: 0 | AA13: 0 | AB13: 0 | AC13: 0 | AD13: 0 | AE13: 0 | AF13: 0
V16: A | W16: 300 | X16: 250 | Y16: 220 | Z16: 180 | AA16: 160 | AB16: 150 | AC16: 140 | AD16: 130 | AE16: 120 | AF16: 110
V17: I | W17: 250 | X17: 200 | Y17: 160 | Z17: 140 | AA17: 120 | AB17: 110 | AC17: 100 | AD17: 90 | AE17: 80 | AF17: 70
D18: =E7 -> Szőke Emma | F18: =E9 -> Holczer Hanna | G18: =E11 -> Bojtos Zsuzsanna | V18: II | W18: 200 | X18: 150 | Y18: 130 | Z18: 110 | AA18: 95 | AB18: 80 | AC18: 70 | AD18: 60 | AE18: 55 | AF18: 50
A19: A | B19: =E7 -> Szőke Emma | F19: 7/3 7/2 | G19: 7/3 7/4 | V19: III | W19: 150 | X19: 120 | Y19: 100 | Z19: 80 | AA19: 70 | AB19: 60 | AC19: 55 | AD19: 50 | AE19: 45 | AF19: 40
A20: B | B20: =E9 -> Holczer Hanna | D20: 3/7 2/7 | G20: 7/3 7/2 | V20: IV | W20: 120 | X20: 90 | Y20: 65 | Z20: 55 | AA20: 50 | AB20: 45 | AC20: 40 | AD20: 35 | AE20: 25 | AF20: 20
A21: C | B21: =E11 -> Bojtos Zsuzsanna | D21: 3/7 4/7 | F21: 3/7 2/7 | V21: V | W21: 90 | X21: 60 | Y21: 45 | Z21: 34 | AA21: 27 | AB21: 22 | AC21: 18 | AD21: 15 | AE21: 12 | AF21: 9
V22: VI | W22: 60 | X22: 40 | Y22: 30 | Z22: 20 | AA22: 18 | AB22: 15 | AC22: 12 | AD22: 10 | AE22: 8 | AF22: 6
C23: 1 FORDULÓ | D23: B - C | V23: VII | W23: 40 | X23: 25 | Y23: 18 | Z23: 13 | AA23: 8 | AB23: 7 | AC23: 6 | AD23: 5 | AE23: 4 | AF23: 3
C24: 2 FORDULÓ | D24: C - A | V24: VIII | W24: 25 | X24: 15 | Y24: 13 | Z24: 7 | AA24: 6 | AB24: 5 | AC24: 4 | AD24: 3 | AE24: 2 | AF24: 1
C25: 3 FORDULÓ | D25: A - B | V25: W | W25: 15 | X25: 10 | Y25: 8 | Z25: 4 | AA25: 3 | AB25: 2 | AC25: 1 | AD25: 0 | AE25: 0 | AF25: 0
V26: X | W26: 10 | X26: 6 | Y26: 4 | Z26: 2 | AA26: 1 | AB26: 0 | AC26: 0 | AD26: 0 | AE26: 0 | AF26: 0
A31: Rangsor | D31: # | E31: Kiemeltek | H31: Sorsolás időpontja
A32: Dátuma | H32: Utolsó elfogadott játékos
A33: Utolsó DA
H34: Sorsoló játékosok
H37: Versenybíró aláírása
H39: =I4 -> Sági István

Sheet III.F.B-A.csop.
