Workbook

Sheet Altalanos
A1: Magyar verseny táblakészítő
A2: Ezt az oldalt soha ne töröld le !!!
A4: Töltsd ki a zöld mezőket!
A5: A verseny neve:
A6: 2026 Budapesti Diákolimpia
A7: Versenyszám 1 | B7: Versenyszám 2 | C7: Versenyszám 3 | D7: Versenyszám 4 | E7: Versenyszám 5
A9: A verseny dátuma (éééé.hh.nn) | C9: Város | E9: Versenybíró:
A10: 2026.04.27-30. | C10: Budapest | E10: Kádár László István
C11: Orvos neve: | D11: Verseny rendezője: | E11: Versenyigazgató

Sheet I.lány B
A1: =[2]Altalanos!$A$6 -> #REF! | H1: Egyéni főtábla | AB1: =IF(Y5=1,CONCATENATE(VLOOKUP(Y3,AA16:AH27,2)),CONCATENATE(VLOOKUP(Y3,AA2:AK13,2))) -> #REF! | AC1: =IF(Y5=1,CONCATENATE(VLOOKUP(Y3,AA16:AK27,3)),CONCATENATE(VLOOKUP(Y3,AA2:AK13,3))) -> #REF! | AD1: =IF(Y5=1,CONCATENATE(VLOOKUP(Y3,AA16:AK27,4)),CONCATENATE(VLOOKUP(Y3,AA2:AK13,4))) -> #REF! | AE1: =IF(Y5=1,CONCATENATE(VLOOKUP(Y3,AA16:AK27,5)),CONCATENATE(VLOOKUP(Y3,AA2:AK13,5))) -> #REF! | AF1: =IF(Y5=1,CONCATENATE(VLOOKUP(Y3,AA16:AK27,6)),CONCATENATE(VLOOKUP(Y3,AA2:AK13,6))) -> #REF! | AG1: =IF(Y5=1,CONCATENATE(VLOOKUP(Y3,AA16:AK27,7)),CONCATENATE(VLOOKUP(Y3,AA2:AK13,7))) -> #REF! | AH1: =IF(Y5=1,CONCATENATE(VLOOKUP(Y3,AA16:AK27,8)),CONCATENATE(VLOOKUP(Y3,AA2:AK13,8))) -> #REF! | AI1: =IF(Y5=1,CONCATENATE(VLOOKUP(Y3,AA16:AK27,9)),CONCATENATE(VLOOKUP(Y3,AA2:AK13,9))) -> #REF! | AJ1: =IF(Y5=1,CONCATENATE(VLOOKUP(Y3,AA16:AK27,10)),CONCATENATE(VLOOKUP(Y3,AA2:AK13,10))) -> #REF! | AK1: =IF(Y5=1,CONCATENATE(VLOOKUP(Y3,AA16:AK27,11)),CONCATENATE(VLOOKUP(Y3,AA2:AK13,11))) -> #REF!
A2: Versenyszám: | E2: I.kcs Lány ''B'' | AA2: A | AB2: 150 | AC2: 120 | AD2: 100 | AE2: 80 | AF2: 70 | AG2: 60 | AH2: 55 | AI2: 50 | AJ2: 45 | AK2: 40
A3: Dátum | E3: Város | H3: Kategória | L3: Versenybíró | Q3: 1 FORDULÓ | R3: B - C | Y3: =IF(H4="OB","A",IF(H4="IX","W",H4)) -> 0 | AA3: I | AB3: 120 | AC3: 90 | AD3: 65 | AE3: 55 | AF3: 50 | AG3: 45 | AH3: 40 | AI3: 35 | AJ3: 25 | AK3: 20
A4: =[2]Altalanos!$A$10 -> #REF! | E4: =[2]Altalanos!$C$10 -> #REF! | L4: =[2]Altalanos!$E$10 -> #REF! | Q4: 2 FORDULÓ | R4: C - A | AA4: II | AB4: 90 | AC4: 60 | AD4: 45 | AE4: 34 | AF4: 27 | AG4: 22 | AH4: 18 | AI4: 15 | AJ4: 12 | AK4: 9
B5: kiem | C5: kódszám | D5: Rangsor | E5: Vezetéknév | G5: Keresztnév | I5: Egyesület | K5: Helyezés | L5: Pontszám | M5: Bónusz | Q5: 3 FORDULÓ | R5: A - B | Y5: =IF(OR([2]Altalanos!$A$8="F1",[2]Altalanos!$A$8="F2",[2]Altalanos!$A$8="N1",[2]Altalanos!$A$8="N2"),1,2) -> #REF! | AA5: III | AB5: 60 | AC5: 40 | AD5: 30 | AE5: 20 | AF5: 18 | AG5: 15 | AH5: 12 | AI5: 10 | AJ5: 8 | AK5: 6
AA6: IV | AB6: 40 | AC6: 25 | AD6: 18 | AE6: 13 | AF6: 10 | AG6: 8 | AH6: 6 | AI6: 5 | AJ6: 4 | AK6: 3
A7: A | E7: Biener | G7: Eliza | K7: I | AA7: V | AB7: 25 | AC7: 15 | AD7: 13 | AE7: 8 | AF7: 6 | AG7: 4 | AH7: 3 | AI7: 2 | AJ7: 1 | AK7: 0
AA8: VI | AB8: 15 | AC8: 10 | AD8: 7 | AE8: 5 | AF8: 4 | AG8: 3 | AH8: 2 | AI8: 1 | AJ8: 0 | AK8: 0
A9: B | E9: Pozsa | G9: Enikő | L9: =IF(K9="","",CONCATENATE(VLOOKUP($Y$3,$AB$1:$AK$1,K9)," pont")) | AA9: VII | AB9: 10 | AC9: 6 | AD9: 4 | AE9: 2 | AF9: 1 | AG9: 0 | AH9: 0 | AI9: 0 | AJ9: 0 | AK9: 0
AA10: VIII | AB10: 6 | AC10: 3 | AD10: 2 | AE10: 1 | AF10: 0 | AG10: 0 | AH10: 0 | AI10: 0 | AJ10: 0 | AK10: 0
A11: C | E11: Pálfalvi | G11: Dalma | L11: =IF(K11="","",CONCATENATE(VLOOKUP($Y$3,$AB$1:$AK$1,K11)," pont")) | AA11: W | AB11: 3 | AC11: 2 | AD11: 1 | AE11: 0 | AF11: 0 | AG11: 0 | AH11: 0 | AI11: 0 | AJ11: 0 | AK11: 0
AA12: X | AB12: 0 | AC12: 0 | AD12: 0 | AE12: 0 | AF12: 0 | AG12: 0 | AH12: 0 | AI12: 0 | AJ12: 0 | AK12: 0
AA13: XI | AB13: 0 | AC13: 0 | AD13: 0 | AE13: 0 | AF13: 0 | AG13: 0 | AH13: 0 | AI13: 0 | AJ13: 0 | AK13: 0
AA16: A | AB16: 300 | AC16: 250 | AD16: 220 | AE16: 180 | AF16: 160 | AG16: 150 | AH16: 140 | AI16: 130 | AJ16: 120 | AK16: 110
AA17: I | AB17: 250 | AC17: 200 | AD17: 160 | AE17: 140 | AF17: 120 | AG17: 110 | AH17: 100 | AI17: 90 | AJ17: 80 | AK17: 70
D18: Biener | F18: Pozsa | H18: Pálfalvi | AA18: II | AB18: 200 | AC18: 150 | AD18: 130 | AE18: 110 | AF18: 95 | AG18: 80 | AH18: 70 | AI18: 60 | AJ18: 55 | AK18: 50
A19: A | B19: Biener | F19: jn ny | H19: jn ny | AA19: III | AB19: 150 | AC19: 120 | AD19: 100 | AE19: 80 | AF19: 70 | AG19: 60 | AH19: 55 | AI19: 50 | AJ19: 45 | AK19: 40
A20: B | B20: Pozsa | D20: jn v | AA20: IV | AB20: 120 | AC20: 90 | AD20: 65 | AE20: 55 | AF20: 50 | AG20: 45 | AH20: 40 | AI20: 35 | AJ20: 25 | AK20: 20
A21: C | B21: Pálfalvi | D21: jn v | AA21: V | AB21: 90 | AC21: 60 | AD21: 45 | AE21: 34 | AF21: 27 | AG21: 22 | AH21: 18 | AI21: 15 | AJ21: 12 | AK21: 9
AA22: VI | AB22: 60 | AC22: 40 | AD22: 30 | AE22: 20 | AF22: 18 | AG22: 15 | AH22: 12 | AI22: 10 | AJ22: 8 | AK22: 6
AA23: VII | AB23: 40 | AC23: 25 | AD23: 18 | AE23: 13 | AF23: 8 | AG23: 7 | AH23: 6 | AI23: 5 | AJ23: 4 | AK23: 3
AA24: VIII | AB24: 25 | AC24: 15 | AD24: 13 | AE24: 7 | AF24: 6 | AG24: 5 | AH24: 4 | AI24: 3 | AJ24: 2 | AK24: 1
AA25: W | AB25: 15 | AC25: 10 | AD25: 8 | AE25: 4 | AF25: 3 | AG25: 2 | AH25: 1 | AI25: 0 | AJ25: 0 | AK25: 0
AA26: X | AB26: 10 | AC26: 6 | AD26: 4 | AE26: 2 | AF26: 1 | AG26: 0 | AH26: 0 | AI26: 0 | AJ26: 0 | AK26: 0
AA27: XI | AB27: 3 | AC27: 2 | AD27: 1 | AE27: 0 | AF27: 0 | AG27: 0 | AH27: 0 | AI27: 0 | AJ27: 0 | AK27: 0
A33: Rangsor | D33: # | E33: Kiemeltek | G33: # | H33: Szerencés Vesztes | J33: Helyettesíti | K33: Sorsolás időpontja
A34: Dátuma | G34: 1 | K34: Utolsó elfogadott játékos
A35: Utolsó DA | G35: 2
G36: 3 | K36: Sorsoló játékosok
G37: 4
G38: 5
G39: 6 | K39: Versenybíró aláírása
G40: 7
G41: 8 | K41: =L4 -> #REF!

Sheet II.fiú A
A1: 2026 Budapesti Diákolimpia | H1: Egyéni főtábla | AB1: =IF(Y5=1,CONCATENATE(VLOOKUP(Y3,AA16:AH27,2)),CONCATENATE(VLOOKUP(Y3,AA2:AK13,2))) -> #REF! | AC1: =IF(Y5=1,CONCATENATE(VLOOKUP(Y3,AA16:AK27,3)),CONCATENATE(VLOOKUP(Y3,AA2:AK13,3))) -> #REF! | AD1: =IF(Y5=1,CONCATENATE(VLOOKUP(Y3,AA16:AK27,4)),CONCATENATE(VLOOKUP(Y3,AA2:AK13,4))) -> #REF! | AE1: =IF(Y5=1,CONCATENATE(VLOOKUP(Y3,AA16:AK27,5)),CONCATENATE(VLOOKUP(Y3,AA2:AK13,5))) -> #REF! | AF1: =IF(Y5=1,CONCATENATE(VLOOKUP(Y3,AA16:AK27,6)),CONCATENATE(VLOOKUP(Y3,AA2:AK13,6))) -> #REF! | AG1: =IF(Y5=1,CONCATENATE(VLOOKUP(Y3,AA16:AK27,7)),CONCATENATE(VLOOKUP(Y3,AA2:AK13,7))) -> #REF! | AH1: =IF(Y5=1,CONCATENATE(VLOOKUP(Y3,AA16:AK27,8)),CONCATENATE(VLOOKUP(Y3,AA2:AK13,8))) -> #REF! | AI1: =IF(Y5=1,CONCATENATE(VLOOKUP(Y3,AA16:AK27,9)),CONCATENATE(VLOOKUP(Y3,AA2:AK13,9))) -> #REF! | AJ1: =IF(Y5=1,CONCATENATE(VLOOKUP(Y3,AA16:AK27,10)),CONCATENATE(VLOOKUP(Y3,AA2:AK13,10))) -> #REF! | AK1: =IF(Y5=1,CONCATENATE(VLOOKUP(Y3,AA16:AK27,11)),CONCATENATE(VLOOKUP(Y3,AA2:AK13,11))) -> #REF!
A2: Versenyszám: | E2: II.kcs fiú A | AA2: A | AB2: 150 | AC2: 120 | AD2: 100 | AE2: 80 | AF2: 70 | AG2: 60 | AH2: 55 | AI2: 50 | AJ2: 45 | AK2: 40
A3: Dátum | E3: Város | H3: Kategória | L3: Versenybíró | Y3: =IF(H4="OB","A",IF(H4="IX","W",H4)) -> 0 | AA3: I | AB3: 120 | AC3: 90 | AD3: 65 | AE3: 55 | AF3: 50 | AG3: 45 | AH3: 40 | AI3: 35 | AJ3: 25 | AK3: 20
A4: 2026.04.27-30. | E4: Budapest | L4: Kádár László István | AA4: II | AB4: 90 | AC4: 60 | AD4: 45 | AE4: 34 | AF4: 27 | AG4: 22 | AH4: 18 | AI4: 15 | AJ4: 12 | AK4: 9
B5: kiem | C5: kódszám | D5: Rangsor | E5: Vezetéknév | G5: Keresztnév | I5: Egyesület | K5: Helyezés | L5: Pontszám | M5: Bónusz | O5: 1 FORDULÓ | P5: B - C | R5: 1 FORDULÓ | S5: E - F | Y5: =IF(OR([2]Altalanos!$A$8="F1",[2]Altalanos!$A$8="F2",[2]Altalanos!$A$8="N1",[2]Altalanos!$A$8="N2"),1,2) -> #REF! | AA5: III | AB5: 60 | AC5: 40 | AD5: 30 | AE5: 20 | AF5: 18 | AG5: 15 | AH5: 12 | AI5: 10 | AJ5: 8 | AK5: 6
O6: 2 FORDULÓ | P6: C - A | R6: 2 FORDULÓ | S6: F - D | AA6: IV | AB6: 40 | AC6: 25 | AD6: 18 | AE6: 13 | AF6: 10 | AG6: 8 | AH6: 6 | AI6: 5 | AJ6: 4 | AK6: 3
A7: A | B7: 2 | C7: 0 | D7: 0 | E7: FAZAKAS-BAFFI MILÁN | G7: 0 | I7: 0 | K7: III | O7: 3 FORDULÓ | P7: A - B | R7: 3 FORDULÓ | S7: D - E | AA7: V | AB7: 25 | AC7: 15 | AD7: 13 | AE7: 8 | AF7: 6 | AG7: 4 | AH7: 3 | AI7: 2 | AJ7: 1 | AK7: 0
AA8: VI | AB8: 15 | AC8: 10 | AD8: 7 | AE8: 5 | AF8: 4 | AG8: 3 | AH8: 2 | AI8: 1 | AJ8: 0 | AK8: 0
A9: B | B9: 5 | C9: 0 | D9: 0 | E9: SZENTKIRÁLYI-TÓTH HUNOR | G9: 0 | I9: 0 | AA9: VII | AB9: 10 | AC9: 6 | AD9: 4 | AE9: 2 | AF9: 1 | AG9: 0 | AH9: 0 | AI9: 0 | AJ9: 0 | AK9: 0
AA10: VIII | AB10: 6 | AC10: 3 | AD10: 2 | AE10: 1 | AF10: 0 | AG10: 0 | AH10: 0 | AI10: 0 | AJ10: 0 | AK10: 0
A11: C | B11: 1 | C11: 0 | D11: 0 | E11: PÉTER SZILÁRD | G11: 0 | I11: 0 | K11: I | AA11: W | AB11: 3 | AC11: 2 | AD11: 1 | AE11: 0 | AF11: 0 | AG11: 0 | AH11: 0 | AI11: 0 | AJ11: 0 | AK11: 0
AA12: X | AB12: 0 | AC12: 0 | AD12: 0 | AE12: 0 | AF12: 0 | AG12: 0 | AH12: 0 | AI12: 0 | AJ12: 0 | AK12: 0
A13: D | B13: 3 | C13: 0 | D13: 0 | E13: BARTHA BENCE ATTILA | G13: 0 | I13: 0 | K13: II | AA13: XI | AB13: 0 | AC13: 0 | AD13: 0 | AE13: 0 | AF13: 0 | AG13: 0 | AH13: 0 | AI13: 0 | AJ13: 0 | AK13: 0
A15: E | B15: 6 | C15: 0 | D15: 0 | E15: BAUER NIMRÓD | G15: 0 | I15: 0
AA16: A | AB16: 300 | AC16: 250 | AD16: 220 | AE16: 180 | AF16: 160 | AG16: 150 | AH16: 140 | AI16: 130 | AJ16: 120 | AK16: 110
A17: F | B17: 4 | C17: 0 | D17: 0 | E17: KALUHA MÁTÉ | G17: 0 | I17: 0 | AA17: I | AB17: 250 | AC17: 200 | AD17: 160 | AE17: 140 | AF17: 120 | AG17: 110 | AH17: 100 | AI17: 90 | AJ17: 80 | AK17: 70
AA18: II | AB18: 200 | AC18: 150 | AD18: 130 | AE18: 110 | AF18: 95 | AG18: 80 | AH18: 70 | AI18: 60 | AJ18: 55 | AK18: 50
AA19: III | AB19: 150 | AC19: 120 | AD19: 100 | AE19: 80 | AF19: 70 | AG19: 60 | AH19: 55 | AI19: 50 | AJ19: 45 | AK19: 40
AA20: IV | AB20: 120 | AC20: 90 | AD20: 65 | AE20: 55 | AF20: 50 | AG20: 45 | AH20: 40 | AI20: 35 | AJ20: 25 | AK20: 20
AA21: V | AB21: 90 | AC21: 60 | AD21: 45 | AE21: 34 | AF21: 27 | AG21: 22 | AH21: 18 | AI21: 15 | AJ21: 12 | AK21: 9
D22: FAZAKAS-BAFFI MILÁN | F22: SZENTKIRÁLYI-TÓTH HUNOR | H22: PÉTER SZILÁRD | M22: Helyezés | AA22: VI | AB22: 60 | AC22: 40 | AD22: 30 | AE22: 20 | AF22: 18 | AG22: 15 | AH22: 12 | AI22: 10 | AJ22: 8 | AK22: 6
A23: A | B23: FAZAKAS-BAFFI MILÁN | F23: jn ny | H23: 2/7 3/7 | M23: 2 | AA23: VII | AB23: 40 | AC23: 25 | AD23: 18 | AE23: 13 | AF23: 8 | AG23: 7 | AH23: 6 | AI23: 5 | AJ23: 4 | AK23: 3
A24: B | B24: SZENTKIRÁLYI-TÓTH HUNOR | D24: jn v | H24: 7/5 1/7 4/5 | AA24: VIII | AB24: 25 | AC24: 15 | AD24: 13 | AE24: 7 | AF24: 6 | AG24: 5 | AH24: 4 | AI24: 3 | AJ24: 2 | AK24: 1
A25: C | B25: PÉTER SZILÁRD | D25: 7/2 7/3 | F25: 5/7 7/1 5/4 | M25: 1 | AA25: W | AB25: 15 | AC25: 10 | AD25: 8 | AE25: 4 | AF25: 3 | AG25: 2 | AH25: 1 | AI25: 0 | AJ25: 0 | AK25: 0
AA26: X | AB26: 10 | AC26: 6 | AD26: 4 | AE26: 2 | AF26: 1 | AG26: 0 | AH26: 0 | AI26: 0 | AJ26: 0 | AK26: 0
D27: BARTHA BENCE ATTILA | F27: BAUER NIMRÓD | H27: KALUHA MÁTÉ | AA27: XI | AB27: 3 | AC27: 2 | AD27: 1 | AE27: 0 | AF27: 0 | AG27: 0 | AH27: 0 | AI27: 0 | AJ27: 0 | AK27: 0
A28: D | B28: BARTHA BENCE ATTILA | F28: jn ny | H28: 7/3 8/6 | M28: 1
A29: E | B29: BAUER NIMRÓD | D29: jn v | H29: jn v
A30: F | B30: KALUHA MÁTÉ | D30: 3/7 6/8 | F30: jn ny | M30: 2
A32: Döntő | C32: =IF(M23=1,B23,IF(M24=1,B24,IF(M25=1,B25,""))) -> PÉTER SZILÁRD | E32: vs. | F32: =IF(M28=1,B28,IF(M29=1,B29,IF(M30=1,B30,""))) -> BARTHA BENCE ATTILA | I32: 7/2 7/5
A34: 3. hely | C34: =IF(M23=2,B23,IF(M24=2,B24,IF(M25=2,B25,""))) -> FAZAKAS-BAFFI MILÁN | E34: vs. | F34: =IF(M28=2,B28,IF(M29=2,B29,IF(M30=2,B30,""))) -> KALUHA MÁTÉ | I34: 7/4 7/4
A36: 5. hely | C36: =IF(M23=3,B23,IF(M24=3,B24,IF(M25=3,B25,""))) | E36: vs. | F36: =IF(M28=3,B28,IF(M29=3,B29,IF(M30=3,B30,"")))
A39: Rangsor | D39: # | E39: Kiemeltek | G39: # | H39: Szerencés Vesztes | J39: Helyettesíti | K39: Sorsolás időpontja
A40: Dátuma | D40: 1 | E40: =IF(D40>$R$47,,UPPER(VLOOKUP(D40,'[2]1MD ELO (3)'!$A$7:$Q$134,2))) -> #REF! | G40: 1 | K40: Utolsó elfogadott játékos
A41: Utolsó DA | D41: 2 | E41: =IF(D41>$R$47,,UPPER(VLOOKUP(D41,'[2]1MD ELO (3)'!$A$7:$Q$134,2))) -> #REF! | G41: 2
G42: 3 | K42: Sorsoló játékosok
G43: 4
G44: 5
G45: 6 | K45: Versenybíró aláírása
G46: 7
G47: 8 | K47: =L4 -> Kádár László István | R47: =MIN(4,'[2]1MD ELO (3)'!Q5) -> #REF!

Sheet II.kcs fiú B1
A1: 2026 Budapesti Diákolimpia | H1: Egyéni főtábla | AB1: =IF(Y5=1,CONCATENATE(VLOOKUP(Y3,AA16:AH27,2)),CONCATENATE(VLOOKUP(Y3,AA2:AK13,2))) -> #REF! | AC1: =IF(Y5=1,CONCATENATE(VLOOKUP(Y3,AA16:AK27,3)),CONCATENATE(VLOOKUP(Y3,AA2:AK13,3))) -> #REF! | AD1: =IF(Y5=1,CONCATENATE(VLOOKUP(Y3,AA16:AK27,4)),CONCATENATE(VLOOKUP(Y3,AA2:AK13,4))) -> #REF! | AE1: =IF(Y5=1,CONCATENATE(VLOOKUP(Y3,AA16:AK27,5)),CONCATENATE(VLOOKUP(Y3,AA2:AK13,5))) -> #REF! | AF1: =IF(Y5=1,CONCATENATE(VLOOKUP(Y3,AA16:AK27,6)),CONCATENATE(VLOOKUP(Y3,AA2:AK13,6))) -> #REF! | AG1: =IF(Y5=1,CONCATENATE(VLOOKUP(Y3,AA16:AK27,7)),CONCATENATE(VLOOKUP(Y3,AA2:AK13,7))) -> #REF! | AH1: =IF(Y5=1,CONCATENATE(VLOOKUP(Y3,AA16:AK27,8)),CONCATENATE(VLOOKUP(Y3,AA2:AK13,8))) -> #REF! | AI1: =IF(Y5=1,CONCATENATE(VLOOKUP(Y3,AA16:AK27,9)),CONCATENATE(VLOOKUP(Y3,AA2:AK13,9))) -> #REF! | AJ1: =IF(Y5=1,CONCATENATE(VLOOKUP(Y3,AA16:AK27,10)),CONCATENATE(VLOOKUP(Y3,AA2:AK13,10))) -> #REF! | AK1: =IF(Y5=1,CONCATENATE(VLOOKUP(Y3,AA16:AK27,11)),CONCATENATE(VLOOKUP(Y3,AA2:AK13,11))) -> #REF!
A2: Versenyszám: | E2: II.kcs.fiú B | AA2: A | AB2: 150 | AC2: 120 | AD2: 100 | AE2: 80 | AF2: 70 | AG2: 60 | AH2: 55 | AI2: 50 | AJ2: 45 | AK2: 40
A3: Dátum | E3: Város | H3: Kategória | M3: Versenybíró | Q3: 1 FORDULÓ | R3: B - C | S3: A -D | Y3: =IF(H4="OB","A",IF(H4="IX","W",H4)) -> 0 | AA3: I | AB3: 120 | AC3: 90 | AD3: 65 | AE3: 55 | AF3: 50 | AG3: 45 | AH3: 40 | AI3: 35 | AJ3: 25 | AK3: 20
A4: 2026.04.27-30. | E4: Budapest | M4: =[2]Altalanos!$E$10 -> #REF! | Q4: 2 FORDULÓ | R4: C - A | S4: D - B | AA4: II | AB4: 90 | AC4: 60 | AD4: 45 | AE4: 34 | AF4: 27 | AG4: 22 | AH4: 18 | AI4: 15 | AJ4: 12 | AK4: 9
B5: kiem | C5: kódszám | D5: Rangsor | E5: Vezetéknév | G5: Keresztnév | I5: Egyesület | K5: Helyezés | L5: Pontszám | M5: Bónusz | Q5: 3 FORDULÓ | R5: A - B | S5: C - D | Y5: =IF(OR([2]Altalanos!$A$8="F1",[2]Altalanos!$A$8="F2",[2]Altalanos!$A$8="N1",[2]Altalanos!$A$8="N2"),1,2) -> #REF! | AA5: III | AB5: 60 | AC5: 40 | AD5: 30 | AE5: 20 | AF5: 18 | AG5: 15 | AH5: 12 | AI5: 10 | AJ5: 8 | AK5: 6
AA6: IV | AB6: 40 | AC6: 25 | AD6: 18 | AE6: 13 | AF6: 10 | AG6: 8 | AH6: 6 | AI6: 5 | AJ6: 4 | AK6: 3
A7: A | B7: 2 | C7: 0 | D7: 0 | E7: NAGY KISERŐS DÁVID LÓRÁNT | G7: 0 | I7: 0 | L7: =IF(K7="","",CONCATENATE(VLOOKUP($Y$3,$AB$1:$AK$1,K7)," pont")) | AA7: V | AB7: 25 | AC7: 15 | AD7: 13 | AE7: 8 | AF7: 6 | AG7: 4 | AH7: 3 | AI7: 2 | AJ7: 1 | AK7: 0
AA8: VI | AB8: 15 | AC8: 10 | AD8: 7 | AE8: 5 | AF8: 4 | AG8: 3 | AH8: 2 | AI8: 1 | AJ8: 0 | AK8: 0
A9: B | B9: 1 | C9: 0 | D9: 0 | E9: VITÁLYOS BÁLINT ANDRÁS | G9: 0 | I9: 0 | L9: =IF(K9="","",CONCATENATE(VLOOKUP($Y$3,$AB$1:$AK$1,K9)," pont")) | AA9: VII | AB9: 10 | AC9: 6 | AD9: 4 | AE9: 2 | AF9: 1 | AG9: 0 | AH9: 0 | AI9: 0 | AJ9: 0 | AK9: 0
AA10: VIII | AB10: 6 | AC10: 3 | AD10: 2 | AE10: 1 | AF10: 0 | AG10: 0 | AH10: 0 | AI10: 0 | AJ10: 0 | AK10: 0
A11: C | B11: 4 | C11: 0 | D11: 0 | E11: KISS DOMINIK GÁBOR | G11: 0 | I11: 0 | K11: 1 | AA11: W | AB11: 3 | AC11: 2 | AD11: 1 | AE11: 0 | AF11: 0 | AG11: 0 | AH11: 0 | AI11: 0 | AJ11: 0 | AK11: 0
AA12: X | AB12: 0 | AC12: 0 | AD12: 0 | AE12: 0 | AF12: 0 | AG12: 0 | AH12: 0 | AI12: 0 | AJ12: 0 | AK12: 0
A13: D | B13: 6 | C13: 0 | D13: 0 | E13: PÁLFALVI VENCEL TIHAMÉR | G13: 0 | I13: 0 | L13: =IF(K13="","",CONCATENATE(VLOOKUP($Y$3,$AB$1:$AK$1,K13)," pont")) | AA13: XI | AB13: 0 | AC13: 0 | AD13: 0 | AE13: 0 | AF13: 0 | AG13: 0 | AH13: 0 | AI13: 0 | AJ13: 0 | AK13: 0
AA16: A | AB16: 300 | AC16: 250 | AD16: 220 | AE16: 180 | AF16: 160 | AG16: 150 | AH16: 140 | AI16: 130 | AJ16: 120 | AK16: 110
AA17: I | AB17: 250 | AC17: 200 | AD17: 160 | AE17: 140 | AF17: 120 | AG17: 110 | AH17: 100 | AI17: 90 | AJ17: 80 | AK17: 70
D18: NAGY KISERŐS DÁVID LÓRÁNT | F18: VITÁLYOS BÁLINT ANDRÁS | H18: KISS DOMINIK GÁBOR | J18: PÁLFALVI VENCEL TIHAMÉR | AA18: II | AB18: 200 | AC18: 150 | AD18: 130 | AE18: 110 | AF18: 95 | AG18: 80 | AH18: 70 | AI18: 60 | AJ18: 55 | AK18: 50
A19: A | B19: NAGY KISERŐS DÁVID LÓRÁNT | F19: 7/3 7/4 | H19: 0/7 4/7 | J19: jn ny | AA19: III | AB19: 150 | AC19: 120 | AD19: 100 | AE19: 80 | AF19: 70 | AG19: 60 | AH19: 55 | AI19: 50 | AJ19: 45 | AK19: 40
A20: B | B20: VITÁLYOS BÁLINT ANDRÁS | D20: 3/7 4/7 | H20: 0/7 4/7 | J20: jn ny | AA20: IV | AB20: 120 | AC20: 90 | AD20: 65 | AE20: 55 | AF20: 50 | AG20: 45 | AH20: 40 | AI20: 35 | AJ20: 25 | AK20: 20
A21: C | B21: KISS DOMINIK GÁBOR | D21: 7/0 7/4 | F21: 7/0 7/4 | J21: jn ny | AA21: V | AB21: 90 | AC21: 60 | AD21: 45 | AE21: 34 | AF21: 27 | AG21: 22 | AH21: 18 | AI21: 15 | AJ21: 12 | AK21: 9
A22: D | B22: PÁLFALVI VENCEL TIHAMÉR | D22: jn v | F22: jn v | H22: jn v | AA22: VI | AB22: 60 | AC22: 40 | AD22: 30 | AE22: 20 | AF22: 18 | AG22: 15 | AH22: 12 | AI22: 10 | AJ22: 8 | AK22: 6
AA23: VII | AB23: 40 | AC23: 25 | AD23: 18 | AE23: 13 | AF23: 8 | AG23: 7 | AH23: 6 | AI23: 5 | AJ23: 4 | AK23: 3
AA24: VIII | AB24: 25 | AC24: 15 | AD24: 13 | AE24: 7 | AF24: 6 | AG24: 5 | AH24: 4 | AI24: 3 | AJ24: 2 | AK24: 1
AA25: W | AB25: 15 | AC25: 10 | AD25: 8 | AE25: 4 | AF25: 3 | AG25: 2 | AH25: 1 | AI25: 0 | AJ25: 0 | AK25: 0
AA26: X | AB26: 10 | AC26: 6 | AD26: 4 | AE26: 2 | AF26: 1 | AG26: 0 | AH26: 0 | AI26: 0 | AJ26: 0 | AK26: 0
AA27: XI | AB27: 3 | AC27: 2 | AD27: 1 | AE27: 0 | AF27: 0 | AG27: 0 | AH27: 0 | AI27: 0 | AJ27: 0 | AK27: 0
A33: Rangsor | D33: # | E33: Kiemeltek | G33: # | H33: Szerencés Vesztes | J33: Helyettesíti | K33: Sorsolás időpontja
A34: Dátuma | G34: 1 | K34: Utolsó elfogadott játékos
A35: Utolsó DA | G35: 2
G36: 3 | K36: Sorsoló játékosok
G37: 4
G38: 5
G39: 6 | K39: Versenybíró aláírása
G40: 7
G41: 8 | K41: =M4 -> #REF!

Sheet II.kcs fiú B2
A1: 2026 Budapesti Diákolimpia | H1: Egyéni főtábla | AB1: =IF(Y5=1,CONCATENATE(VLOOKUP(Y3,AA16:AH27,2)),CONCATENATE(VLOOKUP(Y3,AA2:AK13,2))) -> #REF! | AC1: =IF(Y5=1,CONCATENATE(VLOOKUP(Y3,AA16:AK27,3)),CONCATENATE(VLOOKUP(Y3,AA2:AK13,3))) -> #REF! | AD1: =IF(Y5=1,CONCATENATE(VLOOKUP(Y3,AA16:AK27,4)),CONCATENATE(VLOOKUP(Y3,AA2:AK13,4))) -> #REF! | AE1: =IF(Y5=1,CONCATENATE(VLOOKUP(Y3,AA16:AK27,5)),CONCATENATE(VLOOKUP(Y3,AA2:AK13,5))) -> #REF! | AF1: =IF(Y5=1,CONCATENATE(VLOOKUP(Y3,AA16:AK27,6)),CONCATENATE(VLOOKUP(Y3,AA2:AK13,6))) -> #REF! | AG1: =IF(Y5=1,CONCATENATE(VLOOKUP(Y3,AA16:AK27,7)),CONCATENATE(VLOOKUP(Y3,AA2:AK13,7))) -> #REF! | AH1: =IF(Y5=1,CONCATENATE(VLOOKUP(Y3,AA16:AK27,8)),CONCATENATE(VLOOKUP(Y3,AA2:AK13,8))) -> #REF! | AI1: =IF(Y5=1,CONCATENATE(VLOOKUP(Y3,AA16:AK27,9)),CONCATENATE(VLOOKUP(Y3,AA2:AK13,9))) -> #REF! | AJ1: =IF(Y5=1,CONCATENATE(VLOOKUP(Y3,AA16:AK27,10)),CONCATENATE(VLOOKUP(Y3,AA2:AK13,10))) -> #REF! | AK1: =IF(Y5=1,CONCATENATE(VLOOKUP(Y3,AA16:AK27,11)),CONCATENATE(VLOOKUP(Y3,AA2:AK13,11))) -> #REF!
A2: Versenyszám: | E2: II.kcs.fiú B | AA2: A | AB2: 150 | AC2: 120 | AD2: 100 | AE2: 80 | AF2: 70 | AG2: 60 | AH2: 55 | AI2: 50 | AJ2: 45 | AK2: 40
A3: Dátum | E3: Város | H3: Kategória | L3: Versenybíró | Y3: =IF(H4="OB","A",IF(H4="IX","W",H4)) -> 0 | AA3: I | AB3: 120 | AC3: 90 | AD3: 65 | AE3: 55 | AF3: 50 | AG3: 45 | AH3: 40 | AI3: 35 | AJ3: 25 | AK3: 20
A4: 2026.04.27-30. | E4: Budapest | L4: =[2]Altalanos!$E$10 -> #REF! | AA4: II | AB4: 90 | AC4: 60 | AD4: 45 | AE4: 34 | AF4: 27 | AG4: 22 | AH4: 18 | AI4: 15 | AJ4: 12 | AK4: 9
B5: kiem | C5: kódszám | D5: Rangsor | E5: Vezetéknév | G5: Keresztnév | I5: Egyesület | K5: Helyezés | L5: Pontszám | M5: Bónusz | O5: 1 FORDULÓ | P5: B - C | R5: 1 FORDULÓ | S5: E - F | Y5: =IF(OR([2]Altalanos!$A$8="F1",[2]Altalanos!$A$8="F2",[2]Altalanos!$A$8="N1",[2]Altalanos!$A$8="N2"),1,2) -> #REF! | AA5: III | AB5: 60 | AC5: 40 | AD5: 30 | AE5: 20 | AF5: 18 | AG5: 15 | AH5: 12 | AI5: 10 | AJ5: 8 | AK5: 6
O6: 2 FORDULÓ | P6: C - A | R6: 2 FORDULÓ | S6: F - D | AA6: IV | AB6: 40 | AC6: 25 | AD6: 18 | AE6: 13 | AF6: 10 | AG6: 8 | AH6: 6 | AI6: 5 | AJ6: 4 | AK6: 3
A7: A | B7: 7 | C7: 0 | D7: 0 | E7: BOROSS MARCELL ATTILA | G7: 0 | I7: 0 | L7: =IF(K7="","",CONCATENATE(VLOOKUP($Y$3,$AB$1:$AK$1,K7)," pont")) | O7: 3 FORDULÓ | P7: A - B | R7: 3 FORDULÓ | S7: D - E | AA7: V | AB7: 25 | AC7: 15 | AD7: 13 | AE7: 8 | AF7: 6 | AG7: 4 | AH7: 3 | AI7: 2 | AJ7: 1 | AK7: 0
AA8: VI | AB8: 15 | AC8: 10 | AD8: 7 | AE8: 5 | AF8: 4 | AG8: 3 | AH8: 2 | AI8: 1 | AJ8: 0 | AK8: 0
A9: B | B9: 8 | C9: 0 | D9: 0 | E9: YOU YUNLE | G9: 0 | I9: 0 | L9: =IF(K9="","",CONCATENATE(VLOOKUP($Y$3,$AB$1:$AK$1,K9)," pont")) | AA9: VII | AB9: 10 | AC9: 6 | AD9: 4 | AE9: 2 | AF9: 1 | AG9: 0 | AH9: 0 | AI9: 0 | AJ9: 0 | AK9: 0
AA10: VIII | AB10: 6 | AC10: 3 | AD10: 2 | AE10: 1 | AF10: 0 | AG10: 0 | AH10: 0 | AI10: 0 | AJ10: 0 | AK10: 0
A11: C | B11: 3 | C11: 0 | D11: 0 | E11: SPRENC MILÁN | G11: 0 | I11: 0 | AA11: W | AB11: 3 | AC11: 2 | AD11: 1 | AE11: 0 | AF11: 0 | AG11: 0 | AH11: 0 | AI11: 0 | AJ11: 0 | AK11: 0
AA12: X | AB12: 0 | AC12: 0 | AD12: 0 | AE12: 0 | AF12: 0 | AG12: 0 | AH12: 0 | AI12: 0 | AJ12: 0 | AK12: 0
A13: D | B13: 10 | C13: 0 | D13: 0 | E13: BŐJTE ÁRON | G13: 0 | I13: 0 | L13: =IF(K13="","",CONCATENATE(VLOOKUP($Y$3,$AB$1:$AK$1,K13)," pont")) | AA13: XI | AB13: 0 | AC13: 0 | AD13: 0 | AE13: 0 | AF13: 0 | AG13: 0 | AH13: 0 | AI13: 0 | AJ13: 0 | AK13: 0
A15: E | B15: 5 | C15: 0 | D15: 0 | E15: BOLDIZSÁR BALÁZS | G15: 0 | I15: 0 | L15: =IF(K15="","",CONCATENATE(VLOOKUP($Y$3,$AB$1:$AK$1,K15)," pont"))
AA16: A | AB16: 300 | AC16: 250 | AD16: 220 | AE16: 180 | AF16: 160 | AG16: 150 | AH16: 140 | AI16: 130 | AJ16: 120 | AK16: 110
A17: F | B17: 9 | C17: 0 | D17: 0 | E17: POZSA DÁNIEL | G17: 0 | I17: 0 | L17: =IF(K17="","",CONCATENATE(VLOOKUP($Y$3,$AB$1:$AK$1,K17)," pont")) | AA17: I | AB17: 250 | AC17: 200 | AD17: 160 | AE17: 140 | AF17: 120 | AG17: 110 | AH17: 100 | AI17: 90 | AJ17: 80 | AK17: 70
AA18: II | AB18: 200 | AC18: 150 | AD18: 130 | AE18: 110 | AF18: 95 | AG18: 80 | AH18: 70 | AI18: 60 | AJ18: 55 | AK18: 50
AA19: III | AB19: 150 | AC19: 120 | AD19: 100 | AE19: 80 | AF19: 70 | AG19: 60 | AH19: 55 | AI19: 50 | AJ19: 45 | AK19: 40
AA20: IV | AB20: 120 | AC20: 90 | AD20: 65 | AE20: 55 | AF20: 50 | AG20: 45 | AH20: 40 | AI20: 35 | AJ20: 25 | AK20: 20
N21: 7 | AA21: V | AB21: 90 | AC21: 60 | AD21: 45 | AE21: 34 | AF21: 27 | AG21: 22 | AH21: 18 | AI21: 15 | AJ21: 12 | AK21: 9
D22: BOROSS MARCELL ATTILA | F22: YOU YUNLE | H22: SPRENC MILÁN | M22: Helyezés | AA22: VI | AB22: 60 | AC22: 40 | AD22: 30 | AE22: 20 | AF22: 18 | AG22: 15 | AH22: 12 | AI22: 10 | AJ22: 8 | AK22: 6
A23: A | B23: BOROSS MARCELL ATTILA | F23: 7/5 5/7 5/0 | H23: 3/7 2/7 | AA23: VII | AB23: 40 | AC23: 25 | AD23: 18 | AE23: 13 | AF23: 8 | AG23: 7 | AH23: 6 | AI23: 5 | AJ23: 4 | AK23: 3
A24: B | B24: YOU YUNLE | D24: 5/7 7/5 0/5 | H24: 5/7 3/7 | AA24: VIII | AB24: 25 | AC24: 15 | AD24: 13 | AE24: 7 | AF24: 6 | AG24: 5 | AH24: 4 | AI24: 3 | AJ24: 2 | AK24: 1
A25: C | B25: SPRENC MILÁN | D25: 7/3 7/2 | F25: 7/5 7/3 | M25: 1 | AA25: W | AB25: 15 | AC25: 10 | AD25: 8 | AE25: 4 | AF25: 3 | AG25: 2 | AH25: 1 | AI25: 0 | AJ25: 0 | AK25: 0
AA26: X | AB26: 10 | AC26: 6 | AD26: 4 | AE26: 2 | AF26: 1 | AG26: 0 | AH26: 0 | AI26: 0 | AJ26: 0 | AK26: 0
D27: BŐJTE ÁRON | F27: BOLDIZSÁR BALÁZS | H27: POZSA DÁNIEL | AA27: XI | AB27: 3 | AC27: 2 | AD27: 1 | AE27: 0 | AF27: 0 | AG27: 0 | AH27: 0 | AI27: 0 | AJ27: 0 | AK27: 0
A28: D | B28: BŐJTE ÁRON | F28: 3/7 3/7 | H28: jn ny
A29: E | B29: BOLDIZSÁR BALÁZS | D29: 7/3 7/3 | H29: jn ny | M29: 1
A30: F | B30: POZSA DÁNIEL | D30: jn v | F30: jn v
A32: Döntő | C32: =IF(M23=1,B23,IF(M24=1,B24,IF(M25=1,B25,""))) -> SPRENC MILÁN | E32: vs. | F32: =IF(M28=1,B28,IF(M29=1,B29,IF(M30=1,B30,""))) -> BOLDIZSÁR BALÁZS
A34: 3. hely | C34: =IF(M23=2,B23,IF(M24=2,B24,IF(M25=2,B25,""))) | E34: vs. | F34: =IF(M28=2,B28,IF(M29=2,B29,IF(M30=2,B30,"")))
A36: 5. hely | C36: =IF(M23=3,B23,IF(M24=3,B24,IF(M25=3,B25,""))) | E36: vs. | F36: =IF(M28=3,B28,IF(M29=3,B29,IF(M30=3,B30,"")))
A39: Rangsor | D39: # | E39: Kiemeltek | G39: # | H39: Szerencés Vesztes | J39: Helyettesíti | K39: Sorsolás időpontja
A40: Dátuma | D40: 1 | E40: =IF(D40>$R$47,,UPPER(VLOOKUP(D40,'[2]1MD ELO (4)'!$A$7:$Q$134,2))) -> #REF! | G40: 1 | K40: Utolsó elfogadott játékos
A41: Utolsó DA | D41: 2 | E41: =IF(D41>$R$47,,UPPER(VLOOKUP(D41,'[2]1MD ELO (4)'!$A$7:$Q$134,2))) -> #REF! | G41: 2
G42: 3 | K42: Sorsoló játékosok
G43: 4
G44: 5
G45: 6 | K45: Versenybíró aláírása
G46: 7
G47: 8 | K47: =L4 -> #REF! | R47: =MIN(4,'[2]1MD ELO (4)'!Q5) -> #REF!

Sheet II.B fiú döntő
A1: =[3]Altalanos!$A$6 -> #REF! | H1: Egyéni főtábla | AB1: =IF(Y5=1,CONCATENATE(VLOOKUP(Y3,AA16:AH27,2)),CONCATENATE(VLOOKUP(Y3,AA2:AK13,2))) -> #REF! | AC1: =IF(Y5=1,CONCATENATE(VLOOKUP(Y3,AA16:AK27,3)),CONCATENATE(VLOOKUP(Y3,AA2:AK13,3))) -> #REF! | AD1: =IF(Y5=1,CONCATENATE(VLOOKUP(Y3,AA16:AK27,4)),CONCATENATE(VLOOKUP(Y3,AA2:AK13,4))) -> #REF! | AE1: =IF(Y5=1,CONCATENATE(VLOOKUP(Y3,AA16:AK27,5)),CONCATENATE(VLOOKUP(Y3,AA2:AK13,5))) -> #REF! | AF1: =IF(Y5=1,CONCATENATE(VLOOKUP(Y3,AA16:AK27,6)),CONCATENATE(VLOOKUP(Y3,AA2:AK13,6))) -> #REF! | AG1: =IF(Y5=1,CONCATENATE(VLOOKUP(Y3,AA16:AK27,7)),CONCATENATE(VLOOKUP(Y3,AA2:AK13,7))) -> #REF! | AH1: =IF(Y5=1,CONCATENATE(VLOOKUP(Y3,AA16:AK27,8)),CONCATENATE(VLOOKUP(Y3,AA2:AK13,8))) -> #REF! | AI1: =IF(Y5=1,CONCATENATE(VLOOKUP(Y3,AA16:AK27,9)),CONCATENATE(VLOOKUP(Y3,AA2:AK13,9))) -> #REF! | AJ1: =IF(Y5=1,CONCATENATE(VLOOKUP(Y3,AA16:AK27,10)),CONCATENATE(VLOOKUP(Y3,AA2:AK13,10))) -> #REF! | AK1: =IF(Y5=1,CONCATENATE(VLOOKUP(Y3,AA16:AK27,11)),CONCATENATE(VLOOKUP(Y3,AA2:AK13,11))) -> #REF!
A2: Versenyszám: | E2: II.fiú B döntő | AA2: A | AB2: 150 | AC2: 120 | AD2: 100 | AE2: 80 | AF2: 70 | AG2: 60 | AH2: 55 | AI2: 50 | AJ2: 45 | AK2: 40
A3: Dátum | E3: Város | H3: Kategória | L3: Versenybíró | Q3: 1 FORDULÓ | R3: B - C | Y3: =IF(H4="OB","A",IF(H4="IX","W",H4)) -> 0 | AA3: I | AB3: 120 | AC3: 90 | AD3: 65 | AE3: 55 | AF3: 50 | AG3: 45 | AH3: 40 | AI3: 35 | AJ3: 25 | AK3: 20
A4: =[3]Altalanos!$A$10 -> #REF! | E4: =[3]Altalanos!$C$10 -> #REF! | L4: =[3]Altalanos!$E$10 -> #REF! | Q4: 2 FORDULÓ | R4: C - A | AA4: II | AB4: 90 | AC4: 60 | AD4: 45 | AE4: 34 | AF4: 27 | AG4: 22 | AH4: 18 | AI4: 15 | AJ4: 12 | AK4: 9
B5: kiem | C5: kódszám | D5: Rangsor | E5: Vezetéknév | G5: Keresztnév | I5: Egyesület | K5: Helyezés | L5: Pontszám | M5: Bónusz | Q5: 3 FORDULÓ | R5: A - B | Y5: =IF(OR([3]Altalanos!$A$8="F1",[3]Altalanos!$A$8="F2",[3]Altalanos!$A$8="N1",[3]Altalanos!$A$8="N2"),1,2) -> #REF! | AA5: III | AB5: 60 | AC5: 40 | AD5: 30 | AE5: 20 | AF5: 18 | AG5: 15 | AH5: 12 | AI5: 10 | AJ5: 8 | AK5: 6
AA6: IV | AB6: 40 | AC6: 25 | AD6: 18 | AE6: 13 | AF6: 10 | AG6: 8 | AH6: 6 | AI6: 5 | AJ6: 4 | AK6: 3
A7: A | C7: =IF($B7="","",VLOOKUP($B7,'[3]1MD ELO'!$A$7:$O$22,5)) | E7: KIS | G7: Dominik Gábor | K7: I | AA7: V | AB7: 25 | AC7: 15 | AD7: 13 | AE7: 8 | AF7: 6 | AG7: 4 | AH7: 3 | AI7: 2 | AJ7: 1 | AK7: 0
AA8: VI | AB8: 15 | AC8: 10 | AD8: 7 | AE8: 5 | AF8: 4 | AG8: 3 | AH8: 2 | AI8: 1 | AJ8: 0 | AK8: 0
A9: B | C9: =IF($B9="","",VLOOKUP($B9,'[3]1MD ELO'!$A$7:$O$22,5)) | E9: SPRENCZ | G9: Milán | K9: III | AA9: VII | AB9: 10 | AC9: 6 | AD9: 4 | AE9: 2 | AF9: 1 | AG9: 0 | AH9: 0 | AI9: 0 | AJ9: 0 | AK9: 0
AA10: VIII | AB10: 6 | AC10: 3 | AD10: 2 | AE10: 1 | AF10: 0 | AG10: 0 | AH10: 0 | AI10: 0 | AJ10: 0 | AK10: 0
A11: C | C11: =IF($B11="","",VLOOKUP($B11,'[3]1MD ELO'!$A$7:$O$22,5)) | E11: BOLDIZSÁR | G11: Balázs | K11: II | AA11: W | AB11: 3 | AC11: 2 | AD11: 1 | AE11: 0 | AF11: 0 | AG11: 0 | AH11: 0 | AI11: 0 | AJ11: 0 | AK11: 0
AA12: X | AB12: 0 | AC12: 0 | AD12: 0 | AE12: 0 | AF12: 0 | AG12: 0 | AH12: 0 | AI12: 0 | AJ12: 0 | AK12: 0
AA13: XI | AB13: 0 | AC13: 0 | AD13: 0 | AE13: 0 | AF13: 0 | AG13: 0 | AH13: 0 | AI13: 0 | AJ13: 0 | AK13: 0
AA16: A | AB16: 300 | AC16: 250 | AD16: 220 | AE16: 180 | AF16: 160 | AG16: 150 | AH16: 140 | AI16: 130 | AJ16: 120 | AK16: 110
AA17: I | AB17: 250 | AC17: 200 | AD17: 160 | AE17: 140 | AF17: 120 | AG17: 110 | AH17: 100 | AI17: 90 | AJ17: 80 | AK17: 70
D18: KIS | F18: SPRENCZ | H18: BOLDIZSÁR | AA18: II | AB18: 200 | AC18: 150 | AD18: 130 | AE18: 110 | AF18: 95 | AG18: 80 | AH18: 70 | AI18: 60 | AJ18: 55 | AK18: 50
A19: A | B19: =E7 -> KIS | F19: 4/7 7/5 5/4 | H19: 7/3 7/1 | AA19: III | AB19: 150 | AC19: 120 | AD19: 100 | AE19: 80 | AF19: 70 | AG19: 60 | AH19: 55 | AI19: 50 | AJ19: 45 | AK19: 40
A20: B | B20: =E9 -> SPRENCZ | D20: 7/4 5/7 4/5 | H20: 3/7 7/9 | AA20: IV | AB20: 120 | AC20: 90 | AD20: 65 | AE20: 55 | AF20: 50 | AG20: 45 | AH20: 40 | AI20: 35 | AJ20: 25 | AK20: 20
A21: C | B21: =E11 -> BOLDIZSÁR | D21: 3/7 1/7 | F21: 7/3 9/7 | AA21: V | AB21: 90 | AC21: 60 | AD21: 45 | AE21: 34 | AF21: 27 | AG21: 22 | AH21: 18 | AI21: 15 | AJ21: 12 | AK21: 9
AA22: VI | AB22: 60 | AC22: 40 | AD22: 30 | AE22: 20 | AF22: 18 | AG22: 15 | AH22: 12 | AI22: 10 | AJ22: 8 | AK22: 6
AA23: VII | AB23: 40 | AC23: 25 | AD23: 18 | AE23: 13 | AF23: 8 | AG23: 7 | AH23: 6 | AI23: 5 | AJ23: 4 | AK23: 3
AA24: VIII | AB24: 25 | AC24: 15 | AD24: 13 | AE24: 7 | AF24: 6 | AG24: 5 | AH24: 4 | AI24: 3 | AJ24: 2 | AK24: 1
AA25: W | AB25: 15 | AC25: 10 | AD25: 8 | AE25: 4 | AF25: 3 | AG25: 2 | AH25: 1 | AI25: 0 | AJ25: 0 | AK25: 0
AA26: X | AB26: 10 | AC26: 6 | AD26: 4 | AE26: 2 | AF26: 1 | AG26: 0 | AH26: 0 | AI26: 0 | AJ26: 0 | AK26: 0
AA27: XI | AB27: 3 | AC27: 2 | AD27: 1 | AE27: 0 | AF27: 0 | AG27: 0 | AH27: 0 | AI27: 0 | AJ27: 0 | AK27: 0
A33: Rangsor | D33: # | E33: Kiemeltek | G33: # | H33: Szerencés Vesztes | J33: Helyettesíti | K33: Sorsolás időpontja
A34: Dátuma | G34: 1 | K34: Utolsó elfogadott játékos
A35: Utolsó DA | G35: 2
G36: 3 | K36: Sorsoló játékosok
G37: 4
G38: 5
G39: 6 | K39: Versenybíró aláírása
G40: 7
G41: 8 | K41: =L4 -> #REF!

Sheet II.kcs lány A
A1: 2026 Budapesti Diákolimpia | H1: Egyéni főtábla | AB1: =IF(Y5=1,CONCATENATE(VLOOKUP(Y3,AA16:AH27,2)),CONCATENATE(VLOOKUP(Y3,AA2:AK13,2))) -> #REF! | AC1: =IF(Y5=1,CONCATENATE(VLOOKUP(Y3,AA16:AK27,3)),CONCATENATE(VLOOKUP(Y3,AA2:AK13,3))) -> #REF! | AD1: =IF(Y5=1,CONCATENATE(VLOOKUP(Y3,AA16:AK27,4)),CONCATENATE(VLOOKUP(Y3,AA2:AK13,4))) -> #REF! | AE1: =IF(Y5=1,CONCATENATE(VLOOKUP(Y3,AA16:AK27,5)),CONCATENATE(VLOOKUP(Y3,AA2:AK13,5))) -> #REF! | AF1: =IF(Y5=1,CONCATENATE(VLOOKUP(Y3,AA16:AK27,6)),CONCATENATE(VLOOKUP(Y3,AA2:AK13,6))) -> #REF! | AG1: =IF(Y5=1,CONCATENATE(VLOOKUP(Y3,AA16:AK27,7)),CONCATENATE(VLOOKUP(Y3,AA2:AK13,7))) -> #REF! | AH1: =IF(Y5=1,CONCATENATE(VLOOKUP(Y3,AA16:AK27,8)),CONCATENATE(VLOOKUP(Y3,AA2:AK13,8))) -> #REF! | AI1: =IF(Y5=1,CONCATENATE(VLOOKUP(Y3,AA16:AK27,9)),CONCATENATE(VLOOKUP(Y3,AA2:AK13,9))) -> #REF! | AJ1: =IF(Y5=1,CONCATENATE(VLOOKUP(Y3,AA16:AK27,10)),CONCATENATE(VLOOKUP(Y3,AA2:AK13,10))) -> #REF! | AK1: =IF(Y5=1,CONCATENATE(VLOOKUP(Y3,AA16:AK27,11)),CONCATENATE(VLOOKUP(Y3,AA2:AK13,11))) -> #REF!
A2: Versenyszám: | E2: II.kcs.lány A | AA2: A | AB2: 150 | AC2: 120 | AD2: 100 | AE2: 80 | AF2: 70 | AG2: 60 | AH2: 55 | AI2: 50 | AJ2: 45 | AK2: 40
A3: Dátum | E3: Város | H3: Kategória | L3: Versenybíró | Y3: =IF(H4="OB","A",IF(H4="IX","W",H4)) -> 0 | AA3: I | AB3: 120 | AC3: 90 | AD3: 65 | AE3: 55 | AF3: 50 | AG3: 45 | AH3: 40 | AI3: 35 | AJ3: 25 | AK3: 20
A4: 2026.04.27-30. | E4: Budapest | L4: Kádár László István | P4: 1 FORDULÓ | Q4: B - E | R4: C - D | AA4: II | AB4: 90 | AC4: 60 | AD4: 45 | AE4: 34 | AF4: 27 | AG4: 22 | AH4: 18 | AI4: 15 | AJ4: 12 | AK4: 9
B5: kiem | C5: kódszám | D5: Rangsor | E5: Vezetéknév | G5: Keresztnév | I5: Egyesület | K5: Helyezés | L5: Pontszám | M5: Bónusz | P5: 2 FORDULÓ | Q5: D - B | R5: E - A | Y5: =IF(OR([2]Altalanos!$A$8="F1",[2]Altalanos!$A$8="F2",[2]Altalanos!$A$8="N1",[2]Altalanos!$A$8="N2"),1,2) -> #REF! | AA5: III | AB5: 60 | AC5: 40 | AD5: 30 | AE5: 20 | AF5: 18 | AG5: 15 | AH5: 12 | AI5: 10 | AJ5: 8 | AK5: 6
P6: 3 FORDULÓ | Q6: A - D | R6: B - C | AA6: IV | AB6: 40 | AC6: 25 | AD6: 18 | AE6: 13 | AF6: 10 | AG6: 8 | AH6: 6 | AI6: 5 | AJ6: 4 | AK6: 3
A7: A | B7: 5 | C7: 0 | D7: 0 | E7: CAMARA - SZILASI MARIATOU | G7: 0 | I7: 0 | P7: 4 FORDULÓ | Q7: C - A | R7: D - E | AA7: V | AB7: 25 | AC7: 15 | AD7: 13 | AE7: 8 | AF7: 6 | AG7: 4 | AH7: 3 | AI7: 2 | AJ7: 1 | AK7: 0
P8: 5 FORDULÓ | Q8: A - B | R8: E - C | AA8: VI | AB8: 15 | AC8: 10 | AD8: 7 | AE8: 5 | AF8: 4 | AG8: 3 | AH8: 2 | AI8: 1 | AJ8: 0 | AK8: 0
A9: B | B9: 1 | C9: 0 | D9: 0 | E9: JUHÁSZ BETTA | G9: 0 | I9: 0 | K9: I | AA9: VII | AB9: 10 | AC9: 6 | AD9: 4 | AE9: 2 | AF9: 1 | AG9: 0 | AH9: 0 | AI9: 0 | AJ9: 0 | AK9: 0
AA10: VIII | AB10: 6 | AC10: 3 | AD10: 2 | AE10: 1 | AF10: 0 | AG10: 0 | AH10: 0 | AI10: 0 | AJ10: 0 | AK10: 0
A11: C | B11: 4 | C11: 0 | D11: 0 | E11: LEHOCZKY SZÓFIA | G11: 0 | I11: 0 | K11: III | AA11: W | AB11: 3 | AC11: 2 | AD11: 1 | AE11: 0 | AF11: 0 | AG11: 0 | AH11: 0 | AI11: 0 | AJ11: 0 | AK11: 0
AA12: X | AB12: 0 | AC12: 0 | AD12: 0 | AE12: 0 | AF12: 0 | AG12: 0 | AH12: 0 | AI12: 0 | AJ12: 0 | AK12: 0
A13: D | B13: 2 | C13: 0 | D13: 0 | E13: LEHOCZKY JÚLIA | G13: 0 | I13: 0 | K13: II | AA13: XI | AB13: 0 | AC13: 0 | AD13: 0 | AE13: 0 | AF13: 0 | AG13: 0 | AH13: 0 | AI13: 0 | AJ13: 0 | AK13: 0
A15: E | B15: 3 | C15: 0 | D15: 0 | E15: SZABADÍTS IZABEL | G15: 0 | I15: 0
AA16: A | AB16: 300 | AC16: 250 | AD16: 220 | AE16: 180 | AF16: 160 | AG16: 150 | AH16: 140 | AI16: 130 | AJ16: 120 | AK16: 110
AA17: I | AB17: 250 | AC17: 200 | AD17: 160 | AE17: 140 | AF17: 120 | AG17: 110 | AH17: 100 | AI17: 90 | AJ17: 80 | AK17: 70
D18: CAMARA - SZILASI MARIATOU | F18: JUHÁSZ BETTA | H18: LEHOCZKY SZÓFIA | J18: LEHOCZKY JÚLIA | L18: SZABADÍTS IZABEL | AA18: II | AB18: 200 | AC18: 150 | AD18: 130 | AE18: 110 | AF18: 95 | AG18: 80 | AH18: 70 | AI18: 60 | AJ18: 55 | AK18: 50
A19: A | B19: CAMARA - SZILASI MARIATOU | F19: 4/7 5/7 | H19: 6/8 5/7 | J19: 4/7 7/4 3/5 | L19: 8/6 5/7 1/5 | AA19: III | AB19: 150 | AC19: 120 | AD19: 100 | AE19: 80 | AF19: 70 | AG19: 60 | AH19: 55 | AI19: 50 | AJ19: 45 | AK19: 40
A20: B | B20: JUHÁSZ BETTA | D20: 7/4 7/5 | H20: 7/4 7/3 | J20: 8/10 7/2 5/2 | L20: 7/1 7/0 | AA20: IV | AB20: 120 | AC20: 90 | AD20: 65 | AE20: 55 | AF20: 50 | AG20: 45 | AH20: 40 | AI20: 35 | AJ20: 25 | AK20: 20
A21: C | B21: LEHOCZKY SZÓFIA | D21: 8/6 7/5 | F21: 4/7 3/7 | J21: 5/7 4/7 | L21: 7/5 4/7 5/1 | AA21: V | AB21: 90 | AC21: 60 | AD21: 45 | AE21: 34 | AF21: 27 | AG21: 22 | AH21: 18 | AI21: 15 | AJ21: 12 | AK21: 9
A22: D | B22: LEHOCZKY JÚLIA | D22: 7/4 4/7 5/3 | F22: 10/8 2/7 2/5 | H22: 7/5 7/4 | L22: 7/1 7/4 | AA22: VI | AB22: 60 | AC22: 40 | AD22: 30 | AE22: 20 | AF22: 18 | AG22: 15 | AH22: 12 | AI22: 10 | AJ22: 8 | AK22: 6
A23: E | B23: SZABADÍTS IZABEL | D23: 6/8 7/5 5/1 | F23: 1/7 0/7 | H23: 5/7 7/4 1/5 | J23: 1/7 4/7 | AA23: VII | AB23: 40 | AC23: 25 | AD23: 18 | AE23: 13 | AF23: 8 | AG23: 7 | AH23: 6 | AI23: 5 | AJ23: 4 | AK23: 3
AA24: VIII | AB24: 25 | AC24: 15 | AD24: 13 | AE24: 7 | AF24: 6 | AG24: 5 | AH24: 4 | AI24: 3 | AJ24: 2 | AK24: 1
AA25: W | AB25: 15 | AC25: 10 | AD25: 8 | AE25: 4 | AF25: 3 | AG25: 2 | AH25: 1 | AI25: 0 | AJ25: 0 | AK25: 0
AA26: X | AB26: 10 | AC26: 6 | AD26: 4 | AE26: 2 | AF26: 1 | AG26: 0 | AH26: 0 | AI26: 0 | AJ26: 0 | AK26: 0
AA27: XI | AB27: 3 | AC27: 2 | AD27: 1 | AE27: 0 | AF27: 0 | AG27: 0 | AH27: 0 | AI27: 0 | AJ27: 0 | AK27: 0
A33: Rangsor | D33: # | E33: Kiemeltek | G33: # | H33: Szerencés Vesztes | J33: Helyettesíti | K33: Sorsolás időpontja
A34: Dátuma | G34: 1 | K34: Utolsó elfogadott játékos
A35: Utolsó DA | G35: 2
G36: 3 | K36: Sorsoló játékosok
G37: 4
G38: 5
G39: 6 | K39: Versenybíró aláírása
G40: 7
G41: 8 | K41: =L4 -> Kádár László István

Sheet II.kcs lány B
A1: 2026 Budapesti Diákolimpia | H1: Egyéni főtábla | AB1: =IF(Y5=1,CONCATENATE(VLOOKUP(Y3,AA16:AH27,2)),CONCATENATE(VLOOKUP(Y3,AA2:AK13,2))) -> #REF! | AC1: =IF(Y5=1,CONCATENATE(VLOOKUP(Y3,AA16:AK27,3)),CONCATENATE(VLOOKUP(Y3,AA2:AK13,3))) -> #REF! | AD1: =IF(Y5=1,CONCATENATE(VLOOKUP(Y3,AA16:AK27,4)),CONCATENATE(VLOOKUP(Y3,AA2:AK13,4))) -> #REF! | AE1: =IF(Y5=1,CONCATENATE(VLOOKUP(Y3,AA16:AK27,5)),CONCATENATE(VLOOKUP(Y3,AA2:AK13,5))) -> #REF! | AF1: =IF(Y5=1,CONCATENATE(VLOOKUP(Y3,AA16:AK27,6)),CONCATENATE(VLOOKUP(Y3,AA2:AK13,6))) -> #REF! | AG1: =IF(Y5=1,CONCATENATE(VLOOKUP(Y3,AA16:AK27,7)),CONCATENATE(VLOOKUP(Y3,AA2:AK13,7))) -> #REF! | AH1: =IF(Y5=1,CONCATENATE(VLOOKUP(Y3,AA16:AK27,8)),CONCATENATE(VLOOKUP(Y3,AA2:AK13,8))) -> #REF! | AI1: =IF(Y5=1,CONCATENATE(VLOOKUP(Y3,AA16:AK27,9)),CONCATENATE(VLOOKUP(Y3,AA2:AK13,9))) -> #REF! | AJ1: =IF(Y5=1,CONCATENATE(VLOOKUP(Y3,AA16:AK27,10)),CONCATENATE(VLOOKUP(Y3,AA2:AK13,10))) -> #REF! | AK1: =IF(Y5=1,CONCATENATE(VLOOKUP(Y3,AA16:AK27,11)),CONCATENATE(VLOOKUP(Y3,AA2:AK13,11))) -> #REF!
A2: Versenyszám: | E2: II.kcs.lány B | AA2: A | AB2: 150 | AC2: 120 | AD2: 100 | AE2: 80 | AF2: 70 | AG2: 60 | AH2: 55 | AI2: 50 | AJ2: 45 | AK2: 40
A3: Dátum | E3: Város | H3: Kategória | M3: Versenybíró | Q3: 1 FORDULÓ | R3: B - C | S3: A -D | Y3: =IF(H4="OB","A",IF(H4="IX","W",H4)) -> 0 | AA3: I | AB3: 120 | AC3: 90 | AD3: 65 | AE3: 55 | AF3: 50 | AG3: 45 | AH3: 40 | AI3: 35 | AJ3: 25 | AK3: 20
A4: 2026.04.27-30. | E4: Budapest | M4: =[4]Altalanos!$E$10 -> #REF! | Q4: 2 FORDULÓ | R4: C - A | S4: D - B | AA4: II | AB4: 90 | AC4: 60 | AD4: 45 | AE4: 34 | AF4: 27 | AG4: 22 | AH4: 18 | AI4: 15 | AJ4: 12 | AK4: 9
B5: kiem | C5: kódszám | D5: Rangsor | E5: Vezetéknév | G5: Keresztnév | I5: Egyesület | K5: Helyezés | L5: Pontszám | M5: Bónusz | Q5: 3 FORDULÓ | R5: A - B | S5: C - D | Y5: =IF(OR([4]Altalanos!$A$8="F1",[4]Altalanos!$A$8="F2",[4]Altalanos!$A$8="N1",[4]Altalanos!$A$8="N2"),1,2) -> #REF! | AA5: III | AB5: 60 | AC5: 40 | AD5: 30 | AE5: 20 | AF5: 18 | AG5: 15 | AH5: 12 | AI5: 10 | AJ5: 8 | AK5: 6
AA6: IV | AB6: 40 | AC6: 25 | AD6: 18 | AE6: 13 | AF6: 10 | AG6: 8 | AH6: 6 | AI6: 5 | AJ6: 4 | AK6: 3
A7: A | B7: 4 | C7: 0 | D7: 0 | E7: BAJZÁT OLÍVIA SÁRA | G7: 0 | I7: 0 | K7: II | AA7: V | AB7: 25 | AC7: 15 | AD7: 13 | AE7: 8 | AF7: 6 | AG7: 4 | AH7: 3 | AI7: 2 | AJ7: 1 | AK7: 0
AA8: VI | AB8: 15 | AC8: 10 | AD8: 7 | AE8: 5 | AF8: 4 | AG8: 3 | AH8: 2 | AI8: 1 | AJ8: 0 | AK8: 0
A9: B | B9: 1 | C9: 0 | D9: 0 | E9: INDRUCH ALÍZ | G9: 0 | I9: 0 | AA9: VII | AB9: 10 | AC9: 6 | AD9: 4 | AE9: 2 | AF9: 1 | AG9: 0 | AH9: 0 | AI9: 0 | AJ9: 0 | AK9: 0
AA10: VIII | AB10: 6 | AC10: 3 | AD10: 2 | AE10: 1 | AF10: 0 | AG10: 0 | AH10: 0 | AI10: 0 | AJ10: 0 | AK10: 0
A11: C | B11: 3 | C11: 0 | D11: 0 | E11: CSUBA FLÓRA JÚLIA | G11: 0 | I11: 0 | K11: III | AA11: W | AB11: 3 | AC11: 2 | AD11: 1 | AE11: 0 | AF11: 0 | AG11: 0 | AH11: 0 | AI11: 0 | AJ11: 0 | AK11: 0
AA12: X | AB12: 0 | AC12: 0 | AD12: 0 | AE12: 0 | AF12: 0 | AG12: 0 | AH12: 0 | AI12: 0 | AJ12: 0 | AK12: 0
A13: D | B13: 2 | C13: 0 | D13: 0 | E13: CSÁSZÁR KAROLINA DÓRA | G13: 0 | I13: 0 | K13: I | AA13: XI | AB13: 0 | AC13: 0 | AD13: 0 | AE13: 0 | AF13: 0 | AG13: 0 | AH13: 0 | AI13: 0 | AJ13: 0 | AK13: 0
AA16: A | AB16: 300 | AC16: 250 | AD16: 220 | AE16: 180 | AF16: 160 | AG16: 150 | AH16: 140 | AI16: 130 | AJ16: 120 | AK16: 110
AA17: I | AB17: 250 | AC17: 200 | AD17: 160 | AE17: 140 | AF17: 120 | AG17: 110 | AH17: 100 | AI17: 90 | AJ17: 80 | AK17: 70
D18: BAJZÁT OLÍVIA SÁRA | F18: INDRUCH ALÍZ | H18: CSUBA FLÓRA JÚLIA | J18: CSÁSZÁR KAROLINA DÓRA | AA18: II | AB18: 200 | AC18: 150 | AD18: 130 | AE18: 110 | AF18: 95 | AG18: 80 | AH18: 70 | AI18: 60 | AJ18: 55 | AK18: 50
A19: A | B19: BAJZÁT OLÍVIA SÁRA | F19: jn ny | H19: 8/6 7/5 | J19: 1/7 3/7 | AA19: III | AB19: 150 | AC19: 120 | AD19: 100 | AE19: 80 | AF19: 70 | AG19: 60 | AH19: 55 | AI19: 50 | AJ19: 45 | AK19: 40
A20: B | B20: INDRUCH ALÍZ | D20: jn v | H20: jn v | J20: jn v | AA20: IV | AB20: 120 | AC20: 90 | AD20: 65 | AE20: 55 | AF20: 50 | AG20: 45 | AH20: 40 | AI20: 35 | AJ20: 25 | AK20: 20
A21: C | B21: CSUBA FLÓRA JÚLIA | D21: 6/8 5/7 | F21: jn ny | J21: 5/7 7/4 3/5 | AA21: V | AB21: 90 | AC21: 60 | AD21: 45 | AE21: 34 | AF21: 27 | AG21: 22 | AH21: 18 | AI21: 15 | AJ21: 12 | AK21: 9
A22: D | B22: CSÁSZÁR KAROLINA DÓRA | D22: 7/1 7/3 | F22: jn ny | H22: 7/5 4/7 5/3 | AA22: VI | AB22: 60 | AC22: 40 | AD22: 30 | AE22: 20 | AF22: 18 | AG22: 15 | AH22: 12 | AI22: 10 | AJ22: 8 | AK22: 6
AA23: VII | AB23: 40 | AC23: 25 | AD23: 18 | AE23: 13 | AF23: 8 | AG23: 7 | AH23: 6 | AI23: 5 | AJ23: 4 | AK23: 3
AA24: VIII | AB24: 25 | AC24: 15 | AD24: 13 | AE24: 7 | AF24: 6 | AG24: 5 | AH24: 4 | AI24: 3 | AJ24: 2 | AK24: 1
AA25: W | AB25: 15 | AC25: 10 | AD25: 8 | AE25: 4 | AF25: 3 | AG25: 2 | AH25: 1 | AI25: 0 | AJ25: 0 | AK25: 0
AA26: X | AB26: 10 | AC26: 6 | AD26: 4 | AE26: 2 | AF26: 1 | AG26: 0 | AH26: 0 | AI26: 0 | AJ26: 0 | AK26: 0
AA27: XI | AB27: 3 | AC27: 2 | AD27: 1 | AE27: 0 | AF27: 0 | AG27: 0 | AH27: 0 | AI27: 0 | AJ27: 0 | AK27: 0
A33: Rangsor | D33: # | E33: Kiemeltek | G33: # | H33: Szerencés Vesztes | J33: Helyettesíti | K33: Sorsolás időpontja
A34: Dátuma | G34: 1 | K34: Utolsó elfogadott játékos
A35: Utolsó DA | G35: 2
G36: 3 | K36: Sorsoló játékosok
G37: 4
G38: 5
G39: 6 | K39: Versenybíró aláírása
G40: 7
G41: 8 | K41: =M4 -> #REF!

Sheet III.fiúA
A1: 2026 Budapesti Diákolimpia | H1: Egyéni főtábla | AB1: =IF(Y5=1,CONCATENATE(VLOOKUP(Y3,AA16:AH27,2)),CONCATENATE(VLOOKUP(Y3,AA2:AK13,2))) -> #REF! | AC1: =IF(Y5=1,CONCATENATE(VLOOKUP(Y3,AA16:AK27,3)),CONCATENATE(VLOOKUP(Y3,AA2:AK13,3))) -> #REF! | AD1: =IF(Y5=1,CONCATENATE(VLOOKUP(Y3,AA16:AK27,4)),CONCATENATE(VLOOKUP(Y3,AA2:AK13,4))) -> #REF! | AE1: =IF(Y5=1,CONCATENATE(VLOOKUP(Y3,AA16:AK27,5)),CONCATENATE(VLOOKUP(Y3,AA2:AK13,5))) -> #REF! | AF1: =IF(Y5=1,CONCATENATE(VLOOKUP(Y3,AA16:AK27,6)),CONCATENATE(VLOOKUP(Y3,AA2:AK13,6))) -> #REF! | AG1: =IF(Y5=1,CONCATENATE(VLOOKUP(Y3,AA16:AK27,7)),CONCATENATE(VLOOKUP(Y3,AA2:AK13,7))) -> #REF! | AH1: =IF(Y5=1,CONCATENATE(VLOOKUP(Y3,AA16:AK27,8)),CONCATENATE(VLOOKUP(Y3,AA2:AK13,8))) -> #REF! | AI1: =IF(Y5=1,CONCATENATE(VLOOKUP(Y3,AA16:AK27,9)),CONCATENATE(VLOOKUP(Y3,AA2:AK13,9))) -> #REF! | AJ1: =IF(Y5=1,CONCATENATE(VLOOKUP(Y3,AA16:AK27,10)),CONCATENATE(VLOOKUP(Y3,AA2:AK13,10))) -> #REF! | AK1: =IF(Y5=1,CONCATENATE(VLOOKUP(Y3,AA16:AK27,11)),CONCATENATE(VLOOKUP(Y3,AA2:AK13,11))) -> #REF!
A2: Versenyszám: | E2: III.kcs fiú A | AA2: A | AB2: 150 | AC2: 120 | AD2: 100 | AE2: 80 | AF2: 70 | AG2: 60 | AH2: 55 | AI2: 50 | AJ2: 45 | AK2: 40
A3: Dátum | E3: Város | H3: Kategória | M3: Versenybíró | Q3: 1 FORDULÓ | R3: B - C | S3: A -D | Y3: =IF(H4="OB","A",IF(H4="IX","W",H4)) -> 0 | AA3: I | AB3: 120 | AC3: 90 | AD3: 65 | AE3: 55 | AF3: 50 | AG3: 45 | AH3: 40 | AI3: 35 | AJ3: 25 | AK3: 20
A4: 2026.04.27-30. | E4: Budapest | M4: =[4]Altalanos!$E$10 -> #REF! | Q4: 2 FORDULÓ | R4: C - A | S4: D - B | AA4: II | AB4: 90 | AC4: 60 | AD4: 45 | AE4: 34 | AF4: 27 | AG4: 22 | AH4: 18 | AI4: 15 | AJ4: 12 | AK4: 9
B5: kiem | C5: kódszám | D5: Rangsor | E5: Vezetéknév | G5: Keresztnév | I5: Egyesület | K5: Helyezés | L5: Pontszám | M5: Bónusz | Q5: 3 FORDULÓ | R5: A - B | S5: C - D | Y5: =IF(OR([4]Altalanos!$A$8="F1",[4]Altalanos!$A$8="F2",[4]Altalanos!$A$8="N1",[4]Altalanos!$A$8="N2"),1,2) -> #REF! | AA5: III | AB5: 60 | AC5: 40 | AD5: 30 | AE5: 20 | AF5: 18 | AG5: 15 | AH5: 12 | AI5: 10 | AJ5: 8 | AK5: 6
AA6: IV | AB6: 40 | AC6: 25 | AD6: 18 | AE6: 13 | AF6: 10 | AG6: 8 | AH6: 6 | AI6: 5 | AJ6: 4 | AK6: 3
A7: A | B7: 4 | C7: 0 | D7: 0 | E7: OLBRICH ÁDÁM | G7: 0 | I7: 0 | K7: III | AA7: V | AB7: 25 | AC7: 15 | AD7: 13 | AE7: 8 | AF7: 6 | AG7: 4 | AH7: 3 | AI7: 2 | AJ7: 1 | AK7: 0
AA8: VI | AB8: 15 | AC8: 10 | AD8: 7 | AE8: 5 | AF8: 4 | AG8: 3 | AH8: 2 | AI8: 1 | AJ8: 0 | AK8: 0
A9: B | B9: 1 | C9: 0 | D9: 0 | E9: NAGY KOLOS | G9: 0 | I9: 0 | AA9: VII | AB9: 10 | AC9: 6 | AD9: 4 | AE9: 2 | AF9: 1 | AG9: 0 | AH9: 0 | AI9: 0 | AJ9: 0 | AK9: 0
AA10: VIII | AB10: 6 | AC10: 3 | AD10: 2 | AE10: 1 | AF10: 0 | AG10: 0 | AH10: 0 | AI10: 0 | AJ10: 0 | AK10: 0
A11: C | B11: 3 | C11: 0 | D11: 0 | E11: BŐCZÉN MÁTÉ | G11: 0 | I11: 0 | K11: I | AA11: W | AB11: 3 | AC11: 2 | AD11: 1 | AE11: 0 | AF11: 0 | AG11: 0 | AH11: 0 | AI11: 0 | AJ11: 0 | AK11: 0
AA12: X | AB12: 0 | AC12: 0 | AD12: 0 | AE12: 0 | AF12: 0 | AG12: 0 | AH12: 0 | AI12: 0 | AJ12: 0 | AK12: 0
A13: D | B13: 2 | C13: 0 | D13: 0 | E13: OHLY BENCE | G13: 0 | I13: 0 | K13: II | AA13: XI | AB13: 0 | AC13: 0 | AD13: 0 | AE13: 0 | AF13: 0 | AG13: 0 | AH13: 0 | AI13: 0 | AJ13: 0 | AK13: 0
AA16: A | AB16: 300 | AC16: 250 | AD16: 220 | AE16: 180 | AF16: 160 | AG16: 150 | AH16: 140 | AI16: 130 | AJ16: 120 | AK16: 110
AA17: I | AB17: 250 | AC17: 200 | AD17: 160 | AE17: 140 | AF17: 120 | AG17: 110 | AH17: 100 | AI17: 90 | AJ17: 80 | AK17: 70
D18: OLBRICH ÁDÁM | F18: NAGY KOLOS | H18: BŐCZÉN MÁTÉ | J18: OHLY BENCE | AA18: II | AB18: 200 | AC18: 150 | AD18: 130 | AE18: 110 | AF18: 95 | AG18: 80 | AH18: 70 | AI18: 60 | AJ18: 55 | AK18: 50
A19: A | B19: OLBRICH ÁDÁM | F19: jn ny | H19: 2/4 | J19: 0/4 | AA19: III | AB19: 150 | AC19: 120 | AD19: 100 | AE19: 80 | AF19: 70 | AG19: 60 | AH19: 55 | AI19: 50 | AJ19: 45 | AK19: 40
A20: B | B20: NAGY KOLOS | D20: jn v | H20: jn v | J20: jn v | AA20: IV | AB20: 120 | AC20: 90 | AD20: 65 | AE20: 55 | AF20: 50 | AG20: 45 | AH20: 40 | AI20: 35 | AJ20: 25 | AK20: 20
A21: C | B21: BŐCZÉN MÁTÉ | D21: 4/2 | F21: jn ny | J21: 4/2 | AA21: V | AB21: 90 | AC21: 60 | AD21: 45 | AE21: 34 | AF21: 27 | AG21: 22 | AH21: 18 | AI21: 15 | AJ21: 12 | AK21: 9
A22: D | B22: OHLY BENCE | D22: 4/0 | F22: jn ny | H22: 2/4 | AA22: VI | AB22: 60 | AC22: 40 | AD22: 30 | AE22: 20 | AF22: 18 | AG22: 15 | AH22: 12 | AI22: 10 | AJ22: 8 | AK22: 6
AA23: VII | AB23: 40 | AC23: 25 | AD23: 18 | AE23: 13 | AF23: 8 | AG23: 7 | AH23: 6 | AI23: 5 | AJ23: 4 | AK23: 3
AA24: VIII | AB24: 25 | AC24: 15 | AD24: 13 | AE24: 7 | AF24: 6 | AG24: 5 | AH24: 4 | AI24: 3 | AJ24: 2 | AK24: 1
AA25: W | AB25: 15 | AC25: 10 | AD25: 8 | AE25: 4 | AF25: 3 | AG25: 2 | AH25: 1 | AI25: 0 | AJ25: 0 | AK25: 0
AA26: X | AB26: 10 | AC26: 6 | AD26: 4 | AE26: 2 | AF26: 1 | AG26: 0 | AH26: 0 | AI26: 0 | AJ26: 0 | AK26: 0
AA27: XI | AB27: 3 | AC27: 2 | AD27: 1 | AE27: 0 | AF27: 0 | AG27: 0 | AH27: 0 | AI27: 0 | AJ27: 0 | AK27: 0
A33: Rangsor | D33: # | E33: Kiemeltek | G33: # | H33: Szerencés Vesztes | J33: Helyettesíti | K33: Sorsolás időpontja
A34: Dátuma | G34: 1 | K34: Utolsó elfogadott játékos
A35: Utolsó DA | G35: 2
G36: 3 | K36: Sorsoló játékosok
G37: 4
G38: 5
G39: 6 | K39: Versenybíró aláírása
G40: 7
G41: 8 | K41: =M4 -> #REF!

Sheet III.lány B
A1: 2026 Budapesti Diákolimpia | H1: Egyéni főtábla | AB1: =IF(Y5=1,CONCATENATE(VLOOKUP(Y3,AA16:AH27,2)),CONCATENATE(VLOOKUP(Y3,AA2:AK13,2))) -> #REF! | AC1: =IF(Y5=1,CONCATENATE(VLOOKUP(Y3,AA16:AK27,3)),CONCATENATE(VLOOKUP(Y3,AA2:AK13,3))) -> #REF! | AD1: =IF(Y5=1,CONCATENATE(VLOOKUP(Y3,AA16:AK27,4)),CONCATENATE(VLOOKUP(Y3,AA2:AK13,4))) -> #REF! | AE1: =IF(Y5=1,CONCATENATE(VLOOKUP(Y3,AA16:AK27,5)),CONCATENATE(VLOOKUP(Y3,AA2:AK13,5))) -> #REF! | AF1: =IF(Y5=1,CONCATENATE(VLOOKUP(Y3,AA16:AK27,6)),CONCATENATE(VLOOKUP(Y3,AA2:AK13,6))) -> #REF! | AG1: =IF(Y5=1,CONCATENATE(VLOOKUP(Y3,AA16:AK27,7)),CONCATENATE(VLOOKUP(Y3,AA2:AK13,7))) -> #REF! | AH1: =IF(Y5=1,CONCATENATE(VLOOKUP(Y3,AA16:AK27,8)),CONCATENATE(VLOOKUP(Y3,AA2:AK13,8))) -> #REF! | AI1: =IF(Y5=1,CONCATENATE(VLOOKUP(Y3,AA16:AK27,9)),CONCATENATE(VLOOKUP(Y3,AA2:AK13,9))) -> #REF! | AJ1: =IF(Y5=1,CONCATENATE(VLOOKUP(Y3,AA16:AK27,10)),CONCATENATE(VLOOKUP(Y3,AA2:AK13,10))) -> #REF! | AK1: =IF(Y5=1,CONCATENATE(VLOOKUP(Y3,AA16:AK27,11)),CONCATENATE(VLOOKUP(Y3,AA2:AK13,11))) -> #REF!
A2: Versenyszám: | E2: III.kcs lány B | AA2: A | AB2: 150 | AC2: 120 | AD2: 100 | AE2: 80 | AF2: 70 | AG2: 60 | AH2: 55 | AI2: 50 | AJ2: 45 | AK2: 40
A3: Dátum | E3: Város | H3: Kategória | M3: Versenybíró | Q3: 1 FORDULÓ | R3: B - C | S3: A -D | Y3: =IF(H4="OB","A",IF(H4="IX","W",H4)) -> 0 | AA3: I | AB3: 120 | AC3: 90 | AD3: 65 | AE3: 55 | AF3: 50 | AG3: 45 | AH3: 40 | AI3: 35 | AJ3: 25 | AK3: 20
A4: 2026.04.27-30. | E4: Budapest | M4: =[4]Altalanos!$E$10 -> #REF! | Q4: 2 FORDULÓ | R4: C - A | S4: D - B | AA4: II | AB4: 90 | AC4: 60 | AD4: 45 | AE4: 34 | AF4: 27 | AG4: 22 | AH4: 18 | AI4: 15 | AJ4: 12 | AK4: 9
B5: kiem | C5: kódszám | D5: Rangsor | E5: Vezetéknév | G5: Keresztnév | I5: Egyesület | K5: Helyezés | L5: Pontszám | M5: Bónusz | Q5: 3 FORDULÓ | R5: A - B | S5: C - D | Y5: =IF(OR([4]Altalanos!$A$8="F1",[4]Altalanos!$A$8="F2",[4]Altalanos!$A$8="N1",[4]Altalanos!$A$8="N2"),1,2) -> #REF! | AA5: III | AB5: 60 | AC5: 40 | AD5: 30 | AE5: 20 | AF5: 18 | AG5: 15 | AH5: 12 | AI5: 10 | AJ5: 8 | AK5: 6
AA6: IV | AB6: 40 | AC6: 25 | AD6: 18 | AE6: 13 | AF6: 10 | AG6: 8 | AH6: 6 | AI6: 5 | AJ6: 4 | AK6: 3
A7: A | B7: 1 | C7: 0 | D7: 0 | E7: NAGY-GONDA ADÉL | G7: 0 | I7: 0 | K7: III | AA7: V | AB7: 25 | AC7: 15 | AD7: 13 | AE7: 8 | AF7: 6 | AG7: 4 | AH7: 3 | AI7: 2 | AJ7: 1 | AK7: 0
AA8: VI | AB8: 15 | AC8: 10 | AD8: 7 | AE8: 5 | AF8: 4 | AG8: 3 | AH8: 2 | AI8: 1 | AJ8: 0 | AK8: 0
A9: B | B9: 3 | C9: 0 | D9: 0 | E9: CSÁSZÁR VIRGINIA | G9: 0 | I9: 0 | K9: II | AA9: VII | AB9: 10 | AC9: 6 | AD9: 4 | AE9: 2 | AF9: 1 | AG9: 0 | AH9: 0 | AI9: 0 | AJ9: 0 | AK9: 0
AA10: VIII | AB10: 6 | AC10: 3 | AD10: 2 | AE10: 1 | AF10: 0 | AG10: 0 | AH10: 0 | AI10: 0 | AJ10: 0 | AK10: 0
A11: C | B11: 4 | C11: 0 | D11: 0 | E11: PUMB ADÉL NÓRA | G11: 0 | I11: 0 | K11: I | AA11: W | AB11: 3 | AC11: 2 | AD11: 1 | AE11: 0 | AF11: 0 | AG11: 0 | AH11: 0 | AI11: 0 | AJ11: 0 | AK11: 0
AA12: X | AB12: 0 | AC12: 0 | AD12: 0 | AE12: 0 | AF12: 0 | AG12: 0 | AH12: 0 | AI12: 0 | AJ12: 0 | AK12: 0
A13: D | B13: 2 | C13: 0 | D13: 0 | E13: ZÁBÓ ZITA | G13: 0 | I13: 0 | AA13: XI | AB13: 0 | AC13: 0 | AD13: 0 | AE13: 0 | AF13: 0 | AG13: 0 | AH13: 0 | AI13: 0 | AJ13: 0 | AK13: 0
AA16: A | AB16: 300 | AC16: 250 | AD16: 220 | AE16: 180 | AF16: 160 | AG16: 150 | AH16: 140 | AI16: 130 | AJ16: 120 | AK16: 110
AA17: I | AB17: 250 | AC17: 200 | AD17: 160 | AE17: 140 | AF17: 120 | AG17: 110 | AH17: 100 | AI17: 90 | AJ17: 80 | AK17: 70
D18: NAGY-GONDA ADÉL | F18: CSÁSZÁR VIRGINIA | H18: PUMB ADÉL NÓRA | J18: ZÁBÓ ZITA | AA18: II | AB18: 200 | AC18: 150 | AD18: 130 | AE18: 110 | AF18: 95 | AG18: 80 | AH18: 70 | AI18: 60 | AJ18: 55 | AK18: 50
A19: A | B19: NAGY-GONDA ADÉL | F19: 1/4 | H19: 0/4 | J19: jn ny | AA19: III | AB19: 150 | AC19: 120 | AD19: 100 | AE19: 80 | AF19: 70 | AG19: 60 | AH19: 55 | AI19: 50 | AJ19: 45 | AK19: 40
A20: B | B20: CSÁSZÁR VIRGINIA | D20: 4/1 | H20: 0/4 | J20: jn ny | AA20: IV | AB20: 120 | AC20: 90 | AD20: 65 | AE20: 55 | AF20: 50 | AG20: 45 | AH20: 40 | AI20: 35 | AJ20: 25 | AK20: 20
A21: C | B21: PUMB ADÉL NÓRA | D21: 4/0 | F21: 4/0 | J21: jn ny | AA21: V | AB21: 90 | AC21: 60 | AD21: 45 | AE21: 34 | AF21: 27 | AG21: 22 | AH21: 18 | AI21: 15 | AJ21: 12 | AK21: 9
A22: D | B22: ZÁBÓ ZITA | D22: jn v | F22: jn v | H22: jn v | AA22: VI | AB22: 60 | AC22: 40 | AD22: 30 | AE22: 20 | AF22: 18 | AG22: 15 | AH22: 12 | AI22: 10 | AJ22: 8 | AK22: 6
AA23: VII | AB23: 40 | AC23: 25 | AD23: 18 | AE23: 13 | AF23: 8 | AG23: 7 | AH23: 6 | AI23: 5 | AJ23: 4 | AK23: 3
AA24: VIII | AB24: 25 | AC24: 15 | AD24: 13 | AE24: 7 | AF24: 6 | AG24: 5 | AH24: 4 | AI24: 3 | AJ24: 2 | AK24: 1
AA25: W | AB25: 15 | AC25: 10 | AD25: 8 | AE25: 4 | AF25: 3 | AG25: 2 | AH25: 1 | AI25: 0 | AJ25: 0 | AK25: 0
AA26: X | AB26: 10 | AC26: 6 | AD26: 4 | AE26: 2 | AF26: 1 | AG26: 0 | AH26: 0 | AI26: 0 | AJ26: 0 | AK26: 0
AA27: XI | AB27: 3 | AC27: 2 | AD27: 1 | AE27: 0 | AF27: 0 | AG27: 0 | AH27: 0 | AI27: 0 | AJ27: 0 | AK27: 0
A33: Rangsor | D33: # | E33: Kiemeltek | G33: # | H33: Szerencés Vesztes | J33: Helyettesíti | K33: Sorsolás időpontja
A34: Dátuma | G34: 1 | K34: Utolsó elfogadott játékos
A35: Utolsó DA | G35: 2
G36: 3 | K36: Sorsoló játékosok
G37: 4
G38: 5
G39: 6 | K39: Versenybíró aláírása
G40: 7
G41: 8 | K41: =M4 -> #REF!

Sheet IV.fiúA
A1: 2026 Budapesti Diákolimpia | H1: Egyéni főtábla | AB1: =IF(Y5=1,CONCATENATE(VLOOKUP(Y3,AA16:AH27,2)),CONCATENATE(VLOOKUP(Y3,AA2:AK13,2))) -> #REF! | AC1: =IF(Y5=1,CONCATENATE(VLOOKUP(Y3,AA16:AK27,3)),CONCATENATE(VLOOKUP(Y3,AA2:AK13,3))) -> #REF! | AD1: =IF(Y5=1,CONCATENATE(VLOOKUP(Y3,AA16:AK27,4)),CONCATENATE(VLOOKUP(Y3,AA2:AK13,4))) -> #REF! | AE1: =IF(Y5=1,CONCATENATE(VLOOKUP(Y3,AA16:AK27,5)),CONCATENATE(VLOOKUP(Y3,AA2:AK13,5))) -> #REF! | AF1: =IF(Y5=1,CONCATENATE(VLOOKUP(Y3,AA16:AK27,6)),CONCATENATE(VLOOKUP(Y3,AA2:AK13,6))) -> #REF! | AG1: =IF(Y5=1,CONCATENATE(VLOOKUP(Y3,AA16:AK27,7)),CONCATENATE(VLOOKUP(Y3,AA2:AK13,7))) -> #REF! | AH1: =IF(Y5=1,CONCATENATE(VLOOKUP(Y3,AA16:AK27,8)),CONCATENATE(VLOOKUP(Y3,AA2:AK13,8))) -> #REF! | AI1: =IF(Y5=1,CONCATENATE(VLOOKUP(Y3,AA16:AK27,9)),CONCATENATE(VLOOKUP(Y3,AA2:AK13,9))) -> #REF! | AJ1: =IF(Y5=1,CONCATENATE(VLOOKUP(Y3,AA16:AK27,10)),CONCATENATE(VLOOKUP(Y3,AA2:AK13,10))) -> #REF! | AK1: =IF(Y5=1,CONCATENATE(VLOOKUP(Y3,AA16:AK27,11)),CONCATENATE(VLOOKUP(Y3,AA2:AK13,11))) -> #REF!
A2: Versenyszám: | E2: IV.kcs fiú A | AA2: A | AB2: 150 | AC2: 120 | AD2: 100 | AE2: 80 | AF2: 70 | AG2: 60 | AH2: 55 | AI2: 50 | AJ2: 45 | AK2: 40
A3: Dátum | E3: Város | H3: Kategória | L3: Versenybíró | Y3: =IF(H4="OB","A",IF(H4="IX","W",H4)) -> 0 | AA3: I | AB3: 120 | AC3: 90 | AD3: 65 | AE3: 55 | AF3: 50 | AG3: 45 | AH3: 40 | AI3: 35 | AJ3: 25 | AK3: 20
A4: 2026.04.27-30. | E4: Budapest | L4: =[5]Altalanos!$E$10 -> #REF! | AA4: II | AB4: 90 | AC4: 60 | AD4: 45 | AE4: 34 | AF4: 27 | AG4: 22 | AH4: 18 | AI4: 15 | AJ4: 12 | AK4: 9
B5: kiem | C5: kódszám | D5: Rangsor | E5: Vezetéknév | G5: Keresztnév | I5: Egyesület | K5: Helyezés | L5: Pontszám | M5: Bónusz | O5: 1 FORDULÓ | P5: B - C | R5: 1 FORDULÓ | S5: E - F | Y5: =IF(OR([5]Altalanos!$A$8="F1",[5]Altalanos!$A$8="F2",[5]Altalanos!$A$8="N1",[5]Altalanos!$A$8="N2"),1,2) -> #REF! | AA5: III | AB5: 60 | AC5: 40 | AD5: 30 | AE5: 20 | AF5: 18 | AG5: 15 | AH5: 12 | AI5: 10 | AJ5: 8 | AK5: 6
O6: 2 FORDULÓ | P6: C - A | R6: 2 FORDULÓ | S6: F - D | AA6: IV | AB6: 40 | AC6: 25 | AD6: 18 | AE6: 13 | AF6: 10 | AG6: 8 | AH6: 6 | AI6: 5 | AJ6: 4 | AK6: 3
A7: A | B7: 1 | C7: 0 | D7: 0 | E7: SIMON KENDE ZALÁN | G7: 0 | I7: 0 | K7: II | O7: 3 FORDULÓ | P7: A - B | R7: 3 FORDULÓ | S7: D - E | AA7: V | AB7: 25 | AC7: 15 | AD7: 13 | AE7: 8 | AF7: 6 | AG7: 4 | AH7: 3 | AI7: 2 | AJ7: 1 | AK7: 0
AA8: VI | AB8: 15 | AC8: 10 | AD8: 7 | AE8: 5 | AF8: 4 | AG8: 3 | AH8: 2 | AI8: 1 | AJ8: 0 | AK8: 0
A9: B | B9: 4 | C9: 0 | D9: 0 | E9: SZEKERES ISTVÁN | G9: 0 | I9: 0 | L9: =IF(K9="","",CONCATENATE(VLOOKUP($Y$3,$AB$1:$AK$1,K9)," pont")) | AA9: VII | AB9: 10 | AC9: 6 | AD9: 4 | AE9: 2 | AF9: 1 | AG9: 0 | AH9: 0 | AI9: 0 | AJ9: 0 | AK9: 0
AA10: VIII | AB10: 6 | AC10: 3 | AD10: 2 | AE10: 1 | AF10: 0 | AG10: 0 | AH10: 0 | AI10: 0 | AJ10: 0 | AK10: 0
A11: C | B11: 5 | C11: 0 | D11: 0 | E11: GYÖRGYDEÁK ÁKOS | G11: 0 | I11: 0 | L11: =IF(K11="","",CONCATENATE(VLOOKUP($Y$3,$AB$1:$AK$1,K11)," pont")) | AA11: W | AB11: 3 | AC11: 2 | AD11: 1 | AE11: 0 | AF11: 0 | AG11: 0 | AH11: 0 | AI11: 0 | AJ11: 0 | AK11: 0
AA12: X | AB12: 0 | AC12: 0 | AD12: 0 | AE12: 0 | AF12: 0 | AG12: 0 | AH12: 0 | AI12: 0 | AJ12: 0 | AK12: 0
A13: D | B13: 2 | C13: 0 | D13: 0 | E13: PÖRZSE LÉNÁRD TAMÁS | G13: 0 | I13: 0 | K13: I | AA13: XI | AB13: 0 | AC13: 0 | AD13: 0 | AE13: 0 | AF13: 0 | AG13: 0 | AH13: 0 | AI13: 0 | AJ13: 0 | AK13: 0
A15: E | B15: 6 | C15: 0 | D15: 0 | E15: TENKE TRISZTÁN | G15: 0 | I15: 0 | L15: =IF(K15="","",CONCATENATE(VLOOKUP($Y$3,$AB$1:$AK$1,K15)," pont"))
AA16: A | AB16: 300 | AC16: 250 | AD16: 220 | AE16: 180 | AF16: 160 | AG16: 150 | AH16: 140 | AI16: 130 | AJ16: 120 | AK16: 110
A17: F | B17: 3 | C17: 0 | D17: 0 | E17: ROSTÁS-KOCSIS ÁRON | G17: 0 | I17: 0 | K17: III | AA17: I | AB17: 250 | AC17: 200 | AD17: 160 | AE17: 140 | AF17: 120 | AG17: 110 | AH17: 100 | AI17: 90 | AJ17: 80 | AK17: 70
AA18: II | AB18: 200 | AC18: 150 | AD18: 130 | AE18: 110 | AF18: 95 | AG18: 80 | AH18: 70 | AI18: 60 | AJ18: 55 | AK18: 50
AA19: III | AB19: 150 | AC19: 120 | AD19: 100 | AE19: 80 | AF19: 70 | AG19: 60 | AH19: 55 | AI19: 50 | AJ19: 45 | AK19: 40
AA20: IV | AB20: 120 | AC20: 90 | AD20: 65 | AE20: 55 | AF20: 50 | AG20: 45 | AH20: 40 | AI20: 35 | AJ20: 25 | AK20: 20
AA21: V | AB21: 90 | AC21: 60 | AD21: 45 | AE21: 34 | AF21: 27 | AG21: 22 | AH21: 18 | AI21: 15 | AJ21: 12 | AK21: 9
D22: SIMON KENDE ZALÁN | F22: SZEKERES ISTVÁN | H22: GYÖRGYDEÁK ÁKOS | M22: Helyezés | AA22: VI | AB22: 60 | AC22: 40 | AD22: 30 | AE22: 20 | AF22: 18 | AG22: 15 | AH22: 12 | AI22: 10 | AJ22: 8 | AK22: 6
A23: A | B23: SIMON KENDE ZALÁN | F23: jn | H23: 4/0 4/0 | M23: 1 | AA23: VII | AB23: 40 | AC23: 25 | AD23: 18 | AE23: 13 | AF23: 8 | AG23: 7 | AH23: 6 | AI23: 5 | AJ23: 4 | AK23: 3
A24: B | B24: SZEKERES ISTVÁN | D24: jn | H24: jn | AA24: VIII | AB24: 25 | AC24: 15 | AD24: 13 | AE24: 7 | AF24: 6 | AG24: 5 | AH24: 4 | AI24: 3 | AJ24: 2 | AK24: 1
A25: C | B25: GYÖRGYDEÁK ÁKOS | D25: 0/4 0/4 | F25: jn | M25: 2 | AA25: W | AB25: 15 | AC25: 10 | AD25: 8 | AE25: 4 | AF25: 3 | AG25: 2 | AH25: 1 | AI25: 0 | AJ25: 0 | AK25: 0
AA26: X | AB26: 10 | AC26: 6 | AD26: 4 | AE26: 2 | AF26: 1 | AG26: 0 | AH26: 0 | AI26: 0 | AJ26: 0 | AK26: 0
D27: PÖRZSE LÉNÁRD TAMÁS | F27: TENKE TRISZTÁN | H27: ROSTÁS-KOCSIS ÁRON | AA27: XI | AB27: 3 | AC27: 2 | AD27: 1 | AE27: 0 | AF27: 0 | AG27: 0 | AH27: 0 | AI27: 0 | AJ27: 0 | AK27: 0
A28: D | B28: PÖRZSE LÉNÁRD TAMÁS | F28: 4/0 4/0 | H28: 4/1 4/0 | M28: 1
A29: E | B29: TENKE TRISZTÁN | D29: 0/4 0/4 | H29: 0/4 0/4
A30: F | B30: ROSTÁS-KOCSIS ÁRON | D30: 1/4 0/4 | F30: 4/0 4/0 | M30: 2
A32: Döntő | C32: =IF(M23=1,B23,IF(M24=1,B24,IF(M25=1,B25,""))) -> SIMON KENDE ZALÁN | E32: vs. | F32: =IF(M28=1,B28,IF(M29=1,B29,IF(M30=1,B30,""))) -> PÖRZSE LÉNÁRD TAMÁS | I32: 4/2 4/2
A34: 3. hely | C34: =IF(M23=2,B23,IF(M24=2,B24,IF(M25=2,B25,""))) -> GYÖRGYDEÁK ÁKOS | E34: vs. | F34: =IF(M28=2,B28,IF(M29=2,B29,IF(M30=2,B30,""))) -> ROSTÁS-KOCSIS ÁRON | I34: jn
A36: 5. hely | C36: =IF(M23=3,B23,IF(M24=3,B24,IF(M25=3,B25,""))) | E36: vs. | F36: =IF(M28=3,B28,IF(M29=3,B29,IF(M30=3,B30,"")))
A39: Rangsor | D39: # | E39: Kiemeltek | G39: # | H39: Szerencés Vesztes | J39: Helyettesíti | K39: Sorsolás időpontja
A40: Dátuma | D40: 1 | E40: =IF(D40>$R$47,,UPPER(VLOOKUP(D40,'[5]1MD ELO'!$A$7:$Q$134,2))) -> #REF! | G40: 1 | K40: Utolsó elfogadott játékos
A41: Utolsó DA | D41: 2 | E41: =IF(D41>$R$47,,UPPER(VLOOKUP(D41,'[5]1MD ELO'!$A$7:$Q$134,2))) -> #REF! | G41: 2
G42: 3 | K42: Sorsoló játékosok
G43: 4
G44: 5
G45: 6 | K45: Versenybíró aláírása
G46: 7
G47: 8 | K47: =L4 -> #REF! | R47: =MIN(4,'[5]1MD ELO'!Q5) -> #REF!

Sheet IV.fiúB
A1: 2026 Budapesti Diákolimpia | H1: Egyéni főtábla | AB1: =IF(Y5=1,CONCATENATE(VLOOKUP(Y3,AA16:AH27,2)),CONCATENATE(VLOOKUP(Y3,AA2:AK13,2))) -> #REF! | AC1: =IF(Y5=1,CONCATENATE(VLOOKUP(Y3,AA16:AK27,3)),CONCATENATE(VLOOKUP(Y3,AA2:AK13,3))) -> #REF! | AD1: =IF(Y5=1,CONCATENATE(VLOOKUP(Y3,AA16:AK27,4)),CONCATENATE(VLOOKUP(Y3,AA2:AK13,4))) -> #REF! | AE1: =IF(Y5=1,CONCATENATE(VLOOKUP(Y3,AA16:AK27,5)),CONCATENATE(VLOOKUP(Y3,AA2:AK13,5))) -> #REF! | AF1: =IF(Y5=1,CONCATENATE(VLOOKUP(Y3,AA16:AK27,6)),CONCATENATE(VLOOKUP(Y3,AA2:AK13,6))) -> #REF! | AG1: =IF(Y5=1,CONCATENATE(VLOOKUP(Y3,AA16:AK27,7)),CONCATENATE(VLOOKUP(Y3,AA2:AK13,7))) -> #REF! | AH1: =IF(Y5=1,CONCATENATE(VLOOKUP(Y3,AA16:AK27,8)),CONCATENATE(VLOOKUP(Y3,AA2:AK13,8))) -> #REF! | AI1: =IF(Y5=1,CONCATENATE(VLOOKUP(Y3,AA16:AK27,9)),CONCATENATE(VLOOKUP(Y3,AA2:AK13,9))) -> #REF! | AJ1: =IF(Y5=1,CONCATENATE(VLOOKUP(Y3,AA16:AK27,10)),CONCATENATE(VLOOKUP(Y3,AA2:AK13,10))) -> #REF! | AK1: =IF(Y5=1,CONCATENATE(VLOOKUP(Y3,AA16:AK27,11)),CONCATENATE(VLOOKUP(Y3,AA2:AK13,11))) -> #REF!
A2: Versenyszám: | E2: IV.kcs fiú B | AA2: A | AB2: 150 | AC2: 120 | AD2: 100 | AE2: 80 | AF2: 70 | AG2: 60 | AH2: 55 | AI2: 50 | AJ2: 45 | AK2: 40
A3: Dátum | E3: Város | H3: Kategória | L3: Versenybíró | Y3: =IF(H4="OB","A",IF(H4="IX","W",H4)) -> 0 | AA3: I | AB3: 120 | AC3: 90 | AD3: 65 | AE3: 55 | AF3: 50 | AG3: 45 | AH3: 40 | AI3: 35 | AJ3: 25 | AK3: 20
A4: 2026.04.27-30. | E4: Budapest | L4: Kádár László István | P4: 1 FORDULÓ | Q4: B - E | R4: C - D | AA4: II | AB4: 90 | AC4: 60 | AD4: 45 | AE4: 34 | AF4: 27 | AG4: 22 | AH4: 18 | AI4: 15 | AJ4: 12 | AK4: 9
B5: kiem | C5: kódszám | D5: Rangsor | E5: Vezetéknév | G5: Keresztnév | I5: Egyesület | K5: Helyezés | L5: Pontszám | M5: Bónusz | P5: 2 FORDULÓ | Q5: D - B | R5: E - A | Y5: =IF(OR([4]Altalanos!$A$8="F1",[4]Altalanos!$A$8="F2",[4]Altalanos!$A$8="N1",[4]Altalanos!$A$8="N2"),1,2) -> #REF! | AA5: III | AB5: 60 | AC5: 40 | AD5: 30 | AE5: 20 | AF5: 18 | AG5: 15 | AH5: 12 | AI5: 10 | AJ5: 8 | AK5: 6
P6: 3 FORDULÓ | Q6: A - D | R6: B - C | AA6: IV | AB6: 40 | AC6: 25 | AD6: 18 | AE6: 13 | AF6: 10 | AG6: 8 | AH6: 6 | AI6: 5 | AJ6: 4 | AK6: 3
A7: A | B7: 3 | C7: 0 | D7: 0 | E7: TATÁR SOMA | G7: 0 | I7: 0 | P7: 4 FORDULÓ | Q7: C - A | R7: D - E | AA7: V | AB7: 25 | AC7: 15 | AD7: 13 | AE7: 8 | AF7: 6 | AG7: 4 | AH7: 3 | AI7: 2 | AJ7: 1 | AK7: 0
P8: 5 FORDULÓ | Q8: A - B | R8: E - C | AA8: VI | AB8: 15 | AC8: 10 | AD8: 7 | AE8: 5 | AF8: 4 | AG8: 3 | AH8: 2 | AI8: 1 | AJ8: 0 | AK8: 0
A9: B | B9: 1 | C9: 0 | D9: 0 | E9: EKE DOMONKOS | G9: 0 | I9: 0 | K9: II | AA9: VII | AB9: 10 | AC9: 6 | AD9: 4 | AE9: 2 | AF9: 1 | AG9: 0 | AH9: 0 | AI9: 0 | AJ9: 0 | AK9: 0
AA10: VIII | AB10: 6 | AC10: 3 | AD10: 2 | AE10: 1 | AF10: 0 | AG10: 0 | AH10: 0 | AI10: 0 | AJ10: 0 | AK10: 0
A11: C | B11: 5 | C11: 0 | D11: 0 | E11: HALAS TAMÁS BENEDEK | G11: 0 | I11: 0 | K11: I | AA11: W | AB11: 3 | AC11: 2 | AD11: 1 | AE11: 0 | AF11: 0 | AG11: 0 | AH11: 0 | AI11: 0 | AJ11: 0 | AK11: 0
AA12: X | AB12: 0 | AC12: 0 | AD12: 0 | AE12: 0 | AF12: 0 | AG12: 0 | AH12: 0 | AI12: 0 | AJ12: 0 | AK12: 0
A13: D | B13: 4 | C13: 0 | D13: 0 | E13: BENCSIK BALÁZS | G13: 0 | I13: 0 | AA13: XI | AB13: 0 | AC13: 0 | AD13: 0 | AE13: 0 | AF13: 0 | AG13: 0 | AH13: 0 | AI13: 0 | AJ13: 0 | AK13: 0
A15: E | B15: 2 | C15: 0 | D15: 0 | E15: SZAJCZ BALÁZS | G15: 0 | I15: 0 | K15: III
AA16: A | AB16: 300 | AC16: 250 | AD16: 220 | AE16: 180 | AF16: 160 | AG16: 150 | AH16: 140 | AI16: 130 | AJ16: 120 | AK16: 110
AA17: I | AB17: 250 | AC17: 200 | AD17: 160 | AE17: 140 | AF17: 120 | AG17: 110 | AH17: 100 | AI17: 90 | AJ17: 80 | AK17: 70
D18: TATÁR SOMA | F18: EKE DOMONKOS | H18: HALAS TAMÁS BENEDEK | J18: BENCSIK BALÁZS | L18: SZAJCZ BALÁZS | AA18: II | AB18: 200 | AC18: 150 | AD18: 130 | AE18: 110 | AF18: 95 | AG18: 80 | AH18: 70 | AI18: 60 | AJ18: 55 | AK18: 50
A19: A | B19: TATÁR SOMA | F19: 1/4 0/4 | H19: 0/4 1/4 | J19: jn | L19: 4/5 4/2 8/10 | AA19: III | AB19: 150 | AC19: 120 | AD19: 100 | AE19: 80 | AF19: 70 | AG19: 60 | AH19: 55 | AI19: 50 | AJ19: 45 | AK19: 40
A20: B | B20: EKE DOMONKOS | D20: 4/1 4/0 | H20: 0/4 0/4 | J20: jn | L20: 4/0 4/2 | AA20: IV | AB20: 120 | AC20: 90 | AD20: 65 | AE20: 55 | AF20: 50 | AG20: 45 | AH20: 40 | AI20: 35 | AJ20: 25 | AK20: 20
A21: C | B21: HALAS TAMÁS BENEDEK | D21: 4/0 4/1 | F21: 4/0 4/0 | J21: jn | L21: 4/0 4/0 | AA21: V | AB21: 90 | AC21: 60 | AD21: 45 | AE21: 34 | AF21: 27 | AG21: 22 | AH21: 18 | AI21: 15 | AJ21: 12 | AK21: 9
A22: D | B22: BENCSIK BALÁZS | D22: jn | F22: jn | H22: jn | L22: jn | AA22: VI | AB22: 60 | AC22: 40 | AD22: 30 | AE22: 20 | AF22: 18 | AG22: 15 | AH22: 12 | AI22: 10 | AJ22: 8 | AK22: 6
A23: E | B23: SZAJCZ BALÁZS | D23: 5/4 2/4 10/8 | F23: 0/4 2/4 | H23: 0/4 0/4 | J23: jn | AA23: VII | AB23: 40 | AC23: 25 | AD23: 18 | AE23: 13 | AF23: 8 | AG23: 7 | AH23: 6 | AI23: 5 | AJ23: 4 | AK23: 3
AA24: VIII | AB24: 25 | AC24: 15 | AD24: 13 | AE24: 7 | AF24: 6 | AG24: 5 | AH24: 4 | AI24: 3 | AJ24: 2 | AK24: 1
AA25: W | AB25: 15 | AC25: 10 | AD25: 8 | AE25: 4 | AF25: 3 | AG25: 2 | AH25: 1 | AI25: 0 | AJ25: 0 | AK25: 0
AA26: X | AB26: 10 | AC26: 6 | AD26: 4 | AE26: 2 | AF26: 1 | AG26: 0 | AH26: 0 | AI26: 0 | AJ26: 0 | AK26: 0
AA27: XI | AB27: 3 | AC27: 2 | AD27: 1 | AE27: 0 | AF27: 0 | AG27: 0 | AH27: 0 | AI27: 0 | AJ27: 0 | AK27: 0
A33: Rangsor | D33: # | E33: Kiemeltek | G33: # | H33: Szerencés Vesztes | J33: Helyettesíti | K33: Sorsolás időpontja
A34: Dátuma | G34: 1 | K34: Utolsó elfogadott játékos
A35: Utolsó DA | G35: 2
G36: 3 | K36: Sorsoló játékosok
G37: 4
G38: 5
G39: 6 | K39: Versenybíró aláírása
G40: 7
G41: 8 | K41: =L4 -> Kádár László István

Sheet IV.lány A
A1: 2026 Budapesti Diákolimpia | H1: Egyéni főtábla | AB1: =IF(Y5=1,CONCATENATE(VLOOKUP(Y3,AA16:AH27,2)),CONCATENATE(VLOOKUP(Y3,AA2:AK13,2))) -> #REF! | AC1: =IF(Y5=1,CONCATENATE(VLOOKUP(Y3,AA16:AK27,3)),CONCATENATE(VLOOKUP(Y3,AA2:AK13,3))) -> #REF! | AD1: =IF(Y5=1,CONCATENATE(VLOOKUP(Y3,AA16:AK27,4)),CONCATENATE(VLOOKUP(Y3,AA2:AK13,4))) -> #REF! | AE1: =IF(Y5=1,CONCATENATE(VLOOKUP(Y3,AA16:AK27,5)),CONCATENATE(VLOOKUP(Y3,AA2:AK13,5))) -> #REF! | AF1: =IF(Y5=1,CONCATENATE(VLOOKUP(Y3,AA16:AK27,6)),CONCATENATE(VLOOKUP(Y3,AA2:AK13,6))) -> #REF! | AG1: =IF(Y5=1,CONCATENATE(VLOOKUP(Y3,AA16:AK27,7)),CONCATENATE(VLOOKUP(Y3,AA2:AK13,7))) -> #REF! | AH1: =IF(Y5=1,CONCATENATE(VLOOKUP(Y3,AA16:AK27,8)),CONCATENATE(VLOOKUP(Y3,AA2:AK13,8))) -> #REF! | AI1: =IF(Y5=1,CONCATENATE(VLOOKUP(Y3,AA16:AK27,9)),CONCATENATE(VLOOKUP(Y3,AA2:AK13,9))) -> #REF! | AJ1: =IF(Y5=1,CONCATENATE(VLOOKUP(Y3,AA16:AK27,10)),CONCATENATE(VLOOKUP(Y3,AA2:AK13,10))) -> #REF! | AK1: =IF(Y5=1,CONCATENATE(VLOOKUP(Y3,AA16:AK27,11)),CONCATENATE(VLOOKUP(Y3,AA2:AK13,11))) -> #REF!
A2: Versenyszám: | E2: IV,kcs lány A | AA2: A | AB2: 150 | AC2: 120 | AD2: 100 | AE2: 80 | AF2: 70 | AG2: 60 | AH2: 55 | AI2: 50 | AJ2: 45 | AK2: 40
A3: Dátum | E3: Város | H3: Kategória | M3: Versenybíró | Q3: 1 FORDULÓ | R3: B - C | S3: A -D | Y3: =IF(H4="OB","A",IF(H4="IX","W",H4)) -> 0 | AA3: I | AB3: 120 | AC3: 90 | AD3: 65 | AE3: 55 | AF3: 50 | AG3: 45 | AH3: 40 | AI3: 35 | AJ3: 25 | AK3: 20
A4: 2026.04.27-30. | E4: Budapest | M4: =[6]Altalanos!$E$10 -> #REF! | Q4: 2 FORDULÓ | R4: C - A | S4: D - B | AA4: II | AB4: 90 | AC4: 60 | AD4: 45 | AE4: 34 | AF4: 27 | AG4: 22 | AH4: 18 | AI4: 15 | AJ4: 12 | AK4: 9
B5: kiem | C5: kódszám | D5: Rangsor | E5: Vezetéknév | G5: Keresztnév | I5: Egyesület | K5: Helyezés | L5: Pontszám | M5: Bónusz | Q5: 3 FORDULÓ | R5: A - B | S5: C - D | Y5: =IF(OR([6]Altalanos!$A$8="F1",[6]Altalanos!$A$8="F2",[6]Altalanos!$A$8="N1",[6]Altalanos!$A$8="N2"),1,2) -> #REF! | AA5: III | AB5: 60 | AC5: 40 | AD5: 30 | AE5: 20 | AF5: 18 | AG5: 15 | AH5: 12 | AI5: 10 | AJ5: 8 | AK5: 6
AA6: IV | AB6: 40 | AC6: 25 | AD6: 18 | AE6: 13 | AF6: 10 | AG6: 8 | AH6: 6 | AI6: 5 | AJ6: 4 | AK6: 3
A7: A | B7: 2 | C7: 0 | D7: 0 | E7: LEDÉNYI ZSÓFIA | G7: 0 | I7: 0 | K7: I | AA7: V | AB7: 25 | AC7: 15 | AD7: 13 | AE7: 8 | AF7: 6 | AG7: 4 | AH7: 3 | AI7: 2 | AJ7: 1 | AK7: 0
AA8: VI | AB8: 15 | AC8: 10 | AD8: 7 | AE8: 5 | AF8: 4 | AG8: 3 | AH8: 2 | AI8: 1 | AJ8: 0 | AK8: 0
A9: B | B9: 4 | C9: 0 | D9: 0 | E9: TÓTOK LILLA ILONA | G9: 0 | I9: 0 | AA9: VII | AB9: 10 | AC9: 6 | AD9: 4 | AE9: 2 | AF9: 1 | AG9: 0 | AH9: 0 | AI9: 0 | AJ9: 0 | AK9: 0
AA10: VIII | AB10: 6 | AC10: 3 | AD10: 2 | AE10: 1 | AF10: 0 | AG10: 0 | AH10: 0 | AI10: 0 | AJ10: 0 | AK10: 0
A11: C | B11: 1 | C11: 0 | D11: 0 | E11: ORBÁN ABIGÉL KATALIN | G11: 0 | I11: 0 | K11: II | AA11: W | AB11: 3 | AC11: 2 | AD11: 1 | AE11: 0 | AF11: 0 | AG11: 0 | AH11: 0 | AI11: 0 | AJ11: 0 | AK11: 0
AA12: X | AB12: 0 | AC12: 0 | AD12: 0 | AE12: 0 | AF12: 0 | AG12: 0 | AH12: 0 | AI12: 0 | AJ12: 0 | AK12: 0
A13: D | B13: 3 | C13: 0 | D13: 0 | E13: PIROVITS PETRA DORKA | G13: 0 | I13: 0 | AA13: XI | AB13: 0 | AC13: 0 | AD13: 0 | AE13: 0 | AF13: 0 | AG13: 0 | AH13: 0 | AI13: 0 | AJ13: 0 | AK13: 0
AA16: A | AB16: 300 | AC16: 250 | AD16: 220 | AE16: 180 | AF16: 160 | AG16: 150 | AH16: 140 | AI16: 130 | AJ16: 120 | AK16: 110
AA17: I | AB17: 250 | AC17: 200 | AD17: 160 | AE17: 140 | AF17: 120 | AG17: 110 | AH17: 100 | AI17: 90 | AJ17: 80 | AK17: 70
D18: LEDÉNYI ZSÓFIA | F18: TÓTOK LILLA ILONA | H18: ORBÁN ABIGÉL KATALIN | J18: PIROVITS PETRA DORKA | AA18: II | AB18: 200 | AC18: 150 | AD18: 130 | AE18: 110 | AF18: 95 | AG18: 80 | AH18: 70 | AI18: 60 | AJ18: 55 | AK18: 50
A19: A | B19: LEDÉNYI ZSÓFIA | F19: jn ny | H19: 4/0 4/1 | J19: jn ny | AA19: III | AB19: 150 | AC19: 120 | AD19: 100 | AE19: 80 | AF19: 70 | AG19: 60 | AH19: 55 | AI19: 50 | AJ19: 45 | AK19: 40
A20: B | B20: TÓTOK LILLA ILONA | D20: jn v | H20: jn v | J20: jn | AA20: IV | AB20: 120 | AC20: 90 | AD20: 65 | AE20: 55 | AF20: 50 | AG20: 45 | AH20: 40 | AI20: 35 | AJ20: 25 | AK20: 20
A21: C | B21: ORBÁN ABIGÉL KATALIN | D21: 0/4 1/4 | F21: jn ny | J21: jn ny | AA21: V | AB21: 90 | AC21: 60 | AD21: 45 | AE21: 34 | AF21: 27 | AG21: 22 | AH21: 18 | AI21: 15 | AJ21: 12 | AK21: 9
A22: D | B22: PIROVITS PETRA DORKA | D22: jn v | F22: jn | H22: jn v | AA22: VI | AB22: 60 | AC22: 40 | AD22: 30 | AE22: 20 | AF22: 18 | AG22: 15 | AH22: 12 | AI22: 10 | AJ22: 8 | AK22: 6
AA23: VII | AB23: 40 | AC23: 25 | AD23: 18 | AE23: 13 | AF23: 8 | AG23: 7 | AH23: 6 | AI23: 5 | AJ23: 4 | AK23: 3
AA24: VIII | AB24: 25 | AC24: 15 | AD24: 13 | AE24: 7 | AF24: 6 | AG24: 5 | AH24: 4 | AI24: 3 | AJ24: 2 | AK24: 1
AA25: W | AB25: 15 | AC25: 10 | AD25: 8 | AE25: 4 | AF25: 3 | AG25: 2 | AH25: 1 | AI25: 0 | AJ25: 0 | AK25: 0
AA26: X | AB26: 10 | AC26: 6 | AD26: 4 | AE26: 2 | AF26: 1 | AG26: 0 | AH26: 0 | AI26: 0 | AJ26: 0 | AK26: 0
AA27: XI | AB27: 3 | AC27: 2 | AD27: 1 | AE27: 0 | AF27: 0 | AG27: 0 | AH27: 0 | AI27: 0 | AJ27: 0 | AK27: 0
A33: Rangsor | D33: # | E33: Kiemeltek | G33: # | H33: Szerencés Vesztes | J33: Helyettesíti | K33: Sorsolás időpontja
A34: Dátuma | G34: 1 | K34: Utolsó elfogadott játékos
A35: Utolsó DA | G35: 2
G36: 3 | K36: Sorsoló játékosok
G37: 4
G38: 5
G39: 6 | K39: Versenybíró aláírása
G40: 7
G41: 8 | K41: =M4 -> #REF!

Sheet V.fiúA
A1: 2026 Budapesti Diákolimpia | K1: Egyéni főtábla | O1: CU | AB1: =IF($Y$5=1,CONCATENATE(VLOOKUP($Y$3,$AA$2:$AH$14,2)),CONCATENATE(VLOOKUP($Y$3,$AA$16:$AH$25,2))) -> #REF! | AC1: =IF($Y$5=1,CONCATENATE(VLOOKUP($Y$3,$AA$2:$AH$14,3)),CONCATENATE(VLOOKUP($Y$3,$AA$16:$AH$25,3))) -> #REF! | AD1: =IF($Y$5=1,CONCATENATE(VLOOKUP($Y$3,$AA$2:$AH$14,4)),CONCATENATE(VLOOKUP($Y$3,$AA$16:$AH$25,4))) -> #REF! | AE1: =IF($Y$5=1,CONCATENATE(VLOOKUP($Y$3,$AA$2:$AH$14,5)),CONCATENATE(VLOOKUP($Y$3,$AA$16:$AH$25,5))) -> #REF! | AF1: =IF($Y$5=1,CONCATENATE(VLOOKUP($Y$3,$AA$2:$AH$14,6)),CONCATENATE(VLOOKUP($Y$3,$AA$16:$AH$25,6))) -> #REF! | AG1: =IF($Y$5=1,CONCATENATE(VLOOKUP($Y$3,$AA$2:$AH$14,7)),CONCATENATE(VLOOKUP($Y$3,$AA$16:$AH$25,7))) -> #REF! | AH1: =IF($Y$5=1,CONCATENATE(VLOOKUP($Y$3,$AA$2:$AH$14,8)),CONCATENATE(VLOOKUP($Y$3,$AA$16:$AH$25,8))) -> #REF!
A2: Versenyszám: | E2: 0 | F2: V.kcs fiú A | AA2: A | AB2: 300 | AC2: 250 | AD2: 200 | AE2: 150 | AF2: 120 | AG2: 90 | AH2: 40
A3: Dátum | G3: Város | K3: Kategória | R3: Versenybíró | Y3: =IF(K4="OB","A",IF(K4="IX","W",IF(K4="","",K4))) | AA3: B | AB3: 280 | AC3: 230 | AD3: 180 | AE3: 140 | AF3: 80 | AG3: 0 | AH3: 0
A4: 2026.04.27-30. | G4: Budapest | R4: =[6]Altalanos!$E$10 -> #REF! | AA4: I | AB4: 250 | AC4: 200 | AD4: 150 | AE4: 120 | AF4: 90 | AG4: 60 | AH4: 25
B5: St. | C5: Rangsor | D5: kód | E5: Kiem | F5: Családi név | G5: Keresztnév | I5: Egyesület | K5: 2. forduló | M5: Elődöntők | O5: Döntő | Q5: Győztes | Y5: =IF(OR([6]Altalanos!$A$8="F1",[6]Altalanos!$A$8="F2",[6]Altalanos!$A$8="N1",[6]Altalanos!$A$8="N2"),1,2) -> #REF! | AA5: II | AB5: 200 | AC5: 150 | AD5: 120 | AE5: 90 | AF5: 60 | AG5: 40 | AH5: 15
Q6: =IF(Y3="","",CONCATENATE(VLOOKUP(Y3,AB1:AH1,1)," pont")) | AA6: III | AB6: 150 | AC6: 120 | AD6: 90 | AE6: 60 | AF6: 40 | AG6: 25 | AH6: 10
A7: 1 | B7: 0 | C7: 0 | D7: 0 | E7: 1 | F7: ORBÁN ARISZTID GÁBOR | G7: 0 | I7: 0 | U7: =[6]Birók!P21 -> #REF! | AA7: IV | AB7: 120 | AC7: 90 | AD7: 60 | AE7: 40 | AF7: 25 | AG7: 10 | AH7: 5
I8: Umpire | J8: a | K8: ORBÁN ARISZTID GÁBOR | U8: =[6]Birók!P22 -> #REF! | AA8: V | AB8: 90 | AC8: 60 | AD8: 40 | AE8: 25 | AF8: 10 | AG8: 5 | AH8: 2
A9: 2 | F9: x | U9: =[6]Birók!P23 -> #REF! | AA9: VI | AB9: 60 | AC9: 40 | AD9: 25 | AE9: 10 | AF9: 5 | AG9: 2 | AH9: 1
K10: Umpire | L10: a | M10: CSÁSZÁR BENEDEK | U10: =[6]Birók!P24 -> #REF! | AA10: VII | AB10: 40 | AC10: 25 | AD10: 15 | AE10: 7 | AF10: 4 | AG10: 1 | AH10: 0
A11: 3 | B11: 0 | C11: 0 | D11: 0 | E11: 8 | F11: CSÁSZÁR BENEDEK | G11: 0 | I11: 0 | M11: jn | U11: =[6]Birók!P25 -> #REF! | AA11: VIII | AB11: 25 | AC11: 15 | AD11: 10 | AE11: 6 | AF11: 3 | AG11: 1 | AH11: 0
I12: Umpire | J12: a | K12: CSÁSZÁR BENEDEK | U12: =[6]Birók!P26 -> #REF! | AA12: W | AB12: 15 | AC12: 10 | AD12: 6 | AE12: 3 | AF12: 1 | AG12: 0 | AH12: 0
A13: 4 | B13: 0 | C13: 0 | D13: 0 | E13: 5 | F13: x | G13: 0 | I13: 0 | U13: =[6]Birók!P27 -> #REF! | AA13: X | AB13: 10 | AC13: 6 | AD13: 3 | AE13: 1 | AF13: 0 | AG13: 0 | AH13: 0
M14: Umpire | O14: GEORGI ÁBEL PATRIK | U14: =[6]Birók!P28 -> #REF! | AA14: XI | AB14: 3 | AC14: 2 | AD14: 1 | AE14: 0 | AF14: 0 | AG14: 0 | AH14: 0
A15: 5 | B15: 0 | C15: 0 | D15: 0 | E15: 4 | F15: GEORGI ÁBEL PATRIK | G15: 0 | I15: 0 | O15: 4/1 4/2 | U15: =[6]Birók!P29 -> #REF!
I16: Umpire | J16: a | K16: GEORGI ÁBEL PATRIK | U16: =[6]Birók!P30 -> #REF! | AA16: A | AB16: 150 | AC16: 120 | AD16: 90 | AE16: 60 | AF16: 40 | AG16: 25 | AH16: 15
A17: 6 | F17: x | AA17: I | AB17: 120 | AC17: 90 | AD17: 60 | AE17: 40 | AF17: 25 | AG17: 15 | AH17: 8
K18: Umpire | M18: GEORGI ÁBEL PATRIK | AA18: II | AB18: 90 | AC18: 60 | AD18: 40 | AE18: 25 | AF18: 15 | AG18: 8 | AH18: 4
A19: 7 | B19: 0 | C19: KÁLLAI PÉTER | D19: 0 | E19: 6 | F19: KÁLLAI PÉTER | G19: 0 | I19: 0 | M19: 4/1 4/2 | AA19: III | AB19: 60 | AC19: 40 | AD19: 25 | AE19: 15 | AF19: 8 | AG19: 4 | AH19: 2
I20: Umpire | J20: a | K20: ERDEI BENEDEK | AA20: IV | AB20: 40 | AC20: 25 | AD20: 15 | AE20: 8 | AF20: 4 | AG20: 2 | AH20: 1
A21: 8 | B21: 0 | C21: 0 | D21: 0 | E21: 5 | F21: ERDEI BENEDEK | G21: 0 | I21: 0 | K21: 4/1 4/0 | AA21: V | AB21: 25 | AC21: 15 | AD21: 10 | AE21: 6 | AF21: 3 | AG21: 1 | AH21: 0
O22: Umpire | Q22: jn | AA22: VI | AB22: 15 | AC22: 10 | AD22: 6 | AE22: 3 | AF22: 1 | AG22: 0 | AH22: 0
A23: 9 | B23: 0 | C23: 0 | D23: 0 | E23: 7 | F23: MAROSI PÉTER | G23: 0 | I23: 0 | AA23: VII | AB23: 10 | AC23: 6 | AD23: 3 | AE23: 1 | AF23: 0 | AG23: 0 | AH23: 0
I24: Umpire | J24: a | K24: MAROSI PÉTER | AA24: VIII | AB24: 6 | AC24: 3 | AD24: 1 | AE24: 0 | AF24: 0 | AG24: 0 | AH24: 0
A25: 10 | F25: x | AA25: W | AB25: 3 | AC25: 2 | AD25: 1 | AE25: 0 | AF25: 0 | AG25: 0 | AH25: 0
K26: Umpire | M26: jn
A27: 11 | F27: x
I28: Umpire | J28: b | K28: BLEUER MÁRTON
A29: 12 | B29: 0 | C29: 0 | D29: 0 | E29: 3 | F29: BLEUER MÁRTON | G29: 0 | I29: 0
M30: Umpire | O30: jn
A31: 13 | B31: 0 | C31: 0 | D31: 0 | E31: 10 | F31: ROGÁN ÁRON | G31: 0 | I31: 0
I32: Umpire | K32: jn
A33: 14 | B33: 0 | C33: 0 | D33: 0 | E33: 9 | F33: PÉTERFY RÓBERT | G33: 0 | I33: 0
K34: Umpire | M34: jn
A35: 15 | F35: x
I36: Umpire | J36: b | K36: SIMON BOLDIZSÁR PÉTER
A37: 16 | B37: 0 | C37: 0 | D37: 0 | E37: 2 | F37: SIMON BOLDIZSÁR PÉTER | G37: 0 | I37: 0
A49: Rangsor | E49: # | F49: Kiemeltek | J49: # | K49: Szerencés Vesztes | M49: Helyettesíti | O49: Sorsolás időpontja
A50: Dátuma | E50: 1 | F50: =IF(E50>$R$57,,UPPER(VLOOKUP(E50,'[6]1MD ELO (5)'!$A$7:$Q$134,2))) -> #REF! | J50: 1 | O50: Utolsó elfogadott játékos
A51: Utolsó DA | E51: 2 | F51: =IF(E51>$R$57,,UPPER(VLOOKUP(E51,'[6]1MD ELO (5)'!$A$7:$Q$134,2))) -> #REF! | J51: 2
E52: 3 | F52: =IF(E52>$R$57,,UPPER(VLOOKUP(E52,'[6]1MD ELO (5)'!$A$7:$Q$134,2))) -> #REF! | J52: 3 | O52: Sorsoló játékosok
E53: 4 | F53: =IF(E53>$R$57,,UPPER(VLOOKUP(E53,'[6]1MD ELO (5)'!$A$7:$Q$134,2))) -> #REF! | J53: 4
J54: 5
J55: 6 | O55: Versenybíró aláírása
J56: 7
J57: 8 | O57: =R4 -> #REF! | R57: =MIN(4,'[6]1MD ELO (5)'!Q5) -> #REF!

Sheet V.fiúB
A1: 2026 Budapesti Diákolimpia | K1: Egyéni főtábla | AB1: =IF($Y$5=1,CONCATENATE(VLOOKUP($Y$3,$AA$2:$AH$14,2)),CONCATENATE(VLOOKUP($Y$3,$AA$16:$AH$25,2))) -> #REF! | AC1: =IF($Y$5=1,CONCATENATE(VLOOKUP($Y$3,$AA$2:$AH$14,3)),CONCATENATE(VLOOKUP($Y$3,$AA$16:$AH$25,3))) -> #REF! | AD1: =IF($Y$5=1,CONCATENATE(VLOOKUP($Y$3,$AA$2:$AH$14,4)),CONCATENATE(VLOOKUP($Y$3,$AA$16:$AH$25,4))) -> #REF! | AE1: =IF($Y$5=1,CONCATENATE(VLOOKUP($Y$3,$AA$2:$AH$14,5)),CONCATENATE(VLOOKUP($Y$3,$AA$16:$AH$25,5))) -> #REF! | AF1: =IF($Y$5=1,CONCATENATE(VLOOKUP($Y$3,$AA$2:$AH$14,6)),CONCATENATE(VLOOKUP($Y$3,$AA$16:$AH$25,6))) -> #REF! | AG1: =IF($Y$5=1,CONCATENATE(VLOOKUP($Y$3,$AA$2:$AH$14,7)),CONCATENATE(VLOOKUP($Y$3,$AA$16:$AH$25,7))) -> #REF! | AH1: =IF($Y$5=1,CONCATENATE(VLOOKUP($Y$3,$AA$2:$AH$14,8)),CONCATENATE(VLOOKUP($Y$3,$AA$16:$AH$25,8))) -> #REF!
A2: Versenyszám: | E2: 0 | F2: V.kcs fiú B | AA2: A | AB2: 300 | AC2: 250 | AD2: 200 | AE2: 150 | AF2: 120 | AG2: 90 | AH2: 40
A3: Dátum | G3: Város | K3: Kategória | R3: Versenybíró | Y3: =IF(K4="OB","A",IF(K4="IX","W",IF(K4="","",K4))) | AA3: B | AB3: 280 | AC3: 230 | AD3: 180 | AE3: 140 | AF3: 80 | AG3: 0 | AH3: 0
A4: 2026.04.27-30. | G4: Budapest | R4: =[5]Altalanos!$E$10 -> #REF! | AA4: I | AB4: 250 | AC4: 200 | AD4: 150 | AE4: 120 | AF4: 90 | AG4: 60 | AH4: 25
B5: St. | C5: Rangsor | D5: kód | E5: Kiem | F5: Családi név | G5: Keresztnév | I5: Egyesület | K5: 2. forduló | M5: Negyeddöntők | O5: Elődöntők | Q5: Döntő | Y5: =IF(OR([5]Altalanos!$A$8="F1",[5]Altalanos!$A$8="F2",[5]Altalanos!$A$8="N1",[5]Altalanos!$A$8="N2"),1,2) -> #REF! | AA5: II | AB5: 200 | AC5: 150 | AD5: 120 | AE5: 90 | AF5: 60 | AG5: 40 | AH5: 15
O6: =IF(Y3="","",CONCATENATE(AD1," pont")) | Q6: =IF(Y3="","",CONCATENATE(AC1," pont")) | AA6: III | AB6: 150 | AC6: 120 | AD6: 90 | AE6: 60 | AF6: 40 | AG6: 25 | AH6: 10
A7: 1 | B7: 0 | C7: SCHIFFER MARCELL | D7: 0 | E7: 1 | F7: SCHIFFER MARCELL | G7: 0 | I7: 0 | U7: =[5]Birók!P21 -> #REF! | AA7: IV | AB7: 120 | AC7: 90 | AD7: 60 | AE7: 40 | AF7: 25 | AG7: 10 | AH7: 5
I8: Umpire | J8: aa | K8: SCHIFFER Marcell | U8: =[5]Birók!P22 -> #REF! | AA8: V | AB8: 90 | AC8: 60 | AD8: 40 | AE8: 25 | AF8: 10 | AG8: 5 | AH8: 2
A9: 2 | F9: x | U9: =[5]Birók!P23 -> #REF! | AA9: VI | AB9: 60 | AC9: 40 | AD9: 25 | AE9: 10 | AF9: 5 | AG9: 2 | AH9: 1
K10: Umpire | M10: KÖVÉR PATTRIK | U10: =[5]Birók!P24 -> #REF! | AA10: VII | AB10: 40 | AC10: 25 | AD10: 15 | AE10: 7 | AF10: 4 | AG10: 1 | AH10: 0
A11: 3 | B11: 0 | C11: 0 | D11: 0 | E11: 3 | F11: KÖVÉR PATRIK | G11: 0 | I11: 0 | M11: 4/1 4/1 | U11: =[5]Birók!P25 -> #REF! | AA11: VIII | AB11: 25 | AC11: 15 | AD11: 10 | AE11: 6 | AF11: 3 | AG11: 1 | AH11: 0
I12: Umpire | J12: aa | K12: KÖVÉR PATTRIK | U12: =[5]Birók!P26 -> #REF! | AA12: W | AB12: 15 | AC12: 10 | AD12: 6 | AE12: 3 | AF12: 1 | AG12: 0 | AH12: 0
A13: 4 | F13: x | U13: =[5]Birók!P27 -> #REF! | AA13: X | AB13: 10 | AC13: 6 | AD13: 3 | AE13: 1 | AF13: 0 | AG13: 0 | AH13: 0
M14: Umpire | O14: KÖVÉR PATTRIK | U14: =[5]Birók!P28 -> #REF! | AA14: XI | AB14: 3 | AC14: 2 | AD14: 1 | AE14: 0 | AF14: 0 | AG14: 0 | AH14: 0
A15: 5 | B15: 0 | C15: 0 | D15: 0 | E15: 5 | F15: GOGOLYA LEVENTE GÁBOR | G15: 0 | I15: 0 | O15: 4/0 4/0 | U15: =[5]Birók!P29 -> #REF!
I16: Umpire | J16: A | K16: GOGOLYA LEVENTE GÁBOR | U16: =[5]Birók!P30 -> #REF! | AA16: A | AB16: 150 | AC16: 120 | AD16: 90 | AE16: 60 | AF16: 40 | AG16: 25 | AH16: 15
A17: 6 | F17: x | AA17: I | AB17: 120 | AC17: 90 | AD17: 60 | AE17: 40 | AF17: 25 | AG17: 15 | AH17: 8
K18: Umpire | M18: GOGOLYA LEVENTE GÁBOR | AA18: II | AB18: 90 | AC18: 60 | AD18: 40 | AE18: 25 | AF18: 15 | AG18: 8 | AH18: 4
A19: 7 | B19: 0 | C19: 0 | D19: 0 | E19: 7 | F19: BENCSIK BARNABÁS | G19: 0 | I19: 0 | M19: jn | AA19: III | AB19: 60 | AC19: 40 | AD19: 25 | AE19: 15 | AF19: 8 | AG19: 4 | AH19: 2
I20: Umpire | J20: A | K20: BENCSIK BARNABÁS | AA20: IV | AB20: 40 | AC20: 25 | AD20: 15 | AE20: 8 | AF20: 4 | AG20: 2 | AH20: 1
A21: 8 | F21: x | AA21: V | AB21: 25 | AC21: 15 | AD21: 10 | AE21: 6 | AF21: 3 | AG21: 1 | AH21: 0
O22: Umpire | Q22: KÖVÉR PATTRIK | AA22: VI | AB22: 15 | AC22: 10 | AD22: 6 | AE22: 3 | AF22: 1 | AG22: 0 | AH22: 0
A23: 9 | B23: 0 | C23: 0 | D23: 0 | E23: 9 | F23: MOLNÁR MÁRTON | G23: 0 | I23: 0 | Q23: 4/1 4/2 | AA23: VII | AB23: 10 | AC23: 6 | AD23: 3 | AE23: 1 | AF23: 0 | AG23: 0 | AH23: 0
I24: Umpire | K24: MOLNÁR MÁRTON | AA24: VIII | AB24: 6 | AC24: 3 | AD24: 1 | AE24: 0 | AF24: 0 | AG24: 0 | AH24: 0
A25: 10 | B25: 0 | C25: SZAKÁCS PÉTER | D25: 0 | E25: 10 | F25: SZAKÁCS PÉTER | G25: 0 | I25: 0 | K25: 3/5 5/3 10/5 | AA25: W | AB25: 3 | AC25: 2 | AD25: 1 | AE25: 0 | AF25: 0 | AG25: 0 | AH25: 0
K26: Umpire | M26: MOLNÁR MÁRTON
A27: 11 | B27: 0 | C27: SZIJÁRTÓ KOLOS ÁGOSTON | D27: 0 | E27: 11 | F27: SZIJÁRTÓ KOLOS ÁGOSTON | G27: 0 | I27: 0 | M27: 4/1 4/2
I28: Umpire | J28: A | K28: SZIJÁRTÓ KOLOS ÁGOSTON
A29: 12 | F29: x
M30: Umpire | O30: MOLNÁR MÁRTON
A31: 13 | B31: 0 | C31: KAUTEN BERCEL BALÁZS | D31: 0 | E31: 13 | F31: KAUTEN BERCEL BALÁZS | G31: 0 | I31: 0 | O31: 4/1 4/2
I32: Umpire | J32: A | K32: KAUTEN BERCEL BALÁZS
A33: 14 | F33: x
K34: Umpire | M34: SERFŐZŐ ANDRÁS
A35: 15 | B35: 0 | C35: 0 | D35: 0 | E35: 15 | F35: SERFŐZŐ ANDRÁS | G35: 0 | I35: 0 | M35: 4/0 4/0
I36: Umpire | J36: A | K36: SERFŐZŐ ANDRÁS
A37: 16 | F37: x
O38: Győztes: | Q38: =UPPER(IF(OR(P39="a",P39="as"),Q22,IF(OR(P39="b",P39="bs"),Q54,)))
A39: 17 | B39: 0 | C39: VALÁLIK VAJK | D39: 0 | E39: 17 | F39: VALÁLIK VAJK | G39: 0 | I39: 0 | O39: Umpire
I40: Umpire | J40: A | K40: VALÁLIK VAJK
A41: 18 | F41: x | Q41: =IF(Y3="","",CONCATENATE(AB1," pont"))
K42: Umpire | M42: ANDRÓNYI BENCE
A43: 19 | B43: 0 | C43: 0 | D43: 0 | E43: 2 | F43: ANDRÓNYI BENCE | G43: 0 | I43: 0 | M43: 4/0 4/0
I44: Umpire | J44: A | K44: ANDRÓNYI BENCE
A45: 20 | F45: x
M46: Umpire | O46: ANDRÓNYI BENCE
A47: 21 | B47: 0 | C47: 0 | D47: 0 | E47: 4 | F47: SZIGETVÁRI DOMINIK | G47: 0 | I47: 0 | O47: 4/0 4/0
I48: Umpire | J48: A | K48: SZIGETVÁRI DOMINIK
A49: 22 | F49: x
K50: Umpire
A51: 23 | B51: 0 | C51: 0 | D51: 0 | E51: 6 | F51: GYÖNGY GORDON | G51: 0 | I51: 0 | M51: GYÖNGY GORDON
I52: Umpire | J52: A | K52: GYÖNGY GORDON | M52: 4/2 4/2
A53: 24 | F53: x
O54: Umpire | Q54: ANDRÓNYI BENCE
A55: 25 | B55: 0 | C55: BÉKÉS ÁDÁM FLÓRIÁN | D55: 0 | E55: 8 | F55: BÉKÉS ÁDÁM FLÓRIÁN | G55: 0 | I55: 0 | Q55: 4/1 4/1
I56: Umpire | J56: A | K56: BÉKÉS ÁDÁM FLÓRIÁN
A57: 26 | F57: x
K58: Umpire
A59: 27 | B59: 0 | C59: 0 | D59: 0 | E59: 12 | F59: HOFFMANN PÉTER | G59: 0 | I59: 0 | M59: HOFFMANN PÉTER
I60: Umpire | J60: A | K60: HOFFMANN PÉTER | M60: 4/0 4/0
A61: 28 | F61: x
M62: Umpire | O62: HOFFMANN PÉTER
A63: 29 | B63: 0 | C63: 0 | D63: 0 | E63: 14 | F63: BŐCZÉN ÁRON | G63: 0 | I63: 0 | O63: 4/0 4/0
I64: Umpire | J64: A | K64: BŐCZÉN ÁRON
A65: 30 | F65: x
K66: Umpire | M66: BŐCZÉN ÁRON
A67: 31 | F67: x | M67: jn
I68: Umpire | K68: HANTOS ZSIGMOND
A69: 32 | B69: 0 | C69: 0 | D69: 0 | E69: 16 | F69: HANTOS ZSIGMOND | G69: 0 | I69: 0
A71: Rangsor | E71: # | F71: Kiemeltek | J71: # | K71: Szerencés Vesztes | M71: Helyettesíti | O71: Sorsolás időpontja
A72: Dátuma | E72: 1 | F72: =IF(E72>$R$79,,UPPER(VLOOKUP(E72,'[5]1MD ELO (2)'!$A$7:$Q$134,2))) -> #REF! | J72: 1 | O72: Utolsó elfogadott játékos
A73: Utolsó DA | E73: 2 | F73: =IF(E73>$R$79,,UPPER(VLOOKUP(E73,'[5]1MD ELO (2)'!$A$7:$Q$134,2))) -> #REF! | J73: 2
E74: 3 | F74: =IF(E74>$R$79,,UPPER(VLOOKUP(E74,'[5]1MD ELO (2)'!$A$7:$Q$134,2))) -> #REF! | J74: 3 | O74: Sorsoló játékosok
E75: 4 | F75: =IF(E75>$R$79,,UPPER(VLOOKUP(E75,'[5]1MD ELO (2)'!$A$7:$Q$134,2))) -> #REF! | J75: 4
E76: 5 | F76: =IF(E76>$R$79,,UPPER(VLOOKUP(E76,'[5]1MD ELO (2)'!$A$7:$Q$134,2))) -> #REF! | J76: 5
E77: 6 | F77: =IF(E77>$R$79,,UPPER(VLOOKUP(E77,'[5]1MD ELO (2)'!$A$7:$Q$134,2))) -> #REF! | J77: 6 | O77: Versenybíró aláírása
E78: 7 | F78: =IF(E78>$R$79,,UPPER(VLOOKUP(E78,'[5]1MD ELO (2)'!$A$7:$Q$134,2))) -> #REF! | J78: 7
E79: 8 | F79: =IF(E79>$R$79,,UPPER(VLOOKUP(E79,'[5]1MD ELO (2)'!$A$7:$Q$134,2))) -> #REF! | J79: 8 | O79: =R4 -> #REF! | R79: =MIN(8,'[5]1MD ELO (2)'!Q5) -> #REF!

Sheet V.lány A
A1: 2026 Budapesti Diákolimpia | K1: Egyéni főtábla | O1: CU | AB1: =IF($Y$5=1,CONCATENATE(VLOOKUP($Y$3,$AA$2:$AH$14,2)),CONCATENATE(VLOOKUP($Y$3,$AA$16:$AH$25,2))) -> #REF! | AC1: =IF($Y$5=1,CONCATENATE(VLOOKUP($Y$3,$AA$2:$AH$14,3)),CONCATENATE(VLOOKUP($Y$3,$AA$16:$AH$25,3))) -> #REF! | AD1: =IF($Y$5=1,CONCATENATE(VLOOKUP($Y$3,$AA$2:$AH$14,4)),CONCATENATE(VLOOKUP($Y$3,$AA$16:$AH$25,4))) -> #REF! | AE1: =IF($Y$5=1,CONCATENATE(VLOOKUP($Y$3,$AA$2:$AH$14,5)),CONCATENATE(VLOOKUP($Y$3,$AA$16:$AH$25,5))) -> #REF! | AF1: =IF($Y$5=1,CONCATENATE(VLOOKUP($Y$3,$AA$2:$AH$14,6)),CONCATENATE(VLOOKUP($Y$3,$AA$16:$AH$25,6))) -> #REF! | AG1: =IF($Y$5=1,CONCATENATE(VLOOKUP($Y$3,$AA$2:$AH$14,7)),CONCATENATE(VLOOKUP($Y$3,$AA$16:$AH$25,7))) -> #REF! | AH1: =IF($Y$5=1,CONCATENATE(VLOOKUP($Y$3,$AA$2:$AH$14,8)),CONCATENATE(VLOOKUP($Y$3,$AA$16:$AH$25,8))) -> #REF!
A2: Versenyszám: | E2: 0 | F2: V.kcs lány A | AA2: A | AB2: 300 | AC2: 250 | AD2: 200 | AE2: 150 | AF2: 120 | AG2: 90 | AH2: 40
A3: Dátum | G3: Város | K3: Kategória | R3: Versenybíró | Y3: =IF(K4="OB","A",IF(K4="IX","W",IF(K4="","",K4))) | AA3: B | AB3: 280 | AC3: 230 | AD3: 180 | AE3: 140 | AF3: 80 | AG3: 0 | AH3: 0
A4: 2026.04.27-30. | G4: Budapest | R4: =[5]Altalanos!$E$10 -> #REF! | AA4: I | AB4: 250 | AC4: 200 | AD4: 150 | AE4: 120 | AF4: 90 | AG4: 60 | AH4: 25
B5: St. | C5: Rangsor | D5: kód | E5: Kiem | F5: Családi név | G5: Keresztnév | I5: Egyesület | K5: 2. forduló | M5: Elődöntők | O5: Döntő | Q5: Győztes | Y5: =IF(OR([5]Altalanos!$A$8="F1",[5]Altalanos!$A$8="F2",[5]Altalanos!$A$8="N1",[5]Altalanos!$A$8="N2"),1,2) -> #REF! | AA5: II | AB5: 200 | AC5: 150 | AD5: 120 | AE5: 90 | AF5: 60 | AG5: 40 | AH5: 15
O6: =IF(Y3="","",CONCATENATE(VLOOKUP(Y3,AB1:AH1,2)," pont")) | Q6: =IF(Y3="","",CONCATENATE(VLOOKUP(Y3,AB1:AH1,1)," pont")) | AA6: III | AB6: 150 | AC6: 120 | AD6: 90 | AE6: 60 | AF6: 40 | AG6: 25 | AH6: 10
A7: 1 | B7: 0 | C7: 0 | D7: 0 | E7: 1 | F7: POLGÁRDI ZITA | G7: 0 | I7: 0 | U7: =[5]Birók!P21 -> #REF! | AA7: IV | AB7: 120 | AC7: 90 | AD7: 60 | AE7: 40 | AF7: 25 | AG7: 10 | AH7: 5
I8: Umpire | J8: a | K8: POLGÁRDI ZITA | U8: =[5]Birók!P22 -> #REF! | AA8: V | AB8: 90 | AC8: 60 | AD8: 40 | AE8: 25 | AF8: 10 | AG8: 5 | AH8: 2
A9: 2 | F9: x | U9: =[5]Birók!P23 -> #REF! | AA9: VI | AB9: 60 | AC9: 40 | AD9: 25 | AE9: 10 | AF9: 5 | AG9: 2 | AH9: 1
K10: Umpire | M10: POLGÁRDI ZITA | U10: =[5]Birók!P24 -> #REF! | AA10: VII | AB10: 40 | AC10: 25 | AD10: 15 | AE10: 7 | AF10: 4 | AG10: 1 | AH10: 0
A11: 3 | B11: 0 | C11: 0 | D11: 0 | E11: 10 | F11: ILLÉS HANNA | G11: 0 | I11: 0 | M11: 4/1 4/1 | U11: =[5]Birók!P25 -> #REF! | AA11: VIII | AB11: 25 | AC11: 15 | AD11: 10 | AE11: 6 | AF11: 3 | AG11: 1 | AH11: 0
I12: Umpire | K12: ILLÉS HANNA | U12: =[5]Birók!P26 -> #REF! | AA12: W | AB12: 15 | AC12: 10 | AD12: 6 | AE12: 3 | AF12: 1 | AG12: 0 | AH12: 0
A13: 4 | B13: 0 | C13: 0 | D13: 0 | E13: 8 | F13: RAGÁLYI-KOVÁCS KATINKA | G13: 0 | I13: 0 | K13: jn | U13: =[5]Birók!P27 -> #REF! | AA13: X | AB13: 10 | AC13: 6 | AD13: 3 | AE13: 1 | AF13: 0 | AG13: 0 | AH13: 0
M14: Umpire | O14: POLGÁRDI ZITA | U14: =[5]Birók!P28 -> #REF! | AA14: XI | AB14: 3 | AC14: 2 | AD14: 1 | AE14: 0 | AF14: 0 | AG14: 0 | AH14: 0
A15: 5 | B15: 0 | C15: 0 | D15: 0 | E15: 3 | F15: LEHOCZKY LILIÁNA | G15: 0 | I15: 0 | O15: 4/1 4/2 | U15: =[5]Birók!P29 -> #REF!
I16: Umpire | J16: a | K16: LEHOCZKY LILIÁNA | U16: =[5]Birók!P30 -> #REF! | AA16: A | AB16: 150 | AC16: 120 | AD16: 90 | AE16: 60 | AF16: 40 | AG16: 25 | AH16: 15
A17: 6 | F17: x | AA17: I | AB17: 120 | AC17: 90 | AD17: 60 | AE17: 40 | AF17: 25 | AG17: 15 | AH17: 8
K18: Umpire | M18: GAZDAG TAMARA | AA18: II | AB18: 90 | AC18: 60 | AD18: 40 | AE18: 25 | AF18: 15 | AG18: 8 | AH18: 4
A19: 7 | B19: 0 | C19: 0 | D19: 0 | E19: 9 | F19: GAZDAG TAMARA | G19: 0 | I19: 0 | M19: jn | AA19: III | AB19: 60 | AC19: 40 | AD19: 25 | AE19: 15 | AF19: 8 | AG19: 4 | AH19: 2
I20: Umpire | K20: GAZDAG TAMARA | AA20: IV | AB20: 40 | AC20: 25 | AD20: 15 | AE20: 8 | AF20: 4 | AG20: 2 | AH20: 1
A21: 8 | B21: 0 | C21: 0 | D21: 0 | E21: 7 | F21: SZEDERKÉNYI HANNA | G21: 0 | I21: 0 | AA21: V | AB21: 25 | AC21: 15 | AD21: 10 | AE21: 6 | AF21: 3 | AG21: 1 | AH21: 0
O22: Umpire | Q22: POLGÁRDI ZITA | AA22: VI | AB22: 15 | AC22: 10 | AD22: 6 | AE22: 3 | AF22: 1 | AG22: 0 | AH22: 0
A23: 9 | B23: 0 | C23: 0 | D23: 0 | E23: 5 | F23: PÉTER ZSÓFIA | G23: 0 | I23: 0 | Q23: 4/1 4/2 | AA23: VII | AB23: 10 | AC23: 6 | AD23: 3 | AE23: 1 | AF23: 0 | AG23: 0 | AH23: 0
I24: Umpire | J24: a | K24: PÉTER ZSÓFIA | AA24: VIII | AB24: 6 | AC24: 3 | AD24: 1 | AE24: 0 | AF24: 0 | AG24: 0 | AH24: 0
A25: 10 | AA25: W | AB25: 3 | AC25: 2 | AD25: 1 | AE25: 0 | AF25: 0 | AG25: 0 | AH25: 0
K26: Umpire | M26: MÁTYÁS VILLŐ
A27: 11 | F27: x | M27: jn
I28: Umpire | J28: b | K28: MÁTYÁS VILLŐ
A29: 12 | B29: 0 | C29: 0 | D29: 0 | E29: 4 | F29: MÁTYÁS VILLŐ | G29: 0 | I29: 0
M30: Umpire | O30: JÓZSA LAURA
A31: 13 | B31: 0 | C31: 0 | D31: 0 | E31: 6 | F31: JÓZSA LAURA | G31: 0 | I31: 0 | O31: 4/1 5/4 7/1
I32: Umpire | J32: a | K32: JÓZSA LAURA
A33: 14
K34: Umpire | M34: JÓZSA LAURA
A35: 15 | F35: x | M35: jn
I36: Umpire | J36: b | K36: SZONDY HANNA
A37: 16 | B37: 0 | C37: 0 | D37: 0 | E37: 2 | F37: SZONDY HANNA | G37: 0 | I37: 0
A49: Rangsor | E49: # | F49: Kiemeltek | J49: # | K49: Szerencés Vesztes | M49: Helyettesíti | O49: Sorsolás időpontja
A50: Dátuma | E50: 1 | F50: =IF(E50>$R$57,,UPPER(VLOOKUP(E50,'[5]1MD ELO (4)'!$A$7:$Q$134,2))) -> #REF! | J50: 1 | O50: Utolsó elfogadott játékos
A51: Utolsó DA | E51: 2 | F51: =IF(E51>$R$57,,UPPER(VLOOKUP(E51,'[5]1MD ELO (4)'!$A$7:$Q$134,2))) -> #REF! | J51: 2
E52: 3 | F52: =IF(E52>$R$57,,UPPER(VLOOKUP(E52,'[5]1MD ELO (4)'!$A$7:$Q$134,2))) -> #REF! | J52: 3 | O52: Sorsoló játékosok
E53: 4 | F53: =IF(E53>$R$57,,UPPER(VLOOKUP(E53,'[5]1MD ELO (4)'!$A$7:$Q$134,2))) -> #REF! | J53: 4
J54: 5
J55: 6 | O55: Versenybíró aláírása
J56: 7
J57: 8 | O57: =R4 -> #REF! | R57: =MIN(4,'[5]1MD ELO (4)'!Q5) -> #REF!

Sheet V.lány B
A1: 2026 Budapesti Diákolimpia | H1: Egyéni főtábla | AB1: =IF(Y5=1,CONCATENATE(VLOOKUP(Y3,AA16:AH27,2)),CONCATENATE(VLOOKUP(Y3,AA2:AK13,2))) -> #REF! | AC1: =IF(Y5=1,CONCATENATE(VLOOKUP(Y3,AA16:AK27,3)),CONCATENATE(VLOOKUP(Y3,AA2:AK13,3))) -> #REF! | AD1: =IF(Y5=1,CONCATENATE(VLOOKUP(Y3,AA16:AK27,4)),CONCATENATE(VLOOKUP(Y3,AA2:AK13,4))) -> #REF! | AE1: =IF(Y5=1,CONCATENATE(VLOOKUP(Y3,AA16:AK27,5)),CONCATENATE(VLOOKUP(Y3,AA2:AK13,5))) -> #REF! | AF1: =IF(Y5=1,CONCATENATE(VLOOKUP(Y3,AA16:AK27,6)),CONCATENATE(VLOOKUP(Y3,AA2:AK13,6))) -> #REF! | AG1: =IF(Y5=1,CONCATENATE(VLOOKUP(Y3,AA16:AK27,7)),CONCATENATE(VLOOKUP(Y3,AA2:AK13,7))) -> #REF! | AH1: =IF(Y5=1,CONCATENATE(VLOOKUP(Y3,AA16:AK27,8)),CONCATENATE(VLOOKUP(Y3,AA2:AK13,8))) -> #REF! | AI1: =IF(Y5=1,CONCATENATE(VLOOKUP(Y3,AA16:AK27,9)),CONCATENATE(VLOOKUP(Y3,AA2:AK13,9))) -> #REF! | AJ1: =IF(Y5=1,CONCATENATE(VLOOKUP(Y3,AA16:AK27,10)),CONCATENATE(VLOOKUP(Y3,AA2:AK13,10))) -> #REF! | AK1: =IF(Y5=1,CONCATENATE(VLOOKUP(Y3,AA16:AK27,11)),CONCATENATE(VLOOKUP(Y3,AA2:AK13,11))) -> #REF!
A2: Versenyszám: | E2: V.kcs lány B | AA2: A | AB2: 150 | AC2: 120 | AD2: 100 | AE2: 80 | AF2: 70 | AG2: 60 | AH2: 55 | AI2: 50 | AJ2: 45 | AK2: 40
A3: Dátum | E3: Város | H3: Kategória | L3: Versenybíró | Q3: 1 FORDULÓ | R3: B - C | S3: A -D | Y3: =IF(H4="OB","A",IF(H4="IX","W",H4)) -> 0 | AA3: I | AB3: 120 | AC3: 90 | AD3: 65 | AE3: 55 | AF3: 50 | AG3: 45 | AH3: 40 | AI3: 35 | AJ3: 25 | AK3: 20
A4: 2026.04.27-30. | E4: Budapest | L4: =[5]Altalanos!$E$10 -> #REF! | Q4: 2 FORDULÓ | R4: C - A | S4: D - B | AA4: II | AB4: 90 | AC4: 60 | AD4: 45 | AE4: 34 | AF4: 27 | AG4: 22 | AH4: 18 | AI4: 15 | AJ4: 12 | AK4: 9
B5: kiem | C5: kódszám | D5: Rangsor | E5: Vezetéknév | G5: Keresztnév | I5: Egyesület | K5: Helyezés | L5: Pontszám | M5: Bónusz | Q5: 3 FORDULÓ | R5: A - B | S5: C - D | Y5: =IF(OR([5]Altalanos!$A$8="F1",[5]Altalanos!$A$8="F2",[5]Altalanos!$A$8="N1",[5]Altalanos!$A$8="N2"),1,2) -> #REF! | AA5: III | AB5: 60 | AC5: 40 | AD5: 30 | AE5: 20 | AF5: 18 | AG5: 15 | AH5: 12 | AI5: 10 | AJ5: 8 | AK5: 6
AA6: IV | AB6: 40 | AC6: 25 | AD6: 18 | AE6: 13 | AF6: 10 | AG6: 8 | AH6: 6 | AI6: 5 | AJ6: 4 | AK6: 3
A7: A | B7: 1 | C7: 0 | D7: 0 | E7: FÜRI DORINA | G7: 0 | I7: 0 | K7: I | Q7: 1 FORDULÓ | R7: E - F | S7: D - G | AA7: V | AB7: 25 | AC7: 15 | AD7: 13 | AE7: 8 | AF7: 6 | AG7: 4 | AH7: 3 | AI7: 2 | AJ7: 1 | AK7: 0
Q8: 2 FORDULÓ | R8: F - D | S8: G - E | AA8: VI | AB8: 15 | AC8: 10 | AD8: 7 | AE8: 5 | AF8: 4 | AG8: 3 | AH8: 2 | AI8: 1 | AJ8: 0 | AK8: 0
A9: B | B9: 3 | C9: 0 | D9: 0 | E9: ZHU JIAYI | G9: 0 | I9: 0 | L9: =IF(K9="","",CONCATENATE(VLOOKUP($Y$3,$AB$1:$AK$1,K9)," pont")) | Q9: 3 FORDULÓ | R9: D - E | S9: F - E | AA9: VII | AB9: 10 | AC9: 6 | AD9: 4 | AE9: 2 | AF9: 1 | AG9: 0 | AH9: 0 | AI9: 0 | AJ9: 0 | AK9: 0
AA10: VIII | AB10: 6 | AC10: 3 | AD10: 2 | AE10: 1 | AF10: 0 | AG10: 0 | AH10: 0 | AI10: 0 | AJ10: 0 | AK10: 0
A11: C | B11: 5 | C11: 0 | D11: 0 | E11: GÁSPÁR-KASZA MARA | G11: 0 | I11: 0 | L11: =IF(K11="","",CONCATENATE(VLOOKUP($Y$3,$AB$1:$AK$1,K11)," pont")) | AA11: W | AB11: 3 | AC11: 2 | AD11: 1 | AE11: 0 | AF11: 0 | AG11: 0 | AH11: 0 | AI11: 0 | AJ11: 0 | AK11: 0
AA12: X | AB12: 0 | AC12: 0 | AD12: 0 | AE12: 0 | AF12: 0 | AG12: 0 | AH12: 0 | AI12: 0 | AJ12: 0 | AK12: 0
A13: D | B13: 2 | C13: 0 | D13: 0 | E13: SZŐKE VIVIEN | G13: 0 | I13: 0 | L13: =IF(K13="","",CONCATENATE(VLOOKUP($Y$3,$AB$1:$AK$1,K13)," pont")) | AA13: XI | AB13: 0 | AC13: 0 | AD13: 0 | AE13: 0 | AF13: 0 | AG13: 0 | AH13: 0 | AI13: 0 | AJ13: 0 | AK13: 0
A15: E | B15: 4 | C15: 0 | D15: 0 | E15: SCHILDKRAUT LUCA | G15: 0 | I15: 0 | K15: III
AA16: A | AB16: 300 | AC16: 250 | AD16: 220 | AE16: 180 | AF16: 160 | AG16: 150 | AH16: 140 | AI16: 130 | AJ16: 120 | AK16: 110
A17: F | B17: 6 | C17: 0 | D17: 0 | E17: BIHARY KAROLINA ÉVA | G17: 0 | I17: 0 | K17: II | AA17: I | AB17: 250 | AC17: 200 | AD17: 160 | AE17: 140 | AF17: 120 | AG17: 110 | AH17: 100 | AI17: 90 | AJ17: 80 | AK17: 70
AA18: II | AB18: 200 | AC18: 150 | AD18: 130 | AE18: 110 | AF18: 95 | AG18: 80 | AH18: 70 | AI18: 60 | AJ18: 55 | AK18: 50
A19: F | B19: 7 | C19: 0 | D19: 0 | E19: PAPP BORÓKA | G19: 0 | I19: 0 | L19: =IF(K19="","",CONCATENATE(VLOOKUP($Y$3,$AB$1:$AK$1,K19)," pont")) | AA19: III | AB19: 150 | AC19: 120 | AD19: 100 | AE19: 80 | AF19: 70 | AG19: 60 | AH19: 55 | AI19: 50 | AJ19: 45 | AK19: 40
AA20: IV | AB20: 120 | AC20: 90 | AD20: 65 | AE20: 55 | AF20: 50 | AG20: 45 | AH20: 40 | AI20: 35 | AJ20: 25 | AK20: 20
AA21: V | AB21: 90 | AC21: 60 | AD21: 45 | AE21: 34 | AF21: 27 | AG21: 22 | AH21: 18 | AI21: 15 | AJ21: 12 | AK21: 9
D22: FÜRI DORINA | F22: ZHU JIAYI | H22: GÁSPÁR-KASZA MARA | M22: Helyezés | AA22: VI | AB22: 60 | AC22: 40 | AD22: 30 | AE22: 20 | AF22: 18 | AG22: 15 | AH22: 12 | AI22: 10 | AJ22: 8 | AK22: 6
A23: A | B23: FÜRI DORINA | F23: 4/1 4/1 | H23: 4/0 4/2 | M23: 1 | AA23: VII | AB23: 40 | AC23: 25 | AD23: 18 | AE23: 13 | AF23: 8 | AG23: 7 | AH23: 6 | AI23: 5 | AJ23: 4 | AK23: 3
A24: B | B24: ZHU JIAYI | D24: 1/4 1/4 | H24: 4/2 0/4 6/10 | AA24: VIII | AB24: 25 | AC24: 15 | AD24: 13 | AE24: 7 | AF24: 6 | AG24: 5 | AH24: 4 | AI24: 3 | AJ24: 2 | AK24: 1
A25: C | B25: GÁSPÁR-KASZA MARA | D25: 0/4 2/4 | F25: 2/4 4/0 10/6 | M25: 2 | AA25: W | AB25: 15 | AC25: 10 | AD25: 8 | AE25: 4 | AF25: 3 | AG25: 2 | AH25: 1 | AI25: 0 | AJ25: 0 | AK25: 0
AA26: X | AB26: 10 | AC26: 6 | AD26: 4 | AE26: 2 | AF26: 1 | AG26: 0 | AH26: 0 | AI26: 0 | AJ26: 0 | AK26: 0
D27: SZŐKE VIVIEN | F27: SCHILDKRAUT LUCA | H27: BIHARY KAROLINA ÉVA | J27: PAPP BORÓKA | AA27: XI | AB27: 3 | AC27: 2 | AD27: 1 | AE27: 0 | AF27: 0 | AG27: 0 | AH27: 0 | AI27: 0 | AJ27: 0 | AK27: 0
A28: D | B28: SZŐKE VIVIEN | F28: 5/3 2/4 2/10 | H28: 2/4 1/4 | J28: 1/4 2/4
A29: E | B29: SCHILDKRAUT LUCA | D29: 3/5 4/2 10/2 | H29: 5/3 2/4 8/10 | J29: 5/3 5/3 | M29: 2
A30: F | B30: BIHARY KAROLINA ÉVA | D30: 4/2 4/1 | F30: 3/5 4/2 10/8 | J30: 4/2 4/2 | M30: 1
A31: G | B31: PAPP BORÓKA | D31: 4/1 4/2 | F31: 3/5 3/5 | H31: 2/4 2/4
A34: Döntő | C34: =IF(M23=1,B23,IF(M24=1,B24,IF(M25=1,B25,""))) -> FÜRI DORINA | E34: vs. | F34: =IF(M28=1,B28,IF(M29=1,B29,IF(M30=1,B30,IF(M31=1,B31,"")))) -> BIHARY KAROLINA ÉVA | I34: 4/1 4/0
A36: 3. hely | C36: =IF(M23=2,B23,IF(M24=2,B24,IF(M25=2,B25,""))) -> GÁSPÁR-KASZA MARA | E36: vs. | F36: =IF(M28=2,B28,IF(M29=2,B29,IF(M30=2,B30,IF(M31=2,B31,"")))) -> SCHILDKRAUT LUCA | I36: 4/0 4/1
A38: 5. hely | C38: =IF(M23=3,B23,IF(M24=3,B24,IF(M25=3,B25,""))) | E38: vs. | F38: =IF(M28=3,B28,IF(M29=3,B29,IF(M30=3,B30,IF(M31=3,B31,""))))
A41: Rangsor | D41: # | E41: Kiemeltek | G41: # | H41: Szerencés Vesztes | J41: Helyettesíti | K41: Sorsolás időpontja
A42: Dátuma | D42: 1 | E42: =IF(D42>$R$44,,UPPER(VLOOKUP(D42,'[5]1MD ELO (5)'!$A$7:$Q$134,2))) -> #REF! | G42: 1 | K42: Utolsó elfogadott játékos
A43: Utolsó DA | D43: 2 | E43: =IF(D43>$R$44,,UPPER(VLOOKUP(D43,'[5]1MD ELO (5)'!$A$7:$Q$134,2))) -> #REF! | G43: 2
G44: 3 | K44: Sorsoló játékosok | R44: =MIN(4,'[5]1MD ELO (5)'!Q2) -> #REF!
G45: 4
G46: 5
G47: 6 | K47: Versenybíró aláírása
G48: 7
G49: 8 | K49: =L4 -> #REF!

Sheet VI.fiúA
A1: 2026 Budapesti Diákolimpia | K1: Egyéni főtábla | O1: CU | AB1: =IF($Y$5=1,CONCATENATE(VLOOKUP($Y$3,$AA$2:$AH$14,2)),CONCATENATE(VLOOKUP($Y$3,$AA$16:$AH$25,2))) -> #REF! | AC1: =IF($Y$5=1,CONCATENATE(VLOOKUP($Y$3,$AA$2:$AH$14,3)),CONCATENATE(VLOOKUP($Y$3,$AA$16:$AH$25,3))) -> #REF! | AD1: =IF($Y$5=1,CONCATENATE(VLOOKUP($Y$3,$AA$2:$AH$14,4)),CONCATENATE(VLOOKUP($Y$3,$AA$16:$AH$25,4))) -> #REF! | AE1: =IF($Y$5=1,CONCATENATE(VLOOKUP($Y$3,$AA$2:$AH$14,5)),CONCATENATE(VLOOKUP($Y$3,$AA$16:$AH$25,5))) -> #REF! | AF1: =IF($Y$5=1,CONCATENATE(VLOOKUP($Y$3,$AA$2:$AH$14,6)),CONCATENATE(VLOOKUP($Y$3,$AA$16:$AH$25,6))) -> #REF! | AG1: =IF($Y$5=1,CONCATENATE(VLOOKUP($Y$3,$AA$2:$AH$14,7)),CONCATENATE(VLOOKUP($Y$3,$AA$16:$AH$25,7))) -> #REF! | AH1: =IF($Y$5=1,CONCATENATE(VLOOKUP($Y$3,$AA$2:$AH$14,8)),CONCATENATE(VLOOKUP($Y$3,$AA$16:$AH$25,8))) -> #REF!
A2: Versenyszám: | E2: VI.kcs fiú A | AA2: A | AB2: 300 | AC2: 250 | AD2: 200 | AE2: 150 | AF2: 120 | AG2: 90 | AH2: 40
A3: Dátum | G3: Város | K3: Kategória | R3: Versenybíró | Y3: =IF(K4="OB","A",IF(K4="IX","W",IF(K4="","",K4))) | AA3: B | AB3: 280 | AC3: 230 | AD3: 180 | AE3: 140 | AF3: 80 | AG3: 0 | AH3: 0
A4: 2026.04.27-30. | G4: Budapest | R4: =[1]Altalanos!$E$10 -> #REF! | AA4: I | AB4: 250 | AC4: 200 | AD4: 150 | AE4: 120 | AF4: 90 | AG4: 60 | AH4: 25
B5: St. | C5: Rangsor | D5: kód | E5: Kiem | F5: Családi név | G5: Keresztnév | I5: Egyesület | K5: 2. forduló | M5: Elődöntők | O5: Döntő | Q5: Győztes | Y5: =IF(OR([1]Altalanos!$A$8="F1",[1]Altalanos!$A$8="F2",[1]Altalanos!$A$8="N1",[1]Altalanos!$A$8="N2"),1,2) -> #REF! | AA5: II | AB5: 200 | AC5: 150 | AD5: 120 | AE5: 90 | AF5: 60 | AG5: 40 | AH5: 15
M6: =IF(Y3="","",CONCATENATE(VLOOKUP(Y3,AB1:AH1,3)," pont")) | O6: =IF(Y3="","",CONCATENATE(VLOOKUP(Y3,AB1:AH1,2)," pont")) | Q6: =IF(Y3="","",CONCATENATE(VLOOKUP(Y3,AB1:AH1,1)," pont")) | AA6: III | AB6: 150 | AC6: 120 | AD6: 90 | AE6: 60 | AF6: 40 | AG6: 25 | AH6: 10
A7: 1 | B7: 0 | C7: 0 | D7: 0 | E7: 1 | F7: MOLNÁR MÁTÉ | G7: 0 | I7: 0 | U7: =[1]Birók!P21 -> #REF! | AA7: IV | AB7: 120 | AC7: 90 | AD7: 60 | AE7: 40 | AF7: 25 | AG7: 10 | AH7: 5
I8: Umpire | K8: MOLNÁR MÁTÉ | U8: =[1]Birók!P22 -> #REF! | AA8: V | AB8: 90 | AC8: 60 | AD8: 40 | AE8: 25 | AF8: 10 | AG8: 5 | AH8: 2
A9: 2 | B9: 0 | C9: 0 | D9: 0 | E9: 12 | F9: MÁTYÁS BENCE | G9: 0 | I9: 0 | K9: 4/1 4/0 | U9: =[1]Birók!P23 -> #REF! | AA9: VI | AB9: 60 | AC9: 40 | AD9: 25 | AE9: 10 | AF9: 5 | AG9: 2 | AH9: 1
K10: Umpire | M10: MOLNÁR MÁTÉ | U10: =[1]Birók!P24 -> #REF! | AA10: VII | AB10: 40 | AC10: 25 | AD10: 15 | AE10: 7 | AF10: 4 | AG10: 1 | AH10: 0
A11: 3 | B11: 0 | C11: 0 | D11: 0 | E11: 15 | F11: VÁMOS BARNABÁS | G11: 0 | I11: 0 | M11: 4/0 4/1 | U11: =[1]Birók!P25 -> #REF! | AA11: VIII | AB11: 25 | AC11: 15 | AD11: 10 | AE11: 6 | AF11: 3 | AG11: 1 | AH11: 0
I12: Umpire | K12: OLASZ BOTOND | U12: =[1]Birók!P26 -> #REF! | AA12: W | AB12: 15 | AC12: 10 | AD12: 6 | AE12: 3 | AF12: 1 | AG12: 0 | AH12: 0
A13: 4 | B13: 0 | C13: 0 | D13: 0 | E13: 7 | F13: OLASZ BOTOND | G13: 0 | I13: 0 | U13: =[1]Birók!P27 -> #REF! | AA13: X | AB13: 10 | AC13: 6 | AD13: 3 | AE13: 1 | AF13: 0 | AG13: 0 | AH13: 0
M14: Umpire | O14: MOLNÁR MÁTÉ | U14: =[1]Birók!P28 -> #REF! | AA14: XI | AB14: 3 | AC14: 2 | AD14: 1 | AE14: 0 | AF14: 0 | AG14: 0 | AH14: 0
A15: 5 | B15: 0 | C15: 0 | D15: 0 | E15: 4 | F15: LÁNYI MARTIN | G15: 0 | I15: 0 | O15: 4/1 5/3 | U15: =[1]Birók!P29 -> #REF!
I16: Umpire | K16: LÁNYI MARTIN | U16: =[1]Birók!P30 -> #REF! | AA16: A | AB16: 150 | AC16: 120 | AD16: 90 | AE16: 60 | AF16: 40 | AG16: 25 | AH16: 15
A17: 6 | B17: 0 | C17: 0 | D17: 0 | E17: 11 | F17: ÓVÁRI MÁTÉ | G17: 0 | I17: 0 | K17: 4/0 2/0 jn | AA17: I | AB17: 120 | AC17: 90 | AD17: 60 | AE17: 40 | AF17: 25 | AG17: 15 | AH17: 8
K18: Umpire | M18: LÁNYI MARTIN | AA18: II | AB18: 90 | AC18: 60 | AD18: 40 | AE18: 25 | AF18: 15 | AG18: 8 | AH18: 4
A19: 7 | B19: 0 | C19: 0 | D19: 0 | E19: 5 | F19: ANDA GERGŐ | G19: 0 | I19: 0 | M19: 4/1 4/1 | AA19: III | AB19: 60 | AC19: 40 | AD19: 25 | AE19: 15 | AF19: 8 | AG19: 4 | AH19: 2
I20: Umpire | K20: ANDA GERGŐ | AA20: IV | AB20: 40 | AC20: 25 | AD20: 15 | AE20: 8 | AF20: 4 | AG20: 2 | AH20: 1
A21: 8 | B21: 0 | C21: 0 | D21: 0 | E21: 10 | F21: FEKETE-VASKÖVI ÁRON | G21: 0 | I21: 0 | K21: 4/0 2/4 10/7 | AA21: V | AB21: 25 | AC21: 15 | AD21: 10 | AE21: 6 | AF21: 3 | AG21: 1 | AH21: 0
O22: Umpire | Q22: MOLNÁR MÁTÉ | AA22: VI | AB22: 15 | AC22: 10 | AD22: 6 | AE22: 3 | AF22: 1 | AG22: 0 | AH22: 0
A23: 9 | B23: 0 | C23: 0 | D23: 0 | E23: 8 | F23: STARK BENJÁMIN | G23: 0 | I23: 0 | Q23: 5/4 5/4 | AA23: VII | AB23: 10 | AC23: 6 | AD23: 3 | AE23: 1 | AF23: 0 | AG23: 0 | AH23: 0
I24: Umpire | K24: STARK BENJÁMIN | AA24: VIII | AB24: 6 | AC24: 3 | AD24: 1 | AE24: 0 | AF24: 0 | AG24: 0 | AH24: 0
A25: 10 | B25: 0 | C25: 0 | D25: 0 | E25: 9 | F25: LEBI-KOVACS ISAI | G25: 0 | I25: 0 | K25: 4/1 4/0 | AA25: W | AB25: 3 | AC25: 2 | AD25: 1 | AE25: 0 | AF25: 0 | AG25: 0 | AH25: 0
K26: Umpire | M26: GYÖRGY KRISZTIÁN
A27: 11 | B27: 0 | C27: 0 | D27: 0 | E27: 6 | F27: MÉSZÁROS GERGŐ | G27: 0 | I27: 0 | M27: 4/1 4/1
I28: Umpire | K28: GYÖRGY KRISZTIÁN
A29: 12 | B29: 0 | C29: 0 | D29: 0 | E29: 3 | F29: GYÖRGY KRISZTIÁN | G29: 0 | I29: 0 | K29: 4/0 4/2
M30: Umpire | O30: GYÖRGY KRISZTIÁN
A31: 13 | B31: 0 | C31: 0 | D31: 0 | E31: 13 | F31: BIHARY LÁSZLÓ | G31: 0 | I31: 0 | O31: 5/3 4/1
I32: Umpire | K32: BIHARY LÁSZLÓ
A33: 14 | B33: 0 | C33: 0 | D33: 0 | E33: 14 | F33: MAROSI LEVENTE | G33: 0 | I33: 0 | K33: jn
K34: Umpire | M34: BIHARY LÁSZLÓ
A35: 15 | B35: 0 | C35: 0 | D35: 0 | E35: 16 | F35: SZATMÁRI BERNÁT | G35: 0 | I35: 0 | M35: 4/2 2/4 12/10
I36: Umpire | K36: SZATMÁRI BERNÁT
A37: 16 | B37: 0 | C37: 0 | D37: 0 | E37: 2 | F37: LEDÉNYI ZSOMBOR | G37: 0 | I37: 0 | K37: 2/4 4/1 10/8
A49: Rangsor | E49: # | F49: Kiemeltek | J49: # | K49: Szerencés Vesztes | M49: Helyettesíti | O49: Sorsolás időpontja
A50: Dátuma | E50: 1 | F50: =IF(E50>$R$57,,UPPER(VLOOKUP(E50,'[1]1MD ELO'!$A$7:$Q$134,2))) -> #REF! | J50: 1 | O50: Utolsó elfogadott játékos
A51: Utolsó DA | E51: 2 | F51: =IF(E51>$R$57,,UPPER(VLOOKUP(E51,'[1]1MD ELO'!$A$7:$Q$134,2))) -> #REF! | J51: 2
E52: 3 | F52: =IF(E52>$R$57,,UPPER(VLOOKUP(E52,'[1]1MD ELO'!$A$7:$Q$134,2))) -> #REF! | J52: 3 | O52: Sorsoló játékosok
E53: 4 | F53: =IF(E53>$R$57,,UPPER(VLOOKUP(E53,'[1]1MD ELO'!$A$7:$Q$134,2))) -> #REF! | J53: 4
J54: 5
J55: 6 | O55: Versenybíró aláírása
J56: 7
J57: 8 | O57: =R4 -> #REF! | R57: =MIN(4,'[1]1MD ELO'!Q5) -> #REF!

Sheet VI.fiúB
A1: 2026 Budapesti Diákolimpia | K1: Egyéni főtábla | O1: CU | AB1: =IF($Y$5=1,CONCATENATE(VLOOKUP($Y$3,$AA$2:$AH$14,2)),CONCATENATE(VLOOKUP($Y$3,$AA$16:$AH$25,2))) -> #REF! | AC1: =IF($Y$5=1,CONCATENATE(VLOOKUP($Y$3,$AA$2:$AH$14,3)),CONCATENATE(VLOOKUP($Y$3,$AA$16:$AH$25,3))) -> #REF! | AD1: =IF($Y$5=1,CONCATENATE(VLOOKUP($Y$3,$AA$2:$AH$14,4)),CONCATENATE(VLOOKUP($Y$3,$AA$16:$AH$25,4))) -> #REF! | AE1: =IF($Y$5=1,CONCATENATE(VLOOKUP($Y$3,$AA$2:$AH$14,5)),CONCATENATE(VLOOKUP($Y$3,$AA$16:$AH$25,5))) -> #REF! | AF1: =IF($Y$5=1,CONCATENATE(VLOOKUP($Y$3,$AA$2:$AH$14,6)),CONCATENATE(VLOOKUP($Y$3,$AA$16:$AH$25,6))) -> #REF! | AG1: =IF($Y$5=1,CONCATENATE(VLOOKUP($Y$3,$AA$2:$AH$14,7)),CONCATENATE(VLOOKUP($Y$3,$AA$16:$AH$25,7))) -> #REF! | AH1: =IF($Y$5=1,CONCATENATE(VLOOKUP($Y$3,$AA$2:$AH$14,8)),CONCATENATE(VLOOKUP($Y$3,$AA$16:$AH$25,8))) -> #REF!
A2: Versenyszám: | E2: 0 | F2: VI.kcs fiú B | AA2: A | AB2: 300 | AC2: 250 | AD2: 200 | AE2: 150 | AF2: 120 | AG2: 90 | AH2: 40
A3: Dátum | G3: Város | K3: Kategória | R3: Versenybíró | Y3: =IF(K4="OB","A",IF(K4="IX","W",IF(K4="","",K4))) | AA3: B | AB3: 280 | AC3: 230 | AD3: 180 | AE3: 140 | AF3: 80 | AG3: 0 | AH3: 0
A4: 2026.04.27-30. | G4: Budapest | R4: =[1]Altalanos!$E$10 -> #REF! | AA4: I | AB4: 250 | AC4: 200 | AD4: 150 | AE4: 120 | AF4: 90 | AG4: 60 | AH4: 25
B5: St. | C5: Rangsor | D5: kód | E5: Kiem | F5: Családi név | G5: Keresztnév | I5: Egyesület | K5: 2. forduló | M5: Elődöntők | O5: Döntő | Q5: Győztes | Y5: =IF(OR([1]Altalanos!$A$8="F1",[1]Altalanos!$A$8="F2",[1]Altalanos!$A$8="N1",[1]Altalanos!$A$8="N2"),1,2) -> #REF! | AA5: II | AB5: 200 | AC5: 150 | AD5: 120 | AE5: 90 | AF5: 60 | AG5: 40 | AH5: 15
O6: =IF(Y3="","",CONCATENATE(VLOOKUP(Y3,AB1:AH1,2)," pont")) | Q6: =IF(Y3="","",CONCATENATE(VLOOKUP(Y3,AB1:AH1,1)," pont")) | AA6: III | AB6: 150 | AC6: 120 | AD6: 90 | AE6: 60 | AF6: 40 | AG6: 25 | AH6: 10
A7: 1 | B7: 0 | C7: 0 | D7: 0 | E7: 3 | F7: ZÁBÓ VILMOS | G7: 0 | I7: 0 | U7: =[1]Birók!P21 -> #REF! | AA7: IV | AB7: 120 | AC7: 90 | AD7: 60 | AE7: 40 | AF7: 25 | AG7: 10 | AH7: 5
I8: Umpire | K8: PETE VINCE | U8: =[1]Birók!P22 -> #REF! | AA8: V | AB8: 90 | AC8: 60 | AD8: 40 | AE8: 25 | AF8: 10 | AG8: 5 | AH8: 2
A9: 2 | B9: 0 | C9: 0 | D9: 0 | E9: 4 | F9: PETE VINCE | G9: 0 | I9: 0 | K9: 4/0 4/2 | U9: =[1]Birók!P23 -> #REF! | AA9: VI | AB9: 60 | AC9: 40 | AD9: 25 | AE9: 10 | AF9: 5 | AG9: 2 | AH9: 1
K10: Umpire | M10: MÁTYÁS DÁVID | U10: =[1]Birók!P24 -> #REF! | AA10: VII | AB10: 40 | AC10: 25 | AD10: 15 | AE10: 7 | AF10: 4 | AG10: 1 | AH10: 0
A11: 3 | B11: 0 | C11: 0 | D11: 0 | E11: 5 | F11: MÁTYÁS DÁVID | G11: 0 | I11: 0 | M11: 4/0 4/0 | U11: =[1]Birók!P25 -> #REF! | AA11: VIII | AB11: 25 | AC11: 15 | AD11: 10 | AE11: 6 | AF11: 3 | AG11: 1 | AH11: 0
I12: Umpire | K12: MÁTYÁS DÁVID | U12: =[1]Birók!P26 -> #REF! | AA12: W | AB12: 15 | AC12: 10 | AD12: 6 | AE12: 3 | AF12: 1 | AG12: 0 | AH12: 0
A13: 4 | B13: 0 | C13: 0 | D13: 0 | E13: 8 | F13: MEZŐ BARNABÁS | G13: 0 | I13: 0 | K13: 4/0 4/0 | U13: =[1]Birók!P27 -> #REF! | AA13: X | AB13: 10 | AC13: 6 | AD13: 3 | AE13: 1 | AF13: 0 | AG13: 0 | AH13: 0
M14: Umpire | O14: MÁTYÁS DÁVID | U14: =[1]Birók!P28 -> #REF! | AA14: XI | AB14: 3 | AC14: 2 | AD14: 1 | AE14: 0 | AF14: 0 | AG14: 0 | AH14: 0
A15: 5 | B15: 0 | C15: 0 | D15: 0 | E15: 12 | F15: NYIRŐ DOMINIK | G15: 0 | I15: 0 | O15: 4/1 4/0 | U15: =[1]Birók!P29 -> #REF!
I16: Umpire | J16: a | K16: NYIRŐ DOMINIK | U16: =[1]Birók!P30 -> #REF! | AA16: A | AB16: 150 | AC16: 120 | AD16: 90 | AE16: 60 | AF16: 40 | AG16: 25 | AH16: 15
A17: 6 | AA17: I | AB17: 120 | AC17: 90 | AD17: 60 | AE17: 40 | AF17: 25 | AG17: 15 | AH17: 8
K18: Umpire | M18: NYIRŐ DOMINIK | AA18: II | AB18: 90 | AC18: 60 | AD18: 40 | AE18: 25 | AF18: 15 | AG18: 8 | AH18: 4
A19: 7 | B19: 0 | C19: 0 | D19: 0 | E19: 8 | F19: RING LÁSZLÓ FLÓRIÁN | G19: 0 | I19: 0 | M19: jn | AA19: III | AB19: 60 | AC19: 40 | AD19: 25 | AE19: 15 | AF19: 8 | AG19: 4 | AH19: 2
I20: Umpire | J20: a | K20: RING LÁSZLÓ FLÓRIÁN | AA20: IV | AB20: 40 | AC20: 25 | AD20: 15 | AE20: 8 | AF20: 4 | AG20: 2 | AH20: 1
A21: 8 | AA21: V | AB21: 25 | AC21: 15 | AD21: 10 | AE21: 6 | AF21: 3 | AG21: 1 | AH21: 0
O22: Umpire | Q22: MÁTYÁS DÁVID | AA22: VI | AB22: 15 | AC22: 10 | AD22: 6 | AE22: 3 | AF22: 1 | AG22: 0 | AH22: 0
A23: 9 | B23: 0 | C23: 0 | D23: 0 | E23: 7 | F23: LŐRINCZY HUNOR BOTOND | G23: 0 | I23: 0 | Q23: 4/0 4/0 | AA23: VII | AB23: 10 | AC23: 6 | AD23: 3 | AE23: 1 | AF23: 0 | AG23: 0 | AH23: 0
I24: Umpire | K24: KOVÁCS BENCE | AA24: VIII | AB24: 6 | AC24: 3 | AD24: 1 | AE24: 0 | AF24: 0 | AG24: 0 | AH24: 0
A25: 10 | B25: 0 | C25: 0 | D25: 0 | E25: 2 | F25: KOVÁCS BENCE | G25: 0 | I25: 0 | K25: 5/4 4/2 | AA25: W | AB25: 3 | AC25: 2 | AD25: 1 | AE25: 0 | AF25: 0 | AG25: 0 | AH25: 0
K26: Umpire | M26: KOVÁCS BENCE
A27: 11 | B27: 0 | C27: 0 | D27: 0 | E27: 10 | F27: CSERNÁK BENCE | G27: 0 | I27: 0 | M27: 4/1 5/4
I28: Umpire | K28: PÁLFI MARCELL SOMA
A29: 12 | B29: 0 | C29: 0 | D29: 0 | E29: 6 | F29: PÁLFI MARCELL SOMA | G29: 0 | I29: 0 | K29: jn
M30: Umpire | O30: SOMHEGYI SZEVERIN
A31: 13 | B31: 0 | C31: 0 | D31: 0 | E31: 1 | F31: SOMHEGYI SZEVERIN | G31: 0 | I31: 0 | O31: 4/2 4/2
I32: Umpire | J32: a | K32: SOMHEGYI SZEVERIN
A33: 14
K34: Umpire | M34: SOMHEGYI SZEVERIN
A35: 15 | B35: 0 | C35: 0 | D35: 0 | E35: 11 | F35: ÁDÁM SURIEL | G35: 0 | I35: 0 | M35: 4/1 5/3
I36: Umpire | K36: ÁDÁM SURIEL
A37: 16 | B37: 0 | C37: 0 | D37: 0 | E37: 13 | F37: BARTÓK MÁRTON FÜLÖP | G37: 0 | I37: 0 | K37: jn
A49: Rangsor | E49: # | F49: Kiemeltek | J49: # | K49: Szerencés Vesztes | M49: Helyettesíti | O49: Sorsolás időpontja
A50: Dátuma | E50: 1 | F50: =IF(E50>$R$57,,UPPER(VLOOKUP(E50,'[1]1MD ELO (3)'!$A$7:$Q$134,2))) -> #REF! | J50: 1 | O50: Utolsó elfogadott játékos
A51: Utolsó DA | E51: 2 | F51: =IF(E51>$R$57,,UPPER(VLOOKUP(E51,'[1]1MD ELO (3)'!$A$7:$Q$134,2))) -> #REF! | J51: 2
E52: 3 | F52: =IF(E52>$R$57,,UPPER(VLOOKUP(E52,'[1]1MD ELO (3)'!$A$7:$Q$134,2))) -> #REF! | J52: 3 | O52: Sorsoló játékosok
E53: 4 | F53: =IF(E53>$R$57,,UPPER(VLOOKUP(E53,'[1]1MD ELO (3)'!$A$7:$Q$134,2))) -> #REF! | J53: 4
J54: 5
J55: 6 | O55: Versenybíró aláírása
J56: 7
J57: 8 | O57: =R4 -> #REF! | R57: =MIN(4,'[1]1MD ELO (3)'!Q5) -> #REF!

Sheet VI.lány A
A1: =[1]Altalanos!$A$6 -> #REF! | K1: Egyéni főtábla | O1: CU | AB1: =IF($Y$5=1,CONCATENATE(VLOOKUP($Y$3,$AA$2:$AH$14,2)),CONCATENATE(VLOOKUP($Y$3,$AA$16:$AH$25,2))) -> #REF! | AC1: =IF($Y$5=1,CONCATENATE(VLOOKUP($Y$3,$AA$2:$AH$14,3)),CONCATENATE(VLOOKUP($Y$3,$AA$16:$AH$25,3))) -> #REF! | AD1: =IF($Y$5=1,CONCATENATE(VLOOKUP($Y$3,$AA$2:$AH$14,4)),CONCATENATE(VLOOKUP($Y$3,$AA$16:$AH$25,4))) -> #REF! | AE1: =IF($Y$5=1,CONCATENATE(VLOOKUP($Y$3,$AA$2:$AH$14,5)),CONCATENATE(VLOOKUP($Y$3,$AA$16:$AH$25,5))) -> #REF! | AF1: =IF($Y$5=1,CONCATENATE(VLOOKUP($Y$3,$AA$2:$AH$14,6)),CONCATENATE(VLOOKUP($Y$3,$AA$16:$AH$25,6))) -> #REF! | AG1: =IF($Y$5=1,CONCATENATE(VLOOKUP($Y$3,$AA$2:$AH$14,7)),CONCATENATE(VLOOKUP($Y$3,$AA$16:$AH$25,7))) -> #REF! | AH1: =IF($Y$5=1,CONCATENATE(VLOOKUP($Y$3,$AA$2:$AH$14,8)),CONCATENATE(VLOOKUP($Y$3,$AA$16:$AH$25,8))) -> #REF!
A2: Versenyszám: | E2: =[1]Altalanos!$D$8 -> #REF! | F2: VI.kcs lány A | AA2: A | AB2: 300 | AC2: 250 | AD2: 200 | AE2: 150 | AF2: 120 | AG2: 90 | AH2: 40
A3: Dátum | G3: Város | K3: Kategória | R3: Versenybíró | Y3: =IF(K4="OB","A",IF(K4="IX","W",IF(K4="","",K4))) | AA3: B | AB3: 280 | AC3: 230 | AD3: 180 | AE3: 140 | AF3: 80 | AG3: 0 | AH3: 0
A4: =[1]Altalanos!$A$10 -> #REF! | G4: =[1]Altalanos!$C$10 -> #REF! | R4: =[1]Altalanos!$E$10 -> #REF! | AA4: I | AB4: 250 | AC4: 200 | AD4: 150 | AE4: 120 | AF4: 90 | AG4: 60 | AH4: 25
B5: St. | C5: Rangsor | D5: kód | E5: Kiem | F5: Családi név | G5: Keresztnév | I5: Egyesület | K5: 2. forduló | M5: Elődöntők | O5: Döntő | Q5: Győztes | Y5: =IF(OR([1]Altalanos!$A$8="F1",[1]Altalanos!$A$8="F2",[1]Altalanos!$A$8="N1",[1]Altalanos!$A$8="N2"),1,2) -> #REF! | AA5: II | AB5: 200 | AC5: 150 | AD5: 120 | AE5: 90 | AF5: 60 | AG5: 40 | AH5: 15
F6: =IF(Y3="","",CONCATENATE(AH1," / ",VLOOKUP(Y3,AB1:AH1,5)," pont")) | K6: =IF(Y3="","",CONCATENATE(VLOOKUP(Y3,AB1:AH1,4)," pont")) | M6: =IF(Y3="","",CONCATENATE(VLOOKUP(Y3,AB1:AH1,3)," pont")) | O6: =IF(Y3="","",CONCATENATE(VLOOKUP(Y3,AB1:AH1,2)," pont")) | Q6: =IF(Y3="","",CONCATENATE(VLOOKUP(Y3,AB1:AH1,1)," pont")) | AA6: III | AB6: 150 | AC6: 120 | AD6: 90 | AE6: 60 | AF6: 40 | AG6: 25 | AH6: 10
A7: 1 | E7: 1 | F7: KOVÁCS EMESE | G7: 0 | I7: 0 | U7: =[1]Birók!P21 -> #REF! | AA7: IV | AB7: 120 | AC7: 90 | AD7: 60 | AE7: 40 | AF7: 25 | AG7: 10 | AH7: 5
I8: Umpire | J8: a | K8: KOVÁCS EMESE | U8: =[1]Birók!P22 -> #REF! | AA8: V | AB8: 90 | AC8: 60 | AD8: 40 | AE8: 25 | AF8: 10 | AG8: 5 | AH8: 2
A9: 2 | F9: x | U9: =[1]Birók!P23 -> #REF! | AA9: VI | AB9: 60 | AC9: 40 | AD9: 25 | AE9: 10 | AF9: 5 | AG9: 2 | AH9: 1
K10: Umpire | M10: MARJANOVIC DANICA | U10: =[1]Birók!P24 -> #REF! | AA10: VII | AB10: 40 | AC10: 25 | AD10: 15 | AE10: 7 | AF10: 4 | AG10: 1 | AH10: 0
A11: 3 | E11: 9 | F11: MARJANOVIC DANICA | G11: 0 | I11: 0 | M11: jn | U11: =[1]Birók!P25 -> #REF! | AA11: VIII | AB11: 25 | AC11: 15 | AD11: 10 | AE11: 6 | AF11: 3 | AG11: 1 | AH11: 0
I12: Umpire | K12: MARJANOVIC DANICA | U12: =[1]Birók!P26 -> #REF! | AA12: W | AB12: 15 | AC12: 10 | AD12: 6 | AE12: 3 | AF12: 1 | AG12: 0 | AH12: 0
A13: 4 | E13: 8 | F13: BOROS HANNA | G13: 0 | I13: 0 | K13: 4/0 4/0 | U13: =[1]Birók!P27 -> #REF! | AA13: X | AB13: 10 | AC13: 6 | AD13: 3 | AE13: 1 | AF13: 0 | AG13: 0 | AH13: 0
M14: Umpire | O14: MARJANOVIC DANICA | U14: =[1]Birók!P28 -> #REF! | AA14: XI | AB14: 3 | AC14: 2 | AD14: 1 | AE14: 0 | AF14: 0 | AG14: 0 | AH14: 0
A15: 5 | E15: 4 | F15: KŐVÁRI OLIVIA SOPHIE | G15: 0 | I15: 0 | O15: 1/4 5/3 10/4 | U15: =[1]Birók!P29 -> #REF!
I16: Umpire | J16: a | K16: KŐVÁRI OLIVIA SOPHIE | U16: =[1]Birók!P30 -> #REF! | AA16: A | AB16: 150 | AC16: 120 | AD16: 90 | AE16: 60 | AF16: 40 | AG16: 25 | AH16: 15
A17: 6 | F17: x | AA17: I | AB17: 120 | AC17: 90 | AD17: 60 | AE17: 40 | AF17: 25 | AG17: 15 | AH17: 8
K18: Umpire | M18: KŐVÁRI OLIVIA SOPHIE | AA18: II | AB18: 90 | AC18: 60 | AD18: 40 | AE18: 25 | AF18: 15 | AG18: 8 | AH18: 4
A19: 7 | E19: 5 | F19: KISPÁL VILLŐ | G19: 0 | I19: 0 | M19: 4/1 4/0 | AA19: III | AB19: 60 | AC19: 40 | AD19: 25 | AE19: 15 | AF19: 8 | AG19: 4 | AH19: 2
I20: Umpire | J20: a | K20: KISPÁL VILLŐ | AA20: IV | AB20: 40 | AC20: 25 | AD20: 15 | AE20: 8 | AF20: 4 | AG20: 2 | AH20: 1
A21: 8 | AA21: V | AB21: 25 | AC21: 15 | AD21: 10 | AE21: 6 | AF21: 3 | AG21: 1 | AH21: 0
O22: Umpire | Q22: VECSERI BIANKA | AA22: VI | AB22: 15 | AC22: 10 | AD22: 6 | AE22: 3 | AF22: 1 | AG22: 0 | AH22: 0
A23: 9 | E23: 7 | F23: HETESSY DIÁNA | G23: 0 | I23: 0 | Q23: 4/2 4/1 | AA23: VII | AB23: 10 | AC23: 6 | AD23: 3 | AE23: 1 | AF23: 0 | AG23: 0 | AH23: 0
I24: Umpire | J24: a | K24: HETESSY DIÁNA | AA24: VIII | AB24: 6 | AC24: 3 | AD24: 1 | AE24: 0 | AF24: 0 | AG24: 0 | AH24: 0
A25: 10 | AA25: W | AB25: 3 | AC25: 2 | AD25: 1 | AE25: 0 | AF25: 0 | AG25: 0 | AH25: 0
K26: Umpire | M26: BERTÓK NELLI
A27: 11 | F27: x | M27: jn
I28: Umpire | J28: b | K28: BERTÓK NELLI
A29: 12 | E29: 3 | F29: BERTÓK NELLI | G29: 0 | I29: 0
M30: Umpire | O30: VECSERI BIANKA
A31: 13 | O31: 4/0 4/1
I32: Umpire | J32: b | K32: SZTRIKINÁCZ HANNA LILI
A33: 14 | E33: 6 | F33: SZTRIKINÁCZ HANNA LILI | G33: 0 | I33: 0
K34: Umpire | M34: VECSERI BIANKA
A35: 15 | F35: x | M35: 4/0 4/0
I36: Umpire | J36: b | K36: VECSERI BIANKA
A37: 16 | E37: 2 | F37: VECSERI BIANKA | G37: 0 | I37: 0
A49: Rangsor | E49: # | F49: Kiemeltek | J49: # | K49: Szerencés Vesztes | M49: Helyettesíti | O49: Sorsolás időpontja
A50: Dátuma | E50: 1 | F50: =IF(E50>$R$57,,UPPER(VLOOKUP(E50,'[1]1MD ELO (4)'!$A$7:$Q$134,2))) -> #REF! | J50: 1 | O50: Utolsó elfogadott játékos
A51: Utolsó DA | E51: 2 | F51: =IF(E51>$R$57,,UPPER(VLOOKUP(E51,'[1]1MD ELO (4)'!$A$7:$Q$134,2))) -> #REF! | J51: 2
E52: 3 | F52: =IF(E52>$R$57,,UPPER(VLOOKUP(E52,'[1]1MD ELO (4)'!$A$7:$Q$134,2))) -> #REF! | J52: 3 | O52: Sorsoló játékosok
E53: 4 | F53: =IF(E53>$R$57,,UPPER(VLOOKUP(E53,'[1]1MD ELO (4)'!$A$7:$Q$134,2))) -> #REF! | J53: 4
J54: 5
J55: 6 | O55: Versenybíró aláírása
J56: 7
J57: 8 | O57: =R4 -> #REF! | R57: =MIN(4,'[1]1MD ELO (4)'!Q5) -> #REF!

Sheet VI.lány B
A1: 2026 Budapesti Diákolimpia | K1: Egyéni főtábla | O1: CU | AB1: =IF($Y$5=1,CONCATENATE(VLOOKUP($Y$3,$AA$2:$AH$14,2)),CONCATENATE(VLOOKUP($Y$3,$AA$16:$AH$25,2))) -> #REF! | AC1: =IF($Y$5=1,CONCATENATE(VLOOKUP($Y$3,$AA$2:$AH$14,3)),CONCATENATE(VLOOKUP($Y$3,$AA$16:$AH$25,3))) -> #REF! | AD1: =IF($Y$5=1,CONCATENATE(VLOOKUP($Y$3,$AA$2:$AH$14,4)),CONCATENATE(VLOOKUP($Y$3,$AA$16:$AH$25,4))) -> #REF! | AE1: =IF($Y$5=1,CONCATENATE(VLOOKUP($Y$3,$AA$2:$AH$14,5)),CONCATENATE(VLOOKUP($Y$3,$AA$16:$AH$25,5))) -> #REF! | AF1: =IF($Y$5=1,CONCATENATE(VLOOKUP($Y$3,$AA$2:$AH$14,6)),CONCATENATE(VLOOKUP($Y$3,$AA$16:$AH$25,6))) -> #REF! | AG1: =IF($Y$5=1,CONCATENATE(VLOOKUP($Y$3,$AA$2:$AH$14,7)),CONCATENATE(VLOOKUP($Y$3,$AA$16:$AH$25,7))) -> #REF! | AH1: =IF($Y$5=1,CONCATENATE(VLOOKUP($Y$3,$AA$2:$AH$14,8)),CONCATENATE(VLOOKUP($Y$3,$AA$16:$AH$25,8))) -> #REF!
A2: Versenyszám: | E2: 0 | F2: VI.kcs lány B | AA2: A | AB2: 300 | AC2: 250 | AD2: 200 | AE2: 150 | AF2: 120 | AG2: 90 | AH2: 40
A3: Dátum | G3: Város | K3: Kategória | R3: Versenybíró | Y3: =IF(K4="OB","A",IF(K4="IX","W",IF(K4="","",K4))) | AA3: B | AB3: 280 | AC3: 230 | AD3: 180 | AE3: 140 | AF3: 80 | AG3: 0 | AH3: 0
A4: 2026.04.27-30. | G4: Budapest | R4: =[1]Altalanos!$E$10 -> #REF! | AA4: I | AB4: 250 | AC4: 200 | AD4: 150 | AE4: 120 | AF4: 90 | AG4: 60 | AH4: 25
B5: St. | C5: Rangsor | D5: kód | E5: Kiem | F5: Családi név | G5: Keresztnév | I5: Egyesület | K5: 2. forduló | M5: Elődöntők | O5: Döntő | Q5: Győztes | Y5: =IF(OR([1]Altalanos!$A$8="F1",[1]Altalanos!$A$8="F2",[1]Altalanos!$A$8="N1",[1]Altalanos!$A$8="N2"),1,2) -> #REF! | AA5: II | AB5: 200 | AC5: 150 | AD5: 120 | AE5: 90 | AF5: 60 | AG5: 40 | AH5: 15
O6: =IF(Y3="","",CONCATENATE(VLOOKUP(Y3,AB1:AH1,2)," pont")) | Q6: =IF(Y3="","",CONCATENATE(VLOOKUP(Y3,AB1:AH1,1)," pont")) | AA6: III | AB6: 150 | AC6: 120 | AD6: 90 | AE6: 60 | AF6: 40 | AG6: 25 | AH6: 10
A7: 1 | B7: 0 | C7: 0 | D7: 0 | E7: 2 | F7: PATKÓ POLETT PATRÍCIA | G7: 0 | I7: 0 | U7: =[1]Birók!P21 -> #REF! | AA7: IV | AB7: 120 | AC7: 90 | AD7: 60 | AE7: 40 | AF7: 25 | AG7: 10 | AH7: 5
I8: Umpire | J8: a | K8: PATKÓ POLETT PATRÍCIA | U8: =[1]Birók!P22 -> #REF! | AA8: V | AB8: 90 | AC8: 60 | AD8: 40 | AE8: 25 | AF8: 10 | AG8: 5 | AH8: 2
A9: 2 | U9: =[1]Birók!P23 -> #REF! | AA9: VI | AB9: 60 | AC9: 40 | AD9: 25 | AE9: 10 | AF9: 5 | AG9: 2 | AH9: 1
K10: Umpire | M10: BABÁLY BOGLÁRKA | U10: =[1]Birók!P24 -> #REF! | AA10: VII | AB10: 40 | AC10: 25 | AD10: 15 | AE10: 7 | AF10: 4 | AG10: 1 | AH10: 0
A11: 3 | B11: 0 | C11: 0 | D11: 0 | E11: 4 | F11: ORGOVÁN REBEKA | G11: 0 | I11: 0 | M11: 4/2 4/0 | U11: =[1]Birók!P25 -> #REF! | AA11: VIII | AB11: 25 | AC11: 15 | AD11: 10 | AE11: 6 | AF11: 3 | AG11: 1 | AH11: 0
I12: Umpire | K12: BABÁLY BOGLÁRKA | U12: =[1]Birók!P26 -> #REF! | AA12: W | AB12: 15 | AC12: 10 | AD12: 6 | AE12: 3 | AF12: 1 | AG12: 0 | AH12: 0
A13: 4 | B13: 0 | C13: 0 | D13: 0 | E13: 5 | F13: BABÁLY BOGLÁRKA | G13: 0 | I13: 0 | K13: 4/2 4/1 | U13: =[1]Birók!P27 -> #REF! | AA13: X | AB13: 10 | AC13: 6 | AD13: 3 | AE13: 1 | AF13: 0 | AG13: 0 | AH13: 0
M14: Umpire | O14: BABÁLY BOGLÁRKA | U14: =[1]Birók!P28 -> #REF! | AA14: XI | AB14: 3 | AC14: 2 | AD14: 1 | AE14: 0 | AF14: 0 | AG14: 0 | AH14: 0
A15: 5 | B15: 0 | C15: 0 | D15: 0 | E15: 6 | F15: ELEK SÁRA | G15: 0 | I15: 0 | O15: 5/3 4/2 | U15: =[1]Birók!P29 -> #REF!
I16: Umpire | K16: ELEK SÁRA | U16: =[1]Birók!P30 -> #REF! | AA16: A | AB16: 150 | AC16: 120 | AD16: 90 | AE16: 60 | AF16: 40 | AG16: 25 | AH16: 15
A17: 6 | B17: 0 | C17: 0 | D17: 0 | E17: 9 | F17: HÁMORI BIANKA | G17: 0 | I17: 0 | K17: 4/0 4/2 | AA17: I | AB17: 120 | AC17: 90 | AD17: 60 | AE17: 40 | AF17: 25 | AG17: 15 | AH17: 8
K18: Umpire | M18: ELEK SÁRA | AA18: II | AB18: 90 | AC18: 60 | AD18: 40 | AE18: 25 | AF18: 15 | AG18: 8 | AH18: 4
A19: 7 | B19: 0 | C19: 0 | D19: 0 | E19: 8 | F19: MÉSZÁROS SZABINA | G19: 0 | I19: 0 | M19: 5/4 5/4 | AA19: III | AB19: 60 | AC19: 40 | AD19: 25 | AE19: 15 | AF19: 8 | AG19: 4 | AH19: 2
I20: Umpire | K20: TÓTH LILI | AA20: IV | AB20: 40 | AC20: 25 | AD20: 15 | AE20: 8 | AF20: 4 | AG20: 2 | AH20: 1
A21: 8 | B21: 0 | C21: 0 | D21: 0 | E21: 11 | F21: TÓTH LILI | G21: 0 | I21: 0 | K21: jn | AA21: V | AB21: 25 | AC21: 15 | AD21: 10 | AE21: 6 | AF21: 3 | AG21: 1 | AH21: 0
O22: Umpire | Q22: NEUKUNFT LILIÁNA | AA22: VI | AB22: 15 | AC22: 10 | AD22: 6 | AE22: 3 | AF22: 1 | AG22: 0 | AH22: 0
A23: 9 | B23: 0 | C23: 0 | D23: 0 | E23: 10 | F23: ÉRTÉKES JÁZMIN LETTI | G23: 0 | I23: 0 | Q23: 4/2 4/1 | AA23: VII | AB23: 10 | AC23: 6 | AD23: 3 | AE23: 1 | AF23: 0 | AG23: 0 | AH23: 0
I24: Umpire | K24: DARMSTADTER DÓRA | AA24: VIII | AB24: 6 | AC24: 3 | AD24: 1 | AE24: 0 | AF24: 0 | AG24: 0 | AH24: 0
A25: 10 | B25: 0 | C25: 0 | D25: 0 | E25: 7 | F25: DARMSTADTER DÓRA | G25: 0 | I25: 0 | K25: 4/0 4/0 | AA25: W | AB25: 3 | AC25: 2 | AD25: 1 | AE25: 0 | AF25: 0 | AG25: 0 | AH25: 0
K26: Umpire | M26: DARMSTADTER DÓRA
A27: 11 | B27: 0 | C27: 0 | D27: 0 | E27: 12 | F27: REGÖLY-MÉREI LAURA | G27: 0 | I27: 0 | M27: 4/0 3/5 10/5
I28: Umpire | K28: REGÖLY-MÉREI LAURA
A29: 12 | B29: 0 | C29: 0 | D29: 0 | E29: 13 | F29: SURGULADZE ELENA SALOMÉ | G29: 0 | I29: 0 | K29: 4/1 4/1
M30: Umpire | O30: NEUKUNFT LILIÁNA
A31: 13 | B31: 0 | C31: 0 | D31: 0 | E31: 1 | F31: SÁRKÖZI JÚLIA ESZTER | G31: 0 | I31: 0 | O31: 5/3 4/2
I32: Umpire | J32: a | K32: SÁRKÖZI JÚLIA ESZTER
A33: 14
K34: Umpire | M34: NEUKUNFT LILIÁNA
A35: 15 | M35: 4/0 4/0
I36: Umpire | J36: b | K36: NEUKUNFT LILIÁNA
A37: 16 | B37: 0 | C37: 0 | D37: 0 | E37: 3 | F37: NEUKUNFT LILIÁNA | G37: 0 | I37: 0
A49: Rangsor | E49: # | F49: Kiemeltek | J49: # | K49: Szerencés Vesztes | M49: Helyettesíti | O49: Sorsolás időpontja
A50: Dátuma | E50: 1 | F50: =IF(E50>$R$57,,UPPER(VLOOKUP(E50,'[1]1MD ELO (5)'!$A$7:$Q$134,2))) -> #REF! | J50: 1 | O50: Utolsó elfogadott játékos
A51: Utolsó DA | E51: 2 | F51: =IF(E51>$R$57,,UPPER(VLOOKUP(E51,'[1]1MD ELO (5)'!$A$7:$Q$134,2))) -> #REF! | J51: 2
E52: 3 | F52: =IF(E52>$R$57,,UPPER(VLOOKUP(E52,'[1]1MD ELO (5)'!$A$7:$Q$134,2))) -> #REF! | J52: 3 | O52: Sorsoló játékosok
E53: 4 | F53: =IF(E53>$R$57,,UPPER(VLOOKUP(E53,'[1]1MD ELO (5)'!$A$7:$Q$134,2))) -> #REF! | J53: 4
J54: 5
J55: 6 | O55: Versenybíró aláírása
J56: 7
J57: 8 | O57: =R4 -> #REF! | R57: =MIN(4,'[1]1MD ELO (5)'!Q5) -> #REF!

Sheet VII.fúA
A1: 2026 Budapesti Diákolimpia | H1: Egyéni főtábla | AB1: =IF(Y5=1,CONCATENATE(VLOOKUP(Y3,AA16:AH27,2)),CONCATENATE(VLOOKUP(Y3,AA2:AK13,2))) -> #REF! | AC1: =IF(Y5=1,CONCATENATE(VLOOKUP(Y3,AA16:AK27,3)),CONCATENATE(VLOOKUP(Y3,AA2:AK13,3))) -> #REF! | AD1: =IF(Y5=1,CONCATENATE(VLOOKUP(Y3,AA16:AK27,4)),CONCATENATE(VLOOKUP(Y3,AA2:AK13,4))) -> #REF! | AE1: =IF(Y5=1,CONCATENATE(VLOOKUP(Y3,AA16:AK27,5)),CONCATENATE(VLOOKUP(Y3,AA2:AK13,5))) -> #REF! | AF1: =IF(Y5=1,CONCATENATE(VLOOKUP(Y3,AA16:AK27,6)),CONCATENATE(VLOOKUP(Y3,AA2:AK13,6))) -> #REF! | AG1: =IF(Y5=1,CONCATENATE(VLOOKUP(Y3,AA16:AK27,7)),CONCATENATE(VLOOKUP(Y3,AA2:AK13,7))) -> #REF! | AH1: =IF(Y5=1,CONCATENATE(VLOOKUP(Y3,AA16:AK27,8)),CONCATENATE(VLOOKUP(Y3,AA2:AK13,8))) -> #REF! | AI1: =IF(Y5=1,CONCATENATE(VLOOKUP(Y3,AA16:AK27,9)),CONCATENATE(VLOOKUP(Y3,AA2:AK13,9))) -> #REF! | AJ1: =IF(Y5=1,CONCATENATE(VLOOKUP(Y3,AA16:AK27,10)),CONCATENATE(VLOOKUP(Y3,AA2:AK13,10))) -> #REF! | AK1: =IF(Y5=1,CONCATENATE(VLOOKUP(Y3,AA16:AK27,11)),CONCATENATE(VLOOKUP(Y3,AA2:AK13,11))) -> #REF!
A2: Versenyszám: | E2: VII.kcs fiú A | AA2: A | AB2: 150 | AC2: 120 | AD2: 100 | AE2: 80 | AF2: 70 | AG2: 60 | AH2: 55 | AI2: 50 | AJ2: 45 | AK2: 40
A3: Dátum | E3: Város | H3: Kategória | M3: Versenybíró | Q3: 1 FORDULÓ | R3: B - C | S3: A -D | Y3: =IF(H4="OB","A",IF(H4="IX","W",H4)) -> 0 | AA3: I | AB3: 120 | AC3: 90 | AD3: 65 | AE3: 55 | AF3: 50 | AG3: 45 | AH3: 40 | AI3: 35 | AJ3: 25 | AK3: 20
A4: 2026.04.27-30. | E4: Budapest | M4: =[7]Altalanos!$E$10 -> #REF! | Q4: 2 FORDULÓ | R4: C - A | S4: D - B | AA4: II | AB4: 90 | AC4: 60 | AD4: 45 | AE4: 34 | AF4: 27 | AG4: 22 | AH4: 18 | AI4: 15 | AJ4: 12 | AK4: 9
B5: kiem | C5: kódszám | D5: Rangsor | E5: Vezetéknév | G5: Keresztnév | I5: Egyesület | K5: Helyezés | L5: Pontszám | M5: Bónusz | Q5: 3 FORDULÓ | R5: A - B | S5: C - D | Y5: =IF(OR([7]Altalanos!$A$8="F1",[7]Altalanos!$A$8="F2",[7]Altalanos!$A$8="N1",[7]Altalanos!$A$8="N2"),1,2) -> #REF! | AA5: III | AB5: 60 | AC5: 40 | AD5: 30 | AE5: 20 | AF5: 18 | AG5: 15 | AH5: 12 | AI5: 10 | AJ5: 8 | AK5: 6
AA6: IV | AB6: 40 | AC6: 25 | AD6: 18 | AE6: 13 | AF6: 10 | AG6: 8 | AH6: 6 | AI6: 5 | AJ6: 4 | AK6: 3
A7: A | B7: 3 | C7: 0 | D7: 0 | E7: RÉKAI ÁRON | G7: 0 | I7: 0 | AA7: V | AB7: 25 | AC7: 15 | AD7: 13 | AE7: 8 | AF7: 6 | AG7: 4 | AH7: 3 | AI7: 2 | AJ7: 1 | AK7: 0
AA8: VI | AB8: 15 | AC8: 10 | AD8: 7 | AE8: 5 | AF8: 4 | AG8: 3 | AH8: 2 | AI8: 1 | AJ8: 0 | AK8: 0
A9: B | B9: 1 | C9: 0 | D9: 0 | E9: SZENES ISTVÁN BENEDEK | G9: 0 | I9: 0 | K9: II | AA9: VII | AB9: 10 | AC9: 6 | AD9: 4 | AE9: 2 | AF9: 1 | AG9: 0 | AH9: 0 | AI9: 0 | AJ9: 0 | AK9: 0
AA10: VIII | AB10: 6 | AC10: 3 | AD10: 2 | AE10: 1 | AF10: 0 | AG10: 0 | AH10: 0 | AI10: 0 | AJ10: 0 | AK10: 0
A11: C | B11: 4 | C11: 0 | D11: 0 | E11: SZLÁVIK DÁVID | G11: 0 | I11: 0 | K11: III | AA11: W | AB11: 3 | AC11: 2 | AD11: 1 | AE11: 0 | AF11: 0 | AG11: 0 | AH11: 0 | AI11: 0 | AJ11: 0 | AK11: 0
AA12: X | AB12: 0 | AC12: 0 | AD12: 0 | AE12: 0 | AF12: 0 | AG12: 0 | AH12: 0 | AI12: 0 | AJ12: 0 | AK12: 0
A13: D | B13: 2 | C13: 0 | D13: 0 | E13: SÁGHY BÁLINT BENEDEK | G13: 0 | I13: 0 | K13: I | AA13: XI | AB13: 0 | AC13: 0 | AD13: 0 | AE13: 0 | AF13: 0 | AG13: 0 | AH13: 0 | AI13: 0 | AJ13: 0 | AK13: 0
AA16: A | AB16: 300 | AC16: 250 | AD16: 220 | AE16: 180 | AF16: 160 | AG16: 150 | AH16: 140 | AI16: 130 | AJ16: 120 | AK16: 110
AA17: I | AB17: 250 | AC17: 200 | AD17: 160 | AE17: 140 | AF17: 120 | AG17: 110 | AH17: 100 | AI17: 90 | AJ17: 80 | AK17: 70
D18: RÉKAI ÁRON | F18: SZENES ISTVÁN BENEDEK | H18: SZLÁVIK DÁVID | J18: SÁGHY BÁLINT BENEDEK | AA18: II | AB18: 200 | AC18: 150 | AD18: 130 | AE18: 110 | AF18: 95 | AG18: 80 | AH18: 70 | AI18: 60 | AJ18: 55 | AK18: 50
A19: A | B19: RÉKAI ÁRON | F19: 0/4 0/4 | H19: 4/1 0/4 4/10 | J19: 0/4 0/4 | AA19: III | AB19: 150 | AC19: 120 | AD19: 100 | AE19: 80 | AF19: 70 | AG19: 60 | AH19: 55 | AI19: 50 | AJ19: 45 | AK19: 40
A20: B | B20: SZENES ISTVÁN BENEDEK | D20: 4/0 4/0 | H20: 4/0 4/0 | J20: 2/4 5/3 4/10 | AA20: IV | AB20: 120 | AC20: 90 | AD20: 65 | AE20: 55 | AF20: 50 | AG20: 45 | AH20: 40 | AI20: 35 | AJ20: 25 | AK20: 20
A21: C | B21: SZLÁVIK DÁVID | D21: 1/4 4/0 10/4 | F21: 0/4 0/4 | J21: 0/4 2/4 | AA21: V | AB21: 90 | AC21: 60 | AD21: 45 | AE21: 34 | AF21: 27 | AG21: 22 | AH21: 18 | AI21: 15 | AJ21: 12 | AK21: 9
A22: D | B22: SÁGHY BÁLINT BENEDEK | D22: 4/0 4/0 | F22: 4/2 3/5 10/4 | H22: 4/0 4/2 | AA22: VI | AB22: 60 | AC22: 40 | AD22: 30 | AE22: 20 | AF22: 18 | AG22: 15 | AH22: 12 | AI22: 10 | AJ22: 8 | AK22: 6
AA23: VII | AB23: 40 | AC23: 25 | AD23: 18 | AE23: 13 | AF23: 8 | AG23: 7 | AH23: 6 | AI23: 5 | AJ23: 4 | AK23: 3
AA24: VIII | AB24: 25 | AC24: 15 | AD24: 13 | AE24: 7 | AF24: 6 | AG24: 5 | AH24: 4 | AI24: 3 | AJ24: 2 | AK24: 1
AA25: W | AB25: 15 | AC25: 10 | AD25: 8 | AE25: 4 | AF25: 3 | AG25: 2 | AH25: 1 | AI25: 0 | AJ25: 0 | AK25: 0
AA26: X | AB26: 10 | AC26: 6 | AD26: 4 | AE26: 2 | AF26: 1 | AG26: 0 | AH26: 0 | AI26: 0 | AJ26: 0 | AK26: 0
AA27: XI | AB27: 3 | AC27: 2 | AD27: 1 | AE27: 0 | AF27: 0 | AG27: 0 | AH27: 0 | AI27: 0 | AJ27: 0 | AK27: 0
A33: Rangsor | D33: # | E33: Kiemeltek | G33: # | H33: Szerencés Vesztes | J33: Helyettesíti | K33: Sorsolás időpontja
A34: Dátuma | G34: 1 | K34: Utolsó elfogadott játékos
A35: Utolsó DA | G35: 2
G36: 3 | K36: Sorsoló játékosok
G37: 4
G38: 5
G39: 6 | K39: Versenybíró aláírása
G40: 7
G41: 8 | K41: =M4 -> #REF!

Sheet VII.fiúB
A1: 2026 Budapesti Diákolimpia | K1: Egyéni főtábla | O1: CU | AB1: =IF($Y$5=1,CONCATENATE(VLOOKUP($Y$3,$AA$2:$AH$14,2)),CONCATENATE(VLOOKUP($Y$3,$AA$16:$AH$25,2))) -> #REF! | AC1: =IF($Y$5=1,CONCATENATE(VLOOKUP($Y$3,$AA$2:$AH$14,3)),CONCATENATE(VLOOKUP($Y$3,$AA$16:$AH$25,3))) -> #REF! | AD1: =IF($Y$5=1,CONCATENATE(VLOOKUP($Y$3,$AA$2:$AH$14,4)),CONCATENATE(VLOOKUP($Y$3,$AA$16:$AH$25,4))) -> #REF! | AE1: =IF($Y$5=1,CONCATENATE(VLOOKUP($Y$3,$AA$2:$AH$14,5)),CONCATENATE(VLOOKUP($Y$3,$AA$16:$AH$25,5))) -> #REF! | AF1: =IF($Y$5=1,CONCATENATE(VLOOKUP($Y$3,$AA$2:$AH$14,6)),CONCATENATE(VLOOKUP($Y$3,$AA$16:$AH$25,6))) -> #REF! | AG1: =IF($Y$5=1,CONCATENATE(VLOOKUP($Y$3,$AA$2:$AH$14,7)),CONCATENATE(VLOOKUP($Y$3,$AA$16:$AH$25,7))) -> #REF! | AH1: =IF($Y$5=1,CONCATENATE(VLOOKUP($Y$3,$AA$2:$AH$14,8)),CONCATENATE(VLOOKUP($Y$3,$AA$16:$AH$25,8))) -> #REF!
A2: Versenyszám: | E2: 0 | F2: VII.kcs fiú B | AA2: A | AB2: 300 | AC2: 250 | AD2: 200 | AE2: 150 | AF2: 120 | AG2: 90 | AH2: 40
A3: Dátum | G3: Város | K3: Kategória | R3: Versenybíró | Y3: =IF(K4="OB","A",IF(K4="IX","W",IF(K4="","",K4))) | AA3: B | AB3: 280 | AC3: 230 | AD3: 180 | AE3: 140 | AF3: 80 | AG3: 0 | AH3: 0
A4: 2026.04.27-30. | G4: Budapest | R4: =[7]Altalanos!$E$10 -> #REF! | AA4: I | AB4: 250 | AC4: 200 | AD4: 150 | AE4: 120 | AF4: 90 | AG4: 60 | AH4: 25
B5: St. | C5: Rangsor | D5: kód | E5: Kiem | F5: Családi név | G5: Keresztnév | I5: Egyesület | K5: 2. forduló | M5: Elődöntők | O5: Döntő | Q5: Győztes | Y5: =IF(OR([7]Altalanos!$A$8="F1",[7]Altalanos!$A$8="F2",[7]Altalanos!$A$8="N1",[7]Altalanos!$A$8="N2"),1,2) -> #REF! | AA5: II | AB5: 200 | AC5: 150 | AD5: 120 | AE5: 90 | AF5: 60 | AG5: 40 | AH5: 15
O6: =IF(Y3="","",CONCATENATE(VLOOKUP(Y3,AB1:AH1,2)," pont")) | Q6: =IF(Y3="","",CONCATENATE(VLOOKUP(Y3,AB1:AH1,1)," pont")) | AA6: III | AB6: 150 | AC6: 120 | AD6: 90 | AE6: 60 | AF6: 40 | AG6: 25 | AH6: 10
A7: 1 | B7: 0 | C7: 0 | D7: 0 | E7: 1 | F7: KÁROLYI ÁRON | G7: 0 | I7: 0 | U7: =[7]Birók!P21 -> #REF! | AA7: IV | AB7: 120 | AC7: 90 | AD7: 60 | AE7: 40 | AF7: 25 | AG7: 10 | AH7: 5
I8: Umpire | J8: a | K8: KÁROLYI ÁRON | U8: =[7]Birók!P22 -> #REF! | AA8: V | AB8: 90 | AC8: 60 | AD8: 40 | AE8: 25 | AF8: 10 | AG8: 5 | AH8: 2
A9: 2 | U9: =[7]Birók!P23 -> #REF! | AA9: VI | AB9: 60 | AC9: 40 | AD9: 25 | AE9: 10 | AF9: 5 | AG9: 2 | AH9: 1
K10: Umpire | M10: KÁROLYI ÁRON | U10: =[7]Birók!P24 -> #REF! | AA10: VII | AB10: 40 | AC10: 25 | AD10: 15 | AE10: 7 | AF10: 4 | AG10: 1 | AH10: 0
A11: 3 | B11: 0 | C11: 0 | D11: 0 | E11: 3 | F11: VÖRÖS BARNABÁS | G11: 0 | I11: 0 | M11: 4/0 4/0 | U11: =[7]Birók!P25 -> #REF! | AA11: VIII | AB11: 25 | AC11: 15 | AD11: 10 | AE11: 6 | AF11: 3 | AG11: 1 | AH11: 0
I12: Umpire | K12: VÖRÖS BARNABÁS | U12: =[7]Birók!P26 -> #REF! | AA12: W | AB12: 15 | AC12: 10 | AD12: 6 | AE12: 3 | AF12: 1 | AG12: 0 | AH12: 0
A13: 4 | B13: 0 | C13: 0 | D13: 0 | E13: 10 | F13: MORVAI NIMRÓD MILÁN | G13: 0 | I13: 0 | K13: jn | U13: =[7]Birók!P27 -> #REF! | AA13: X | AB13: 10 | AC13: 6 | AD13: 3 | AE13: 1 | AF13: 0 | AG13: 0 | AH13: 0
M14: Umpire | O14: KÁROLYI ÁRON | U14: =[7]Birók!P28 -> #REF! | AA14: XI | AB14: 3 | AC14: 2 | AD14: 1 | AE14: 0 | AF14: 0 | AG14: 0 | AH14: 0
A15: 5 | B15: 0 | C15: 0 | D15: 0 | E15: 5 | F15: KŐTELEKY ÁKOS LÁSZLÓ | G15: 0 | I15: 0 | O15: 5/4 4/0 | U15: =[7]Birók!P29 -> #REF!
I16: Umpire | K16: KŐTELEKY ÁKOS LÁSZLÓ | U16: =[7]Birók!P30 -> #REF! | AA16: A | AB16: 150 | AC16: 120 | AD16: 90 | AE16: 60 | AF16: 40 | AG16: 25 | AH16: 15
A17: 6 | B17: 0 | C17: 0 | D17: 0 | E17: 8 | F17: HORVÁTH DOMONKOS VAJK | G17: 0 | I17: 0 | K17: 4/2 4/2 | AA17: I | AB17: 120 | AC17: 90 | AD17: 60 | AE17: 40 | AF17: 25 | AG17: 15 | AH17: 8
K18: Umpire | M18: KŐTELEKY ÁKOS LÁSZLÓ | AA18: II | AB18: 90 | AC18: 60 | AD18: 40 | AE18: 25 | AF18: 15 | AG18: 8 | AH18: 4
A19: 7 | B19: 0 | C19: 0 | D19: 0 | E19: 7 | F19: NAGYGYŐRY BUDA SÁMUEL | G19: 0 | I19: 0 | M19: 4/1 4/5 10/7 | AA19: III | AB19: 60 | AC19: 40 | AD19: 25 | AE19: 15 | AF19: 8 | AG19: 4 | AH19: 2
I20: Umpire | K20: SZALÓKI ÁDÁM | AA20: IV | AB20: 40 | AC20: 25 | AD20: 15 | AE20: 8 | AF20: 4 | AG20: 2 | AH20: 1
A21: 8 | B21: 0 | C21: 0 | D21: 0 | E21: 13 | F21: SZALÓKI ÁDÁM | G21: 0 | I21: 0 | K21: jn | AA21: V | AB21: 25 | AC21: 15 | AD21: 10 | AE21: 6 | AF21: 3 | AG21: 1 | AH21: 0
O22: Umpire | Q22: KÁROLYI ÁRON | AA22: VI | AB22: 15 | AC22: 10 | AD22: 6 | AE22: 3 | AF22: 1 | AG22: 0 | AH22: 0
A23: 9 | B23: 0 | C23: 0 | D23: 0 | E23: 9 | F23: VÁRADI OLIVÉR | G23: 0 | I23: 0 | Q23: 4/0 4/0 | AA23: VII | AB23: 10 | AC23: 6 | AD23: 3 | AE23: 1 | AF23: 0 | AG23: 0 | AH23: 0
I24: Umpire | K24: VÁRADI OLIVÉR | AA24: VIII | AB24: 6 | AC24: 3 | AD24: 1 | AE24: 0 | AF24: 0 | AG24: 0 | AH24: 0
A25: 10 | B25: 0 | C25: 0 | D25: 0 | E25: 6 | F25: URL MÁRK | G25: 0 | I25: 0 | K25: jn | AA25: W | AB25: 3 | AC25: 2 | AD25: 1 | AE25: 0 | AF25: 0 | AG25: 0 | AH25: 0
K26: Umpire | M26: VÁRADI OLIVÉR
A27: 11 | B27: 0 | C27: 0 | D27: 0 | E27: 11 | F27: YE WANGPUNING | G27: 0 | I27: 0 | M27: jn
I28: Umpire | J28: a | K28: YE WANGPUNING
A29: 12
M30: Umpire | O30: VÁRADI OLIVÉR
A31: 13 | B31: 0 | C31: 0 | D31: 0 | E31: 2 | F31: KIRÁLY BÁLINT | G31: 0 | I31: 0 | O31: 2/4 5/3 10/7
I32: Umpire | J32: a | K32: KIRÁLY BÁLINT
A33: 14
K34: Umpire | M34: KIRÁLY BÁLINT
A35: 15 | B35: 0 | C35: 0 | D35: 0 | E35: 12 | F35: GYÖRKEI GERGŐ | G35: 0 | I35: 0 | M35: 4/0 4/1
I36: Umpire | K36: GYÖRKEI GERGŐ
A37: 16 | B37: 0 | C37: 0 | D37: 0 | E37: 4 | F37: GYULAI BULCSÚ HUNOR | G37: 0 | I37: 0
A49: Rangsor | E49: # | F49: Kiemeltek | J49: # | K49: Szerencés Vesztes | M49: Helyettesíti | O49: Sorsolás időpontja
A50: Dátuma | E50: 1 | F50: =IF(E50>$R$57,,UPPER(VLOOKUP(E50,'[7]1MD ELO (2)'!$A$7:$Q$134,2))) -> #REF! | J50: 1 | O50: Utolsó elfogadott játékos
A51: Utolsó DA | E51: 2 | F51: =IF(E51>$R$57,,UPPER(VLOOKUP(E51,'[7]1MD ELO (2)'!$A$7:$Q$134,2))) -> #REF! | J51: 2
E52: 3 | F52: =IF(E52>$R$57,,UPPER(VLOOKUP(E52,'[7]1MD ELO (2)'!$A$7:$Q$134,2))) -> #REF! | J52: 3 | O52: Sorsoló játékosok
E53: 4 | F53: =IF(E53>$R$57,,UPPER(VLOOKUP(E53,'[7]1MD ELO (2)'!$A$7:$Q$134,2))) -> #REF! | J53: 4
J54: 5
J55: 6 | O55: Versenybíró aláírása
J56: 7
J57: 8 | O57: =R4 -> #REF! | R57: =MIN(4,'[7]1MD ELO (2)'!Q5) -> #REF!

Sheet VII.lány B
A1: 2026 Budapesti Diákolimpia | H1: Egyéni főtábla | AB1: =IF(Y5=1,CONCATENATE(VLOOKUP(Y3,AA16:AH27,2)),CONCATENATE(VLOOKUP(Y3,AA2:AK13,2))) -> #REF! | AC1: =IF(Y5=1,CONCATENATE(VLOOKUP(Y3,AA16:AK27,3)),CONCATENATE(VLOOKUP(Y3,AA2:AK13,3))) -> #REF! | AD1: =IF(Y5=1,CONCATENATE(VLOOKUP(Y3,AA16:AK27,4)),CONCATENATE(VLOOKUP(Y3,AA2:AK13,4))) -> #REF! | AE1: =IF(Y5=1,CONCATENATE(VLOOKUP(Y3,AA16:AK27,5)),CONCATENATE(VLOOKUP(Y3,AA2:AK13,5))) -> #REF! | AF1: =IF(Y5=1,CONCATENATE(VLOOKUP(Y3,AA16:AK27,6)),CONCATENATE(VLOOKUP(Y3,AA2:AK13,6))) -> #REF! | AG1: =IF(Y5=1,CONCATENATE(VLOOKUP(Y3,AA16:AK27,7)),CONCATENATE(VLOOKUP(Y3,AA2:AK13,7))) -> #REF! | AH1: =IF(Y5=1,CONCATENATE(VLOOKUP(Y3,AA16:AK27,8)),CONCATENATE(VLOOKUP(Y3,AA2:AK13,8))) -> #REF! | AI1: =IF(Y5=1,CONCATENATE(VLOOKUP(Y3,AA16:AK27,9)),CONCATENATE(VLOOKUP(Y3,AA2:AK13,9))) -> #REF! | AJ1: =IF(Y5=1,CONCATENATE(VLOOKUP(Y3,AA16:AK27,10)),CONCATENATE(VLOOKUP(Y3,AA2:AK13,10))) -> #REF! | AK1: =IF(Y5=1,CONCATENATE(VLOOKUP(Y3,AA16:AK27,11)),CONCATENATE(VLOOKUP(Y3,AA2:AK13,11))) -> #REF!
A2: Versenyszám: | E2: VII.kcs lány B | AA2: A | AB2: 150 | AC2: 120 | AD2: 100 | AE2: 80 | AF2: 70 | AG2: 60 | AH2: 55 | AI2: 50 | AJ2: 45 | AK2: 40
A3: Dátum | E3: Város | H3: Kategória | L3: Versenybíró | Y3: =IF(H4="OB","A",IF(H4="IX","W",H4)) -> 0 | AA3: I | AB3: 120 | AC3: 90 | AD3: 65 | AE3: 55 | AF3: 50 | AG3: 45 | AH3: 40 | AI3: 35 | AJ3: 25 | AK3: 20
A4: 2026.04.27-30. | E4: Budapest | L4: Kádár László István | P4: 1 FORDULÓ | Q4: B - E | R4: C - D | AA4: II | AB4: 90 | AC4: 60 | AD4: 45 | AE4: 34 | AF4: 27 | AG4: 22 | AH4: 18 | AI4: 15 | AJ4: 12 | AK4: 9
B5: kiem | C5: kódszám | D5: Rangsor | E5: Vezetéknév | G5: Keresztnév | I5: Egyesület | K5: Helyezés | L5: Pontszám | M5: Bónusz | P5: 2 FORDULÓ | Q5: D - B | R5: E - A | Y5: =IF(OR([7]Altalanos!$A$8="F1",[7]Altalanos!$A$8="F2",[7]Altalanos!$A$8="N1",[7]Altalanos!$A$8="N2"),1,2) -> #REF! | AA5: III | AB5: 60 | AC5: 40 | AD5: 30 | AE5: 20 | AF5: 18 | AG5: 15 | AH5: 12 | AI5: 10 | AJ5: 8 | AK5: 6
P6: 3 FORDULÓ | Q6: A - D | R6: B - C | AA6: IV | AB6: 40 | AC6: 25 | AD6: 18 | AE6: 13 | AF6: 10 | AG6: 8 | AH6: 6 | AI6: 5 | AJ6: 4 | AK6: 3
A7: A | B7: 1 | C7: 0 | D7: 0 | E7: TARACZKY JÚLIA | G7: 0 | I7: 0 | P7: 4 FORDULÓ | Q7: C - A | R7: D - E | AA7: V | AB7: 25 | AC7: 15 | AD7: 13 | AE7: 8 | AF7: 6 | AG7: 4 | AH7: 3 | AI7: 2 | AJ7: 1 | AK7: 0
P8: 5 FORDULÓ | Q8: A - B | R8: E - C | AA8: VI | AB8: 15 | AC8: 10 | AD8: 7 | AE8: 5 | AF8: 4 | AG8: 3 | AH8: 2 | AI8: 1 | AJ8: 0 | AK8: 0
A9: B | B9: 4 | C9: 0 | D9: 0 | E9: ANDRÁSI LUCA | G9: 0 | I9: 0 | K9: II | AA9: VII | AB9: 10 | AC9: 6 | AD9: 4 | AE9: 2 | AF9: 1 | AG9: 0 | AH9: 0 | AI9: 0 | AJ9: 0 | AK9: 0
AA10: VIII | AB10: 6 | AC10: 3 | AD10: 2 | AE10: 1 | AF10: 0 | AG10: 0 | AH10: 0 | AI10: 0 | AJ10: 0 | AK10: 0
A11: C | B11: 2 | C11: 0 | D11: 0 | E11: RADICS RÉKA ESZTER | G11: 0 | I11: 0 | K11: I | AA11: W | AB11: 3 | AC11: 2 | AD11: 1 | AE11: 0 | AF11: 0 | AG11: 0 | AH11: 0 | AI11: 0 | AJ11: 0 | AK11: 0
AA12: X | AB12: 0 | AC12: 0 | AD12: 0 | AE12: 0 | AF12: 0 | AG12: 0 | AH12: 0 | AI12: 0 | AJ12: 0 | AK12: 0
A13: D | B13: 5 | C13: 0 | D13: 0 | E13: MOLNÁR RÉKA MÁLNA | G13: 0 | I13: 0 | K13: III | AA13: XI | AB13: 0 | AC13: 0 | AD13: 0 | AE13: 0 | AF13: 0 | AG13: 0 | AH13: 0 | AI13: 0 | AJ13: 0 | AK13: 0
A15: E | B15: 3 | C15: 0 | D15: 0 | E15: HOMOLYA VERONIKA | G15: 0 | I15: 0
AA16: A | AB16: 300 | AC16: 250 | AD16: 220 | AE16: 180 | AF16: 160 | AG16: 150 | AH16: 140 | AI16: 130 | AJ16: 120 | AK16: 110
AA17: I | AB17: 250 | AC17: 200 | AD17: 160 | AE17: 140 | AF17: 120 | AG17: 110 | AH17: 100 | AI17: 90 | AJ17: 80 | AK17: 70
D18: TARACZKY JÚLIA | F18: ANDRÁSI LUCA | H18: RADICS RÉKA ESZTER | J18: MOLNÁR RÉKA MÁLNA | L18: HOMOLYA VERONIKA | AA18: II | AB18: 200 | AC18: 150 | AD18: 130 | AE18: 110 | AF18: 95 | AG18: 80 | AH18: 70 | AI18: 60 | AJ18: 55 | AK18: 50
A19: A | B19: TARACZKY JÚLIA | F19: jn v | H19: jn v | J19: jn v | L19: jn v | AA19: III | AB19: 150 | AC19: 120 | AD19: 100 | AE19: 80 | AF19: 70 | AG19: 60 | AH19: 55 | AI19: 50 | AJ19: 45 | AK19: 40
A20: B | B20: ANDRÁSI LUCA | D20: jn ny | H20: 0/4 0/4 | J20: 4/2 4/1 | L20: 4/1 4/1 | AA20: IV | AB20: 120 | AC20: 90 | AD20: 65 | AE20: 55 | AF20: 50 | AG20: 45 | AH20: 40 | AI20: 35 | AJ20: 25 | AK20: 20
A21: C | B21: RADICS RÉKA ESZTER | D21: jn ny | F21: 4/0 4/0 | J21: 4/0 4/1 | L21: 4/0 2/0 jn ny | AA21: V | AB21: 90 | AC21: 60 | AD21: 45 | AE21: 34 | AF21: 27 | AG21: 22 | AH21: 18 | AI21: 15 | AJ21: 12 | AK21: 9
A22: D | B22: MOLNÁR RÉKA MÁLNA | D22: jn ny | F22: 2/4 1/4 | H22: 0/4 1/4 | L22: 4/0 4/1 | AA22: VI | AB22: 60 | AC22: 40 | AD22: 30 | AE22: 20 | AF22: 18 | AG22: 15 | AH22: 12 | AI22: 10 | AJ22: 8 | AK22: 6
A23: E | B23: HOMOLYA VERONIKA | D23: jn ny | F23: 1/4 1/4 | H23: 0/4 0/2 jn v | J23: 0/4 1/4 | AA23: VII | AB23: 40 | AC23: 25 | AD23: 18 | AE23: 13 | AF23: 8 | AG23: 7 | AH23: 6 | AI23: 5 | AJ23: 4 | AK23: 3
AA24: VIII | AB24: 25 | AC24: 15 | AD24: 13 | AE24: 7 | AF24: 6 | AG24: 5 | AH24: 4 | AI24: 3 | AJ24: 2 | AK24: 1
AA25: W | AB25: 15 | AC25: 10 | AD25: 8 | AE25: 4 | AF25: 3 | AG25: 2 | AH25: 1 | AI25: 0 | AJ25: 0 | AK25: 0
AA26: X | AB26: 10 | AC26: 6 | AD26: 4 | AE26: 2 | AF26: 1 | AG26: 0 | AH26: 0 | AI26: 0 | AJ26: 0 | AK26: 0
AA27: XI | AB27: 3 | AC27: 2 | AD27: 1 | AE27: 0 | AF27: 0 | AG27: 0 | AH27: 0 | AI27: 0 | AJ27: 0 | AK27: 0
A33: Rangsor | D33: # | E33: Kiemeltek | G33: # | H33: Szerencés Vesztes | J33: Helyettesíti | K33: Sorsolás időpontja
A34: Dátuma | G34: 1 | K34: Utolsó elfogadott játékos
A35: Utolsó DA | G35: 2
G36: 3 | K36: Sorsoló játékosok
G37: 4
G38: 5
G39: 6 | K39: Versenybíró aláírása
G40: 7
G41: 8 | K41: =L4 -> Kádár László István

Sheet VIII.lány B
A1: 2026 Budapesti Diákolimpia | H1: Egyéni főtábla | AB1: =IF(Y5=1,CONCATENATE(VLOOKUP(Y3,AA16:AH27,2)),CONCATENATE(VLOOKUP(Y3,AA2:AK13,2))) -> #REF! | AC1: =IF(Y5=1,CONCATENATE(VLOOKUP(Y3,AA16:AK27,3)),CONCATENATE(VLOOKUP(Y3,AA2:AK13,3))) -> #REF! | AD1: =IF(Y5=1,CONCATENATE(VLOOKUP(Y3,AA16:AK27,4)),CONCATENATE(VLOOKUP(Y3,AA2:AK13,4))) -> #REF! | AE1: =IF(Y5=1,CONCATENATE(VLOOKUP(Y3,AA16:AK27,5)),CONCATENATE(VLOOKUP(Y3,AA2:AK13,5))) -> #REF! | AF1: =IF(Y5=1,CONCATENATE(VLOOKUP(Y3,AA16:AK27,6)),CONCATENATE(VLOOKUP(Y3,AA2:AK13,6))) -> #REF! | AG1: =IF(Y5=1,CONCATENATE(VLOOKUP(Y3,AA16:AK27,7)),CONCATENATE(VLOOKUP(Y3,AA2:AK13,7))) -> #REF! | AH1: =IF(Y5=1,CONCATENATE(VLOOKUP(Y3,AA16:AK27,8)),CONCATENATE(VLOOKUP(Y3,AA2:AK13,8))) -> #REF! | AI1: =IF(Y5=1,CONCATENATE(VLOOKUP(Y3,AA16:AK27,9)),CONCATENATE(VLOOKUP(Y3,AA2:AK13,9))) -> #REF! | AJ1: =IF(Y5=1,CONCATENATE(VLOOKUP(Y3,AA16:AK27,10)),CONCATENATE(VLOOKUP(Y3,AA2:AK13,10))) -> #REF! | AK1: =IF(Y5=1,CONCATENATE(VLOOKUP(Y3,AA16:AK27,11)),CONCATENATE(VLOOKUP(Y3,AA2:AK13,11))) -> #REF!
A2: Versenyszám: | E2: VIII.kcs lány B | AA2: A | AB2: 150 | AC2: 120 | AD2: 100 | AE2: 80 | AF2: 70 | AG2: 60 | AH2: 55 | AI2: 50 | AJ2: 45 | AK2: 40
A3: Dátum | E3: Város | H3: Kategória | L3: Versenybíró | Q3: 1 FORDULÓ | R3: B - C | Y3: =IF(H4="OB","A",IF(H4="IX","W",H4)) -> 0 | AA3: I | AB3: 120 | AC3: 90 | AD3: 65 | AE3: 55 | AF3: 50 | AG3: 45 | AH3: 40 | AI3: 35 | AJ3: 25 | AK3: 20
A4: 2026.04.27-30. | E4: Budapest | L4: =[7]Altalanos!$E$10 -> #REF! | Q4: 2 FORDULÓ | R4: C - A | AA4: II | AB4: 90 | AC4: 60 | AD4: 45 | AE4: 34 | AF4: 27 | AG4: 22 | AH4: 18 | AI4: 15 | AJ4: 12 | AK4: 9
B5: kiem | C5: kódszám | D5: Rangsor | E5: Vezetéknév | G5: Keresztnév | I5: Egyesület | K5: Helyezés | L5: Pontszám | M5: Bónusz | Q5: 3 FORDULÓ | R5: A - B | Y5: =IF(OR([7]Altalanos!$A$8="F1",[7]Altalanos!$A$8="F2",[7]Altalanos!$A$8="N1",[7]Altalanos!$A$8="N2"),1,2) -> #REF! | AA5: III | AB5: 60 | AC5: 40 | AD5: 30 | AE5: 20 | AF5: 18 | AG5: 15 | AH5: 12 | AI5: 10 | AJ5: 8 | AK5: 6
AA6: IV | AB6: 40 | AC6: 25 | AD6: 18 | AE6: 13 | AF6: 10 | AG6: 8 | AH6: 6 | AI6: 5 | AJ6: 4 | AK6: 3
A7: A | B7: 3 | C7: 0 | D7: 0 | E7: MÁRKUS KÍRA AMETISZT | G7: 0 | I7: 0 | K7: I | AA7: V | AB7: 25 | AC7: 15 | AD7: 13 | AE7: 8 | AF7: 6 | AG7: 4 | AH7: 3 | AI7: 2 | AJ7: 1 | AK7: 0
AA8: VI | AB8: 15 | AC8: 10 | AD8: 7 | AE8: 5 | AF8: 4 | AG8: 3 | AH8: 2 | AI8: 1 | AJ8: 0 | AK8: 0
A9: B | B9: 2 | C9: 0 | D9: 0 | E9: CZUCZOR DÓRA KITTI | G9: 0 | I9: 0 | K9: II | AA9: VII | AB9: 10 | AC9: 6 | AD9: 4 | AE9: 2 | AF9: 1 | AG9: 0 | AH9: 0 | AI9: 0 | AJ9: 0 | AK9: 0
AA10: VIII | AB10: 6 | AC10: 3 | AD10: 2 | AE10: 1 | AF10: 0 | AG10: 0 | AH10: 0 | AI10: 0 | AJ10: 0 | AK10: 0
A11: C | B11: 1 | C11: 0 | D11: 0 | E11: MARSA VIKTÓRIA SZÓFIA | G11: 0 | I11: 0 | L11: =IF(K11="","",CONCATENATE(VLOOKUP($Y$3,$AB$1:$AK$1,K11)," pont")) | AA11: W | AB11: 3 | AC11: 2 | AD11: 1 | AE11: 0 | AF11: 0 | AG11: 0 | AH11: 0 | AI11: 0 | AJ11: 0 | AK11: 0
AA12: X | AB12: 0 | AC12: 0 | AD12: 0 | AE12: 0 | AF12: 0 | AG12: 0 | AH12: 0 | AI12: 0 | AJ12: 0 | AK12: 0
AA13: XI | AB13: 0 | AC13: 0 | AD13: 0 | AE13: 0 | AF13: 0 | AG13: 0 | AH13: 0 | AI13: 0 | AJ13: 0 | AK13: 0
AA16: A | AB16: 300 | AC16: 250 | AD16: 220 | AE16: 180 | AF16: 160 | AG16: 150 | AH16: 140 | AI16: 130 | AJ16: 120 | AK16: 110
AA17: I | AB17: 250 | AC17: 200 | AD17: 160 | AE17: 140 | AF17: 120 | AG17: 110 | AH17: 100 | AI17: 90 | AJ17: 80 | AK17: 70
D18: MÁRKUS KÍRA AMETISZT | F18: CZUCZOR DÓRA KITTI | H18: MARSA VIKTÓRIA SZÓFIA | AA18: II | AB18: 200 | AC18: 150 | AD18: 130 | AE18: 110 | AF18: 95 | AG18: 80 | AH18: 70 | AI18: 60 | AJ18: 55 | AK18: 50
A19: A | B19: MÁRKUS KÍRA AMETISZT | F19: 4/1 2/4 13/11 | H19: jn ny | AA19: III | AB19: 150 | AC19: 120 | AD19: 100 | AE19: 80 | AF19: 70 | AG19: 60 | AH19: 55 | AI19: 50 | AJ19: 45 | AK19: 40
A20: B | B20: CZUCZOR DÓRA KITTI | D20: 1/4 4/2 11/13 | H20: jn ny | AA20: IV | AB20: 120 | AC20: 90 | AD20: 65 | AE20: 55 | AF20: 50 | AG20: 45 | AH20: 40 | AI20: 35 | AJ20: 25 | AK20: 20
A21: C | B21: MARSA VIKTÓRIA SZÓFIA | D21: jn v | F21: jn v | AA21: V | AB21: 90 | AC21: 60 | AD21: 45 | AE21: 34 | AF21: 27 | AG21: 22 | AH21: 18 | AI21: 15 | AJ21: 12 | AK21: 9
AA22: VI | AB22: 60 | AC22: 40 | AD22: 30 | AE22: 20 | AF22: 18 | AG22: 15 | AH22: 12 | AI22: 10 | AJ22: 8 | AK22: 6
AA23: VII | AB23: 40 | AC23: 25 | AD23: 18 | AE23: 13 | AF23: 8 | AG23: 7 | AH23: 6 | AI23: 5 | AJ23: 4 | AK23: 3
AA24: VIII | AB24: 25 | AC24: 15 | AD24: 13 | AE24: 7 | AF24: 6 | AG24: 5 | AH24: 4 | AI24: 3 | AJ24: 2 | AK24: 1
AA25: W | AB25: 15 | AC25: 10 | AD25: 8 | AE25: 4 | AF25: 3 | AG25: 2 | AH25: 1 | AI25: 0 | AJ25: 0 | AK25: 0
AA26: X | AB26: 10 | AC26: 6 | AD26: 4 | AE26: 2 | AF26: 1 | AG26: 0 | AH26: 0 | AI26: 0 | AJ26: 0 | AK26: 0
AA27: XI | AB27: 3 | AC27: 2 | AD27: 1 | AE27: 0 | AF27: 0 | AG27: 0 | AH27: 0 | AI27: 0 | AJ27: 0 | AK27: 0
A33: Rangsor | D33: # | E33: Kiemeltek | G33: # | H33: Szerencés Vesztes | J33: Helyettesíti | K33: Sorsolás időpontja
A34: Dátuma | G34: 1 | K34: Utolsó elfogadott játékos
A35: Utolsó DA | G35: 2
G36: 3 | K36: Sorsoló játékosok
G37: 4
G38: 5
G39: 6 | K39: Versenybíró aláírása
G40: 7
G41: 8 | K41: =L4 -> #REF!
