Workbook

Sheet Altalanos
A1: Magyar verseny táblakészítő
A2: Ezt az oldalt soha ne töröld le !!!
A4: Töltsd ki a zöld mezőket!
A5: A verseny neve:
A6: Baranya Vármegyei Tenisz DO A kategória
A7: Versenyszám 1 | B7: Versenyszám 2 | C7: Versenyszám 3 | D7: Versenyszám 4 | E7: Versenyszám 5
A8: A-VI.kcs-U16-F | B8: A-VII.kcs-U18-F | C8: A-VII.kcs-U18-L
A9: A verseny dátuma (éééé.hh.nn) | C9: Város | E9: Versenybíró:
A10: 2026.05.14-15. | C10: Pécs | E10: Nagyistók-Nádasi Judit
C11: Orvos neve: | D11: Verseny rendezője: | E11: Versenyigazgató
E12: Koncz Zsolt

Sheet Nevezések
A1: Vármegyei szervezet | B1: DSB szervezet | C1: Versenykiírás | D1: Sportág | E1: Korcsoport | F1: Nem | G1: Jelleg | H1: Kategória | I1: Iskola | J1: Település | K1: Nevező | L1: Csapattag | M1: Testnevelő | N1: Felkészítő
A2: Baranya Vármegyei Diáksport Egyesület | B2: Mohács Körzeti Diáksport Bizottság | C2: Tenisz | D2: Tenisz | E2: I.kcs Tenisz U8 piros labdával, P+S szabály | F2: F | G2: E | H2: A | I2: Boldog Gizella Katolikus Általános Iskola és Óvoda | J2: Mohács | K2: Csikós Marcell | M2: Ginderné Czimmer Eszter
A3: Baranya Vármegyei Diáksport Egyesület | B3: Pécsi Körzeti DSB/ Pécsi Sport Nonprofit Zrt. | C3: Tenisz | D3: Tenisz | E3: I.kcs Tenisz U8 piros labdával, P+S szabály | F3: F | G3: E | H3: A | I3: Pécsi Tudományegyetem Gyakorló Általános Iskola, Gimnázium és Óvoda | J3: Pécs | K3: Horváth Benedek | M3: Laskay Szilvia
A4: Baranya Vármegyei Diáksport Egyesület | B4: Mohács Körzeti Diáksport Bizottság | C4: Tenisz | D4: Tenisz | E4: I.kcs Tenisz U8 piros labdával, P+S szabály | F4: F | G4: E | H4: A | I4: Bólyi Általános Iskola és Alapfokú Művészeti Iskola | J4: Bóly | K4: Szabó Barnabás | M4: Horváthné Horváth Mária Magdolna
A5: Baranya Vármegyei Diáksport Egyesület | B5: Mohács Körzeti Diáksport Bizottság | C5: Tenisz | D5: Tenisz | E5: I.kcs Tenisz U8 piros labdával, P+S szabály | F5: F | G5: E | H5: B | I5: Bólyi Általános Iskola és Alapfokú Művészeti Iskola | J5: Bóly | K5: Schneider Lóránt | M5: Horváthné Horváth Mária Magdolna
A6: Baranya Vármegyei Diáksport Egyesület | B6: Mohács Körzeti Diáksport Bizottság | C6: Tenisz | D6: Tenisz | E6: I.kcs Tenisz U8 piros labdával, P+S szabály | F6: F | G6: E | H6: B | I6: Bólyi Általános Iskola és Alapfokú Művészeti Iskola | J6: Bóly | K6: Békési Ádám | M6: Horváthné Horváth Mária Magdolna
A7: Baranya Vármegyei Diáksport Egyesület | B7: Pécsi Körzeti DSB/ Pécsi Sport Nonprofit Zrt. | C7: Tenisz | D7: Tenisz | E7: I.kcs Tenisz U8 piros labdával, P+S szabály | F7: L | G7: E | H7: A | I7: Sztárai Mihály Általános Iskola, Óvoda és Alapfokú Művészeti Iskola | J7: Pécs | K7: Varga Dóra Emili | M7: Horváthné Komáromy Éva | N7: Spitl Tamás, Sáros Zoltán
A8: Baranya Vármegyei Diáksport Egyesület | B8: Mohács Körzeti Diáksport Bizottság | C8: Tenisz | D8: Tenisz | E8: I.kcs Tenisz U8 piros labdával, P+S szabály | F8: L | G8: E | H8: B | I8: Bólyi Általános Iskola és Alapfokú Művészeti Iskola | J8: Bóly | K8: Arnold Johanna | M8: Horváthné Horváth Mária Magdolna
A9: Baranya Vármegyei Diáksport Egyesület | B9: Pécsi Körzeti DSB/ Pécsi Sport Nonprofit Zrt. | C9: Tenisz | D9: Tenisz | E9: I.kcs Tenisz U8 piros labdával, P+S szabály | F9: L | G9: E | H9: B | I9: Pécsi Jókai Mór Általános Iskola | J9: Pécs | K9: Li Wu Abigel | M9: Pozsgai Tamás Gábor
A10: Baranya Vármegyei Diáksport Egyesület | B10: Pécsi Körzeti DSB/ Pécsi Sport Nonprofit Zrt. | C10: Tenisz | D10: Tenisz | E10: I.kcs Tenisz U8 piros labdával, P+S szabály | F10: L | G10: E | H10: B | I10: Koch Valéria Gimnázium, Általános Iskola, Óvoda és Kollégium | J10: Pécs | K10: Fabó Emma | M10: Szelle Krisztián
A11: Baranya Vármegyei Diáksport Egyesület | B11: Pécsi Körzeti DSB/ Pécsi Sport Nonprofit Zrt. | C11: Tenisz | D11: Tenisz | E11: II.kcs Tenisz U10 narancs labdával, P+S szabály | F11: F | G11: E | H11: A | I11: Pécsi Kovács Béla Általános Iskola | J11: Pécs | K11: Lajos Emir | M11: Dér Klára Andrea
A12: Baranya Vármegyei Diáksport Egyesület | B12: Mohács Körzeti Diáksport Bizottság | C12: Tenisz | D12: Tenisz | E12: II.kcs Tenisz U10 narancs labdával, P+S szabály | F12: F | G12: E | H12: B | I12: Bólyi Általános Iskola és Alapfokú Művészeti Iskola | J12: Bóly | K12: Reisz Kende | M12: Horváthné Horváth Mária Magdolna
A13: Baranya Vármegyei Diáksport Egyesület | B13: Mohács Körzeti Diáksport Bizottság | C13: Tenisz | D13: Tenisz | E13: II.kcs Tenisz U10 narancs labdával, P+S szabály | F13: F | G13: E | H13: B | I13: Bólyi Általános Iskola és Alapfokú Művészeti Iskola | J13: Bóly | K13: Pongrácz Nándor | M13: Horváthné Horváth Mária Magdolna
A14: Baranya Vármegyei Diáksport Egyesület | B14: Pécsi Körzeti DSB/ Pécsi Sport Nonprofit Zrt. | C14: Tenisz | D14: Tenisz | E14: II.kcs Tenisz U10 narancs labdával, P+S szabály | F14: F | G14: E | H14: B | I14: Koch Valéria Gimnázium, Általános Iskola, Óvoda és Kollégium | J14: Pécs | K14: Papp-Hoffer Bence | M14: Szelle Krisztián
A15: Baranya Vármegyei Diáksport Egyesület | B15: Pécsi Körzeti DSB/ Pécsi Sport Nonprofit Zrt. | C15: Tenisz | D15: Tenisz | E15: II.kcs Tenisz U10 narancs labdával, P+S szabály | F15: F | G15: E | H15: B | I15: Koch Valéria Gimnázium, Általános Iskola, Óvoda és Kollégium | J15: Pécs | K15: Szebényi Alexander | M15: Szelle Krisztián
A16: Baranya Vármegyei Diáksport Egyesület | B16: Pécsi Körzeti DSB/ Pécsi Sport Nonprofit Zrt. | C16: Tenisz | D16: Tenisz | E16: II.kcs Tenisz U10 narancs labdával, P+S szabály | F16: F | G16: E | H16: B | I16: Koch Valéria Gimnázium, Általános Iskola, Óvoda és Kollégium | J16: Pécs | K16: Zámbó Zénó | M16: Szelle Krisztián
A17: Baranya Vármegyei Diáksport Egyesület | B17: Pécsi Körzeti DSB/ Pécsi Sport Nonprofit Zrt. | C17: Tenisz | D17: Tenisz | E17: II.kcs Tenisz U10 narancs labdával, P+S szabály | F17: L | G17: E | H17: A | I17: Cserepka János Magyar-Angol Két Tanítási Nyelvű Baptista Sportiskola, Általános Iskola és Gimnázium | J17: Pécs | K17: Takács Zara | M17: Belovári Bence | N17: Sáros Zoltán
A18: Baranya Vármegyei Diáksport Egyesület | B18: Mohács Körzeti Diáksport Bizottság | C18: Tenisz | D18: Tenisz | E18: II.kcs Tenisz U10 narancs labdával, P+S szabály | F18: L | G18: E | H18: B | I18: Bólyi Általános Iskola és Alapfokú Művészeti Iskola | J18: Bóly | K18: Ambrus Kíra Dóra | M18: Horváthné Horváth Mária Magdolna
A19: Baranya Vármegyei Diáksport Egyesület | B19: Pécsi Körzeti DSB/ Pécsi Sport Nonprofit Zrt. | C19: Tenisz | D19: Tenisz | E19: II.kcs Tenisz U10 narancs labdával, P+S szabály | F19: L | G19: E | H19: B | I19: Pécsi Tudományegyetem Gyakorló Általános Iskola, Gimnázium és Óvoda | J19: Pécs | K19: Kottász Dalma | M19: Pap Judit Zsuzsanna
A20: Baranya Vármegyei Diáksport Egyesület | B20: Pécsi Körzeti DSB/ Pécsi Sport Nonprofit Zrt. | C20: Tenisz | D20: Tenisz | E20: II.kcs Tenisz U10 narancs labdával, P+S szabály | F20: L | G20: E | H20: B | I20: Pécsi Jókai Mór Általános Iskola | J20: Pécs | K20: Jagic Hanna Mila | M20: Pozsgai Tamás Gábor
A21: Baranya Vármegyei Diáksport Egyesület | B21: Pécsi Körzeti DSB/ Pécsi Sport Nonprofit Zrt. | C21: Tenisz | D21: Tenisz | E21: II.kcs Tenisz U10 narancs labdával, P+S szabály | F21: L | G21: E | H21: B | I21: Koch Valéria Gimnázium, Általános Iskola, Óvoda és Kollégium | J21: Pécs | K21: Duga Milla Mici | M21: Szelle Krisztián
A22: Baranya Vármegyei Diáksport Egyesület | B22: Pécsi Körzeti DSB/ Pécsi Sport Nonprofit Zrt. | C22: Tenisz | D22: Tenisz | E22: III.kcs Tenisz U11 zöld labdával, P+S szabály | F22: F | G22: E | H22: A | I22: Pécsi Tudományegyetem Gyakorló Általános Iskola, Gimnázium és Óvoda | J22: Pécs | K22: Sáros Máté Levente | M22: Pap Judit Zsuzsanna
A23: Baranya Vármegyei Diáksport Egyesület | B23: Pécsi Körzeti DSB/ Pécsi Sport Nonprofit Zrt. | C23: Tenisz | D23: Tenisz | E23: III.kcs Tenisz U11 zöld labdával, P+S szabály | F23: F | G23: E | H23: A | I23: Koch Valéria Gimnázium, Általános Iskola, Óvoda és Kollégium | J23: Pécs | K23: Varga Áron | M23: Várhalmi-Hujber Éva
A24: Baranya Vármegyei Diáksport Egyesület | B24: Mohács Körzeti Diáksport Bizottság | C24: Tenisz | D24: Tenisz | E24: III.kcs Tenisz U11 zöld labdával, P+S szabály | F24: F | G24: E | H24: B | I24: Bólyi Általános Iskola és Alapfokú Művészeti Iskola | J24: Bóly | K24: Arnold Benedek | M24: Horváthné Horváth Mária Magdolna
A25: Baranya Vármegyei Diáksport Egyesület | B25: Mohács Körzeti Diáksport Bizottság | C25: Tenisz | D25: Tenisz | E25: III.kcs Tenisz U11 zöld labdával, P+S szabály | F25: F | G25: E | H25: B | I25: Park Utcai Katolikus Általános Iskola és Óvoda | J25: Mohács | K25: Stivics-Nagy Milos | M25: Schmidt Zsolt
A26: Baranya Vármegyei Diáksport Egyesület | B26: Mohács Körzeti Diáksport Bizottság | C26: Tenisz | D26: Tenisz | E26: III.kcs Tenisz U11 zöld labdával, P+S szabály | F26: F | G26: E | H26: B | I26: Park Utcai Katolikus Általános Iskola és Óvoda | J26: Mohács | K26: Szigeti-Kovács Mátyás József | M26: Schmidt Zsolt
A27: Baranya Vármegyei Diáksport Egyesület | B27: Mohács Körzeti Diáksport Bizottság | C27: Tenisz | D27: Tenisz | E27: III.kcs Tenisz U11 zöld labdával, P+S szabály | F27: F | G27: E | H27: B | I27: Mohács Térségi Általános Iskola | J27: Mohács | K27: Hasanovic Ármin | M27: Ritter Ákos
A28: Baranya Vármegyei Diáksport Egyesület | B28: Mohács Körzeti Diáksport Bizottság | C28: Tenisz | D28: Tenisz | E28: III.kcs Tenisz U11 zöld labdával, P+S szabály | F28: F | G28: E | H28: B | I28: Park Utcai Katolikus Általános Iskola és Óvoda | J28: Mohács | K28: Féth Péter | M28: Verőci Lídia
A29: Baranya Vármegyei Diáksport Egyesület | B29: Mohács Körzeti Diáksport Bizottság | C29: Tenisz | D29: Tenisz | E29: III.kcs Tenisz U11 zöld labdával, P+S szabály | F29: F | G29: E | H29: B | I29: Boldog Gizella Katolikus Általános Iskola és Óvoda | J29: Mohács | K29: Rutterschmidt Erik | M29: Ginderné Czimmer Eszter
... A42: Baranya Vármegyei Diáksport Egyesület | B42: Pécsi Körzeti DSB/ Pécsi Sport Nonprofit Zrt. | C42: Tenisz | D42: Tenisz | E42: IV.kcs Tenisz U12 | F42: F | G42: E | H42: B | I42: Koch Valéria Gimnázium, Általános Iskola, Óvoda és Kollégium | J42: Pécs | K42: Csere Vilmos Tamás | M42: Szelle Krisztián
A43: Baranya Vármegyei Diáksport Egyesület | B43: Pécsi Körzeti DSB/ Pécsi Sport Nonprofit Zrt. | C43: Tenisz | D43: Tenisz | E43: IV.kcs Tenisz U12 | F43: L | G43: E | H43: A | I43: Miroslav Krleža Horvát Óvoda, Általános Iskola, Gimnázium és Kollégium | J43: Pécs | K43: Benovics Hanna Mária | M43: Istókovics Miklós | N43: Simon István
A44: Baranya Vármegyei Diáksport Egyesület | B44: Mohács Körzeti Diáksport Bizottság | C44: Tenisz | D44: Tenisz | E44: IV.kcs Tenisz U12 | F44: L | G44: E | H44: B | I44: Bólyi Általános Iskola és Alapfokú Művészeti Iskola | J44: Bóly | K44: Reisz Inez | M44: Horváthné Horváth Mária Magdolna
A45: Baranya Vármegyei Diáksport Egyesület | B45: Pécsi Körzeti DSB/ Pécsi Sport Nonprofit Zrt. | C45: Tenisz | D45: Tenisz | E45: IV.kcs Tenisz U12 | F45: L | G45: E | H45: B | I45: Miroslav Krleža Horvát Óvoda, Általános Iskola, Gimnázium és Kollégium | J45: Pécs | K45: Vilyevácz Alexandra | M45: Istókovics Miklós | N45: Sáros Zoltán
A46: Baranya Vármegyei Diáksport Egyesület | B46: Pécsi Körzeti DSB/ Pécsi Sport Nonprofit Zrt. | C46: Tenisz | D46: Tenisz | E46: V.kcs Tenisz U14 | F46: F | G46: E | H46: A | I46: Cserepka János Magyar-Angol Két Tanítási Nyelvű Baptista Sportiskola, Általános Iskola és Gimnázium | J46: Pécs | K46: Szűcs Vilmos | M46: Keszthelyiné Magyar Andrea | N46: Simon István
A47: Baranya Vármegyei Diáksport Egyesület | B47: Pécsi Körzeti DSB/ Pécsi Sport Nonprofit Zrt. | C47: Tenisz | D47: Tenisz | E47: V.kcs Tenisz U14 | F47: F | G47: E | H47: B | I47: Pécsi Bártfa Utcai Általános Iskola | J47: Pécs | K47: Szalai Benett | M47: Horváth Tamás
A48: Baranya Vármegyei Diáksport Egyesület | B48: Mohács Körzeti Diáksport Bizottság | C48: Tenisz | D48: Tenisz | E48: V.kcs Tenisz U14 | F48: F | G48: E | H48: B | I48: Bólyi Általános Iskola és Alapfokú Művészeti Iskola | J48: Bóly | K48: Schmidt Róbert | M48: Horváthné Horváth Mária Magdolna
A49: Baranya Vármegyei Diáksport Egyesület | B49: Mohács Körzeti Diáksport Bizottság | C49: Tenisz | D49: Tenisz | E49: V.kcs Tenisz U14 | F49: F | G49: E | H49: B | I49: Park Utcai Katolikus Általános Iskola és Óvoda | J49: Mohács | K49: Lindenlaub Péter | M49: Schmidt Zsolt
A50: Baranya Vármegyei Diáksport Egyesület | B50: Mohács Körzeti Diáksport Bizottság | C50: Tenisz | D50: Tenisz | E50: V.kcs Tenisz U14 | F50: F | G50: E | H50: B | I50: Park Utcai Katolikus Általános Iskola és Óvoda | J50: Mohács | K50: Régaisz Viktor | M50: Schmidt Zsolt
A51: Baranya Vármegyei Diáksport Egyesület | B51: Pécsi Körzeti DSB/ Pécsi Sport Nonprofit Zrt. | C51: Tenisz | D51: Tenisz | E51: V.kcs Tenisz U14 | F51: F | G51: E | H51: B | I51: Pécsi Jókai Mór Általános Iskola | J51: Pécs | K51: Li Yutian Benjamin | M51: Pozsgai Tamás Gábor
A52: Baranya Vármegyei Diáksport Egyesület | B52: Pécsi Körzeti DSB/ Pécsi Sport Nonprofit Zrt. | C52: Tenisz | D52: Tenisz | E52: V.kcs Tenisz U14 | F52: F | G52: E | H52: B | I52: Bogádi Dr. Berze Nagy János Általános Iskola | J52: Bogád | K52: Czimmer Máté | M52: Gosztola Krisztina
...

Sheet A-I.kcs-U8-P-F elo
A1: =[2]Altalanos!$A$6 -> #REF! | E1: Egyéni főtábla
B2: Versenyszám: | C2: =[2]Altalanos!$A$8 -> #REF! | E2: ELŐKÉSZÍTŐ LISTA
A3: NE TÖRÖLD KI EZT AZ OLDALT! | N3: Versenybíró aláírása
A4: Dátum | C4: Város | D4: Kategória | H4: Versenybíró
A5: =[2]Altalanos!$A$10 -> #REF! | C5: =[2]Altalanos!$C$10 -> #REF! | D5: =[2]Altalanos!$D$10 -> #REF! | H5: =[2]Altalanos!$E$10 -> #REF!
A6: Sor | B6: Családi név | C6: Keresztnév | D6: Egyesület | E6: Kódszám | F6: Nevezett Igen | G6: Aláírás | H6: Nevezési rangsor | J6: NatSort if not Seed | K6: NatSort | L6: Seed Sort | M6: AccBasic | N6: Elfogadási státusz | O6: Sorsolási rangsor | P6: AccSort | Q6: Kiemelés
A7: 1 | B7: Csikós | C7: Marcell | D7: Boldog Gizella Kat. Ált.Isk. és Óvoda | E7: 180518 | F7: =TEXT(G7, "ééhhnn") -> 000100
A8: 2 | B8: Horváth | C8: Benedek | D8: PTE Gyakorló Ált. Isk., Gimn. és Óvoda | E8: 180703 | F8: =TEXT(G8, "ééhhnn") -> 000100
A9: 3 | B9: Szabó | C9: Barnabás | D9: Bólyi Általános Iskola és AMI | E9: 180127 | F9: =TEXT(G9, "ééhhnn") -> 000100
A10: 4
A11: 5
A12: 6
A13: 7
A14: 8
A15: 9
A16: 10
A17: 11
A18: 12
A19: 13
A20: 14
A21: 15
... A39: 33
A40: 34 | J40: =IF(AND(Q40="",#REF!>0,#REF!<5),K40,) -> #REF! | K40: =IF(D40="","ZZZ9",IF(AND(#REF!>0,#REF!<5),D40&#REF!,D40&"9")) -> ZZZ9 | L40: =IF(Q40="",999,Q40) -> 999 | M40: =IF(P40=999,999,1) -> 999 | P40: =IF(N40="DA",1,IF(N40="WC",2,IF(N40="SE",3,IF(N40="Q",4,IF(N40="LL",5,999))))) -> 999
A41: 35 | J41: =IF(AND(Q41="",#REF!>0,#REF!<5),K41,) -> #REF! | K41: =IF(D41="","ZZZ9",IF(AND(#REF!>0,#REF!<5),D41&#REF!,D41&"9")) -> ZZZ9 | L41: =IF(Q41="",999,Q41) -> 999 | M41: =IF(P41=999,999,1) -> 999 | P41: =IF(N41="DA",1,IF(N41="WC",2,IF(N41="SE",3,IF(N41="Q",4,IF(N41="LL",5,999))))) -> 999
A42: 36 | J42: =IF(AND(Q42="",#REF!>0,#REF!<5),K42,) -> #REF! | K42: =IF(D42="","ZZZ9",IF(AND(#REF!>0,#REF!<5),D42&#REF!,D42&"9")) -> ZZZ9 | L42: =IF(Q42="",999,Q42) -> 999 | M42: =IF(P42=999,999,1) -> 999 | P42: =IF(N42="DA",1,IF(N42="WC",2,IF(N42="SE",3,IF(N42="Q",4,IF(N42="LL",5,999))))) -> 999
A43: 37 | J43: =IF(AND(Q43="",#REF!>0,#REF!<5),K43,) -> #REF! | K43: =IF(D43="","ZZZ9",IF(AND(#REF!>0,#REF!<5),D43&#REF!,D43&"9")) -> ZZZ9 | L43: =IF(Q43="",999,Q43) -> 999 | M43: =IF(P43=999,999,1) -> 999 | P43: =IF(N43="DA",1,IF(N43="WC",2,IF(N43="SE",3,IF(N43="Q",4,IF(N43="LL",5,999))))) -> 999
A44: 38 | J44: =IF(AND(Q44="",#REF!>0,#REF!<5),K44,) -> #REF! | K44: =IF(D44="","ZZZ9",IF(AND(#REF!>0,#REF!<5),D44&#REF!,D44&"9")) -> ZZZ9 | L44: =IF(Q44="",999,Q44) -> 999 | M44: =IF(P44=999,999,1) -> 999 | P44: =IF(N44="DA",1,IF(N44="WC",2,IF(N44="SE",3,IF(N44="Q",4,IF(N44="LL",5,999))))) -> 999
A45: 39 | J45: =IF(AND(Q45="",#REF!>0,#REF!<5),K45,) -> #REF! | K45: =IF(D45="","ZZZ9",IF(AND(#REF!>0,#REF!<5),D45&#REF!,D45&"9")) -> ZZZ9 | L45: =IF(Q45="",999,Q45) -> 999 | M45: =IF(P45=999,999,1) -> 999 | P45: =IF(N45="DA",1,IF(N45="WC",2,IF(N45="SE",3,IF(N45="Q",4,IF(N45="LL",5,999))))) -> 999
A46: 40 | J46: =IF(AND(Q46="",#REF!>0,#REF!<5),K46,) -> #REF! | K46: =IF(D46="","ZZZ9",IF(AND(#REF!>0,#REF!<5),D46&#REF!,D46&"9")) -> ZZZ9 | L46: =IF(Q46="",999,Q46) -> 999 | M46: =IF(P46=999,999,1) -> 999 | P46: =IF(N46="DA",1,IF(N46="WC",2,IF(N46="SE",3,IF(N46="Q",4,IF(N46="LL",5,999))))) -> 999
A47: 41 | J47: =IF(AND(Q47="",#REF!>0,#REF!<5),K47,) -> #REF! | K47: =IF(D47="","ZZZ9",IF(AND(#REF!>0,#REF!<5),D47&#REF!,D47&"9")) -> ZZZ9 | L47: =IF(Q47="",999,Q47) -> 999 | M47: =IF(P47=999,999,1) -> 999 | P47: =IF(N47="DA",1,IF(N47="WC",2,IF(N47="SE",3,IF(N47="Q",4,IF(N47="LL",5,999))))) -> 999
A48: 42 | J48: =IF(AND(Q48="",#REF!>0,#REF!<5),K48,) -> #REF! | K48: =IF(D48="","ZZZ9",IF(AND(#REF!>0,#REF!<5),D48&#REF!,D48&"9")) -> ZZZ9 | L48: =IF(Q48="",999,Q48) -> 999 | M48: =IF(P48=999,999,1) -> 999 | P48: =IF(N48="DA",1,IF(N48="WC",2,IF(N48="SE",3,IF(N48="Q",4,IF(N48="LL",5,999))))) -> 999
A49: 43 | J49: =IF(AND(Q49="",#REF!>0,#REF!<5),K49,) -> #REF! | K49: =IF(D49="","ZZZ9",IF(AND(#REF!>0,#REF!<5),D49&#REF!,D49&"9")) -> ZZZ9 | L49: =IF(Q49="",999,Q49) -> 999 | M49: =IF(P49=999,999,1) -> 999 | P49: =IF(N49="DA",1,IF(N49="WC",2,IF(N49="SE",3,IF(N49="Q",4,IF(N49="LL",5,999))))) -> 999
A50: 44 | J50: =IF(AND(Q50="",#REF!>0,#REF!<5),K50,) -> #REF! | K50: =IF(D50="","ZZZ9",IF(AND(#REF!>0,#REF!<5),D50&#REF!,D50&"9")) -> ZZZ9 | L50: =IF(Q50="",999,Q50) -> 999 | M50: =IF(P50=999,999,1) -> 999 | P50: =IF(N50="DA",1,IF(N50="WC",2,IF(N50="SE",3,IF(N50="Q",4,IF(N50="LL",5,999))))) -> 999
A51: 45 | J51: =IF(AND(Q51="",#REF!>0,#REF!<5),K51,) -> #REF! | K51: =IF(D51="","ZZZ9",IF(AND(#REF!>0,#REF!<5),D51&#REF!,D51&"9")) -> ZZZ9 | L51: =IF(Q51="",999,Q51) -> 999 | M51: =IF(P51=999,999,1) -> 999 | P51: =IF(N51="DA",1,IF(N51="WC",2,IF(N51="SE",3,IF(N51="Q",4,IF(N51="LL",5,999))))) -> 999
... A156: 150 | J156: =IF(AND(Q156="",#REF!>0,#REF!<5),K156,) -> #REF! | K156: =IF(D156="","ZZZ9",IF(AND(#REF!>0,#REF!<5),D156&#REF!,D156&"9")) -> ZZZ9 | L156: =IF(Q156="",999,Q156) -> 999 | M156: =IF(P156=999,999,1) -> 999 | P156: =IF(N156="DA",1,IF(N156="WC",2,IF(N156="SE",3,IF(N156="Q",4,IF(N156="LL",5,999))))) -> 999

Sheet A-I.kcs-U8-P-F
A1: =[2]Altalanos!$A$6 -> #REF! | H1: Egyéni főtábla | AB1: =IF(Y5=1,CONCATENATE(VLOOKUP(Y3,AA16:AH27,2)),CONCATENATE(VLOOKUP(Y3,AA2:AK13,2))) -> #REF! | AC1: =IF(Y5=1,CONCATENATE(VLOOKUP(Y3,AA16:AK27,3)),CONCATENATE(VLOOKUP(Y3,AA2:AK13,3))) -> #REF! | AD1: =IF(Y5=1,CONCATENATE(VLOOKUP(Y3,AA16:AK27,4)),CONCATENATE(VLOOKUP(Y3,AA2:AK13,4))) -> #REF! | AE1: =IF(Y5=1,CONCATENATE(VLOOKUP(Y3,AA16:AK27,5)),CONCATENATE(VLOOKUP(Y3,AA2:AK13,5))) -> #REF! | AF1: =IF(Y5=1,CONCATENATE(VLOOKUP(Y3,AA16:AK27,6)),CONCATENATE(VLOOKUP(Y3,AA2:AK13,6))) -> #REF! | AG1: =IF(Y5=1,CONCATENATE(VLOOKUP(Y3,AA16:AK27,7)),CONCATENATE(VLOOKUP(Y3,AA2:AK13,7))) -> #REF! | AH1: =IF(Y5=1,CONCATENATE(VLOOKUP(Y3,AA16:AK27,8)),CONCATENATE(VLOOKUP(Y3,AA2:AK13,8))) -> #REF! | AI1: =IF(Y5=1,CONCATENATE(VLOOKUP(Y3,AA16:AK27,9)),CONCATENATE(VLOOKUP(Y3,AA2:AK13,9))) -> #REF! | AJ1: =IF(Y5=1,CONCATENATE(VLOOKUP(Y3,AA16:AK27,10)),CONCATENATE(VLOOKUP(Y3,AA2:AK13,10))) -> #REF! | AK1: =IF(Y5=1,CONCATENATE(VLOOKUP(Y3,AA16:AK27,11)),CONCATENATE(VLOOKUP(Y3,AA2:AK13,11))) -> #REF!
A2: Versenyszám: | E2: =[2]Altalanos!$A$8 -> #REF! | AA2: A | AB2: 150 | AC2: 120 | AD2: 100 | AE2: 80 | AF2: 70 | AG2: 60 | AH2: 55 | AI2: 50 | AJ2: 45 | AK2: 40
A3: Dátum | E3: Város | H3: Kategória | L3: Versenybíró | Q3: 1 FORDULÓ | R3: B - C | Y3: =IF(H4="OB","A",IF(H4="IX","W",H4)) -> 0 | AA3: I | AB3: 120 | AC3: 90 | AD3: 65 | AE3: 55 | AF3: 50 | AG3: 45 | AH3: 40 | AI3: 35 | AJ3: 25 | AK3: 20
A4: =[2]Altalanos!$A$10 -> #REF! | E4: =[2]Altalanos!$C$10 -> #REF! | L4: =[2]Altalanos!$E$10 -> #REF! | Q4: 2 FORDULÓ | R4: C - A | AA4: II | AB4: 90 | AC4: 60 | AD4: 45 | AE4: 34 | AF4: 27 | AG4: 22 | AH4: 18 | AI4: 15 | AJ4: 12 | AK4: 9
B5: kiem | C5: kódszám | D5: Rangsor | E5: Vezetéknév | G5: Keresztnév | I5: Egyesület | K5: Helyezés | L5: Pontszám | M5: Bónusz | Q5: 3 FORDULÓ | R5: A - B | Y5: =IF(OR([2]Altalanos!$A$8="F1",[2]Altalanos!$A$8="F2",[2]Altalanos!$A$8="N1",[2]Altalanos!$A$8="N2"),1,2) -> #REF! | AA5: III | AB5: 60 | AC5: 40 | AD5: 30 | AE5: 20 | AF5: 18 | AG5: 15 | AH5: 12 | AI5: 10 | AJ5: 8 | AK5: 6
AA6: IV | AB6: 40 | AC6: 25 | AD6: 18 | AE6: 13 | AF6: 10 | AG6: 8 | AH6: 6 | AI6: 5 | AJ6: 4 | AK6: 3
A7: A | B7: 1 | C7: =IF($B7="","",VLOOKUP($B7,'A-I.kcs-U8-P-F elo'!$A$7:$O$60,5)) -> 180518 | D7: =IF($B7="","",VLOOKUP($B7,'A-I.kcs-U8-P-F elo'!$A$7:$O$60,15)) -> 0 | E7: =UPPER(IF($B7="","",VLOOKUP($B7,'A-I.kcs-U8-P-F elo'!$A$7:$O$60,2))) -> CSIKÓS | G7: =IF($B7="","",VLOOKUP($B7,'A-I.kcs-U8-P-F elo'!$A$7:$O$60,3)) -> Marcell | I7: =IF($B7="","",VLOOKUP($B7,'A-I.kcs-U8-P-F elo'!$A$7:$O$60,4)) -> Boldog Gizella Kat. Ált.Isk. és Óvoda | K7: I. | AA7: V | AB7: 25 | AC7: 15 | AD7: 13 | AE7: 8 | AF7: 6 | AG7: 4 | AH7: 3 | AI7: 2 | AJ7: 1 | AK7: 0
AA8: VI | AB8: 15 | AC8: 10 | AD8: 7 | AE8: 5 | AF8: 4 | AG8: 3 | AH8: 2 | AI8: 1 | AJ8: 0 | AK8: 0
A9: B | B9: 2 | C9: =IF($B9="","",VLOOKUP($B9,'A-I.kcs-U8-P-F elo'!$A$7:$O$60,5)) -> 180703 | D9: =IF($B9="","",VLOOKUP($B9,'A-I.kcs-U8-P-F elo'!$A$7:$O$60,15)) -> 0 | E9: =UPPER(IF($B9="","",VLOOKUP($B9,'A-I.kcs-U8-P-F elo'!$A$7:$O$60,2))) -> HORVÁTH | G9: =IF($B9="","",VLOOKUP($B9,'A-I.kcs-U8-P-F elo'!$A$7:$O$60,3)) -> Benedek | I9: =IF($B9="","",VLOOKUP($B9,'A-I.kcs-U8-P-F elo'!$A$7:$O$60,4)) -> PTE Gyakorló Ált. Isk., Gimn. és Óvoda | K9: II. | AA9: VII | AB9: 10 | AC9: 6 | AD9: 4 | AE9: 2 | AF9: 1 | AG9: 0 | AH9: 0 | AI9: 0 | AJ9: 0 | AK9: 0
AA10: VIII | AB10: 6 | AC10: 3 | AD10: 2 | AE10: 1 | AF10: 0 | AG10: 0 | AH10: 0 | AI10: 0 | AJ10: 0 | AK10: 0
A11: C | B11: 3 | C11: =IF($B11="","",VLOOKUP($B11,'A-I.kcs-U8-P-F elo'!$A$7:$O$60,5)) -> 180127 | D11: =IF($B11="","",VLOOKUP($B11,'A-I.kcs-U8-P-F elo'!$A$7:$O$60,15)) -> 0 | E11: =UPPER(IF($B11="","",VLOOKUP($B11,'A-I.kcs-U8-P-F elo'!$A$7:$O$60,2))) -> SZABÓ | G11: =IF($B11="","",VLOOKUP($B11,'A-I.kcs-U8-P-F elo'!$A$7:$O$60,3)) -> Barnabás | I11: =IF($B11="","",VLOOKUP($B11,'A-I.kcs-U8-P-F elo'!$A$7:$O$60,4)) -> Bólyi Általános Iskola és AMI | K11: III. | AA11: W | AB11: 3 | AC11: 2 | AD11: 1 | AE11: 0 | AF11: 0 | AG11: 0 | AH11: 0 | AI11: 0 | AJ11: 0 | AK11: 0
AA12: X | AB12: 0 | AC12: 0 | AD12: 0 | AE12: 0 | AF12: 0 | AG12: 0 | AH12: 0 | AI12: 0 | AJ12: 0 | AK12: 0
AA13: XI | AB13: 0 | AC13: 0 | AD13: 0 | AE13: 0 | AF13: 0 | AG13: 0 | AH13: 0 | AI13: 0 | AJ13: 0 | AK13: 0
AA16: A | AB16: 300 | AC16: 250 | AD16: 220 | AE16: 180 | AF16: 160 | AG16: 150 | AH16: 140 | AI16: 130 | AJ16: 120 | AK16: 110
AA17: I | AB17: 250 | AC17: 200 | AD17: 160 | AE17: 140 | AF17: 120 | AG17: 110 | AH17: 100 | AI17: 90 | AJ17: 80 | AK17: 70
D18: =E7 -> CSIKÓS | F18: =E9 -> HORVÁTH | H18: =E11 -> SZABÓ | AA18: II | AB18: 200 | AC18: 150 | AD18: 130 | AE18: 110 | AF18: 95 | AG18: 80 | AH18: 70 | AI18: 60 | AJ18: 55 | AK18: 50
A19: A | B19: =E7 -> CSIKÓS | F19: 15/11 | H19: 15/9 | AA19: III | AB19: 150 | AC19: 120 | AD19: 100 | AE19: 80 | AF19: 70 | AG19: 60 | AH19: 55 | AI19: 50 | AJ19: 45 | AK19: 40
A20: B | B20: =E9 -> HORVÁTH | D20: 11/15 | H20: 15/7 | AA20: IV | AB20: 120 | AC20: 90 | AD20: 65 | AE20: 55 | AF20: 50 | AG20: 45 | AH20: 40 | AI20: 35 | AJ20: 25 | AK20: 20
A21: C | B21: =E11 -> SZABÓ | D21: 9/15 | F21: 7/15 | AA21: V | AB21: 90 | AC21: 60 | AD21: 45 | AE21: 34 | AF21: 27 | AG21: 22 | AH21: 18 | AI21: 15 | AJ21: 12 | AK21: 9
AA22: VI | AB22: 60 | AC22: 40 | AD22: 30 | AE22: 20 | AF22: 18 | AG22: 15 | AH22: 12 | AI22: 10 | AJ22: 8 | AK22: 6
AA23: VII | AB23: 40 | AC23: 25 | AD23: 18 | AE23: 13 | AF23: 8 | AG23: 7 | AH23: 6 | AI23: 5 | AJ23: 4 | AK23: 3
AA24: VIII | AB24: 25 | AC24: 15 | AD24: 13 | AE24: 7 | AF24: 6 | AG24: 5 | AH24: 4 | AI24: 3 | AJ24: 2 | AK24: 1
AA25: W | AB25: 15 | AC25: 10 | AD25: 8 | AE25: 4 | AF25: 3 | AG25: 2 | AH25: 1 | AI25: 0 | AJ25: 0 | AK25: 0
T26: 46341 | AA26: X | AB26: 10 | AC26: 6 | AD26: 4 | AE26: 2 | AF26: 1 | AG26: 0 | AH26: 0 | AI26: 0 | AJ26: 0 | AK26: 0
AA27: XI | AB27: 3 | AC27: 2 | AD27: 1 | AE27: 0 | AF27: 0 | AG27: 0 | AH27: 0 | AI27: 0 | AJ27: 0 | AK27: 0
A33: Rangsor | D33: # | E33: Kiemeltek | G33: # | H33: Szerencés Vesztes | J33: Helyettesíti | K33: Sorsolás időpontja
A34: Dátuma | G34: 1 | K34: Utolsó elfogadott játékos
A35: Utolsó DA | G35: 2
G36: 3 | K36: Sorsoló játékosok
G37: 4
G38: 5
G39: 6 | K39: Versenybíró aláírása
G40: 7
G41: 8 | K41: =L4 -> #REF!

Sheet A-III.kcs-U11-Z-F elo
A1: =[2]Altalanos!$A$6 -> #REF! | E1: Egyéni főtábla
B2: Versenyszám: | C2: =[2]Altalanos!$B$8 -> #REF! | E2: ELŐKÉSZÍTŐ LISTA
A3: NE TÖRÖLD KI EZT AZ OLDALT! | N3: Versenybíró aláírása
A4: Dátum | C4: Város | D4: Kategória | H4: Versenybíró
A5: =[2]Altalanos!$A$10 -> #REF! | C5: =[2]Altalanos!$C$10 -> #REF! | D5: =[2]Altalanos!$D$10 -> #REF! | H5: =[2]Altalanos!$E$10 -> #REF!
A6: Sor | B6: Családi név | C6: Keresztnév | D6: Egyesület | E6: Kódszám | F6: Nevezett Igen | G6: Aláírás | H6: Nevezési rangsor | J6: NatSort if not Seed | K6: NatSort | L6: Seed Sort | M6: AccBasic | N6: Elfogadási státusz | O6: Sorsolási rangsor | P6: AccSort | Q6: Kiemelés
A7: 1 | B7: Sáros | C7: Máté Levente | D7: PTE Gyakorló Ált. Isk., Gimn. és Óvoda | E7: 150705
A8: 2 | B8: Varga | C8: Áron | D8: Koch V.Gimn., Ált. Isk., Óvoda és Koll. | E8: 150824
A9: 3
A10: 4
A11: 5
A12: 6
A13: 7
A14: 8
A15: 9
A16: 10
A17: 11
A18: 12
A19: 13
A20: 14
... A39: 33
A40: 34 | J40: =IF(AND(Q40="",#REF!>0,#REF!<5),K40,) -> #REF! | K40: =IF(D40="","ZZZ9",IF(AND(#REF!>0,#REF!<5),D40&#REF!,D40&"9")) -> ZZZ9 | L40: =IF(Q40="",999,Q40) -> 999 | M40: =IF(P40=999,999,1) -> 999 | P40: =IF(N40="DA",1,IF(N40="WC",2,IF(N40="SE",3,IF(N40="Q",4,IF(N40="LL",5,999))))) -> 999
A41: 35 | J41: =IF(AND(Q41="",#REF!>0,#REF!<5),K41,) -> #REF! | K41: =IF(D41="","ZZZ9",IF(AND(#REF!>0,#REF!<5),D41&#REF!,D41&"9")) -> ZZZ9 | L41: =IF(Q41="",999,Q41) -> 999 | M41: =IF(P41=999,999,1) -> 999 | P41: =IF(N41="DA",1,IF(N41="WC",2,IF(N41="SE",3,IF(N41="Q",4,IF(N41="LL",5,999))))) -> 999
A42: 36 | J42: =IF(AND(Q42="",#REF!>0,#REF!<5),K42,) -> #REF! | K42: =IF(D42="","ZZZ9",IF(AND(#REF!>0,#REF!<5),D42&#REF!,D42&"9")) -> ZZZ9 | L42: =IF(Q42="",999,Q42) -> 999 | M42: =IF(P42=999,999,1) -> 999 | P42: =IF(N42="DA",1,IF(N42="WC",2,IF(N42="SE",3,IF(N42="Q",4,IF(N42="LL",5,999))))) -> 999
A43: 37 | J43: =IF(AND(Q43="",#REF!>0,#REF!<5),K43,) -> #REF! | K43: =IF(D43="","ZZZ9",IF(AND(#REF!>0,#REF!<5),D43&#REF!,D43&"9")) -> ZZZ9 | L43: =IF(Q43="",999,Q43) -> 999 | M43: =IF(P43=999,999,1) -> 999 | P43: =IF(N43="DA",1,IF(N43="WC",2,IF(N43="SE",3,IF(N43="Q",4,IF(N43="LL",5,999))))) -> 999
A44: 38 | J44: =IF(AND(Q44="",#REF!>0,#REF!<5),K44,) -> #REF! | K44: =IF(D44="","ZZZ9",IF(AND(#REF!>0,#REF!<5),D44&#REF!,D44&"9")) -> ZZZ9 | L44: =IF(Q44="",999,Q44) -> 999 | M44: =IF(P44=999,999,1) -> 999 | P44: =IF(N44="DA",1,IF(N44="WC",2,IF(N44="SE",3,IF(N44="Q",4,IF(N44="LL",5,999))))) -> 999
A45: 39 | J45: =IF(AND(Q45="",#REF!>0,#REF!<5),K45,) -> #REF! | K45: =IF(D45="","ZZZ9",IF(AND(#REF!>0,#REF!<5),D45&#REF!,D45&"9")) -> ZZZ9 | L45: =IF(Q45="",999,Q45) -> 999 | M45: =IF(P45=999,999,1) -> 999 | P45: =IF(N45="DA",1,IF(N45="WC",2,IF(N45="SE",3,IF(N45="Q",4,IF(N45="LL",5,999))))) -> 999
A46: 40 | J46: =IF(AND(Q46="",#REF!>0,#REF!<5),K46,) -> #REF! | K46: =IF(D46="","ZZZ9",IF(AND(#REF!>0,#REF!<5),D46&#REF!,D46&"9")) -> ZZZ9 | L46: =IF(Q46="",999,Q46) -> 999 | M46: =IF(P46=999,999,1) -> 999 | P46: =IF(N46="DA",1,IF(N46="WC",2,IF(N46="SE",3,IF(N46="Q",4,IF(N46="LL",5,999))))) -> 999
A47: 41 | J47: =IF(AND(Q47="",#REF!>0,#REF!<5),K47,) -> #REF! | K47: =IF(D47="","ZZZ9",IF(AND(#REF!>0,#REF!<5),D47&#REF!,D47&"9")) -> ZZZ9 | L47: =IF(Q47="",999,Q47) -> 999 | M47: =IF(P47=999,999,1) -> 999 | P47: =IF(N47="DA",1,IF(N47="WC",2,IF(N47="SE",3,IF(N47="Q",4,IF(N47="LL",5,999))))) -> 999
A48: 42 | J48: =IF(AND(Q48="",#REF!>0,#REF!<5),K48,) -> #REF! | K48: =IF(D48="","ZZZ9",IF(AND(#REF!>0,#REF!<5),D48&#REF!,D48&"9")) -> ZZZ9 | L48: =IF(Q48="",999,Q48) -> 999 | M48: =IF(P48=999,999,1) -> 999 | P48: =IF(N48="DA",1,IF(N48="WC",2,IF(N48="SE",3,IF(N48="Q",4,IF(N48="LL",5,999))))) -> 999
A49: 43 | J49: =IF(AND(Q49="",#REF!>0,#REF!<5),K49,) -> #REF! | K49: =IF(D49="","ZZZ9",IF(AND(#REF!>0,#REF!<5),D49&#REF!,D49&"9")) -> ZZZ9 | L49: =IF(Q49="",999,Q49) -> 999 | M49: =IF(P49=999,999,1) -> 999 | P49: =IF(N49="DA",1,IF(N49="WC",2,IF(N49="SE",3,IF(N49="Q",4,IF(N49="LL",5,999))))) -> 999
A50: 44 | J50: =IF(AND(Q50="",#REF!>0,#REF!<5),K50,) -> #REF! | K50: =IF(D50="","ZZZ9",IF(AND(#REF!>0,#REF!<5),D50&#REF!,D50&"9")) -> ZZZ9 | L50: =IF(Q50="",999,Q50) -> 999 | M50: =IF(P50=999,999,1) -> 999 | P50: =IF(N50="DA",1,IF(N50="WC",2,IF(N50="SE",3,IF(N50="Q",4,IF(N50="LL",5,999))))) -> 999
A51: 45 | J51: =IF(AND(Q51="",#REF!>0,#REF!<5),K51,) -> #REF! | K51: =IF(D51="","ZZZ9",IF(AND(#REF!>0,#REF!<5),D51&#REF!,D51&"9")) -> ZZZ9 | L51: =IF(Q51="",999,Q51) -> 999 | M51: =IF(P51=999,999,1) -> 999 | P51: =IF(N51="DA",1,IF(N51="WC",2,IF(N51="SE",3,IF(N51="Q",4,IF(N51="LL",5,999))))) -> 999
... A156: 150 | J156: =IF(AND(Q156="",#REF!>0,#REF!<5),K156,) -> #REF! | K156: =IF(D156="","ZZZ9",IF(AND(#REF!>0,#REF!<5),D156&#REF!,D156&"9")) -> ZZZ9 | L156: =IF(Q156="",999,Q156) -> 999 | M156: =IF(P156=999,999,1) -> 999 | P156: =IF(N156="DA",1,IF(N156="WC",2,IF(N156="SE",3,IF(N156="Q",4,IF(N156="LL",5,999))))) -> 999

Sheet A-III.kcs-U11-Z-F
A1: =[2]Altalanos!$A$6 -> #REF! | H1: Egyéni főtábla | AB1: =IF(Y5=1,CONCATENATE(VLOOKUP(Y3,AA16:AH27,2)),CONCATENATE(VLOOKUP(Y3,AA2:AK13,2))) -> #REF! | AC1: =IF(Y5=1,CONCATENATE(VLOOKUP(Y3,AA16:AK27,3)),CONCATENATE(VLOOKUP(Y3,AA2:AK13,3))) -> #REF! | AD1: =IF(Y5=1,CONCATENATE(VLOOKUP(Y3,AA16:AK27,4)),CONCATENATE(VLOOKUP(Y3,AA2:AK13,4))) -> #REF! | AE1: =IF(Y5=1,CONCATENATE(VLOOKUP(Y3,AA16:AK27,5)),CONCATENATE(VLOOKUP(Y3,AA2:AK13,5))) -> #REF! | AF1: =IF(Y5=1,CONCATENATE(VLOOKUP(Y3,AA16:AK27,6)),CONCATENATE(VLOOKUP(Y3,AA2:AK13,6))) -> #REF! | AG1: =IF(Y5=1,CONCATENATE(VLOOKUP(Y3,AA16:AK27,7)),CONCATENATE(VLOOKUP(Y3,AA2:AK13,7))) -> #REF! | AH1: =IF(Y5=1,CONCATENATE(VLOOKUP(Y3,AA16:AK27,8)),CONCATENATE(VLOOKUP(Y3,AA2:AK13,8))) -> #REF! | AI1: =IF(Y5=1,CONCATENATE(VLOOKUP(Y3,AA16:AK27,9)),CONCATENATE(VLOOKUP(Y3,AA2:AK13,9))) -> #REF! | AJ1: =IF(Y5=1,CONCATENATE(VLOOKUP(Y3,AA16:AK27,10)),CONCATENATE(VLOOKUP(Y3,AA2:AK13,10))) -> #REF! | AK1: =IF(Y5=1,CONCATENATE(VLOOKUP(Y3,AA16:AK27,11)),CONCATENATE(VLOOKUP(Y3,AA2:AK13,11))) -> #REF!
A2: Versenyszám: | E2: =[2]Altalanos!$B$8 -> #REF! | AA2: A | AB2: 150 | AC2: 120 | AD2: 100 | AE2: 80 | AF2: 70 | AG2: 60 | AH2: 55 | AI2: 50 | AJ2: 45 | AK2: 40
A3: Dátum | E3: Város | H3: Kategória | L3: Versenybíró | Q3: 1 FORDULÓ | R3: B - C | Y3: =IF(H4="OB","A",IF(H4="IX","W",H4)) -> 0 | AA3: I | AB3: 120 | AC3: 90 | AD3: 65 | AE3: 55 | AF3: 50 | AG3: 45 | AH3: 40 | AI3: 35 | AJ3: 25 | AK3: 20
A4: =[2]Altalanos!$A$10 -> #REF! | E4: =[2]Altalanos!$C$10 -> #REF! | L4: =[2]Altalanos!$E$10 -> #REF! | Q4: 2 FORDULÓ | R4: C - A | AA4: II | AB4: 90 | AC4: 60 | AD4: 45 | AE4: 34 | AF4: 27 | AG4: 22 | AH4: 18 | AI4: 15 | AJ4: 12 | AK4: 9
B5: kiem | C5: kódszám | D5: Rangsor | E5: Vezetéknév | G5: Keresztnév | I5: Egyesület | K5: Helyezés | L5: Pontszám | M5: Bónusz | Q5: 3 FORDULÓ | R5: A - B | Y5: =IF(OR([2]Altalanos!$A$8="F1",[2]Altalanos!$A$8="F2",[2]Altalanos!$A$8="N1",[2]Altalanos!$A$8="N2"),1,2) -> #REF! | AA5: III | AB5: 60 | AC5: 40 | AD5: 30 | AE5: 20 | AF5: 18 | AG5: 15 | AH5: 12 | AI5: 10 | AJ5: 8 | AK5: 6
AA6: IV | AB6: 40 | AC6: 25 | AD6: 18 | AE6: 13 | AF6: 10 | AG6: 8 | AH6: 6 | AI6: 5 | AJ6: 4 | AK6: 3
A7: A | B7: 1 | C7: =IF($B7="","",VLOOKUP($B7,'A-III.kcs-U11-Z-F elo'!$A$7:$O$60,5)) -> 150705 | D7: =IF($B7="","",VLOOKUP($B7,'A-III.kcs-U11-Z-F elo'!$A$7:$O$60,15)) -> 0 | E7: =UPPER(IF($B7="","",VLOOKUP($B7,'A-III.kcs-U11-Z-F elo'!$A$7:$O$60,2))) -> SÁROS | G7: =IF($B7="","",VLOOKUP($B7,'A-III.kcs-U11-Z-F elo'!$A$7:$O$60,3)) -> Máté Levente | I7: =IF($B7="","",VLOOKUP($B7,'A-III.kcs-U11-Z-F elo'!$A$7:$O$60,4)) -> PTE Gyakorló Ált. Isk., Gimn. és Óvoda | K7: II. | AA7: V | AB7: 25 | AC7: 15 | AD7: 13 | AE7: 8 | AF7: 6 | AG7: 4 | AH7: 3 | AI7: 2 | AJ7: 1 | AK7: 0
AA8: VI | AB8: 15 | AC8: 10 | AD8: 7 | AE8: 5 | AF8: 4 | AG8: 3 | AH8: 2 | AI8: 1 | AJ8: 0 | AK8: 0
A9: B | B9: 2 | C9: =IF($B9="","",VLOOKUP($B9,'A-III.kcs-U11-Z-F elo'!$A$7:$O$60,5)) -> 150824 | D9: =IF($B9="","",VLOOKUP($B9,'A-III.kcs-U11-Z-F elo'!$A$7:$O$60,15)) -> 0 | E9: =UPPER(IF($B9="","",VLOOKUP($B9,'A-III.kcs-U11-Z-F elo'!$A$7:$O$60,2))) -> VARGA | G9: =IF($B9="","",VLOOKUP($B9,'A-III.kcs-U11-Z-F elo'!$A$7:$O$60,3)) -> Áron | I9: =IF($B9="","",VLOOKUP($B9,'A-III.kcs-U11-Z-F elo'!$A$7:$O$60,4)) -> Koch V.Gimn., Ált. Isk., Óvoda és Koll. | K9: I. | AA9: VII | AB9: 10 | AC9: 6 | AD9: 4 | AE9: 2 | AF9: 1 | AG9: 0 | AH9: 0 | AI9: 0 | AJ9: 0 | AK9: 0
AA10: VIII | AB10: 6 | AC10: 3 | AD10: 2 | AE10: 1 | AF10: 0 | AG10: 0 | AH10: 0 | AI10: 0 | AJ10: 0 | AK10: 0
A11: C | C11: =IF($B11="","",VLOOKUP($B11,'A-III.kcs-U11-Z-F elo'!$A$7:$O$60,5)) | D11: =IF($B11="","",VLOOKUP($B11,'A-III.kcs-U11-Z-F elo'!$A$7:$O$60,15)) | E11: =UPPER(IF($B11="","",VLOOKUP($B11,'A-III.kcs-U11-Z-F elo'!$A$7:$O$60,2))) | G11: =IF($B11="","",VLOOKUP($B11,'A-III.kcs-U11-Z-F elo'!$A$7:$O$60,3)) | I11: =IF($B11="","",VLOOKUP($B11,'A-III.kcs-U11-Z-F elo'!$A$7:$O$60,4)) | L11: =IF(K11="","",CONCATENATE(VLOOKUP($Y$3,$AB$1:$AK$1,K11)," pont")) | AA11: W | AB11: 3 | AC11: 2 | AD11: 1 | AE11: 0 | AF11: 0 | AG11: 0 | AH11: 0 | AI11: 0 | AJ11: 0 | AK11: 0
AA12: X | AB12: 0 | AC12: 0 | AD12: 0 | AE12: 0 | AF12: 0 | AG12: 0 | AH12: 0 | AI12: 0 | AJ12: 0 | AK12: 0
AA13: XI | AB13: 0 | AC13: 0 | AD13: 0 | AE13: 0 | AF13: 0 | AG13: 0 | AH13: 0 | AI13: 0 | AJ13: 0 | AK13: 0
AA16: A | AB16: 300 | AC16: 250 | AD16: 220 | AE16: 180 | AF16: 160 | AG16: 150 | AH16: 140 | AI16: 130 | AJ16: 120 | AK16: 110
AA17: I | AB17: 250 | AC17: 200 | AD17: 160 | AE17: 140 | AF17: 120 | AG17: 110 | AH17: 100 | AI17: 90 | AJ17: 80 | AK17: 70
D18: =E7 -> SÁROS | F18: =E9 -> VARGA | H18: =E11 | AA18: II | AB18: 200 | AC18: 150 | AD18: 130 | AE18: 110 | AF18: 95 | AG18: 80 | AH18: 70 | AI18: 60 | AJ18: 55 | AK18: 50
A19: A | B19: =E7 -> SÁROS | F19: 35 | AA19: III | AB19: 150 | AC19: 120 | AD19: 100 | AE19: 80 | AF19: 70 | AG19: 60 | AH19: 55 | AI19: 50 | AJ19: 45 | AK19: 40
A20: B | B20: =E9 -> VARGA | D20: 53 | AA20: IV | AB20: 120 | AC20: 90 | AD20: 65 | AE20: 55 | AF20: 50 | AG20: 45 | AH20: 40 | AI20: 35 | AJ20: 25 | AK20: 20
A21: C | B21: =E11 | AA21: V | AB21: 90 | AC21: 60 | AD21: 45 | AE21: 34 | AF21: 27 | AG21: 22 | AH21: 18 | AI21: 15 | AJ21: 12 | AK21: 9
AA22: VI | AB22: 60 | AC22: 40 | AD22: 30 | AE22: 20 | AF22: 18 | AG22: 15 | AH22: 12 | AI22: 10 | AJ22: 8 | AK22: 6
AA23: VII | AB23: 40 | AC23: 25 | AD23: 18 | AE23: 13 | AF23: 8 | AG23: 7 | AH23: 6 | AI23: 5 | AJ23: 4 | AK23: 3
AA24: VIII | AB24: 25 | AC24: 15 | AD24: 13 | AE24: 7 | AF24: 6 | AG24: 5 | AH24: 4 | AI24: 3 | AJ24: 2 | AK24: 1
AA25: W | AB25: 15 | AC25: 10 | AD25: 8 | AE25: 4 | AF25: 3 | AG25: 2 | AH25: 1 | AI25: 0 | AJ25: 0 | AK25: 0
AA26: X | AB26: 10 | AC26: 6 | AD26: 4 | AE26: 2 | AF26: 1 | AG26: 0 | AH26: 0 | AI26: 0 | AJ26: 0 | AK26: 0
AA27: XI | AB27: 3 | AC27: 2 | AD27: 1 | AE27: 0 | AF27: 0 | AG27: 0 | AH27: 0 | AI27: 0 | AJ27: 0 | AK27: 0
A33: Rangsor | D33: # | E33: Kiemeltek | G33: # | H33: Szerencés Vesztes | J33: Helyettesíti | K33: Sorsolás időpontja
A34: Dátuma | G34: 1 | K34: Utolsó elfogadott játékos
A35: Utolsó DA | G35: 2
G36: 3 | K36: Sorsoló játékosok
G37: 4
G38: 5
G39: 6 | K39: Versenybíró aláírása
G40: 7
G41: 8 | K41: =L4 -> #REF!

Sheet A-V.kcs.-U14-L elo
A1: =[2]Altalanos!$A$6 -> #REF! | E1: Egyéni főtábla
B2: Versenyszám: | C2: =[2]Altalanos!$D$8 -> #REF! | E2: ELŐKÉSZÍTŐ LISTA
A3: NE TÖRÖLD KI EZT AZ OLDALT! | N3: Versenybíró aláírása
A4: Dátum | C4: Város | D4: Kategória | H4: Versenybíró
A5: =[2]Altalanos!$A$10 -> #REF! | C5: =[2]Altalanos!$C$10 -> #REF! | D5: =[2]Altalanos!$D$10 -> #REF! | H5: =[2]Altalanos!$E$10 -> #REF!
A6: Sor | B6: Családi név | C6: Keresztnév | D6: Egyesület | E6: Kódszám | F6: Nevezett Igen | G6: Aláírás | H6: Nevezési rangsor | J6: NatSort if not Seed | K6: NatSort | L6: Seed Sort | M6: AccBasic | N6: Elfogadási státusz | O6: Sorsolási rangsor | P6: AccSort | Q6: Kiemelés
A7: 1 | B7: Benovics | C7: Málna | D7: Miroslav Krleža Horvát Ó, Ált.Isk.,Gimn. és Koll. | E7: 120221 | O7: 33
A8: 2 | B8: Fáskerti | C8: Lujza | D8: PTE Gyakorló Ált. Isk., Gimn. és Óvoda | E8: 130612 | O8: 57
A9: 3 | B9: Varga | C9: Hanna Lilien | D9: Sztárai Mihály Ált.Isk., Óvoda és AMI | E9: 130520 | O9: 22
A10: 4
A11: 5
A12: 6
A13: 7
A14: 8
A15: 9
A16: 10
A17: 11
A18: 12
A19: 13
A20: 14
A21: 15
... A39: 33
A40: 34 | J40: =IF(AND(Q40="",#REF!>0,#REF!<5),K40,) -> #REF! | K40: =IF(D40="","ZZZ9",IF(AND(#REF!>0,#REF!<5),D40&#REF!,D40&"9")) -> ZZZ9 | L40: =IF(Q40="",999,Q40) -> 999 | M40: =IF(P40=999,999,1) -> 999 | P40: =IF(N40="DA",1,IF(N40="WC",2,IF(N40="SE",3,IF(N40="Q",4,IF(N40="LL",5,999))))) -> 999
A41: 35 | J41: =IF(AND(Q41="",#REF!>0,#REF!<5),K41,) -> #REF! | K41: =IF(D41="","ZZZ9",IF(AND(#REF!>0,#REF!<5),D41&#REF!,D41&"9")) -> ZZZ9 | L41: =IF(Q41="",999,Q41) -> 999 | M41: =IF(P41=999,999,1) -> 999 | P41: =IF(N41="DA",1,IF(N41="WC",2,IF(N41="SE",3,IF(N41="Q",4,IF(N41="LL",5,999))))) -> 999
A42: 36 | J42: =IF(AND(Q42="",#REF!>0,#REF!<5),K42,) -> #REF! | K42: =IF(D42="","ZZZ9",IF(AND(#REF!>0,#REF!<5),D42&#REF!,D42&"9")) -> ZZZ9 | L42: =IF(Q42="",999,Q42) -> 999 | M42: =IF(P42=999,999,1) -> 999 | P42: =IF(N42="DA",1,IF(N42="WC",2,IF(N42="SE",3,IF(N42="Q",4,IF(N42="LL",5,999))))) -> 999
A43: 37 | J43: =IF(AND(Q43="",#REF!>0,#REF!<5),K43,) -> #REF! | K43: =IF(D43="","ZZZ9",IF(AND(#REF!>0,#REF!<5),D43&#REF!,D43&"9")) -> ZZZ9 | L43: =IF(Q43="",999,Q43) -> 999 | M43: =IF(P43=999,999,1) -> 999 | P43: =IF(N43="DA",1,IF(N43="WC",2,IF(N43="SE",3,IF(N43="Q",4,IF(N43="LL",5,999))))) -> 999
A44: 38 | J44: =IF(AND(Q44="",#REF!>0,#REF!<5),K44,) -> #REF! | K44: =IF(D44="","ZZZ9",IF(AND(#REF!>0,#REF!<5),D44&#REF!,D44&"9")) -> ZZZ9 | L44: =IF(Q44="",999,Q44) -> 999 | M44: =IF(P44=999,999,1) -> 999 | P44: =IF(N44="DA",1,IF(N44="WC",2,IF(N44="SE",3,IF(N44="Q",4,IF(N44="LL",5,999))))) -> 999
A45: 39 | J45: =IF(AND(Q45="",#REF!>0,#REF!<5),K45,) -> #REF! | K45: =IF(D45="","ZZZ9",IF(AND(#REF!>0,#REF!<5),D45&#REF!,D45&"9")) -> ZZZ9 | L45: =IF(Q45="",999,Q45) -> 999 | M45: =IF(P45=999,999,1) -> 999 | P45: =IF(N45="DA",1,IF(N45="WC",2,IF(N45="SE",3,IF(N45="Q",4,IF(N45="LL",5,999))))) -> 999
A46: 40 | J46: =IF(AND(Q46="",#REF!>0,#REF!<5),K46,) -> #REF! | K46: =IF(D46="","ZZZ9",IF(AND(#REF!>0,#REF!<5),D46&#REF!,D46&"9")) -> ZZZ9 | L46: =IF(Q46="",999,Q46) -> 999 | M46: =IF(P46=999,999,1) -> 999 | P46: =IF(N46="DA",1,IF(N46="WC",2,IF(N46="SE",3,IF(N46="Q",4,IF(N46="LL",5,999))))) -> 999
A47: 41 | J47: =IF(AND(Q47="",#REF!>0,#REF!<5),K47,) -> #REF! | K47: =IF(D47="","ZZZ9",IF(AND(#REF!>0,#REF!<5),D47&#REF!,D47&"9")) -> ZZZ9 | L47: =IF(Q47="",999,Q47) -> 999 | M47: =IF(P47=999,999,1) -> 999 | P47: =IF(N47="DA",1,IF(N47="WC",2,IF(N47="SE",3,IF(N47="Q",4,IF(N47="LL",5,999))))) -> 999
A48: 42 | J48: =IF(AND(Q48="",#REF!>0,#REF!<5),K48,) -> #REF! | K48: =IF(D48="","ZZZ9",IF(AND(#REF!>0,#REF!<5),D48&#REF!,D48&"9")) -> ZZZ9 | L48: =IF(Q48="",999,Q48) -> 999 | M48: =IF(P48=999,999,1) -> 999 | P48: =IF(N48="DA",1,IF(N48="WC",2,IF(N48="SE",3,IF(N48="Q",4,IF(N48="LL",5,999))))) -> 999
A49: 43 | J49: =IF(AND(Q49="",#REF!>0,#REF!<5),K49,) -> #REF! | K49: =IF(D49="","ZZZ9",IF(AND(#REF!>0,#REF!<5),D49&#REF!,D49&"9")) -> ZZZ9 | L49: =IF(Q49="",999,Q49) -> 999 | M49: =IF(P49=999,999,1) -> 999 | P49: =IF(N49="DA",1,IF(N49="WC",2,IF(N49="SE",3,IF(N49="Q",4,IF(N49="LL",5,999))))) -> 999
A50: 44 | J50: =IF(AND(Q50="",#REF!>0,#REF!<5),K50,) -> #REF! | K50: =IF(D50="","ZZZ9",IF(AND(#REF!>0,#REF!<5),D50&#REF!,D50&"9")) -> ZZZ9 | L50: =IF(Q50="",999,Q50) -> 999 | M50: =IF(P50=999,999,1) -> 999 | P50: =IF(N50="DA",1,IF(N50="WC",2,IF(N50="SE",3,IF(N50="Q",4,IF(N50="LL",5,999))))) -> 999
A51: 45 | J51: =IF(AND(Q51="",#REF!>0,#REF!<5),K51,) -> #REF! | K51: =IF(D51="","ZZZ9",IF(AND(#REF!>0,#REF!<5),D51&#REF!,D51&"9")) -> ZZZ9 | L51: =IF(Q51="",999,Q51) -> 999 | M51: =IF(P51=999,999,1) -> 999 | P51: =IF(N51="DA",1,IF(N51="WC",2,IF(N51="SE",3,IF(N51="Q",4,IF(N51="LL",5,999))))) -> 999
... A156: 150 | J156: =IF(AND(Q156="",#REF!>0,#REF!<5),K156,) -> #REF! | K156: =IF(D156="","ZZZ9",IF(AND(#REF!>0,#REF!<5),D156&#REF!,D156&"9")) -> ZZZ9 | L156: =IF(Q156="",999,Q156) -> 999 | M156: =IF(P156=999,999,1) -> 999 | P156: =IF(N156="DA",1,IF(N156="WC",2,IF(N156="SE",3,IF(N156="Q",4,IF(N156="LL",5,999))))) -> 999

Sheet A-V.kcs.-U14-L
A1: =[2]Altalanos!$A$6 -> #REF! | H1: Egyéni főtábla | AB1: =IF(Y5=1,CONCATENATE(VLOOKUP(Y3,AA16:AH27,2)),CONCATENATE(VLOOKUP(Y3,AA2:AK13,2))) -> #REF! | AC1: =IF(Y5=1,CONCATENATE(VLOOKUP(Y3,AA16:AK27,3)),CONCATENATE(VLOOKUP(Y3,AA2:AK13,3))) -> #REF! | AD1: =IF(Y5=1,CONCATENATE(VLOOKUP(Y3,AA16:AK27,4)),CONCATENATE(VLOOKUP(Y3,AA2:AK13,4))) -> #REF! | AE1: =IF(Y5=1,CONCATENATE(VLOOKUP(Y3,AA16:AK27,5)),CONCATENATE(VLOOKUP(Y3,AA2:AK13,5))) -> #REF! | AF1: =IF(Y5=1,CONCATENATE(VLOOKUP(Y3,AA16:AK27,6)),CONCATENATE(VLOOKUP(Y3,AA2:AK13,6))) -> #REF! | AG1: =IF(Y5=1,CONCATENATE(VLOOKUP(Y3,AA16:AK27,7)),CONCATENATE(VLOOKUP(Y3,AA2:AK13,7))) -> #REF! | AH1: =IF(Y5=1,CONCATENATE(VLOOKUP(Y3,AA16:AK27,8)),CONCATENATE(VLOOKUP(Y3,AA2:AK13,8))) -> #REF! | AI1: =IF(Y5=1,CONCATENATE(VLOOKUP(Y3,AA16:AK27,9)),CONCATENATE(VLOOKUP(Y3,AA2:AK13,9))) -> #REF! | AJ1: =IF(Y5=1,CONCATENATE(VLOOKUP(Y3,AA16:AK27,10)),CONCATENATE(VLOOKUP(Y3,AA2:AK13,10))) -> #REF! | AK1: =IF(Y5=1,CONCATENATE(VLOOKUP(Y3,AA16:AK27,11)),CONCATENATE(VLOOKUP(Y3,AA2:AK13,11))) -> #REF!
A2: Versenyszám: | E2: =[2]Altalanos!$D$8 -> #REF! | AA2: A | AB2: 150 | AC2: 120 | AD2: 100 | AE2: 80 | AF2: 70 | AG2: 60 | AH2: 55 | AI2: 50 | AJ2: 45 | AK2: 40
A3: Dátum | E3: Város | H3: Kategória | L3: Versenybíró | Q3: 1 FORDULÓ | R3: B - C | Y3: =IF(H4="OB","A",IF(H4="IX","W",H4)) -> 0 | AA3: I | AB3: 120 | AC3: 90 | AD3: 65 | AE3: 55 | AF3: 50 | AG3: 45 | AH3: 40 | AI3: 35 | AJ3: 25 | AK3: 20
A4: =[2]Altalanos!$A$10 -> #REF! | E4: =[2]Altalanos!$C$10 -> #REF! | L4: =[2]Altalanos!$E$10 -> #REF! | Q4: 2 FORDULÓ | R4: C - A | AA4: II | AB4: 90 | AC4: 60 | AD4: 45 | AE4: 34 | AF4: 27 | AG4: 22 | AH4: 18 | AI4: 15 | AJ4: 12 | AK4: 9
B5: kiem | C5: kódszám | D5: Rangsor | E5: Vezetéknév | G5: Keresztnév | I5: Egyesület | K5: Helyezés | L5: Pontszám | M5: Bónusz | Q5: 3 FORDULÓ | R5: A - B | Y5: =IF(OR([2]Altalanos!$A$8="F1",[2]Altalanos!$A$8="F2",[2]Altalanos!$A$8="N1",[2]Altalanos!$A$8="N2"),1,2) -> #REF! | AA5: III | AB5: 60 | AC5: 40 | AD5: 30 | AE5: 20 | AF5: 18 | AG5: 15 | AH5: 12 | AI5: 10 | AJ5: 8 | AK5: 6
AA6: IV | AB6: 40 | AC6: 25 | AD6: 18 | AE6: 13 | AF6: 10 | AG6: 8 | AH6: 6 | AI6: 5 | AJ6: 4 | AK6: 3
A7: A | B7: 2 | C7: =IF($B7="","",VLOOKUP($B7,'A-V.kcs.-U14-L elo'!$A$7:$O$22,5)) -> 130612 | D7: =IF($B7="","",VLOOKUP($B7,'A-V.kcs.-U14-L elo'!$A$7:$O$22,15)) -> 57 | E7: =UPPER(IF($B7="","",VLOOKUP($B7,'A-V.kcs.-U14-L elo'!$A$7:$O$22,2))) -> FÁSKERTI | G7: =IF($B7="","",VLOOKUP($B7,'A-V.kcs.-U14-L elo'!$A$7:$O$22,3)) -> Lujza | I7: =IF($B7="","",VLOOKUP($B7,'A-V.kcs.-U14-L elo'!$A$7:$O$22,4)) -> PTE Gyakorló Ált. Isk., Gimn. és Óvoda | K7: III. | AA7: V | AB7: 25 | AC7: 15 | AD7: 13 | AE7: 8 | AF7: 6 | AG7: 4 | AH7: 3 | AI7: 2 | AJ7: 1 | AK7: 0
AA8: VI | AB8: 15 | AC8: 10 | AD8: 7 | AE8: 5 | AF8: 4 | AG8: 3 | AH8: 2 | AI8: 1 | AJ8: 0 | AK8: 0
A9: B | B9: 1 | C9: =IF($B9="","",VLOOKUP($B9,'A-V.kcs.-U14-L elo'!$A$7:$O$22,5)) -> 120221 | D9: =IF($B9="","",VLOOKUP($B9,'A-V.kcs.-U14-L elo'!$A$7:$O$22,15)) -> 33 | E9: =UPPER(IF($B9="","",VLOOKUP($B9,'A-V.kcs.-U14-L elo'!$A$7:$O$22,2))) -> BENOVICS | G9: =IF($B9="","",VLOOKUP($B9,'A-V.kcs.-U14-L elo'!$A$7:$O$22,3)) -> Málna | I9: =IF($B9="","",VLOOKUP($B9,'A-V.kcs.-U14-L elo'!$A$7:$O$22,4)) -> Miroslav Krleža Horvát Ó, Ált.Isk.,Gimn. és Koll. | K9: II. | AA9: VII | AB9: 10 | AC9: 6 | AD9: 4 | AE9: 2 | AF9: 1 | AG9: 0 | AH9: 0 | AI9: 0 | AJ9: 0 | AK9: 0
AA10: VIII | AB10: 6 | AC10: 3 | AD10: 2 | AE10: 1 | AF10: 0 | AG10: 0 | AH10: 0 | AI10: 0 | AJ10: 0 | AK10: 0
A11: C | B11: 3 | C11: =IF($B11="","",VLOOKUP($B11,'A-V.kcs.-U14-L elo'!$A$7:$O$22,5)) -> 130520 | D11: =IF($B11="","",VLOOKUP($B11,'A-V.kcs.-U14-L elo'!$A$7:$O$22,15)) -> 22 | E11: =UPPER(IF($B11="","",VLOOKUP($B11,'A-V.kcs.-U14-L elo'!$A$7:$O$22,2))) -> VARGA | G11: =IF($B11="","",VLOOKUP($B11,'A-V.kcs.-U14-L elo'!$A$7:$O$22,3)) -> Hanna Lilien | I11: =IF($B11="","",VLOOKUP($B11,'A-V.kcs.-U14-L elo'!$A$7:$O$22,4)) -> Sztárai Mihály Ált.Isk., Óvoda és AMI | K11: I. | AA11: W | AB11: 3 | AC11: 2 | AD11: 1 | AE11: 0 | AF11: 0 | AG11: 0 | AH11: 0 | AI11: 0 | AJ11: 0 | AK11: 0
AA12: X | AB12: 0 | AC12: 0 | AD12: 0 | AE12: 0 | AF12: 0 | AG12: 0 | AH12: 0 | AI12: 0 | AJ12: 0 | AK12: 0
AA13: XI | AB13: 0 | AC13: 0 | AD13: 0 | AE13: 0 | AF13: 0 | AG13: 0 | AH13: 0 | AI13: 0 | AJ13: 0 | AK13: 0
AA16: A | AB16: 300 | AC16: 250 | AD16: 220 | AE16: 180 | AF16: 160 | AG16: 150 | AH16: 140 | AI16: 130 | AJ16: 120 | AK16: 110
AA17: I | AB17: 250 | AC17: 200 | AD17: 160 | AE17: 140 | AF17: 120 | AG17: 110 | AH17: 100 | AI17: 90 | AJ17: 80 | AK17: 70
D18: =E7 -> FÁSKERTI | F18: =E9 -> BENOVICS | H18: =E11 -> VARGA | AA18: II | AB18: 200 | AC18: 150 | AD18: 130 | AE18: 110 | AF18: 95 | AG18: 80 | AH18: 70 | AI18: 60 | AJ18: 55 | AK18: 50
A19: A | B19: =E7 -> FÁSKERTI | F19: 24 04 | H19: 04 04 | AA19: III | AB19: 150 | AC19: 120 | AD19: 100 | AE19: 80 | AF19: 70 | AG19: 60 | AH19: 55 | AI19: 50 | AJ19: 45 | AK19: 40
A20: B | B20: =E9 -> BENOVICS | D20: 42 40 | H20: 35 35 | AA20: IV | AB20: 120 | AC20: 90 | AD20: 65 | AE20: 55 | AF20: 50 | AG20: 45 | AH20: 40 | AI20: 35 | AJ20: 25 | AK20: 20
A21: C | B21: =E11 -> VARGA | D21: 40 40 | F21: 53 53 | AA21: V | AB21: 90 | AC21: 60 | AD21: 45 | AE21: 34 | AF21: 27 | AG21: 22 | AH21: 18 | AI21: 15 | AJ21: 12 | AK21: 9
AA22: VI | AB22: 60 | AC22: 40 | AD22: 30 | AE22: 20 | AF22: 18 | AG22: 15 | AH22: 12 | AI22: 10 | AJ22: 8 | AK22: 6
AA23: VII | AB23: 40 | AC23: 25 | AD23: 18 | AE23: 13 | AF23: 8 | AG23: 7 | AH23: 6 | AI23: 5 | AJ23: 4 | AK23: 3
AA24: VIII | AB24: 25 | AC24: 15 | AD24: 13 | AE24: 7 | AF24: 6 | AG24: 5 | AH24: 4 | AI24: 3 | AJ24: 2 | AK24: 1
AA25: W | AB25: 15 | AC25: 10 | AD25: 8 | AE25: 4 | AF25: 3 | AG25: 2 | AH25: 1 | AI25: 0 | AJ25: 0 | AK25: 0
AA26: X | AB26: 10 | AC26: 6 | AD26: 4 | AE26: 2 | AF26: 1 | AG26: 0 | AH26: 0 | AI26: 0 | AJ26: 0 | AK26: 0
AA27: XI | AB27: 3 | AC27: 2 | AD27: 1 | AE27: 0 | AF27: 0 | AG27: 0 | AH27: 0 | AI27: 0 | AJ27: 0 | AK27: 0
A33: Rangsor | D33: # | E33: Kiemeltek | G33: # | H33: Szerencés Vesztes | J33: Helyettesíti | K33: Sorsolás időpontja
A34: Dátuma | G34: 1 | K34: Utolsó elfogadott játékos
A35: Utolsó DA | G35: 2
G36: 3 | K36: Sorsoló játékosok
G37: 4
G38: 5
G39: 6 | K39: Versenybíró aláírása
G40: 7
G41: 8 | K41: =L4 -> #REF!

Sheet A-VI.kcs-U16-F elo
A1: =Altalanos!$A$6 -> Baranya Vármegyei Tenisz DO A kategória | E1: Egyéni főtábla
B2: Versenyszám: | C2: =Altalanos!$A$8 -> A-VI.kcs-U16-F | E2: ELŐKÉSZÍTŐ LISTA
A3: NE TÖRÖLD KI EZT AZ OLDALT! | N3: Versenybíró aláírása
A4: Dátum | C4: Város | D4: Kategória | H4: Versenybíró
A5: =Altalanos!$A$10 -> 2026.05.14-15. | C5: =Altalanos!$C$10 -> Pécs | D5: =Altalanos!$D$10 | H5: =Altalanos!$E$10 -> Nagyistók-Nádasi Judit
A6: Sor | B6: Családi név | C6: Keresztnév | D6: Egyesület | E6: Kódszám | F6: Nevezett Igen | G6: Aláírás | H6: Nevezési rangsor | J6: NatSort if not Seed | K6: NatSort | L6: Seed Sort | M6: AccBasic | N6: Elfogadási státusz | O6: Sorsolási rangsor | P6: AccSort | Q6: Kiemelés
A7: 1 | H7: -
A8: 2 | B8: Gömöry | C8: Ádám | D8: Szent Mór Kat. Óvoda, Ált. Isk., AMI és Gim. | E8: 100919 | H8: -
A9: 3 | B9: Gyenis | C9: Milán | D9: Szent Mór Kat. Óvoda, Ált. Isk., AMI és Gim. | E9: 1104160 | H9: 156 | O9: 156
A10: 4 | B10: Mayer | C10: Iván | D10: Siklósi Táncsics M. Gimn. és Ált.Isk. | E10: 100908 | H10: -
A11: 5 | B11: Varga | C11: Barna | D11: PTE Gyakorló Ált. Isk., Gimn. és Óvoda | E11: 100615 | H11: 11 | O11: 11
A12: 6 | B12: Spitl | C12: Tamás Bence | D12: Pécsi Mezőszél Utcai Általános Iskola | E12: 110422
A13: 7
A14: 8
A15: 9
A16: 10
A17: 11
A18: 12
A19: 13
A20: 14
A21: 15
A22: 16
A23: 17
A24: 18
... A39: 33
A40: 34 | J40: =IF(AND(Q40="",#REF!>0,#REF!<5),K40,) -> #REF! | K40: =IF(D40="","ZZZ9",IF(AND(#REF!>0,#REF!<5),D40&#REF!,D40&"9")) -> ZZZ9 | L40: =IF(Q40="",999,Q40) -> 999 | M40: =IF(P40=999,999,1) -> 999 | P40: =IF(N40="DA",1,IF(N40="WC",2,IF(N40="SE",3,IF(N40="Q",4,IF(N40="LL",5,999))))) -> 999
A41: 35 | J41: =IF(AND(Q41="",#REF!>0,#REF!<5),K41,) -> #REF! | K41: =IF(D41="","ZZZ9",IF(AND(#REF!>0,#REF!<5),D41&#REF!,D41&"9")) -> ZZZ9 | L41: =IF(Q41="",999,Q41) -> 999 | M41: =IF(P41=999,999,1) -> 999 | P41: =IF(N41="DA",1,IF(N41="WC",2,IF(N41="SE",3,IF(N41="Q",4,IF(N41="LL",5,999))))) -> 999
A42: 36 | J42: =IF(AND(Q42="",#REF!>0,#REF!<5),K42,) -> #REF! | K42: =IF(D42="","ZZZ9",IF(AND(#REF!>0,#REF!<5),D42&#REF!,D42&"9")) -> ZZZ9 | L42: =IF(Q42="",999,Q42) -> 999 | M42: =IF(P42=999,999,1) -> 999 | P42: =IF(N42="DA",1,IF(N42="WC",2,IF(N42="SE",3,IF(N42="Q",4,IF(N42="LL",5,999))))) -> 999
A43: 37 | J43: =IF(AND(Q43="",#REF!>0,#REF!<5),K43,) -> #REF! | K43: =IF(D43="","ZZZ9",IF(AND(#REF!>0,#REF!<5),D43&#REF!,D43&"9")) -> ZZZ9 | L43: =IF(Q43="",999,Q43) -> 999 | M43: =IF(P43=999,999,1) -> 999 | P43: =IF(N43="DA",1,IF(N43="WC",2,IF(N43="SE",3,IF(N43="Q",4,IF(N43="LL",5,999))))) -> 999
A44: 38 | J44: =IF(AND(Q44="",#REF!>0,#REF!<5),K44,) -> #REF! | K44: =IF(D44="","ZZZ9",IF(AND(#REF!>0,#REF!<5),D44&#REF!,D44&"9")) -> ZZZ9 | L44: =IF(Q44="",999,Q44) -> 999 | M44: =IF(P44=999,999,1) -> 999 | P44: =IF(N44="DA",1,IF(N44="WC",2,IF(N44="SE",3,IF(N44="Q",4,IF(N44="LL",5,999))))) -> 999
A45: 39 | J45: =IF(AND(Q45="",#REF!>0,#REF!<5),K45,) -> #REF! | K45: =IF(D45="","ZZZ9",IF(AND(#REF!>0,#REF!<5),D45&#REF!,D45&"9")) -> ZZZ9 | L45: =IF(Q45="",999,Q45) -> 999 | M45: =IF(P45=999,999,1) -> 999 | P45: =IF(N45="DA",1,IF(N45="WC",2,IF(N45="SE",3,IF(N45="Q",4,IF(N45="LL",5,999))))) -> 999
A46: 40 | J46: =IF(AND(Q46="",#REF!>0,#REF!<5),K46,) -> #REF! | K46: =IF(D46="","ZZZ9",IF(AND(#REF!>0,#REF!<5),D46&#REF!,D46&"9")) -> ZZZ9 | L46: =IF(Q46="",999,Q46) -> 999 | M46: =IF(P46=999,999,1) -> 999 | P46: =IF(N46="DA",1,IF(N46="WC",2,IF(N46="SE",3,IF(N46="Q",4,IF(N46="LL",5,999))))) -> 999
A47: 41 | J47: =IF(AND(Q47="",#REF!>0,#REF!<5),K47,) -> #REF! | K47: =IF(D47="","ZZZ9",IF(AND(#REF!>0,#REF!<5),D47&#REF!,D47&"9")) -> ZZZ9 | L47: =IF(Q47="",999,Q47) -> 999 | M47: =IF(P47=999,999,1) -> 999 | P47: =IF(N47="DA",1,IF(N47="WC",2,IF(N47="SE",3,IF(N47="Q",4,IF(N47="LL",5,999))))) -> 999
A48: 42 | J48: =IF(AND(Q48="",#REF!>0,#REF!<5),K48,) -> #REF! | K48: =IF(D48="","ZZZ9",IF(AND(#REF!>0,#REF!<5),D48&#REF!,D48&"9")) -> ZZZ9 | L48: =IF(Q48="",999,Q48) -> 999 | M48: =IF(P48=999,999,1) -> 999 | P48: =IF(N48="DA",1,IF(N48="WC",2,IF(N48="SE",3,IF(N48="Q",4,IF(N48="LL",5,999))))) -> 999
A49: 43 | J49: =IF(AND(Q49="",#REF!>0,#REF!<5),K49,) -> #REF! | K49: =IF(D49="","ZZZ9",IF(AND(#REF!>0,#REF!<5),D49&#REF!,D49&"9")) -> ZZZ9 | L49: =IF(Q49="",999,Q49) -> 999 | M49: =IF(P49=999,999,1) -> 999 | P49: =IF(N49="DA",1,IF(N49="WC",2,IF(N49="SE",3,IF(N49="Q",4,IF(N49="LL",5,999))))) -> 999
A50: 44 | J50: =IF(AND(Q50="",#REF!>0,#REF!<5),K50,) -> #REF! | K50: =IF(D50="","ZZZ9",IF(AND(#REF!>0,#REF!<5),D50&#REF!,D50&"9")) -> ZZZ9 | L50: =IF(Q50="",999,Q50) -> 999 | M50: =IF(P50=999,999,1) -> 999 | P50: =IF(N50="DA",1,IF(N50="WC",2,IF(N50="SE",3,IF(N50="Q",4,IF(N50="LL",5,999))))) -> 999
A51: 45 | J51: =IF(AND(Q51="",#REF!>0,#REF!<5),K51,) -> #REF! | K51: =IF(D51="","ZZZ9",IF(AND(#REF!>0,#REF!<5),D51&#REF!,D51&"9")) -> ZZZ9 | L51: =IF(Q51="",999,Q51) -> 999 | M51: =IF(P51=999,999,1) -> 999 | P51: =IF(N51="DA",1,IF(N51="WC",2,IF(N51="SE",3,IF(N51="Q",4,IF(N51="LL",5,999))))) -> 999
... A156: 150 | J156: =IF(AND(Q156="",#REF!>0,#REF!<5),K156,) -> #REF! | K156: =IF(D156="","ZZZ9",IF(AND(#REF!>0,#REF!<5),D156&#REF!,D156&"9")) -> ZZZ9 | L156: =IF(Q156="",999,Q156) -> 999 | M156: =IF(P156=999,999,1) -> 999 | P156: =IF(N156="DA",1,IF(N156="WC",2,IF(N156="SE",3,IF(N156="Q",4,IF(N156="LL",5,999))))) -> 999

Sheet A-VI.kcs-U16-F
A1: =Altalanos!$A$6 -> Baranya Vármegyei Tenisz DO A kategória | H1: Egyéni főtábla | AB1: =IF(Y5=1,CONCATENATE(VLOOKUP(Y3,AA16:AH27,2)),CONCATENATE(VLOOKUP(Y3,AA2:AK13,2))) -> #N/A | AC1: =IF(Y5=1,CONCATENATE(VLOOKUP(Y3,AA16:AK27,3)),CONCATENATE(VLOOKUP(Y3,AA2:AK13,3))) -> #N/A | AD1: =IF(Y5=1,CONCATENATE(VLOOKUP(Y3,AA16:AK27,4)),CONCATENATE(VLOOKUP(Y3,AA2:AK13,4))) -> #N/A | AE1: =IF(Y5=1,CONCATENATE(VLOOKUP(Y3,AA16:AK27,5)),CONCATENATE(VLOOKUP(Y3,AA2:AK13,5))) -> #N/A | AF1: =IF(Y5=1,CONCATENATE(VLOOKUP(Y3,AA16:AK27,6)),CONCATENATE(VLOOKUP(Y3,AA2:AK13,6))) -> #N/A | AG1: =IF(Y5=1,CONCATENATE(VLOOKUP(Y3,AA16:AK27,7)),CONCATENATE(VLOOKUP(Y3,AA2:AK13,7))) -> #N/A | AH1: =IF(Y5=1,CONCATENATE(VLOOKUP(Y3,AA16:AK27,8)),CONCATENATE(VLOOKUP(Y3,AA2:AK13,8))) -> #N/A | AI1: =IF(Y5=1,CONCATENATE(VLOOKUP(Y3,AA16:AK27,9)),CONCATENATE(VLOOKUP(Y3,AA2:AK13,9))) -> #N/A | AJ1: =IF(Y5=1,CONCATENATE(VLOOKUP(Y3,AA16:AK27,10)),CONCATENATE(VLOOKUP(Y3,AA2:AK13,10))) -> #N/A | AK1: =IF(Y5=1,CONCATENATE(VLOOKUP(Y3,AA16:AK27,11)),CONCATENATE(VLOOKUP(Y3,AA2:AK13,11))) -> #N/A
A2: Versenyszám: | E2: =Altalanos!$A$8 -> A-VI.kcs-U16-F | AA2: A | AB2: 150 | AC2: 120 | AD2: 100 | AE2: 80 | AF2: 70 | AG2: 60 | AH2: 55 | AI2: 50 | AJ2: 45 | AK2: 40
A3: Dátum | E3: Város | H3: Kategória | L3: Versenybíró | Y3: =IF(H4="OB","A",IF(H4="IX","W",H4)) -> 0 | AA3: I | AB3: 120 | AC3: 90 | AD3: 65 | AE3: 55 | AF3: 50 | AG3: 45 | AH3: 40 | AI3: 35 | AJ3: 25 | AK3: 20
A4: =Altalanos!$A$10 -> 2026.05.14-15. | E4: =Altalanos!$C$10 -> Pécs | L4: =Altalanos!$E$10 -> Nagyistók-Nádasi Judit | AA4: II | AB4: 90 | AC4: 60 | AD4: 45 | AE4: 34 | AF4: 27 | AG4: 22 | AH4: 18 | AI4: 15 | AJ4: 12 | AK4: 9
B5: kiem | C5: kódszám | D5: Rangsor | E5: Vezetéknév | G5: Keresztnév | I5: Egyesület | K5: Helyezés | L5: Pontszám | M5: Bónusz | O5: 1 FORDULÓ | P5: B - C | R5: 1 FORDULÓ | S5: E - F | Y5: =IF(OR(Altalanos!$A$8="F1",Altalanos!$A$8="F2",Altalanos!$A$8="N1",Altalanos!$A$8="N2"),1,2) -> 2 | AA5: III | AB5: 60 | AC5: 40 | AD5: 30 | AE5: 20 | AF5: 18 | AG5: 15 | AH5: 12 | AI5: 10 | AJ5: 8 | AK5: 6
O6: 2 FORDULÓ | P6: C - A | R6: 2 FORDULÓ | S6: F - D | AA6: IV | AB6: 40 | AC6: 25 | AD6: 18 | AE6: 13 | AF6: 10 | AG6: 8 | AH6: 6 | AI6: 5 | AJ6: 4 | AK6: 3
A7: A | B7: 6 | C7: =IF($B7="","",VLOOKUP($B7,'A-VI.kcs-U16-F elo'!$A$7:$O$22,5)) -> 110422 | D7: =IF($B7="","",VLOOKUP($B7,'A-VI.kcs-U16-F elo'!$A$7:$O$22,15)) -> 0 | E7: =UPPER(IF($B7="","",VLOOKUP($B7,'A-VI.kcs-U16-F elo'!$A$7:$O$22,2))) -> SPITL | G7: =IF($B7="","",VLOOKUP($B7,'A-VI.kcs-U16-F elo'!$A$7:$O$22,3)) -> Tamás Bence | I7: =IF($B7="","",VLOOKUP($B7,'A-VI.kcs-U16-F elo'!$A$7:$O$22,4)) -> Pécsi Mezőszél Utcai Általános Iskola | K7: III. | L7: =IF(K7="","",CONCATENATE(VLOOKUP($Y$3,$AB$1:$AK$1,K7)," pont")) -> #N/A | O7: 3 FORDULÓ | P7: A - B | R7: 3 FORDULÓ | S7: D - E | AA7: V | AB7: 25 | AC7: 15 | AD7: 13 | AE7: 8 | AF7: 6 | AG7: 4 | AH7: 3 | AI7: 2 | AJ7: 1 | AK7: 0
AA8: VI | AB8: 15 | AC8: 10 | AD8: 7 | AE8: 5 | AF8: 4 | AG8: 3 | AH8: 2 | AI8: 1 | AJ8: 0 | AK8: 0
A9: B | B9: 3 | C9: =IF($B9="","",VLOOKUP($B9,'A-VI.kcs-U16-F elo'!$A$7:$O$22,5)) -> 1104160 | D9: =IF($B9="","",VLOOKUP($B9,'A-VI.kcs-U16-F elo'!$A$7:$O$22,15)) -> 156 | E9: =UPPER(IF($B9="","",VLOOKUP($B9,'A-VI.kcs-U16-F elo'!$A$7:$O$22,2))) -> GYENIS | G9: =IF($B9="","",VLOOKUP($B9,'A-VI.kcs-U16-F elo'!$A$7:$O$22,3)) -> Milán | I9: =IF($B9="","",VLOOKUP($B9,'A-VI.kcs-U16-F elo'!$A$7:$O$22,4)) -> Szent Mór Kat. Óvoda, Ált. Isk., AMI és Gim. | K9: - | L9: =IF(K9="","",CONCATENATE(VLOOKUP($Y$3,$AB$1:$AK$1,K9)," pont")) -> #N/A | AA9: VII | AB9: 10 | AC9: 6 | AD9: 4 | AE9: 2 | AF9: 1 | AG9: 0 | AH9: 0 | AI9: 0 | AJ9: 0 | AK9: 0
AA10: VIII | AB10: 6 | AC10: 3 | AD10: 2 | AE10: 1 | AF10: 0 | AG10: 0 | AH10: 0 | AI10: 0 | AJ10: 0 | AK10: 0
A11: C | B11: 2 | C11: =IF($B11="","",VLOOKUP($B11,'A-VI.kcs-U16-F elo'!$A$7:$O$22,5)) -> 100919 | D11: =IF($B11="","",VLOOKUP($B11,'A-VI.kcs-U16-F elo'!$A$7:$O$22,15)) -> 0 | E11: =UPPER(IF($B11="","",VLOOKUP($B11,'A-VI.kcs-U16-F elo'!$A$7:$O$22,2))) -> GÖMÖRY | G11: =IF($B11="","",VLOOKUP($B11,'A-VI.kcs-U16-F elo'!$A$7:$O$22,3)) -> Ádám | I11: =IF($B11="","",VLOOKUP($B11,'A-VI.kcs-U16-F elo'!$A$7:$O$22,4)) -> Szent Mór Kat. Óvoda, Ált. Isk., AMI és Gim. | K11: I. | L11: =IF(K11="","",CONCATENATE(VLOOKUP($Y$3,$AB$1:$AK$1,K11)," pont")) -> #N/A | AA11: W | AB11: 3 | AC11: 2 | AD11: 1 | AE11: 0 | AF11: 0 | AG11: 0 | AH11: 0 | AI11: 0 | AJ11: 0 | AK11: 0
AA12: X | AB12: 0 | AC12: 0 | AD12: 0 | AE12: 0 | AF12: 0 | AG12: 0 | AH12: 0 | AI12: 0 | AJ12: 0 | AK12: 0
A13: D | B13: 5 | C13: =IF($B13="","",VLOOKUP($B13,'A-VI.kcs-U16-F elo'!$A$7:$O$22,5)) -> 100615 | D13: =IF($B13="","",VLOOKUP($B13,'A-VI.kcs-U16-F elo'!$A$7:$O$22,15)) -> 11 | E13: =UPPER(IF($B13="","",VLOOKUP($B13,'A-VI.kcs-U16-F elo'!$A$7:$O$22,2))) -> VARGA | G13: =IF($B13="","",VLOOKUP($B13,'A-VI.kcs-U16-F elo'!$A$7:$O$22,3)) -> Barna | I13: =IF($B13="","",VLOOKUP($B13,'A-VI.kcs-U16-F elo'!$A$7:$O$22,4)) -> PTE Gyakorló Ált. Isk., Gimn. és Óvoda | K13: II. | L13: =IF(K13="","",CONCATENATE(VLOOKUP($Y$3,$AB$1:$AK$1,K13)," pont")) -> #N/A | AA13: XI | AB13: 0 | AC13: 0 | AD13: 0 | AE13: 0 | AF13: 0 | AG13: 0 | AH13: 0 | AI13: 0 | AJ13: 0 | AK13: 0
A15: E | B15: 1 | C15: =IF($B15="","",VLOOKUP($B15,'A-VI.kcs-U16-F elo'!$A$7:$O$22,5)) -> 0 | D15: =IF($B15="","",VLOOKUP($B15,'A-VI.kcs-U16-F elo'!$A$7:$O$22,15)) -> 0 | E15: =UPPER(IF($B15="","",VLOOKUP($B15,'A-VI.kcs-U16-F elo'!$A$7:$O$22,2))) | G15: =IF($B15="","",VLOOKUP($B15,'A-VI.kcs-U16-F elo'!$A$7:$O$22,3)) -> 0 | I15: =IF($B15="","",VLOOKUP($B15,'A-VI.kcs-U16-F elo'!$A$7:$O$22,4)) -> 0 | K15: - | L15: =IF(K15="","",CONCATENATE(VLOOKUP($Y$3,$AB$1:$AK$1,K15)," pont")) -> #N/A
AA16: A | AB16: 300 | AC16: 250 | AD16: 220 | AE16: 180 | AF16: 160 | AG16: 150 | AH16: 140 | AI16: 130 | AJ16: 120 | AK16: 110
A17: F | B17: 4 | C17: =IF($B17="","",VLOOKUP($B17,'A-VI.kcs-U16-F elo'!$A$7:$O$22,5)) -> 100908 | D17: =IF($B17="","",VLOOKUP($B17,'A-VI.kcs-U16-F elo'!$A$7:$O$22,15)) -> 0 | E17: =UPPER(IF($B17="","",VLOOKUP($B17,'A-VI.kcs-U16-F elo'!$A$7:$O$22,2))) -> MAYER | G17: =IF($B17="","",VLOOKUP($B17,'A-VI.kcs-U16-F elo'!$A$7:$O$22,3)) -> Iván | I17: =IF($B17="","",VLOOKUP($B17,'A-VI.kcs-U16-F elo'!$A$7:$O$22,4)) -> Siklósi Táncsics M. Gimn. és Ált.Isk. | K17: 4. | L17: =IF(K17="","",CONCATENATE(VLOOKUP($Y$3,$AB$1:$AK$1,K17)," pont")) -> #N/A | AA17: I | AB17: 250 | AC17: 200 | AD17: 160 | AE17: 140 | AF17: 120 | AG17: 110 | AH17: 100 | AI17: 90 | AJ17: 80 | AK17: 70
AA18: II | AB18: 200 | AC18: 150 | AD18: 130 | AE18: 110 | AF18: 95 | AG18: 80 | AH18: 70 | AI18: 60 | AJ18: 55 | AK18: 50
AA19: III | AB19: 150 | AC19: 120 | AD19: 100 | AE19: 80 | AF19: 70 | AG19: 60 | AH19: 55 | AI19: 50 | AJ19: 45 | AK19: 40
AA20: IV | AB20: 120 | AC20: 90 | AD20: 65 | AE20: 55 | AF20: 50 | AG20: 45 | AH20: 40 | AI20: 35 | AJ20: 25 | AK20: 20
AA21: V | AB21: 90 | AC21: 60 | AD21: 45 | AE21: 34 | AF21: 27 | AG21: 22 | AH21: 18 | AI21: 15 | AJ21: 12 | AK21: 9
D22: =E7 -> SPITL | F22: =E9 -> GYENIS | H22: =E11 -> GÖMÖRY | M22: Helyezés | AA22: VI | AB22: 60 | AC22: 40 | AD22: 30 | AE22: 20 | AF22: 18 | AG22: 15 | AH22: 12 | AI22: 10 | AJ22: 8 | AK22: 6
A23: A | B23: =E7 -> SPITL | F23: jn. | H23: 35 24 | M23: 2 | AA23: VII | AB23: 40 | AC23: 25 | AD23: 18 | AE23: 13 | AF23: 8 | AG23: 7 | AH23: 6 | AI23: 5 | AJ23: 4 | AK23: 3
A24: B | B24: =E9 -> GYENIS | D24: - | H24: - | AA24: VIII | AB24: 25 | AC24: 15 | AD24: 13 | AE24: 7 | AF24: 6 | AG24: 5 | AH24: 4 | AI24: 3 | AJ24: 2 | AK24: 1
A25: C | B25: =E11 -> GÖMÖRY | D25: 53 42 | F25: jn. | M25: 1 | AA25: W | AB25: 15 | AC25: 10 | AD25: 8 | AE25: 4 | AF25: 3 | AG25: 2 | AH25: 1 | AI25: 0 | AJ25: 0 | AK25: 0
