Workbook

Sheet Altalanos
A1: Magyar verseny táblakészítő
A2: Ezt az oldalt soha ne töröld le !!!
A4: Töltsd ki a zöld mezőket!
A5: A verseny neve:
A6: Baranya Vármegyei Tenisz DO A kategória
A7: Versenyszám 1 | B7: Versenyszám 2 | C7: Versenyszám 3 | D7: Versenyszám 4 | E7: Versenyszám 5
A8: A-VI.kcs-U16-F | B8: A-VII.kcs-U18-F | C8: A-VII.kcs-U18-L
A9: A verseny dátuma (éééé.hh.nn) | C9: Város | E9: Versenybíró:
A10: 2026.05.14-15. | C10: Pécs | E10: Nagyistók-Nádasi Judit
C11: Orvos neve: | D11: Verseny rendezője: | E11: Versenyigazgató
E12: Koncz Zsolt

Sheet Nevezések
A1: Vármegyei szervezet | B1: DSB szervezet | C1: Versenykiírás | D1: Sportág | E1: Korcsoport | F1: Nem | G1: Jelleg | H1: Kategória | I1: Iskola | J1: Település | K1: Nevező | L1: Csapattag | M1: Testnevelő | N1: Felkészítő
A2: Baranya Vármegyei Diáksport Egyesület | B2: Mohács Körzeti Diáksport Bizottság | C2: Tenisz | D2: Tenisz | E2: I.kcs Tenisz U8 piros labdával, P+S szabály | F2: F | G2: E | H2: A | I2: Boldog Gizella Katolikus Általános Iskola és Óvoda | J2: Mohács | K2: Csikós Marcell | M2: Ginderné Czimmer Eszter
A3: Baranya Vármegyei Diáksport Egyesület | B3: Pécsi Körzeti DSB/ Pécsi Sport Nonprofit Zrt. | C3: Tenisz | D3: Tenisz | E3: I.kcs Tenisz U8 piros labdával, P+S szabály | F3: F | G3: E | H3: A | I3: Pécsi Tudományegyetem Gyakorló Általános Iskola, Gimnázium és Óvoda | J3: Pécs | K3: Horváth Benedek | M3: Laskay Szilvia
A4: Baranya Vármegyei Diáksport Egyesület | B4: Mohács Körzeti Diáksport Bizottság | C4: Tenisz | D4: Tenisz | E4: I.kcs Tenisz U8 piros labdával, P+S szabály | F4: F | G4: E | H4: A | I4: Bólyi Általános Iskola és Alapfokú Művészeti Iskola | J4: Bóly | K4: Szabó Barnabás | M4: Horváthné Horváth Mária Magdolna
A5: Baranya Vármegyei Diáksport Egyesület | B5: Mohács Körzeti Diáksport Bizottság | C5: Tenisz | D5: Tenisz | E5: I.kcs Tenisz U8 piros labdával, P+S szabály | F5: F | G5: E | H5: B | I5: Bólyi Általános Iskola és Alapfokú Művészeti Iskola | J5: Bóly | K5: Schneider Lóránt | M5: Horváthné Horváth Mária Magdolna
A6: Baranya Vármegyei Diáksport Egyesület | B6: Mohács Körzeti Diáksport Bizottság | C6: Tenisz | D6: Tenisz | E6: I.kcs Tenisz U8 piros labdával, P+S szabály | F6: F | G6: E | H6: B | I6: Bólyi Általános Iskola és Alapfokú Művészeti Iskola | J6: Bóly | K6: Békési Ádám | M6: Horváthné Horváth Mária Magdolna
A7: Baranya Vármegyei Diáksport Egyesület | B7: Pécsi Körzeti DSB/ Pécsi Sport Nonprofit Zrt. | C7: Tenisz | D7: Tenisz | E7: I.kcs Tenisz U8 piros labdával, P+S szabály | F7: L | G7: E | H7: A | I7: Sztárai Mihály Általános Iskola, Óvoda és Alapfokú Művészeti Iskola | J7: Pécs | K7: Varga Dóra Emili | M7: Horváthné Komáromy Éva | N7: Spitl Tamás, Sáros Zoltán
A8: Baranya Vármegyei Diáksport Egyesület | B8: Mohács Körzeti Diáksport Bizottság | C8: Tenisz | D8: Tenisz | E8: I.kcs Tenisz U8 piros labdával, P+S szabály | F8: L | G8: E | H8: B | I8: Bólyi Általános Iskola és Alapfokú Művészeti Iskola | J8: Bóly | K8: Arnold Johanna | M8: Horváthné Horváth Mária Magdolna
A9: Baranya Vármegyei Diáksport Egyesület | B9: Pécsi Körzeti DSB/ Pécsi Sport Nonprofit Zrt. | C9: Tenisz | D9: Tenisz | E9: I.kcs Tenisz U8 piros labdával, P+S szabály | F9: L | G9: E | H9: B | I9: Pécsi Jókai Mór Általános Iskola | J9: Pécs | K9: Li Wu Abigel | M9: Pozsgai Tamás Gábor
A10: Baranya Vármegyei Diáksport Egyesület | B10: Pécsi Körzeti DSB/ Pécsi Sport Nonprofit Zrt. | C10: Tenisz | D10: Tenisz | E10: I.kcs Tenisz U8 piros labdával, P+S szabály | F10: L | G10: E | H10: B | I10: Koch Valéria Gimnázium, Általános Iskola, Óvoda és Kollégium | J10: Pécs | K10: Fabó Emma | M10: Szelle Krisztián
A11: Baranya Vármegyei Diáksport Egyesület | B11: Pécsi Körzeti DSB/ Pécsi Sport Nonprofit Zrt. | C11: Tenisz | D11: Tenisz | E11: II.kcs Tenisz U10 narancs labdával, P+S szabály | F11: F | G11: E | H11: A | I11: Pécsi Kovács Béla Általános Iskola | J11: Pécs | K11: Lajos Emir | M11: Dér Klára Andrea
A12: Baranya Vármegyei Diáksport Egyesület | B12: Mohács Körzeti Diáksport Bizottság | C12: Tenisz | D12: Tenisz | E12: II.kcs Tenisz U10 narancs labdával, P+S szabály | F12: F | G12: E | H12: B | I12: Bólyi Általános Iskola és Alapfokú Művészeti Iskola | J12: Bóly | K12: Reisz Kende | M12: Horváthné Horváth Mária Magdolna
A13: Baranya Vármegyei Diáksport Egyesület | B13: Mohács Körzeti Diáksport Bizottság | C13: Tenisz | D13: Tenisz | E13: II.kcs Tenisz U10 narancs labdával, P+S szabály | F13: F | G13: E | H13: B | I13: Bólyi Általános Iskola és Alapfokú Művészeti Iskola | J13: Bóly | K13: Pongrácz Nándor | M13: Horváthné Horváth Mária Magdolna
A14: Baranya Vármegyei Diáksport Egyesület | B14: Pécsi Körzeti DSB/ Pécsi Sport Nonprofit Zrt. | C14: Tenisz | D14: Tenisz | E14: II.kcs Tenisz U10 narancs labdával, P+S szabály | F14: F | G14: E | H14: B | I14: Koch Valéria Gimnázium, Általános Iskola, Óvoda és Kollégium | J14: Pécs | K14: Papp-Hoffer Bence | M14: Szelle Krisztián
A15: Baranya Vármegyei Diáksport Egyesület | B15: Pécsi Körzeti DSB/ Pécsi Sport Nonprofit Zrt. | C15: Tenisz | D15: Tenisz | E15: II.kcs Tenisz U10 narancs labdával, P+S szabály | F15: F | G15: E | H15: B | I15: Koch Valéria Gimnázium, Általános Iskola, Óvoda és Kollégium | J15: Pécs | K15: Szebényi Alexander | M15: Szelle Krisztián
A16: Baranya Vármegyei Diáksport Egyesület | B16: Pécsi Körzeti DSB/ Pécsi Sport Nonprofit Zrt. | C16: Tenisz | D16: Tenisz | E16: II.kcs Tenisz U10 narancs labdával, P+S szabály | F16: F | G16: E | H16: B | I16: Koch Valéria Gimnázium, Általános Iskola, Óvoda és Kollégium | J16: Pécs | K16: Zámbó Zénó | M16: Szelle Krisztián
A17: Baranya Vármegyei Diáksport Egyesület | B17: Pécsi Körzeti DSB/ Pécsi Sport Nonprofit Zrt. | C17: Tenisz | D17: Tenisz | E17: II.kcs Tenisz U10 narancs labdával, P+S szabály | F17: L | G17: E | H17: A | I17: Cserepka János Magyar-Angol Két Tanítási Nyelvű Baptista Sportiskola, Általános Iskola és Gimnázium | J17: Pécs | K17: Takács Zara | M17: Belovári Bence | N17: Sáros Zoltán
A18: Baranya Vármegyei Diáksport Egyesület | B18: Mohács Körzeti Diáksport Bizottság | C18: Tenisz | D18: Tenisz | E18: II.kcs Tenisz U10 narancs labdával, P+S szabály | F18: L | G18: E | H18: B | I18: Bólyi Általános Iskola és Alapfokú Művészeti Iskola | J18: Bóly | K18: Ambrus Kíra Dóra | M18: Horváthné Horváth Mária Magdolna
A19: Baranya Vármegyei Diáksport Egyesület | B19: Pécsi Körzeti DSB/ Pécsi Sport Nonprofit Zrt. | C19: Tenisz | D19: Tenisz | E19: II.kcs Tenisz U10 narancs labdával, P+S szabály | F19: L | G19: E | H19: B | I19: Pécsi Tudományegyetem Gyakorló Általános Iskola, Gimnázium és Óvoda | J19: Pécs | K19: Kottász Dalma | M19: Pap Judit Zsuzsanna
A20: Baranya Vármegyei Diáksport Egyesület | B20: Pécsi Körzeti DSB/ Pécsi Sport Nonprofit Zrt. | C20: Tenisz | D20: Tenisz | E20: II.kcs Tenisz U10 narancs labdával, P+S szabály | F20: L | G20: E | H20: B | I20: Pécsi Jókai Mór Általános Iskola | J20: Pécs | K20: Jagic Hanna Mila | M20: Pozsgai Tamás Gábor
A21: Baranya Vármegyei Diáksport Egyesület | B21: Pécsi Körzeti DSB/ Pécsi Sport Nonprofit Zrt. | C21: Tenisz | D21: Tenisz | E21: II.kcs Tenisz U10 narancs labdával, P+S szabály | F21: L | G21: E | H21: B | I21: Koch Valéria Gimnázium, Általános Iskola, Óvoda és Kollégium | J21: Pécs | K21: Duga Milla Mici | M21: Szelle Krisztián
A22: Baranya Vármegyei Diáksport Egyesület | B22: Pécsi Körzeti DSB/ Pécsi Sport Nonprofit Zrt. | C22: Tenisz | D22: Tenisz | E22: III.kcs Tenisz U11 zöld labdával, P+S szabály | F22: F | G22: E | H22: A | I22: Pécsi Tudományegyetem Gyakorló Általános Iskola, Gimnázium és Óvoda | J22: Pécs | K22: Sáros Máté Levente | M22: Pap Judit Zsuzsanna
A23: Baranya Vármegyei Diáksport Egyesület | B23: Pécsi Körzeti DSB/ Pécsi Sport Nonprofit Zrt. | C23: Tenisz | D23: Tenisz | E23: III.kcs Tenisz U11 zöld labdával, P+S szabály | F23: F | G23: E | H23: A | I23: Koch Valéria Gimnázium, Általános Iskola, Óvoda és Kollégium | J23: Pécs | K23: Varga Áron | M23: Várhalmi-Hujber Éva
A24: Baranya Vármegyei Diáksport Egyesület | B24: Mohács Körzeti Diáksport Bizottság | C24: Tenisz | D24: Tenisz | E24: III.kcs Tenisz U11 zöld labdával, P+S szabály | F24: F | G24: E | H24: B | I24: Bólyi Általános Iskola és Alapfokú Művészeti Iskola | J24: Bóly | K24: Arnold Benedek | M24: Horváthné Horváth Mária Magdolna
A25: Baranya Vármegyei Diáksport Egyesület | B25: Mohács Körzeti Diáksport Bizottság | C25: Tenisz | D25: Tenisz | E25: III.kcs Tenisz U11 zöld labdával, P+S szabály | F25: F | G25: E | H25: B | I25: Park Utcai Katolikus Általános Iskola és Óvoda | J25: Mohács | K25: Stivics-Nagy Milos | M25: Schmidt Zsolt
A26: Baranya Vármegyei Diáksport Egyesület | B26: Mohács Körzeti Diáksport Bizottság | C26: Tenisz | D26: Tenisz | E26: III.kcs Tenisz U11 zöld labdával, P+S szabály | F26: F | G26: E | H26: B | I26: Park Utcai Katolikus Általános Iskola és Óvoda | J26: Mohács | K26: Szigeti-Kovács Mátyás József | M26: Schmidt Zsolt
A27: Baranya Vármegyei Diáksport Egyesület | B27: Mohács Körzeti Diáksport Bizottság | C27: Tenisz | D27: Tenisz | E27: III.kcs Tenisz U11 zöld labdával, P+S szabály | F27: F | G27: E | H27: B | I27: Mohács Térségi Általános Iskola | J27: Mohács | K27: Hasanovic Ármin | M27: Ritter Ákos
A28: Baranya Vármegyei Diáksport Egyesület | B28: Mohács Körzeti Diáksport Bizottság | C28: Tenisz | D28: Tenisz | E28: III.kcs Tenisz U11 zöld labdával, P+S szabály | F28: F | G28: E | H28: B | I28: Park Utcai Katolikus Általános Iskola és Óvoda | J28: Mohács | K28: Féth Péter | M28: Verőci Lídia
A29: Baranya Vármegyei Diáksport Egyesület | B29: Mohács Körzeti Diáksport Bizottság | C29: Tenisz | D29: Tenisz | E29: III.kcs Tenisz U11 zöld labdával, P+S szabály | F29: F | G29: E | H29: B | I29: Boldog Gizella Katolikus Általános Iskola és Óvoda | J29: Mohács | K29: Rutterschmidt Erik | M29: Ginderné Czimmer Eszter
... A42: Baranya Vármegyei Diáksport Egyesület | B42: Pécsi Körzeti DSB/ Pécsi Sport Nonprofit Zrt. | C42: Tenisz | D42: Tenisz | E42: IV.kcs Tenisz U12 | F42: F | G42: E | H42: B | I42: Koch Valéria Gimnázium, Általános Iskola, Óvoda és Kollégium | J42: Pécs | K42: Csere Vilmos Tamás | M42: Szelle Krisztián
A43: Baranya Vármegyei Diáksport Egyesület | B43: Pécsi Körzeti DSB/ Pécsi Sport Nonprofit Zrt. | C43: Tenisz | D43: Tenisz | E43: IV.kcs Tenisz U12 | F43: L | G43: E | H43: A | I43: Miroslav Krleža Horvát Óvoda, Általános Iskola, Gimnázium és Kollégium | J43: Pécs | K43: Benovics Hanna Mária | M43: Istókovics Miklós | N43: Simon István
A44: Baranya Vármegyei Diáksport Egyesület | B44: Mohács Körzeti Diáksport Bizottság | C44: Tenisz | D44: Tenisz | E44: IV.kcs Tenisz U12 | F44: L | G44: E | H44: B | I44: Bólyi Általános Iskola és Alapfokú Művészeti Iskola | J44: Bóly | K44: Reisz Inez | M44: Horváthné Horváth Mária Magdolna
A45: Baranya Vármegyei Diáksport Egyesület | B45: Pécsi Körzeti DSB/ Pécsi Sport Nonprofit Zrt. | C45: Tenisz | D45: Tenisz | E45: IV.kcs Tenisz U12 | F45: L | G45: E | H45: B | I45: Miroslav Krleža Horvát Óvoda, Általános Iskola, Gimnázium és Kollégium | J45: Pécs | K45: Vilyevácz Alexandra | M45: Istókovics Miklós | N45: Sáros Zoltán
A46: Baranya Vármegyei Diáksport Egyesület | B46: Pécsi Körzeti DSB/ Pécsi Sport Nonprofit Zrt. | C46: Tenisz | D46: Tenisz | E46: V.kcs Tenisz U14 | F46: F | G46: E | H46: A | I46: Cserepka János Magyar-Angol Két Tanítási Nyelvű Baptista Sportiskola, Általános Iskola és Gimnázium | J46: Pécs | K46: Szűcs Vilmos | M46: Keszthelyiné Magyar Andrea | N46: Simon István
A47: Baranya Vármegyei Diáksport Egyesület | B47: Pécsi Körzeti DSB/ Pécsi Sport Nonprofit Zrt. | C47: Tenisz | D47: Tenisz | E47: V.kcs Tenisz U14 | F47: F | G47: E | H47: B | I47: Pécsi Bártfa Utcai Általános Iskola | J47: Pécs | K47: Szalai Benett | M47: Horváth Tamás
A48: Baranya Vármegyei Diáksport Egyesület | B48: Mohács Körzeti Diáksport Bizottság | C48: Tenisz | D48: Tenisz | E48: V.kcs Tenisz U14 | F48: F | G48: E | H48: B | I48: Bólyi Általános Iskola és Alapfokú Művészeti Iskola | J48: Bóly | K48: Schmidt Róbert | M48: Horváthné Horváth Mária Magdolna
A49: Baranya Vármegyei Diáksport Egyesület | B49: Mohács Körzeti Diáksport Bizottság | C49: Tenisz | D49: Tenisz | E49: V.kcs Tenisz U14 | F49: F | G49: E | H49: B | I49: Park Utcai Katolikus Általános Iskola és Óvoda | J49: Mohács | K49: Lindenlaub Péter | M49: Schmidt Zsolt
A50: Baranya Vármegyei Diáksport Egyesület | B50: Mohács Körzeti Diáksport Bizottság | C50: Tenisz | D50: Tenisz | E50: V.kcs Tenisz U14 | F50: F | G50: E | H50: B | I50: Park Utcai Katolikus Általános Iskola és Óvoda | J50: Mohács | K50: Régaisz Viktor | M50: Schmidt Zsolt
A51: Baranya Vármegyei Diáksport Egyesület | B51: Pécsi Körzeti DSB/ Pécsi Sport Nonprofit Zrt. | C51: Tenisz | D51: Tenisz | E51: V.kcs Tenisz U14 | F51: F | G51: E | H51: B | I51: Pécsi Jókai Mór Általános Iskola | J51: Pécs | K51: Li Yutian Benjamin | M51: Pozsgai Tamás Gábor
A52: Baranya Vármegyei Diáksport Egyesület | B52: Pécsi Körzeti DSB/ Pécsi Sport Nonprofit Zrt. | C52: Tenisz | D52: Tenisz | E52: V.kcs Tenisz U14 | F52: F | G52: E | H52: B | I52: Bogádi Dr. Berze Nagy János Általános Iskola | J52: Bogád | K52: Czimmer Máté | M52: Gosztola Krisztina
A53: Baranya Vármegyei Diáksport Egyesület | B53: Pécsi Körzeti DSB/ Pécsi Sport Nonprofit Zrt. | C53: Tenisz | D53: Tenisz | E53: V.kcs Tenisz U14 | F53: F | G53: E | H53: B | I53: Koch Valéria Gimnázium, Általános Iskola, Óvoda és Kollégium | J53: Pécs | K53: Horváth Áron | M53: Lantosné Csősz Edit
A54: Baranya Vármegyei Diáksport Egyesület | B54: Pécsi Körzeti DSB/ Pécsi Sport Nonprofit Zrt. | C54: Tenisz | D54: Tenisz | E54: V.kcs Tenisz U14 | F54: F | G54: E | H54: B | I54: Koch Valéria Gimnázium, Általános Iskola, Óvoda és Kollégium | J54: Pécs | K54: Wimmert Robin | M54: Lantosné Csősz Edit
A55: Baranya Vármegyei Diáksport Egyesület | B55: Pécsi Körzeti DSB/ Pécsi Sport Nonprofit Zrt. | C55: Tenisz | D55: Tenisz | E55: V.kcs Tenisz U14 | F55: F | G55: E | H55: B | I55: Pécsi Belvárosi Általános Iskola | J55: Pécs | K55: Pál Krisztián | M55: Pokol Lajos
A56: Baranya Vármegyei Diáksport Egyesület | B56: Pécsi Körzeti DSB/ Pécsi Sport Nonprofit Zrt. | C56: Tenisz | D56: Tenisz | E56: V.kcs Tenisz U14 | F56: L | G56: E | H56: A | I56: Sztárai Mihály Általános Iskola, Óvoda és Alapfokú Művészeti Iskola | J56: Pécs | K56: Varga Hanna Lilien | M56: Horváthné Komáromy Éva | N56: Gouth Ambrus
A57: Baranya Vármegyei Diáksport Egyesület | B57: Pécsi Körzeti DSB/ Pécsi Sport Nonprofit Zrt. | C57: Tenisz | D57: Tenisz | E57: V.kcs Tenisz U14 | F57: L | G57: E | H57: A | I57: Pécsi Tudományegyetem Gyakorló Általános Iskola, Gimnázium és Óvoda | J57: Pécs | K57: Fáskerti Lujza | M57: Laskay Szilvia
A58: Baranya Vármegyei Diáksport Egyesület | B58: Pécsi Körzeti DSB/ Pécsi Sport Nonprofit Zrt. | C58: Tenisz | D58: Tenisz | E58: V.kcs Tenisz U14 | F58: L | G58: E | H58: A | I58: Miroslav Krleža Horvát Óvoda, Általános Iskola, Gimnázium és Kollégium | J58: Pécs | K58: Benovics Málna | M58: Istókovics Miklós | N58: Simon István
A59: Baranya Vármegyei Diáksport Egyesület | B59: Mohács Körzeti Diáksport Bizottság | C59: Tenisz | D59: Tenisz | E59: V.kcs Tenisz U14 | F59: L | G59: E | H59: B | I59: Park Utcai Katolikus Általános Iskola és Óvoda | J59: Mohács | K59: Rapajkó Luca | M59: Schmidt Zsolt
A60: Baranya Vármegyei Diáksport Egyesület | B60: Mohács Körzeti Diáksport Bizottság | C60: Tenisz | D60: Tenisz | E60: V.kcs Tenisz U14 | F60: L | G60: E | H60: B | I60: Mohács Térségi Általános Iskola | J60: Mohács | K60: Hasanovic Leila | M60: Ritter Ákos
A61: Baranya Vármegyei Diáksport Egyesület | B61: Pécsi Körzeti DSB/ Pécsi Sport Nonprofit Zrt. | C61: Tenisz | D61: Tenisz | E61: V.kcs Tenisz U14 | F61: L | G61: E | H61: B | I61: Koch Valéria Gimnázium, Általános Iskola, Óvoda és Kollégium | J61: Pécs | K61: Vadas Vanda | M61: Várhalmi-Hujber Éva
A62: Baranya Vármegyei Diáksport Egyesület | B62: Pécsi Körzeti DSB/ Pécsi Sport Nonprofit Zrt. | C62: Tenisz | D62: Tenisz | E62: VI.kcs Tenisz U16 | F62: F | G62: E | H62: A | I62: Szent Mór Katolikus Óvoda, Általános Iskola, Alapfokú Művészeti Iskola és Gimnázium | J62: Pécs | K62: Gyenis Milán | M62: Blatt Péterné
A63: Baranya Vármegyei Diáksport Egyesület | B63: Pécsi Körzeti DSB/ Pécsi Sport Nonprofit Zrt. | C63: Tenisz | D63: Tenisz | E63: VI.kcs Tenisz U16 | F63: F | G63: E | H63: A | I63: Szent Mór Katolikus Óvoda, Általános Iskola, Alapfokú Művészeti Iskola és Gimnázium | J63: Pécs | K63: Gömöry Ádám | M63: Blatt Péterné
A64: Baranya Vármegyei Diáksport Egyesület | B64: Pécsi Körzeti DSB/ Pécsi Sport Nonprofit Zrt. | C64: Tenisz | D64: Tenisz | E64: VI.kcs Tenisz U16 | F64: F | G64: E | H64: A | I64: Pécsi Tudományegyetem Gyakorló Általános Iskola, Gimnázium és Óvoda | J64: Pécs | K64: Varga Barna | M64: Gáspár Gábor
A65: Baranya Vármegyei Diáksport Egyesület | B65: Pécsi Körzeti DSB/ Pécsi Sport Nonprofit Zrt. | C65: Tenisz | D65: Tenisz | E65: VI.kcs Tenisz U16 | F65: F | G65: E | H65: A | I65: Pécsi Mezőszél Utcai Általános Iskola | J65: Pécs | K65: Spitl Tamás Bence | M65: Tornay Bánk Ádám | N65: Spitl Tamás
A66: Baranya Vármegyei Diáksport Egyesület | B66: Siklós Körzeti Diáksport Bizottság | C66: Tenisz | D66: Tenisz | E66: VI.kcs Tenisz U16 | F66: F | G66: E | H66: A | I66: Siklósi Táncsics Mihály Gimnázium és Általános Iskola | J66: Siklós | K66: Mayer Iván | M66: Bátai Eszter
A67: Baranya Vármegyei Diáksport Egyesület | B67: Pécsi Körzeti DSB/ Pécsi Sport Nonprofit Zrt. | C67: Tenisz | D67: Tenisz | E67: VI.kcs Tenisz U16 | F67: F | G67: E | H67: B | I67: Pécsi Tudományegyetem Gyakorló Általános Iskola, Gimnázium és Óvoda | J67: Pécs | K67: Sillye imre Botond | M67: Ágoston Vivien
A68: Baranya Vármegyei Diáksport Egyesület | B68: Pécsi Körzeti DSB/ Pécsi Sport Nonprofit Zrt. | C68: Tenisz | D68: Tenisz | E68: VI.kcs Tenisz U16 | F68: F | G68: E | H68: B | I68: Pécsi Mezőszél Utcai Általános Iskola | J68: Pécs | K68: Guoth Bertalan | M68: Árki Mária | N68: Guoth Ambrus
A69: Baranya Vármegyei Diáksport Egyesület | B69: Pécsi Körzeti DSB/ Pécsi Sport Nonprofit Zrt. | C69: Tenisz | D69: Tenisz | E69: VI.kcs Tenisz U16 | F69: F | G69: E | H69: B | I69: Koch Valéria Gimnázium, Általános Iskola, Óvoda és Kollégium | J69: Pécs | K69: Gárdos Levente Péter | M69: Haincz Krisztián
A70: Baranya Vármegyei Diáksport Egyesület | B70: Pécsi Körzeti DSB/ Pécsi Sport Nonprofit Zrt. | C70: Tenisz | D70: Tenisz | E70: VI.kcs Tenisz U16 | F70: F | G70: E | H70: B | I70: Szent Mór Katolikus Óvoda, Általános Iskola, Alapfokú Művészeti Iskola és Gimnázium | J70: Pécs | K70: Szentirmay Bertalan László | M70: Blatt Péterné
A71: Baranya Vármegyei Diáksport Egyesület | B71: Pécsi Körzeti DSB/ Pécsi Sport Nonprofit Zrt. | C71: Tenisz | D71: Tenisz | E71: VI.kcs Tenisz U16 | F71: F | G71: E | H71: B | I71: Szent Mór Katolikus Óvoda, Általános Iskola, Alapfokú Művészeti Iskola és Gimnázium | J71: Pécs | K71: Szabó-Zsidek Márton | M71: Blatt Péterné
A72: Baranya Vármegyei Diáksport Egyesület | B72: Pécsi Körzeti DSB/ Pécsi Sport Nonprofit Zrt. | C72: Tenisz | D72: Tenisz | E72: VI.kcs Tenisz U16 | F72: F | G72: E | H72: B | I72: Pécsi Tudományegyetem Gyakorló Általános Iskola, Gimnázium és Óvoda | J72: Pécs | K72: Petrinovics Milán Pál | M72: Gáspár Gábor
A73: Baranya Vármegyei Diáksport Egyesület | B73: Mohács Körzeti Diáksport Bizottság | C73: Tenisz | D73: Tenisz | E73: VI.kcs Tenisz U16 | F73: F | G73: E | H73: B | I73: Park Utcai Katolikus Általános Iskola és Óvoda | J73: Mohács | K73: Horváth Máté | M73: Schmidt Zsolt
A74: Baranya Vármegyei Diáksport Egyesület | B74: Pécsi Körzeti DSB/ Pécsi Sport Nonprofit Zrt. | C74: Tenisz | D74: Tenisz | E74: VI.kcs Tenisz U16 | F74: F | G74: E | H74: B | I74: Koch Valéria Gimnázium, Általános Iskola, Óvoda és Kollégium | J74: Pécs | K74: Hirth Benedek | M74: Haincz Krisztián
A75: Baranya Vármegyei Diáksport Egyesület | B75: Pécsi Körzeti DSB/ Pécsi Sport Nonprofit Zrt. | C75: Tenisz | D75: Tenisz | E75: VI.kcs Tenisz U16 | F75: F | G75: E | H75: B | I75: Koch Valéria Gimnázium, Általános Iskola, Óvoda és Kollégium | J75: Pécs | K75: Müller Dávid Máté | M75: Lantosné Csősz Edit
A76: Baranya Vármegyei Diáksport Egyesület | B76: Pécsi Körzeti DSB/ Pécsi Sport Nonprofit Zrt. | C76: Tenisz | D76: Tenisz | E76: VI.kcs Tenisz U16 | F76: L | G76: E | H76: A | I76: Pécsi Tudományegyetem Gyakorló Általános Iskola, Gimnázium és Óvoda | J76: Pécs | K76: Fáskerti Izabella | M76: Bedőné Szűcs Tünde
A77: Baranya Vármegyei Diáksport Egyesület | B77: Pécsi Körzeti DSB/ Pécsi Sport Nonprofit Zrt. | C77: Tenisz | D77: Tenisz | E77: VI.kcs Tenisz U16 | F77: L | G77: E | H77: B | I77: Pécsi Tudományegyetem Gyakorló Általános Iskola, Gimnázium és Óvoda | J77: Pécs | K77: Cservenka Luca | M77: Ágoston Vivien
A78: Baranya Vármegyei Diáksport Egyesület | B78: Pécsi Körzeti DSB/ Pécsi Sport Nonprofit Zrt. | C78: Tenisz | D78: Tenisz | E78: VI.kcs Tenisz U16 | F78: L | G78: E | H78: B | I78: Pécsi Református Kollégium Gimnáziuma, Technikuma, Szakképző Iskolája, Általános Iskolája, Óvodája, Alapfokú Művészeti Iskolája és Diákotthona | J78: Pécs | K78: Péter Nóra | M78: Köves Ildikó
A79: Baranya Vármegyei Diáksport Egyesület | B79: Pécsi Körzeti DSB/ Pécsi Sport Nonprofit Zrt. | C79: Tenisz | D79: Tenisz | E79: VIII.kcs Tenisz U18+ | F79: F | G79: E | H79: B | I79: Ciszterci Rend Nagy Lajos Gimnáziuma és Kollégiuma | J79: Pécs | K79: Juhász Máté | M79: Bábics Péter
A80: Baranya Vármegyei Diáksport Egyesület | B80: Pécsi Körzeti DSB/ Pécsi Sport Nonprofit Zrt. | C80: Tenisz | D80: Tenisz | E80: VII.kcs Tenisz U18 | F80: F | G80: E | H80: A | I80: Cserepka János Magyar-Angol Két Tanítási Nyelvű Baptista Sportiskola, Általános Iskola és Gimnázium | J80: Pécs | K80: Simon István | M80: Vald Benjámin Márk
... A91: Baranya Vármegyei Diáksport Egyesület | B91: Pécsi Körzeti DSB/ Pécsi Sport Nonprofit Zrt. | C91: Tenisz | D91: Tenisz | E91: VII.kcs Tenisz U18 | F91: L | G91: E | H91: B | I91: Pécsi Tudományegyetem Gyakorló Általános Iskola, Gimnázium és Óvoda | J91: Pécs | K91: Lipi Anna Sára | M91: Gáspár Gábor

Sheet A-I.kcs-U8-P-F elo
A1: =[2]Altalanos!$A$6 -> #REF! | E1: Egyéni főtábla
B2: Versenyszám: | C2: =[2]Altalanos!$A$8 -> #REF! | E2: ELŐKÉSZÍTŐ LISTA
A3: NE TÖRÖLD KI EZT AZ OLDALT! | N3: Versenybíró aláírása
A4: Dátum | C4: Város | D4: Kategória | H4: Versenybíró
A5: =[2]Altalanos!$A$10 -> #REF! | C5: =[2]Altalanos!$C$10 -> #REF! | D5: =[2]Altalanos!$D$10 -> #REF! | H5: =[2]Altalanos!$E$10 -> #REF!
A6: Sor | B6: Családi név | C6: Keresztnév | D6: Egyesület | E6: Kódszám | F6: Nevezett Igen | G6: Aláírás | H6: Nevezési rangsor | J6: NatSort if not Seed | K6: NatSort | L6: Seed Sort | M6: AccBasic | N6: Elfogadási státusz | O6: Sorsolási rangsor | P6: AccSort | Q6: Kiemelés
A7: 1 | B7: Csikós | C7: Marcell | D7: Boldog Gizella Kat. Ált.Isk. és Óvoda | E7: 180518 | F7: =TEXT(G7, "ééhhnn") -> 000100
A8: 2 | B8: Horváth | C8: Benedek | D8: PTE Gyakorló Ált. Isk., Gimn. és Óvoda | E8: 180703 | F8: =TEXT(G8, "ééhhnn") -> 000100
A9: 3 | B9: Szabó | C9: Barnabás | D9: Bólyi Általános Iskola és AMI | E9: 180127 | F9: =TEXT(G9, "ééhhnn") -> 000100
A10: 4
A11: 5
A12: 6
A13: 7
A14: 8
A15: 9
A16: 10
A17: 11
A18: 12
A19: 13
A20: 14
A21: 15
... A39: 33
A40: 34 | J40: =IF(AND(Q40="",#REF!>0,#REF!<5),K40,) -> #REF! | K40: =IF(D40="","ZZZ9",IF(AND(#REF!>0,#REF!<5),D40&#REF!,D40&"9")) -> ZZZ9 | L40: =IF(Q40="",999,Q40) -> 999 | M40: =IF(P40=999,999,1) -> 999 | P40: =IF(N40="DA",1,IF(N40="WC",2,IF(N40="SE",3,IF(N40="Q",4,IF(N40="LL",5,999))))) -> 999
A41: 35 | J41: =IF(AND(Q41="",#REF!>0,#REF!<5),K41,) -> #REF! | K41: =IF(D41="","ZZZ9",IF(AND(#REF!>0,#REF!<5),D41&#REF!,D41&"9")) -> ZZZ9 | L41: =IF(Q41="",999,Q41) -> 999 | M41: =IF(P41=999,999,1) -> 999 | P41: =IF(N41="DA",1,IF(N41="WC",2,IF(N41="SE",3,IF(N41="Q",4,IF(N41="LL",5,999))))) -> 999
A42: 36 | J42: =IF(AND(Q42="",#REF!>0,#REF!<5),K42,) -> #REF! | K42: =IF(D42="","ZZZ9",IF(AND(#REF!>0,#REF!<5),D42&#REF!,D42&"9")) -> ZZZ9 | L42: =IF(Q42="",999,Q42) -> 999 | M42: =IF(P42=999,999,1) -> 999 | P42: =IF(N42="DA",1,IF(N42="WC",2,IF(N42="SE",3,IF(N42="Q",4,IF(N42="LL",5,999))))) -> 999
A43: 37 | J43: =IF(AND(Q43="",#REF!>0,#REF!<5),K43,) -> #REF! | K43: =IF(D43="","ZZZ9",IF(AND(#REF!>0,#REF!<5),D43&#REF!,D43&"9")) -> ZZZ9 | L43: =IF(Q43="",999,Q43) -> 999 | M43: =IF(P43=999,999,1) -> 999 | P43: =IF(N43="DA",1,IF(N43="WC",2,IF(N43="SE",3,IF(N43="Q",4,IF(N43="LL",5,999))))) -> 999
A44: 38 | J44: =IF(AND(Q44="",#REF!>0,#REF!<5),K44,) -> #REF! | K44: =IF(D44="","ZZZ9",IF(AND(#REF!>0,#REF!<5),D44&#REF!,D44&"9")) -> ZZZ9 | L44: =IF(Q44="",999,Q44) -> 999 | M44: =IF(P44=999,999,1) -> 999 | P44: =IF(N44="DA",1,IF(N44="WC",2,IF(N44="SE",3,IF(N44="Q",4,IF(N44="LL",5,999))))) -> 999
A45: 39 | J45: =IF(AND(Q45="",#REF!>0,#REF!<5),K45,) -> #REF! | K45: =IF(D45="","ZZZ9",IF(AND(#REF!>0,#REF!<5),D45&#REF!,D45&"9")) -> ZZZ9 | L45: =IF(Q45="",999,Q45) -> 999 | M45: =IF(P45=999,999,1) -> 999 | P45: =IF(N45="DA",1,IF(N45="WC",2,IF(N45="SE",3,IF(N45="Q",4,IF(N45="LL",5,999))))) -> 999
A46: 40 | J46: =IF(AND(Q46="",#REF!>0,#REF!<5),K46,) -> #REF! | K46: =IF(D46="","ZZZ9",IF(AND(#REF!>0,#REF!<5),D46&#REF!,D46&"9")) -> ZZZ9 | L46: =IF(Q46="",999,Q46) -> 999 | M46: =IF(P46=999,999,1) -> 999 | P46: =IF(N46="DA",1,IF(N46="WC",2,IF(N46="SE",3,IF(N46="Q",4,IF(N46="LL",5,999))))) -> 999
A47: 41 | J47: =IF(AND(Q47="",#REF!>0,#REF!<5),K47,) -> #REF! | K47: =IF(D47="","ZZZ9",IF(AND(#REF!>0,#REF!<5),D47&#REF!,D47&"9")) -> ZZZ9 | L47: =IF(Q47="",999,Q47) -> 999 | M47: =IF(P47=999,999,1) -> 999 | P47: =IF(N47="DA",1,IF(N47="WC",2,IF(N47="SE",3,IF(N47="Q",4,IF(N47="LL",5,999))))) -> 999
A48: 42 | J48: =IF(AND(Q48="",#REF!>0,#REF!<5),K48,) -> #REF! | K48: =IF(D48="","ZZZ9",IF(AND(#REF!>0,#REF!<5),D48&#REF!,D48&"9")) -> ZZZ9 | L48: =IF(Q48="",999,Q48) -> 999 | M48: =IF(P48=999,999,1) -> 999 | P48: =IF(N48="DA",1,IF(N48="WC",2,IF(N48="SE",3,IF(N48="Q",4,IF(N48="LL",5,999))))) -> 999
A49: 43 | J49: =IF(AND(Q49="",#REF!>0,#REF!<5),K49,) -> #REF! | K49: =IF(D49="","ZZZ9",IF(AND(#REF!>0,#REF!<5),D49&#REF!,D49&"9")) -> ZZZ9 | L49: =IF(Q49="",999,Q49) -> 999 | M49: =IF(P49=999,999,1) -> 999 | P49: =IF(N49="DA",1,IF(N49="WC",2,IF(N49="SE",3,IF(N49="Q",4,IF(N49="LL",5,999))))) -> 999
A50: 44 | J50: =IF(AND(Q50="",#REF!>0,#REF!<5),K50,) -> #REF! | K50: =IF(D50="","ZZZ9",IF(AND(#REF!>0,#REF!<5),D50&#REF!,D50&"9")) -> ZZZ9 | L50: =IF(Q50="",999,Q50) -> 999 | M50: =IF(P50=999,999,1) -> 999 | P50: =IF(N50="DA",1,IF(N50="WC",2,IF(N50="SE",3,IF(N50="Q",4,IF(N50="LL",5,999))))) -> 999
A51: 45 | J51: =IF(AND(Q51="",#REF!>0,#REF!<5),K51,) -> #REF! | K51: =IF(D51="","ZZZ9",IF(AND(#REF!>0,#REF!<5),D51&#REF!,D51&"9")) -> ZZZ9 | L51: =IF(Q51="",999,Q51) -> 999 | M51: =IF(P51=999,999,1) -> 999 | P51: =IF(N51="DA",1,IF(N51="WC",2,IF(N51="SE",3,IF(N51="Q",4,IF(N51="LL",5,999))))) -> 999
... A156: 150 | J156: =IF(AND(Q156="",#REF!>0,#REF!<5),K156,) -> #REF! | K156: =IF(D156="","ZZZ9",IF(AND(#REF!>0,#REF!<5),D156&#REF!,D156&"9")) -> ZZZ9 | L156: =IF(Q156="",999,Q156) -> 999 | M156: =IF(P156=999,999,1) -> 999 | P156: =IF(N156="DA",1,IF(N156="WC",2,IF(N156="SE",3,IF(N156="Q",4,IF(N156="LL",5,999))))) -> 999

Sheet A-I.kcs-U8-P-F
A1: =[2]Altalanos!$A$6 -> #REF! | H1: Egyéni főtábla | AB1: =IF(Y5=1,CONCATENATE(VLOOKUP(Y3,AA16:AH27,2)),CONCATENATE(VLOOKUP(Y3,AA2:AK13,2))) -> #REF! | AC1: =IF(Y5=1,CONCATENATE(VLOOKUP(Y3,AA16:AK27,3)),CONCATENATE(VLOOKUP(Y3,AA2:AK13,3))) -> #REF! | AD1: =IF(Y5=1,CONCATENATE(VLOOKUP(Y3,AA16:AK27,4)),CONCATENATE(VLOOKUP(Y3,AA2:AK13,4))) -> #REF! | AE1: =IF(Y5=1,CONCATENATE(VLOOKUP(Y3,AA16:AK27,5)),CONCATENATE(VLOOKUP(Y3,AA2:AK13,5))) -> #REF! | AF1: =IF(Y5=1,CONCATENATE(VLOOKUP(Y3,AA16:AK27,6)),CONCATENATE(VLOOKUP(Y3,AA2:AK13,6))) -> #REF! | AG1: =IF(Y5=1,CONCATENATE(VLOOKUP(Y3,AA16:AK27,7)),CONCATENATE(VLOOKUP(Y3,AA2:AK13,7))) -> #REF! | AH1: =IF(Y5=1,CONCATENATE(VLOOKUP(Y3,AA16:AK27,8)),CONCATENATE(VLOOKUP(Y3,AA2:AK13,8))) -> #REF! | AI1: =IF(Y5=1,CONCATENATE(VLOOKUP(Y3,AA16:AK27,9)),CONCATENATE(VLOOKUP(Y3,AA2:AK13,9))) -> #REF! | AJ1: =IF(Y5=1,CONCATENATE(VLOOKUP(Y3,AA16:AK27,10)),CONCATENATE(VLOOKUP(Y3,AA2:AK13,10))) -> #REF! | AK1: =IF(Y5=1,CONCATENATE(VLOOKUP(Y3,AA16:AK27,11)),CONCATENATE(VLOOKUP(Y3,AA2:AK13,11))) -> #REF!
A2: Versenyszám: | E2: =[2]Altalanos!$A$8 -> #REF! | AA2: A | AB2: 150 | AC2: 120 | AD2: 100 | AE2: 80 | AF2: 70 | AG2: 60 | AH2: 55 | AI2: 50 | AJ2: 45 | AK2: 40
A3: Dátum | E3: Város | H3: Kategória | L3: Versenybíró | Q3: 1 FORDULÓ | R3: B - C | Y3: =IF(H4="OB","A",IF(H4="IX","W",H4)) -> 0 | AA3: I | AB3: 120 | AC3: 90 | AD3: 65 | AE3: 55 | AF3: 50 | AG3: 45 | AH3: 40 | AI3: 35 | AJ3: 25 | AK3: 20
A4: =[2]Altalanos!$A$10 -> #REF! | E4: =[2]Altalanos!$C$10 -> #REF! | L4: =[2]Altalanos!$E$10 -> #REF! | Q4: 2 FORDULÓ | R4: C - A | AA4: II | AB4: 90 | AC4: 60 | AD4: 45 | AE4: 34 | AF4: 27 | AG4: 22 | AH4: 18 | AI4: 15 | AJ4: 12 | AK4: 9
B5: kiem | C5: kódszám | D5: Rangsor | E5: Vezetéknév | G5: Keresztnév | I5: Egyesület | K5: Helyezés | L5: Pontszám | M5: Bónusz | Q5: 3 FORDULÓ | R5: A - B | Y5: =IF(OR([2]Altalanos!$A$8="F1",[2]Altalanos!$A$8="F2",[2]Altalanos!$A$8="N1",[2]Altalanos!$A$8="N2"),1,2) -> #REF! | AA5: III | AB5: 60 | AC5: 40 | AD5: 30 | AE5: 20 | AF5: 18 | AG5: 15 | AH5: 12 | AI5: 10 | AJ5: 8 | AK5: 6
AA6: IV | AB6: 40 | AC6: 25 | AD6: 18 | AE6: 13 | AF6: 10 | AG6: 8 | AH6: 6 | AI6: 5 | AJ6: 4 | AK6: 3
A7: A | B7: 1 | C7: =IF($B7="","",VLOOKUP($B7,'A-I.kcs-U8-P-F elo'!$A$7:$O$60,5)) -> 180518 | D7: =IF($B7="","",VLOOKUP($B7,'A-I.kcs-U8-P-F elo'!$A$7:$O$60,15)) -> 0 | E7: =UPPER(IF($B7="","",VLOOKUP($B7,'A-I.kcs-U8-P-F elo'!$A$7:$O$60,2))) -> CSIKÓS | G7: =IF($B7="","",VLOOKUP($B7,'A-I.kcs-U8-P-F elo'!$A$7:$O$60,3)) -> Marcell | I7: =IF($B7="","",VLOOKUP($B7,'A-I.kcs-U8-P-F elo'!$A$7:$O$60,4)) -> Boldog Gizella Kat. Ált.Isk. és Óvoda | K7: I. | AA7: V | AB7: 25 | AC7: 15 | AD7: 13 | AE7: 8 | AF7: 6 | AG7: 4 | AH7: 3 | AI7: 2 | AJ7: 1 | AK7: 0
AA8: VI | AB8: 15 | AC8: 10 | AD8: 7 | AE8: 5 | AF8: 4 | AG8: 3 | AH8: 2 | AI8: 1 | AJ8: 0 | AK8: 0
A9: B | B9: 2 | C9: =IF($B9="","",VLOOKUP($B9,'A-I.kcs-U8-P-F elo'!$A$7:$O$60,5)) -> 180703 | D9: =IF($B9="","",VLOOKUP($B9,'A-I.kcs-U8-P-F elo'!$A$7:$O$60,15)) -> 0 | E9: =UPPER(IF($B9="","",VLOOKUP($B9,'A-I.kcs-U8-P-F elo'!$A$7:$O$60,2))) -> HORVÁTH | G9: =IF($B9="","",VLOOKUP($B9,'A-I.kcs-U8-P-F elo'!$A$7:$O$60,3)) -> Benedek | I9: =IF($B9="","",VLOOKUP($B9,'A-I.kcs-U8-P-F elo'!$A$7:$O$60,4)) -> PTE Gyakorló Ált. Isk., Gimn. és Óvoda | K9: II. | AA9: VII | AB9: 10 | AC9: 6 | AD9: 4 | AE9: 2 | AF9: 1 | AG9: 0 | AH9: 0 | AI9: 0 | AJ9: 0 | AK9: 0
AA10: VIII | AB10: 6 | AC10: 3 | AD10: 2 | AE10: 1 | AF10: 0 | AG10: 0 | AH10: 0 | AI10: 0 | AJ10: 0 | AK10: 0
A11: C | B11: 3 | C11: =IF($B11="","",VLOOKUP($B11,'A-I.kcs-U8-P-F elo'!$A$7:$O$60,5)) -> 180127 | D11: =IF($B11="","",VLOOKUP($B11,'A-I.kcs-U8-P-F elo'!$A$7:$O$60,15)) -> 0 | E11: =UPPER(IF($B11="","",VLOOKUP($B11,'A-I.kcs-U8-P-F elo'!$A$7:$O$60,2))) -> SZABÓ | G11: =IF($B11="","",VLOOKUP($B11,'A-I.kcs-U8-P-F elo'!$A$7:$O$60,3)) -> Barnabás | I11: =IF($B11="","",VLOOKUP($B11,'A-I.kcs-U8-P-F elo'!$A$7:$O$60,4)) -> Bólyi Általános Iskola és AMI | K11: III. | AA11: W | AB11: 3 | AC11: 2 | AD11: 1 | AE11: 0 | AF11: 0 | AG11: 0 | AH11: 0 | AI11: 0 | AJ11: 0 | AK11: 0
AA12: X | AB12: 0 | AC12: 0 | AD12: 0 | AE12: 0 | AF12: 0 | AG12: 0 | AH12: 0 | AI12: 0 | AJ12: 0 | AK12: 0
AA13: XI | AB13: 0 | AC13: 0 | AD13: 0 | AE13: 0 | AF13: 0 | AG13: 0 | AH13: 0 | AI13: 0 | AJ13: 0 | AK13: 0
AA16: A | AB16: 300 | AC16: 250 | AD16: 220 | AE16: 180 | AF16: 160 | AG16: 150 | AH16: 140 | AI16: 130 | AJ16: 120 | AK16: 110
AA17: I | AB17: 250 | AC17: 200 | AD17: 160 | AE17: 140 | AF17: 120 | AG17: 110 | AH17: 100 | AI17: 90 | AJ17: 80 | AK17: 70
D18: =E7 -> CSIKÓS | F18: =E9 -> HORVÁTH | H18: =E11 -> SZABÓ | AA18: II | AB18: 200 | AC18: 150 | AD18: 130 | AE18: 110 | AF18: 95 | AG18: 80 | AH18: 70 | AI18: 60 | AJ18: 55 | AK18: 50
A19: A | B19: =E7 -> CSIKÓS | F19: 15/11 | H19: 15/9 | AA19: III | AB19: 150 | AC19: 120 | AD19: 100 | AE19: 80 | AF19: 70 | AG19: 60 | AH19: 55 | AI19: 50 | AJ19: 45 | AK19: 40
A20: B | B20: =E9 -> HORVÁTH | D20: 11/15 | H20: 15/7 | AA20: IV | AB20: 120 | AC20: 90 | AD20: 65 | AE20: 55 | AF20: 50 | AG20: 45 | AH20: 40 | AI20: 35 | AJ20: 25 | AK20: 20
A21: C | B21: =E11 -> SZABÓ | D21: 9/15 | F21: 7/15 | AA21: V | AB21: 90 | AC21: 60 | AD21: 45 | AE21: 34 | AF21: 27 | AG21: 22 | AH21: 18 | AI21: 15 | AJ21: 12 | AK21: 9
AA22: VI | AB22: 60 | AC22: 40 | AD22: 30 | AE22: 20 | AF22: 18 | AG22: 15 | AH22: 12 | AI22: 10 | AJ22: 8 | AK22: 6
AA23: VII | AB23: 40 | AC23: 25 | AD23: 18 | AE23: 13 | AF23: 8 | AG23: 7 | AH23: 6 | AI23: 5 | AJ23: 4 | AK23: 3
AA24: VIII | AB24: 25 | AC24: 15 | AD24: 13 | AE24: 7 | AF24: 6 | AG24: 5 | AH24: 4 | AI24: 3 | AJ24: 2 | AK24: 1
AA25: W | AB25: 15 | AC25: 10 | AD25: 8 | AE25: 4 | AF25: 3 | AG25: 2 | AH25: 1 | AI25: 0 | AJ25: 0 | AK25: 0
T26: 46341 | AA26: X | AB26: 10 | AC26: 6 | AD26: 4 | AE26: 2 | AF26: 1 | AG26: 0 | AH26: 0 | AI26: 0 | AJ26: 0 | AK26: 0
AA27: XI | AB27: 3 | AC27: 2 | AD27: 1 | AE27: 0 | AF27: 0 | AG27: 0 | AH27: 0 | AI27: 0 | AJ27: 0 | AK27: 0
A33: Rangsor | D33: # | E33: Kiemeltek | G33: # | H33: Szerencés Vesztes | J33: Helyettesíti | K33: Sorsolás időpontja
A34: Dátuma | G34: 1 | K34: Utolsó elfogadott játékos
A35: Utolsó DA | G35: 2
G36: 3 | K36: Sorsoló játékosok
G37: 4
G38: 5
G39: 6 | K39: Versenybíró aláírása
G40: 7
G41: 8 | K41: =L4 -> #REF!

Sheet A-III.kcs-U11-Z-F elo
A1: =[2]Altalanos!$A$6 -> #REF! | E1: Egyéni főtábla
B2: Versenyszám: | C2: =[2]Altalanos!$B$8 -> #REF! | E2: ELŐKÉSZÍTŐ LISTA
A3: NE TÖRÖLD KI EZT AZ OLDALT! | N3: Versenybíró aláírása
A4: Dátum | C4: Város | D4: Kategória | H4: Versenybíró
A5: =[2]Altalanos!$A$10 -> #REF! | C5: =[2]Altalanos!$C$10 -> #REF! | D5: =[2]Altalanos!$D$10 -> #REF! | H5: =[2]Altalanos!$E$10 -> #REF!
A6: Sor | B6: Családi név | C6: Keresztnév | D6: Egyesület | E6: Kódszám | F6: Nevezett Igen | G6: Aláírás | H6: Nevezési rangsor | J6: NatSort if not Seed | K6: NatSort | L6: Seed Sort | M6: AccBasic | N6: Elfogadási státusz | O6: Sorsolási rangsor | P6: AccSort | Q6: Kiemelés
A7: 1 | B7: Sáros | C7: Máté Levente | D7: PTE Gyakorló Ált. Isk., Gimn. és Óvoda | E7: 150705
A8: 2 | B8: Varga | C8: Áron | D8: Koch V.Gimn., Ált. Isk., Óvoda és Koll. | E8: 150824
A9: 3
A10: 4
A11: 5
A12: 6
A13: 7
A14: 8
A15: 9
A16: 10
A17: 11
A18: 12
A19: 13
A20: 14
... A39: 33
A40: 34 | J40: =IF(AND(Q40="",#REF!>0,#REF!<5),K40,) -> #REF! | K40: =IF(D40="","ZZZ9",IF(AND(#REF!>0,#REF!<5),D40&#REF!,D40&"9")) -> ZZZ9 | L40: =IF(Q40="",999,Q40) -> 999 | M40: =IF(P40=999,999,1) -> 999 | P40: =IF(N40="DA",1,IF(N40="WC",2,IF(N40="SE",3,IF(N40="Q",4,IF(N40="LL",5,999))))) -> 999
A41: 35 | J41: =IF(AND(Q41="",#REF!>0,#REF!<5),K41,) -> #REF! | K41: =IF(D41="","ZZZ9",IF(AND(#REF!>0,#REF!<5),D41&#REF!,D41&"9")) -> ZZZ9 | L41: =IF(Q41="",999,Q41) -> 999 | M41: =IF(P41=999,999,1) -> 999 | P41: =IF(N41="DA",1,IF(N41="WC",2,IF(N41="SE",3,IF(N41="Q",4,IF(N41="LL",5,999))))) -> 999
A42: 36 | J42: =IF(AND(Q42="",#REF!>0,#REF!<5),K42,) -> #REF! | K42: =IF(D42="","ZZZ9",IF(AND(#REF!>0,#REF!<5),D42&#REF!,D42&"9")) -> ZZZ9 | L42: =IF(Q42="",999,Q42) -> 999 | M42: =IF(P42=999,999,1) -> 999 | P42: =IF(N42="DA",1,IF(N42="WC",2,IF(N42="SE",3,IF(N42="Q",4,IF(N42="LL",5,999))))) -> 999
A43: 37 | J43: =IF(AND(Q43="",#REF!>0,#REF!<5),K43,) -> #REF! | K43: =IF(D43="","ZZZ9",IF(AND(#REF!>0,#REF!<5),D43&#REF!,D43&"9")) -> ZZZ9 | L43: =IF(Q43="",999,Q43) -> 999 | M43: =IF(P43=999,999,1) -> 999 | P43: =IF(N43="DA",1,IF(N43="WC",2,IF(N43="SE",3,IF(N43="Q",4,IF(N43="LL",5,999))))) -> 999
A44: 38 | J44: =IF(AND(Q44="",#REF!>0,#REF!<5),K44,) -> #REF! | K44: =IF(D44="","ZZZ9",IF(AND(#REF!>0,#REF!<5),D44&#REF!,D44&"9")) -> ZZZ9 | L44: =IF(Q44="",999,Q44) -> 999 | M44: =IF(P44=999,999,1) -> 999 | P44: =IF(N44="DA",1,IF(N44="WC",2,IF(N44="SE",3,IF(N44="Q",4,IF(N44="LL",5,999))))) -> 999
A45: 39 | J45: =IF(AND(Q45="",#REF!>0,#REF!<5),K45,) -> #REF! | K45: =IF(D45="","ZZZ9",IF(AND(#REF!>0,#REF!<5),D45&#REF!,D45&"9")) -> ZZZ9 | L45: =IF(Q45="",999,Q45) -> 999 | M45: =IF(P45=999,999,1) -> 999 | P45: =IF(N45="DA",1,IF(N45="WC",2,IF(N45="SE",3,IF(N45="Q",4,IF(N45="LL",5,999))))) -> 999
A46: 40 | J46: =IF(AND(Q46="",#REF!>0,#REF!<5),K46,) -> #REF! | K46: =IF(D46="","ZZZ9",IF(AND(#REF!>0,#REF!<5),D46&#REF!,D46&"9")) -> ZZZ9 | L46: =IF(Q46="",999,Q46) -> 999 | M46: =IF(P46=999,999,1) -> 999 | P46: =IF(N46="DA",1,IF(N46="WC",2,IF(N46="SE",3,IF(N46="Q",4,IF(N46="LL",5,999))))) -> 999
A47: 41 | J47: =IF(AND(Q47="",#REF!>0,#REF!<5),K47,) -> #REF! | K47: =IF(D47="","ZZZ9",IF(AND(#REF!>0,#REF!<5),D47&#REF!,D47&"9")) -> ZZZ9 | L47: =IF(Q47="",999,Q47) -> 999 | M47: =IF(P47=999,999,1) -> 999 | P47: =IF(N47="DA",1,IF(N47="WC",2,IF(N47="SE",3,IF(N47="Q",4,IF(N47="LL",5,999))))) -> 999
A48: 42 | J48: =IF(AND(Q48="",#REF!>0,#REF!<5),K48,) -> #REF! | K48: =IF(D48="","ZZZ9",IF(AND(#REF!>0,#REF!<5),D48&#REF!,D48&"9")) -> ZZZ9 | L48: =IF(Q48="",999,Q48) -> 999 | M48: =IF(P48=999,999,1) -> 999 | P48: =IF(N48="DA",1,IF(N48="WC",2,IF(N48="SE",3,IF(N48="Q",4,IF(N48="LL",5,999))))) -> 999
A49: 43 | J49: =IF(AND(Q49="",#REF!>0,#REF!<5),K49,) -> #REF! | K49: =IF(D49="","ZZZ9",IF(AND(#REF!>0,#REF!<5),D49&#REF!,D49&"9")) -> ZZZ9 | L49: =IF(Q49="",999,Q49) -> 999 | M49: =IF(P49=999,999,1) -> 999 | P49: =IF(N49="DA",1,IF(N49="WC",2,IF(N49="SE",3,IF(N49="Q",4,IF(N49="LL",5,999))))) -> 999
A50: 44 | J50: =IF(AND(Q50="",#REF!>0,#REF!<5),K50,) -> #REF! | K50: =IF(D50="","ZZZ9",IF(AND(#REF!>0,#REF!<5),D50&#REF!,D50&"9")) -> ZZZ9 | L50: =IF(Q50="",999,Q50) -> 999 | M50: =IF(P50=999,999,1) -> 999 | P50: =IF(N50="DA",1,IF(N50="WC",2,IF(N50="SE",3,IF(N50="Q",4,IF(N50="LL",5,999))))) -> 999
A51: 45 | J51: =IF(AND(Q51="",#REF!>0,#REF!<5),K51,) -> #REF! | K51: =IF(D51="","ZZZ9",IF(AND(#REF!>0,#REF!<5),D51&#REF!,D51&"9")) -> ZZZ9 | L51: =IF(Q51="",999,Q51) -> 999 | M51: =IF(P51=999,999,1) -> 999 | P51: =IF(N51="DA",1,IF(N51="WC",2,IF(N51="SE",3,IF(N51="Q",4,IF(N51="LL",5,999))))) -> 999
... A156: 150 | J156: =IF(AND(Q156="",#REF!>0,#REF!<5),K156,) -> #REF! | K156: =IF(D156="","ZZZ9",IF(AND(#REF!>0,#REF!<5),D156&#REF!,D156&"9")) -> ZZZ9 | L156: =IF(Q156="",999,Q156) -> 999 | M156: =IF(P156=999,999,1) -> 999 | P156: =IF(N156="DA",1,IF(N156="WC",2,IF(N156="SE",3,IF(N156="Q",4,IF(N156="LL",5,999))))) -> 999

Sheet A-III.kcs-U11-Z-F
A1: =[2]Altalanos!$A$6 -> #REF! | H1: Egyéni főtábla | AB1: =IF(Y5=1,CONCATENATE(VLOOKUP(Y3,AA16:AH27,2)),CONCATENATE(VLOOKUP(Y3,AA2:AK13,2))) -> #REF! | AC1: =IF(Y5=1,CONCATENATE(VLOOKUP(Y3,AA16:AK27,3)),CONCATENATE(VLOOKUP(Y3,AA2:AK13,3))) -> #REF! | AD1: =IF(Y5=1,CONCATENATE(VLOOKUP(Y3,AA16:AK27,4)),CONCATENATE(VLOOKUP(Y3,AA2:AK13,4))) -> #REF! | AE1: =IF(Y5=1,CONCATENATE(VLOOKUP(Y3,AA16:AK27,5)),CONCATENATE(VLOOKUP(Y3,AA2:AK13,5))) -> #REF! | AF1: =IF(Y5=1,CONCATENATE(VLOOKUP(Y3,AA16:AK27,6)),CONCATENATE(VLOOKUP(Y3,AA2:AK13,6))) -> #REF! | AG1: =IF(Y5=1,CONCATENATE(VLOOKUP(Y3,AA16:AK27,7)),CONCATENATE(VLOOKUP(Y3,AA2:AK13,7))) -> #REF! | AH1: =IF(Y5=1,CONCATENATE(VLOOKUP(Y3,AA16:AK27,8)),CONCATENATE(VLOOKUP(Y3,AA2:AK13,8))) -> #REF! | AI1: =IF(Y5=1,CONCATENATE(VLOOKUP(Y3,AA16:AK27,9)),CONCATENATE(VLOOKUP(Y3,AA2:AK13,9))) -> #REF! | AJ1: =IF(Y5=1,CONCATENATE(VLOOKUP(Y3,AA16:AK27,10)),CONCATENATE(VLOOKUP(Y3,AA2:AK13,10))) -> #REF! | AK1: =IF(Y5=1,CONCATENATE(VLOOKUP(Y3,AA16:AK27,11)),CONCATENATE(VLOOKUP(Y3,AA2:AK13,11))) -> #REF!
A2: Versenyszám: | E2: =[2]Altalanos!$B$8 -> #REF! | AA2: A | AB2: 150 | AC2: 120 | AD2: 100 | AE2: 80 | AF2: 70 | AG2: 60 | AH2: 55 | AI2: 50 | AJ2: 45 | AK2: 40
A3: Dátum | E3: Város | H3: Kategória | L3: Versenybíró | Q3: 1 FORDULÓ | R3: B - C | Y3: =IF(H4="OB","A",IF(H4="IX","W",H4)) -> 0 | AA3: I | AB3: 120 | AC3: 90 | AD3: 65 | AE3: 55 | AF3: 50 | AG3: 45 | AH3: 40 | AI3: 35 | AJ3: 25 | AK3: 20
A4: =[2]Altalanos!$A$10 -> #REF! | E4: =[2]Altalanos!$C$10 -> #REF! | L4: =[2]Altalanos!$E$10 -> #REF! | Q4: 2 FORDULÓ | R4: C - A | AA4: II | AB4: 90 | AC4: 60 | AD4: 45 | AE4: 34 | AF4: 27 | AG4: 22 | AH4: 18 | AI4: 15 | AJ4: 12 | AK4: 9
B5: kiem | C5: kódszám | D5: Rangsor | E5: Vezetéknév | G5: Keresztnév | I5: Egyesület | K5: Helyezés | L5: Pontszám | M5: Bónusz | Q5: 3 FORDULÓ | R5: A - B | Y5: =IF(OR([2]Altalanos!$A$8="F1",[2]Altalanos!$A$8="F2",[2]Altalanos!$A$8="N1",[2]Altalanos!$A$8="N2"),1,2) -> #REF! | AA5: III | AB5: 60 | AC5: 40 | AD5: 30 | AE5: 20 | AF5: 18 | AG5: 15 | AH5: 12 | AI5: 10 | AJ5: 8 | AK5: 6
AA6: IV | AB6: 40 | AC6: 25 | AD6: 18 | AE6: 13 | AF6: 10 | AG6: 8 | AH6: 6 | AI6: 5 | AJ6: 4 | AK6: 3
A7: A | B7: 1 | C7: =IF($B7="","",VLOOKUP($B7,'A-III.kcs-U11-Z-F elo'!$A$7:$O$60,5)) -> 150705 | D7: =IF($B7="","",VLOOKUP($B7,'A-III.kcs-U11-Z-F elo'!$A$7:$O$60,15)) -> 0 | E7: =UPPER(IF($B7="","",VLOOKUP($B7,'A-III.kcs-U11-Z-F elo'!$A$7:$O$60,2))) -> SÁROS | G7: =IF($B7="","",VLOOKUP($B7,'A-III.kcs-U11-Z-F elo'!$A$7:$O$60,3)) -> Máté Levente | I7: =IF($B7="","",VLOOKUP($B7,'A-III.kcs-U11-Z-F elo'!$A$7:$O$60,4)) -> PTE Gyakorló Ált. Isk., Gimn. és Óvoda | K7: II. | AA7: V | AB7: 25 | AC7: 15 | AD7: 13 | AE7: 8 | AF7: 6 | AG7: 4 | AH7: 3 | AI7: 2 | AJ7: 1 | AK7: 0
AA8: VI | AB8: 15 | AC8: 10 | AD8: 7 | AE8: 5 | AF8: 4 | AG8: 3 | AH8: 2 | AI8: 1 | AJ8: 0 | AK8: 0
A9: B | B9: 2 | C9: =IF($B9="","",VLOOKUP($B9,'A-III.kcs-U11-Z-F elo'!$A$7:$O$60,5)) -> 150824 | D9: =IF($B9="","",VLOOKUP($B9,'A-III.kcs-U11-Z-F elo'!$A$7:$O$60,15)) -> 0 | E9: =UPPER(IF($B9="","",VLOOKUP($B9,'A-III.kcs-U11-Z-F elo'!$A$7:$O$60,2))) -> VARGA | G9: =IF($B9="","",VLOOKUP($B9,'A-III.kcs-U11-Z-F elo'!$A$7:$O$60,3)) -> Áron | I9: =IF($B9="","",VLOOKUP($B9,'A-III.kcs-U11-Z-F elo'!$A$7:$O$60,4)) -> Koch V.Gimn., Ált. Isk., Óvoda és Koll. | K9: I. | AA9: VII | AB9: 10 | AC9: 6 | AD9: 4 | AE9: 2 | AF9: 1 | AG9: 0 | AH9: 0 | AI9: 0 | AJ9: 0 | AK9: 0
AA10: VIII | AB10: 6 | AC10: 3 | AD10: 2 | AE10: 1 | AF10: 0 | AG10: 0 | AH10: 0 | AI10: 0 | AJ10: 0 | AK10: 0
A11: C | C11: =IF($B11="","",VLOOKUP($B11,'A-III.kcs-U11-Z-F elo'!$A$7:$O$60,5)) | D11: =IF($B11="","",VLOOKUP($B11,'A-III.kcs-U11-Z-F elo'!$A$7:$O$60,15)) | E11: =UPPER(IF($B11="","",VLOOKUP($B11,'A-III.kcs-U11-Z-F elo'!$A$7:$O$60,2))) | G11: =IF($B11="","",VLOOKUP($B11,'A-III.kcs-U11-Z-F elo'!$A$7:$O$60,3)) | I11: =IF($B11="","",VLOOKUP($B11,'A-III.kcs-U11-Z-F elo'!$A$7:$O$60,4)) | L11: =IF(K11="","",CONCATENATE(VLOOKUP($Y$3,$AB$1:$AK$1,K11)," pont")) | AA11: W | AB11: 3 | AC11: 2 | AD11: 1 | AE11: 0 | AF11: 0 | AG11: 0 | AH11: 0 | AI11: 0 | AJ11: 0 | AK11: 0
AA12: X | AB12: 0 | AC12: 0 | AD12: 0 | AE12: 0 | AF12: 0 | AG12: 0 | AH12: 0 | AI12: 0 | AJ12: 0 | AK12: 0
AA13: XI | AB13: 0 | AC13: 0 | AD13: 0 | AE13: 0 | AF13: 0 | AG13: 0 | AH13: 0 | AI13: 0 | AJ13: 0 | AK13: 0
AA16: A | AB16: 300 | AC16: 250 | AD16: 220 | AE16: 180 | AF16: 160 | AG16: 150 | AH16: 140 | AI16: 130 | AJ16: 120 | AK16: 110
AA17: I | AB17: 250 | AC17: 200 | AD17: 160 | AE17: 140 | AF17: 120 | AG17: 110 | AH17: 100 | AI17: 90 | AJ17: 80 | AK17: 70
D18: =E7 -> SÁROS | F18: =E9 -> VARGA | H18: =E11 | AA18: II | AB18: 200 | AC18: 150 | AD18: 130 | AE18: 110 | AF18: 95 | AG18: 80 | AH18: 70 | AI18: 60 | AJ18: 55 | AK18: 50
A19: A | B19: =E7 -> SÁROS | F19: 35 | AA19: III | AB19: 150 | AC19: 120 | AD19: 100 | AE19: 80 | AF19: 70 | AG19: 60 | AH19: 55 | AI19: 50 | AJ19: 45 | AK19: 40
A20: B | B20: =E9 -> VARGA | D20: 53 | AA20: IV | AB20: 120 | AC20: 90 | AD20: 65 | AE20: 55 | AF20: 50 | AG20: 45 | AH20: 40 | AI20: 35 | AJ20: 25 | AK20: 20
A21: C | B21: =E11 | AA21: V | AB21: 90 | AC21: 60 | AD21: 45 | AE21: 34 | AF21: 27 | AG21: 22 | AH21: 18 | AI21: 15 | AJ21: 12 | AK21: 9
AA22: VI | AB22: 60 | AC22: 40 | AD22: 30 | AE22: 20 | AF22: 18 | AG22: 15 | AH22: 12 | AI22: 10 | AJ22: 8 | AK22: 6
AA23: VII | AB23: 40 | AC23: 25 | AD23: 18 | AE23: 13 | AF23: 8 | AG23: 7 | AH23: 6 | AI23: 5 | AJ23: 4 | AK23: 3
AA24: VIII | AB24: 25 | AC24: 15 | AD24: 13 | AE24: 7 | AF24: 6 | AG24: 5 | AH24: 4 | AI24: 3 | AJ24: 2 | AK24: 1
AA25: W | AB25: 15 | AC25: 10 | AD25: 8 | AE25: 4 | AF25: 3 | AG25: 2 | AH25: 1 | AI25: 0 | AJ25: 0 | AK25: 0
AA26: X | AB26: 10 | AC26: 6 | AD26: 4 | AE26: 2 | AF26: 1 | AG26: 0 | AH26: 0 | AI26: 0 | AJ26: 0 | AK26: 0
AA27: XI | AB27: 3 | AC27: 2 | AD27: 1 | AE27: 0 | AF27: 0 | AG27: 0 | AH27: 0 | AI27: 0 | AJ27: 0 | AK27: 0
A33: Rangsor | D33: # | E33: Kiemeltek | G33: # | H33: Szerencés Vesztes | J33: Helyettesíti | K33: Sorsolás időpontja
A34: Dátuma | G34: 1 | K34: Utolsó elfogadott játékos
A35: Utolsó DA | G35: 2
G36: 3 | K36: Sorsoló játékosok
G37: 4
G38: 5
G39: 6 | K39: Versenybíró aláírása
G40: 7
G41: 8 | K41: =L4 -> #REF!

Sheet A-V.kcs.-U14-L elo
A1: =[2]Altalanos!$A$6 -> #REF! | E1: Egyéni főtábla
B2: Versenyszám: | C2: =[2]Altalanos!$D$8 -> #REF! | E2: ELŐKÉSZÍTŐ LISTA
A3: NE TÖRÖLD KI EZT AZ OLDALT! | N3: Versenybíró aláírása
A4: Dátum | C4: Város | D4: Kategória | H4: Versenybíró
A5: =[2]Altalanos!$A$10 -> #REF! | C5: =[2]Altalanos!$C$10 -> #REF! | D5: =[2]Altalanos!$D$10 -> #REF! | H5: =[2]Altalanos!$E$10 -> #REF!
A6: Sor | B6: Családi név | C6: Keresztnév | D6: Egyesület | E6: Kódszám | F6: Nevezett Igen | G6: Aláírás | H6: Nevezési rangsor | J6: NatSort if not Seed | K6: NatSort | L6: Seed Sort | M6: AccBasic | N6: Elfogadási státusz | O6: Sorsolási rangsor | P6: AccSort | Q6: Kiemelés
A7: 1 | B7: Benovics | C7: Málna | D7: Miroslav Krleža Horvát Ó, Ált.Isk.,Gimn. és Koll. | E7: 120221 | O7: 33
A8: 2 | B8: Fáskerti | C8: Lujza | D8: PTE Gyakorló Ált. Isk., Gimn. és Óvoda | E8: 130612 | O8: 57
A9: 3 | B9: Varga | C9: Hanna Lilien | D9: Sztárai Mihály Ált.Isk., Óvoda és AMI | E9: 130520 | O9: 22
A10: 4
A11: 5
A12: 6
A13: 7
A14: 8
A15: 9
A16: 10
A17: 11
A18: 12
A19: 13
A20: 14
A21: 15
... A39: 33
A40: 34 | J40: =IF(AND(Q40="",#REF!>0,#REF!<5),K40,) -> #REF! | K40: =IF(D40="","ZZZ9",IF(AND(#REF!>0,#REF!<5),D40&#REF!,D40&"9")) -> ZZZ9 | L40: =IF(Q40="",999,Q40) -> 999 | M40: =IF(P40=999,999,1) -> 999 | P40: =IF(N40="DA",1,IF(N40="WC",2,IF(N40="SE",3,IF(N40="Q",4,IF(N40="LL",5,999))))) -> 999
A41: 35 | J41: =IF(AND(Q41="",#REF!>0,#REF!<5),K41,) -> #REF! | K41: =IF(D41="","ZZZ9",IF(AND(#REF!>0,#REF!<5),D41&#REF!,D41&"9")) -> ZZZ9 | L41: =IF(Q41="",999,Q41) -> 999 | M41: =IF(P41=999,999,1) -> 999 | P41: =IF(N41="DA",1,IF(N41="WC",2,IF(N41="SE",3,IF(N41="Q",4,IF(N41="LL",5,999))))) -> 999
A42: 36 | J42: =IF(AND(Q42="",#REF!>0,#REF!<5),K42,) -> #REF! | K42: =IF(D42="","ZZZ9",IF(AND(#REF!>0,#REF!<5),D42&#REF!,D42&"9")) -> ZZZ9 | L42: =IF(Q42="",999,Q42) -> 999 | M42: =IF(P42=999,999,1) -> 999 | P42: =IF(N42="DA",1,IF(N42="WC",2,IF(N42="SE",3,IF(N42="Q",4,IF(N42="LL",5,999))))) -> 999
A43: 37 | J43: =IF(AND(Q43="",#REF!>0,#REF!<5),K43,) -> #REF! | K43: =IF(D43="","ZZZ9",IF(AND(#REF!>0,#REF!<5),D43&#REF!,D43&"9")) -> ZZZ9 | L43: =IF(Q43="",999,Q43) -> 999 | M43: =IF(P43=999,999,1) -> 999 | P43: =IF(N43="DA",1,IF(N43="WC",2,IF(N43="SE",3,IF(N43="Q",4,IF(N43="LL",5,999))))) -> 999
A44: 38 | J44: =IF(AND(Q44="",#REF!>0,#REF!<5),K44,) -> #REF! | K44: =IF(D44="","ZZZ9",IF(AND(#REF!>0,#REF!<5),D44&#REF!,D44&"9")) -> ZZZ9 | L44: =IF(Q44="",999,Q44) -> 999 | M44: =IF(P44=999,999,1) -> 999 | P44: =IF(N44="DA",1,IF(N44="WC",2,IF(N44="SE",3,IF(N44="Q",4,IF(N44="LL",5,999))))) -> 999
A45: 39 | J45: =IF(AND(Q45="",#REF!>0,#REF!<5),K45,) -> #REF! | K45: =IF(D45="","ZZZ9",IF(AND(#REF!>0,#REF!<5),D45&#REF!,D45&"9")) -> ZZZ9 | L45: =IF(Q45="",999,Q45) -> 999 | M45: =IF(P45=999,999,1) -> 999 | P45: =IF(N45="DA",1,IF(N45="WC",2,IF(N45="SE",3,IF(N45="Q",4,IF(N45="LL",5,999))))) -> 999
A46: 40 | J46: =IF(AND(Q46="",#REF!>0,#REF!<5),K46,) -> #REF! | K46: =IF(D46="","ZZZ9",IF(AND(#REF!>0,#REF!<5),D46&#REF!,D46&"9")) -> ZZZ9 | L46: =IF(Q46="",999,Q46) -> 999 | M46: =IF(P46=999,999,1) -> 999 | P46: =IF(N46="DA",1,IF(N46="WC",2,IF(N46="SE",3,IF(N46="Q",4,IF(N46="LL",5,999))))) -> 999
A47: 41 | J47: =IF(AND(Q47="",#REF!>0,#REF!<5),K47,) -> #REF! | K47: =IF(D47="","ZZZ9",IF(AND(#REF!>0,#REF!<5),D47&#REF!,D47&"9")) -> ZZZ9 | L47: =IF(Q47="",999,Q47) -> 999 | M47: =IF(P47=999,999,1) -> 999 | P47: =IF(N47="DA",1,IF(N47="WC",2,IF(N47="SE",3,IF(N47="Q",4,IF(N47="LL",5,999))))) -> 999
A48: 42 | J48: =IF(AND(Q48="",#REF!>0,#REF!<5),K48,) -> #REF! | K48: =IF(D48="","ZZZ9",IF(AND(#REF!>0,#REF!<5),D48&#REF!,D48&"9")) -> ZZZ9 | L48: =IF(Q48="",999,Q48) -> 999 | M48: =IF(P48=999,999,1) -> 999 | P48: =IF(N48="DA",1,IF(N48="WC",2,IF(N48="SE",3,IF(N48="Q",4,IF(N48="LL",5,999))))) -> 999
A49: 43 | J49: =IF(AND(Q49="",#REF!>0,#REF!<5),K49,) -> #REF! | K49: =IF(D49="","ZZZ9",IF(AND(#REF!>0,#REF!<5),D49&#REF!,D49&"9")) -> ZZZ9 | L49: =IF(Q49="",999,Q49) -> 999 | M49: =IF(P49=999,999,1) -> 999 | P49: =IF(N49="DA",1,IF(N49="WC",2,IF(N49="SE",3,IF(N49="Q",4,IF(N49="LL",5,999))))) -> 999
A50: 44 | J50: =IF(AND(Q50="",#REF!>0,#REF!<5),K50,) -> #REF! | K50: =IF(D50="","ZZZ9",IF(AND(#REF!>0,#REF!<5),D50&#REF!,D50&"9")) -> ZZZ9 | L50: =IF(Q50="",999,Q50) -> 999 | M50: =IF(P50=999,999,1) -> 999 | P50: =IF(N50="DA",1,IF(N50="WC",2,IF(N50="SE",3,IF(N50="Q",4,IF(N50="LL",5,999))))) -> 999
A51: 45 | J51: =IF(AND(Q51="",#REF!>0,#REF!<5),K51,) -> #REF! | K51: =IF(D51="","ZZZ9",IF(AND(#REF!>0,#REF!<5),D51&#REF!,D51&"9")) -> ZZZ9 | L51: =IF(Q51="",999,Q51) -> 999 | M51: =IF(P51=999,999,1) -> 999 | P51: =IF(N51="DA",1,IF(N51="WC",2,IF(N51="SE",3,IF(N51="Q",4,IF(N51="LL",5,999))))) -> 999
... A156: 150 | J156: =IF(AND(Q156="",#REF!>0,#REF!<5),K156,) -> #REF! | K156: =IF(D156="","ZZZ9",IF(AND(#REF!>0,#REF!<5),D156&#REF!,D156&"9")) -> ZZZ9 | L156: =IF(Q156="",999,Q156) -> 999 | M156: =IF(P156=999,999,1) -> 999 | P156: =IF(N156="DA",1,IF(N156="WC",2,IF(N156="SE",3,IF(N156="Q",4,IF(N156="LL",5,999))))) -> 999

Sheet A-V.kcs.-U14-L
A1: =[2]Altalanos!$A$6 -> #REF! | H1: Egyéni főtábla | AB1: =IF(Y5=1,CONCATENATE(VLOOKUP(Y3,AA16:AH27,2)),CONCATENATE(VLOOKUP(Y3,AA2:AK13,2))) -> #REF! | AC1: =IF(Y5=1,CONCATENATE(VLOOKUP(Y3,AA16:AK27,3)),CONCATENATE(VLOOKUP(Y3,AA2:AK13,3))) -> #REF! | AD1: =IF(Y5=1,CONCATENATE(VLOOKUP(Y3,AA16:AK27,4)),CONCATENATE(VLOOKUP(Y3,AA2:AK13,4))) -> #REF! | AE1: =IF(Y5=1,CONCATENATE(VLOOKUP(Y3,AA16:AK27,5)),CONCATENATE(VLOOKUP(Y3,AA2:AK13,5))) -> #REF! | AF1: =IF(Y5=1,CONCATENATE(VLOOKUP(Y3,AA16:AK27,6)),CONCATENATE(VLOOKUP(Y3,AA2:AK13,6))) -> #REF! | AG1: =IF(Y5=1,CONCATENATE(VLOOKUP(Y3,AA16:AK27,7)),CONCATENATE(VLOOKUP(Y3,AA2:AK13,7))) -> #REF! | AH1: =IF(Y5=1,CONCATENATE(VLOOKUP(Y3,AA16:AK27,8)),CONCATENATE(VLOOKUP(Y3,AA2:AK13,8))) -> #REF! | AI1: =IF(Y5=1,CONCATENATE(VLOOKUP(Y3,AA16:AK27,9)),CONCATENATE(VLOOKUP(Y3,AA2:AK13,9))) -> #REF! | AJ1: =IF(Y5=1,CONCATENATE(VLOOKUP(Y3,AA16:AK27,10)),CONCATENATE(VLOOKUP(Y3,AA2:AK13,10))) -> #REF! | AK1: =IF(Y5=1,CONCATENATE(VLOOKUP(Y3,AA16:AK27,11)),CONCATENATE(VLOOKUP(Y3,AA2:AK13,11))) -> #REF!
A2: Versenyszám: | E2: =[2]Altalanos!$D$8 -> #REF! | AA2: A | AB2: 150 | AC2: 120 | AD2: 100 | AE2: 80 | AF2: 70 | AG2: 60 | AH2: 55 | AI2: 50 | AJ2: 45 | AK2: 40
A3: Dátum | E3: Város | H3: Kategória | L3: Versenybíró | Q3: 1 FORDULÓ | R3: B - C | Y3: =IF(H4="OB","A",IF(H4="IX","W",H4)) -> 0 | AA3: I | AB3: 120 | AC3: 90 | AD3: 65 | AE3: 55 | AF3: 50 | AG3: 45 | AH3: 40 | AI3: 35 | AJ3: 25 | AK3: 20
A4: =[2]Altalanos!$A$10 -> #REF! | E4: =[2]Altalanos!$C$10 -> #REF! | L4: =[2]Altalanos!$E$10 -> #REF! | Q4: 2 FORDULÓ | R4: C - A | AA4: II | AB4: 90 | AC4: 60 | AD4: 45 | AE4: 34 | AF4: 27 | AG4: 22 | AH4: 18 | AI4: 15 | AJ4: 12 | AK4: 9
B5: kiem | C5: kódszám | D5: Rangsor | E5: Vezetéknév | G5: Keresztnév | I5: Egyesület | K5: Helyezés | L5: Pontszám | M5: Bónusz | Q5: 3 FORDULÓ | R5: A - B | Y5: =IF(OR([2]Altalanos!$A$8="F1",[2]Altalanos!$A$8="F2",[2]Altalanos!$A$8="N1",[2]Altalanos!$A$8="N2"),1,2) -> #REF! | AA5: III | AB5: 60 | AC5: 40 | AD5: 30 | AE5: 20 | AF5: 18 | AG5: 15 | AH5: 12 | AI5: 10 | AJ5: 8 | AK5: 6
AA6: IV | AB6: 40 | AC6: 25 | AD6: 18 | AE6: 13 | AF6: 10 | AG6: 8 | AH6: 6 | AI6: 5 | AJ6: 4 | AK6: 3
A7: A | B7: 2 | C7: =IF($B7="","",VLOOKUP($B7,'A-V.kcs.-U14-L elo'!$A$7:$O$22,5)) -> 130612 | D7: =IF($B7="","",VLOOKUP($B7,'A-V.kcs.-U14-L elo'!$A$7:$O$22,15)) -> 57 | E7: =UPPER(IF($B7="","",VLOOKUP($B7,'A-V.kcs.-U14-L elo'!$A$7:$O$22,2))) -> FÁSKERTI | G7: =IF($B7="","",VLOOKUP($B7,'A-V.kcs.-U14-L elo'!$A$7:$O$22,3)) -> Lujza | I7: =IF($B7="","",VLOOKUP($B7,'A-V.kcs.-U14-L elo'!$A$7:$O$22,4)) -> PTE Gyakorló Ált. Isk., Gimn. és Óvoda | K7: III. | AA7: V | AB7: 25 | AC7: 15 | AD7: 13 | AE7: 8 | AF7: 6 | AG7: 4 | AH7: 3 | AI7: 2 | AJ7: 1 | AK7: 0
AA8: VI | AB8: 15 | AC8: 10 | AD8: 7 | AE8: 5 | AF8: 4 | AG8: 3 | AH8: 2 | AI8: 1 | AJ8: 0 | AK8: 0
A9: B | B9: 1 | C9: =IF($B9="","",VLOOKUP($B9,'A-V.kcs.-U14-L elo'!$A$7:$O$22,5)) -> 120221 | D9: =IF($B9="","",VLOOKUP($B9,'A-V.kcs.-U14-L elo'!$A$7:$O$22,15)) -> 33 | E9: =UPPER(IF($B9="","",VLOOKUP($B9,'A-V.kcs.-U14-L elo'!$A$7:$O$22,2))) -> BENOVICS | G9: =IF($B9="","",VLOOKUP($B9,'A-V.kcs.-U14-L elo'!$A$7:$O$22,3)) -> Málna | I9: =IF($B9="","",VLOOKUP($B9,'A-V.kcs.-U14-L elo'!$A$7:$O$22,4)) -> Miroslav Krleža Horvát Ó, Ált.Isk.,Gimn. és Koll. | K9: II. | AA9: VII | AB9: 10 | AC9: 6 | AD9: 4 | AE9: 2 | AF9: 1 | AG9: 0 | AH9: 0 | AI9: 0 | AJ9: 0 | AK9: 0
AA10: VIII | AB10: 6 | AC10: 3 | AD10: 2 | AE10: 1 | AF10: 0 | AG10: 0 | AH10: 0 | AI10: 0 | AJ10: 0 | AK10: 0
A11: C | B11: 3 | C11: =IF($B11="","",VLOOKUP($B11,'A-V.kcs.-U14-L elo'!$A$7:$O$22,5)) -> 130520 | D11: =IF($B11="","",VLOOKUP($B11,'A-V.kcs.-U14-L elo'!$A$7:$O$22,15)) -> 22 | E11: =UPPER(IF($B11="","",VLOOKUP($B11,'A-V.kcs.-U14-L elo'!$A$7:$O$22,2))) -> VARGA | G11: =IF($B11="","",VLOOKUP($B11,'A-V.kcs.-U14-L elo'!$A$7:$O$22,3)) -> Hanna Lilien | I11: =IF($B11="","",VLOOKUP($B11,'A-V.kcs.-U14-L elo'!$A$7:$O$22,4)) -> Sztárai Mihály Ált.Isk., Óvoda és AMI | K11: I. | AA11: W | AB11: 3 | AC11: 2 | AD11: 1 | AE11: 0 | AF11: 0 | AG11: 0 | AH11: 0 | AI11: 0 | AJ11: 0 | AK11: 0
AA12: X | AB12: 0 | AC12: 0 | AD12: 0 | AE12: 0 | AF12: 0 | AG12: 0 | AH12: 0 | AI12: 0 | AJ12: 0 | AK12: 0
AA13: XI | AB13: 0 | AC13: 0 | AD13: 0 | AE13: 0 | AF13: 0 | AG13: 0 | AH13: 0 | AI13: 0 | AJ13: 0 | AK13: 0
AA16: A | AB16: 300 | AC16: 250 | AD16: 220 | AE16: 180 | AF16: 160 | AG16: 150 | AH16: 140 | AI16: 130 | AJ16: 120 | AK16: 110
AA17: I | AB17: 250 | AC17: 200 | AD17: 160 | AE17: 140 | AF17: 120 | AG17: 110 | AH17: 100 | AI17: 90 | AJ17: 80 | AK17: 70
D18: =E7 -> FÁSKERTI | F18: =E9 -> BENOVICS | H18: =E11 -> VARGA | AA18: II | AB18: 200 | AC18: 150 | AD18: 130 | AE18: 110 | AF18: 95 | AG18: 80 | AH18: 70 | AI18: 60 | AJ18: 55 | AK18: 50
A19: A | B19: =E7 -> FÁSKERTI | F19: 24 04 | H19: 04 04 | AA19: III | AB19: 150 | AC19: 120 | AD19: 100 | AE19: 80 | AF19: 70 | AG19: 60 | AH19: 55 | AI19: 50 | AJ19: 45 | AK19: 40
A20: B | B20: =E9 -> BENOVICS | D20: 42 40 | H20: 35 35 | AA20: IV | AB20: 120 | AC20: 90 | AD20: 65 | AE20: 55 | AF20: 50 | AG20: 45 | AH20: 40 | AI20: 35 | AJ20: 25 | AK20: 20
A21: C | B21: =E11 -> VARGA | D21: 40 40 | F21: 53 53 | AA21: V | AB21: 90 | AC21: 60 | AD21: 45 | AE21: 34 | AF21: 27 | AG21: 22 | AH21: 18 | AI21: 15 | AJ21: 12 | AK21: 9
AA22: VI | AB22: 60 | AC22: 40 | AD22: 30 | AE22: 20 | AF22: 18 | AG22: 15 | AH22: 12 | AI22: 10 | AJ22: 8 | AK22: 6
AA23: VII | AB23: 40 | AC23: 25 | AD23: 18 | AE23: 13 | AF23: 8 | AG23: 7 | AH23: 6 | AI23: 5 | AJ23: 4 | AK23: 3
AA24: VIII | AB24: 25 | AC24: 15 | AD24: 13 | AE24: 7 | AF24: 6 | AG24: 5 | AH24: 4 | AI24: 3 | AJ24: 2 | AK24: 1
AA25: W | AB25: 15 | AC25: 10 | AD25: 8 | AE25: 4 | AF25: 3 | AG25: 2 | AH25: 1 | AI25: 0 | AJ25: 0 | AK25: 0
AA26: X | AB26: 10 | AC26: 6 | AD26: 4 | AE26: 2 | AF26: 1 | AG26: 0 | AH26: 0 | AI26: 0 | AJ26: 0 | AK26: 0
AA27: XI | AB27: 3 | AC27: 2 | AD27: 1 | AE27: 0 | AF27: 0 | AG27: 0 | AH27: 0 | AI27: 0 | AJ27: 0 | AK27: 0
A33: Rangsor | D33: # | E33: Kiemeltek | G33: # | H33: Szerencés Vesztes | J33: Helyettesíti | K33: Sorsolás időpontja
A34: Dátuma | G34: 1 | K34: Utolsó elfogadott játékos
A35: Utolsó DA | G35: 2
G36: 3 | K36: Sorsoló játékosok
G37: 4
G38: 5
G39: 6 | K39: Versenybíró aláírása
G40: 7
G41: 8 | K41: =L4 -> #REF!

Sheet A-VI.kcs-U16-F elo
A1: =Altalanos!$A$6 -> Baranya Vármegyei Tenisz DO A kategória | E1: Egyéni főtábla
B2: Versenyszám: | C2: =Altalanos!$A$8 -> A-VI.kcs-U16-F | E2: ELŐKÉSZÍTŐ LISTA
A3: NE TÖRÖLD KI EZT AZ OLDALT! | N3: Versenybíró aláírása
A4: Dátum | C4: Város | D4: Kategória | H4: Versenybíró
A5: =Altalanos!$A$10 -> 2026.05.14-15. | C5: =Altalanos!$C$10 -> Pécs | D5: =Altalanos!$D$10 | H5: =Altalanos!$E$10 -> Nagyistók-Nádasi Judit
A6: Sor | B6: Családi név | C6: Keresztnév | D6: Egyesület | E6: Kódszám | F6: Nevezett Igen | G6: Aláírás | H6: Nevezési rangsor | J6: NatSort if not Seed | K6: NatSort | L6: Seed Sort | M6: AccBasic | N6: Elfogadási státusz | O6: Sorsolási rangsor | P6: AccSort | Q6: Kiemelés
A7: 1 | H7: -
A8: 2 | B8: Gömöry | C8: Ádám | D8: Szent Mór Kat. Óvoda, Ált. Isk., AMI és Gim. | E8: 100919 | H8: -
A9: 3 | B9: Gyenis | C9: Milán | D9: Szent Mór Kat. Óvoda, Ált. Isk., AMI és Gim. | E9: 1104160 | H9: 156 | O9: 156
A10: 4 | B10: Mayer | C10: Iván | D10: Siklósi Táncsics M. Gimn. és Ált.Isk. | E10: 100908 | H10: -
A11: 5 | B11: Varga | C11: Barna | D11: PTE Gyakorló Ált. Isk., Gimn. és Óvoda | E11: 100615 | H11: 11 | O11: 11
A12: 6 | B12: Spitl | C12: Tamás Bence | D12: Pécsi Mezőszél Utcai Általános Iskola | E12: 110422
A13: 7
A14: 8
A15: 9
A16: 10
A17: 11
A18: 12
A19: 13
A20: 14
A21: 15
A22: 16
A23: 17
A24: 18
... A39: 33
A40: 34 | J40: =IF(AND(Q40="",#REF!>0,#REF!<5),K40,) -> #REF! | K40: =IF(D40="","ZZZ9",IF(AND(#REF!>0,#REF!<5),D40&#REF!,D40&"9")) -> ZZZ9 | L40: =IF(Q40="",999,Q40) -> 999 | M40: =IF(P40=999,999,1) -> 999 | P40: =IF(N40="DA",1,IF(N40="WC",2,IF(N40="SE",3,IF(N40="Q",4,IF(N40="LL",5,999))))) -> 999
A41: 35 | J41: =IF(AND(Q41="",#REF!>0,#REF!<5),K41,) -> #REF! | K41: =IF(D41="","ZZZ9",IF(AND(#REF!>0,#REF!<5),D41&#REF!,D41&"9")) -> ZZZ9 | L41: =IF(Q41="",999,Q41) -> 999 | M41: =IF(P41=999,999,1) -> 999 | P41: =IF(N41="DA",1,IF(N41="WC",2,IF(N41="SE",3,IF(N41="Q",4,IF(N41="LL",5,999))))) -> 999
A42: 36 | J42: =IF(AND(Q42="",#REF!>0,#REF!<5),K42,) -> #REF! | K42: =IF(D42="","ZZZ9",IF(AND(#REF!>0,#REF!<5),D42&#REF!,D42&"9")) -> ZZZ9 | L42: =IF(Q42="",999,Q42) -> 999 | M42: =IF(P42=999,999,1) -> 999 | P42: =IF(N42="DA",1,IF(N42="WC",2,IF(N42="SE",3,IF(N42="Q",4,IF(N42="LL",5,999))))) -> 999
A43: 37 | J43: =IF(AND(Q43="",#REF!>0,#REF!<5),K43,) -> #REF! | K43: =IF(D43="","ZZZ9",IF(AND(#REF!>0,#REF!<5),D43&#REF!,D43&"9")) -> ZZZ9 | L43: =IF(Q43="",999,Q43) -> 999 | M43: =IF(P43=999,999,1) -> 999 | P43: =IF(N43="DA",1,IF(N43="WC",2,IF(N43="SE",3,IF(N43="Q",4,IF(N43="LL",5,999))))) -> 999
A44: 38 | J44: =IF(AND(Q44="",#REF!>0,#REF!<5),K44,) -> #REF! | K44: =IF(D44="","ZZZ9",IF(AND(#REF!>0,#REF!<5),D44&#REF!,D44&"9")) -> ZZZ9 | L44: =IF(Q44="",999,Q44) -> 999 | M44: =IF(P44=999,999,1) -> 999 | P44: =IF(N44="DA",1,IF(N44="WC",2,IF(N44="SE",3,IF(N44="Q",4,IF(N44="LL",5,999))))) -> 999
A45: 39 | J45: =IF(AND(Q45="",#REF!>0,#REF!<5),K45,) -> #REF! | K45: =IF(D45="","ZZZ9",IF(AND(#REF!>0,#REF!<5),D45&#REF!,D45&"9")) -> ZZZ9 | L45: =IF(Q45="",999,Q45) -> 999 | M45: =IF(P45=999,999,1) -> 999 | P45: =IF(N45="DA",1,IF(N45="WC",2,IF(N45="SE",3,IF(N45="Q",4,IF(N45="LL",5,999))))) -> 999
A46: 40 | J46: =IF(AND(Q46="",#REF!>0,#REF!<5),K46,) -> #REF! | K46: =IF(D46="","ZZZ9",IF(AND(#REF!>0,#REF!<5),D46&#REF!,D46&"9")) -> ZZZ9 | L46: =IF(Q46="",999,Q46) -> 999 | M46: =IF(P46=999,999,1) -> 999 | P46: =IF(N46="DA",1,IF(N46="WC",2,IF(N46="SE",3,IF(N46="Q",4,IF(N46="LL",5,999))))) -> 999
A47: 41 | J47: =IF(AND(Q47="",#REF!>0,#REF!<5),K47,) -> #REF! | K47: =IF(D47="","ZZZ9",IF(AND(#REF!>0,#REF!<5),D47&#REF!,D47&"9")) -> ZZZ9 | L47: =IF(Q47="",999,Q47) -> 999 | M47: =IF(P47=999,999,1) -> 999 | P47: =IF(N47="DA",1,IF(N47="WC",2,IF(N47="SE",3,IF(N47="Q",4,IF(N47="LL",5,999))))) -> 999
A48: 42 | J48: =IF(AND(Q48="",#REF!>0,#REF!<5),K48,) -> #REF! | K48: =IF(D48="","ZZZ9",IF(AND(#REF!>0,#REF!<5),D48&#REF!,D48&"9")) -> ZZZ9 | L48: =IF(Q48="",999,Q48) -> 999 | M48: =IF(P48=999,999,1) -> 999 | P48: =IF(N48="DA",1,IF(N48="WC",2,IF(N48="SE",3,IF(N48="Q",4,IF(N48="LL",5,999))))) -> 999
A49: 43 | J49: =IF(AND(Q49="",#REF!>0,#REF!<5),K49,) -> #REF! | K49: =IF(D49="","ZZZ9",IF(AND(#REF!>0,#REF!<5),D49&#REF!,D49&"9")) -> ZZZ9 | L49: =IF(Q49="",999,Q49) -> 999 | M49: =IF(P49=999,999,1) -> 999 | P49: =IF(N49="DA",1,IF(N49="WC",2,IF(N49="SE",3,IF(N49="Q",4,IF(N49="LL",5,999))))) -> 999
A50: 44 | J50: =IF(AND(Q50="",#REF!>0,#REF!<5),K50,) -> #REF! | K50: =IF(D50="","ZZZ9",IF(AND(#REF!>0,#REF!<5),D50&#REF!,D50&"9")) -> ZZZ9 | L50: =IF(Q50="",999,Q50) -> 999 | M50: =IF(P50=999,999,1) -> 999 | P50: =IF(N50="DA",1,IF(N50="WC",2,IF(N50="SE",3,IF(N50="Q",4,IF(N50="LL",5,999))))) -> 999
A51: 45 | J51: =IF(AND(Q51="",#REF!>0,#REF!<5),K51,) -> #REF! | K51: =IF(D51="","ZZZ9",IF(AND(#REF!>0,#REF!<5),D51&#REF!,D51&"9")) -> ZZZ9 | L51: =IF(Q51="",999,Q51) -> 999 | M51: =IF(P51=999,999,1) -> 999 | P51: =IF(N51="DA",1,IF(N51="WC",2,IF(N51="SE",3,IF(N51="Q",4,IF(N51="LL",5,999))))) -> 999
... A156: 150 | J156: =IF(AND(Q156="",#REF!>0,#REF!<5),K156,) -> #REF! | K156: =IF(D156="","ZZZ9",IF(AND(#REF!>0,#REF!<5),D156&#REF!,D156&"9")) -> ZZZ9 | L156: =IF(Q156="",999,Q156) -> 999 | M156: =IF(P156=999,999,1) -> 999 | P156: =IF(N156="DA",1,IF(N156="WC",2,IF(N156="SE",3,IF(N156="Q",4,IF(N156="LL",5,999))))) -> 999

Sheet A-VI.kcs-U16-F
A1: =Altalanos!$A$6 -> Baranya Vármegyei Tenisz DO A kategória | H1: Egyéni főtábla | AB1: =IF(Y5=1,CONCATENATE(VLOOKUP(Y3,AA16:AH27,2)),CONCATENATE(VLOOKUP(Y3,AA2:AK13,2))) -> #N/A | AC1: =IF(Y5=1,CONCATENATE(VLOOKUP(Y3,AA16:AK27,3)),CONCATENATE(VLOOKUP(Y3,AA2:AK13,3))) -> #N/A | AD1: =IF(Y5=1,CONCATENATE(VLOOKUP(Y3,AA16:AK27,4)),CONCATENATE(VLOOKUP(Y3,AA2:AK13,4))) -> #N/A | AE1: =IF(Y5=1,CONCATENATE(VLOOKUP(Y3,AA16:AK27,5)),CONCATENATE(VLOOKUP(Y3,AA2:AK13,5))) -> #N/A | AF1: =IF(Y5=1,CONCATENATE(VLOOKUP(Y3,AA16:AK27,6)),CONCATENATE(VLOOKUP(Y3,AA2:AK13,6))) -> #N/A | AG1: =IF(Y5=1,CONCATENATE(VLOOKUP(Y3,AA16:AK27,7)),CONCATENATE(VLOOKUP(Y3,AA2:AK13,7))) -> #N/A | AH1: =IF(Y5=1,CONCATENATE(VLOOKUP(Y3,AA16:AK27,8)),CONCATENATE(VLOOKUP(Y3,AA2:AK13,8))) -> #N/A | AI1: =IF(Y5=1,CONCATENATE(VLOOKUP(Y3,AA16:AK27,9)),CONCATENATE(VLOOKUP(Y3,AA2:AK13,9))) -> #N/A | AJ1: =IF(Y5=1,CONCATENATE(VLOOKUP(Y3,AA16:AK27,10)),CONCATENATE(VLOOKUP(Y3,AA2:AK13,10))) -> #N/A | AK1: =IF(Y5=1,CONCATENATE(VLOOKUP(Y3,AA16:AK27,11)),CONCATENATE(VLOOKUP(Y3,AA2:AK13,11))) -> #N/A
A2: Versenyszám: | E2: =Altalanos!$A$8 -> A-VI.kcs-U16-F | AA2: A | AB2: 150 | AC2: 120 | AD2: 100 | AE2: 80 | AF2: 70 | AG2: 60 | AH2: 55 | AI2: 50 | AJ2: 45 | AK2: 40
A3: Dátum | E3: Város | H3: Kategória | L3: Versenybíró | Y3: =IF(H4="OB","A",IF(H4="IX","W",H4)) -> 0 | AA3: I | AB3: 120 | AC3: 90 | AD3: 65 | AE3: 55 | AF3: 50 | AG3: 45 | AH3: 40 | AI3: 35 | AJ3: 25 | AK3: 20
A4: =Altalanos!$A$10 -> 2026.05.14-15. | E4: =Altalanos!$C$10 -> Pécs | L4: =Altalanos!$E$10 -> Nagyistók-Nádasi Judit | AA4: II | AB4: 90 | AC4: 60 | AD4: 45 | AE4: 34 | AF4: 27 | AG4: 22 | AH4: 18 | AI4: 15 | AJ4: 12 | AK4: 9
B5: kiem | C5: kódszám | D5: Rangsor | E5: Vezetéknév | G5: Keresztnév | I5: Egyesület | K5: Helyezés | L5: Pontszám | M5: Bónusz | O5: 1 FORDULÓ | P5: B - C | R5: 1 FORDULÓ | S5: E - F | Y5: =IF(OR(Altalanos!$A$8="F1",Altalanos!$A$8="F2",Altalanos!$A$8="N1",Altalanos!$A$8="N2"),1,2) -> 2 | AA5: III | AB5: 60 | AC5: 40 | AD5: 30 | AE5: 20 | AF5: 18 | AG5: 15 | AH5: 12 | AI5: 10 | AJ5: 8 | AK5: 6
O6: 2 FORDULÓ | P6: C - A | R6: 2 FORDULÓ | S6: F - D | AA6: IV | AB6: 40 | AC6: 25 | AD6: 18 | AE6: 13 | AF6: 10 | AG6: 8 | AH6: 6 | AI6: 5 | AJ6: 4 | AK6: 3
A7: A | B7: 6 | C7: =IF($B7="","",VLOOKUP($B7,'A-VI.kcs-U16-F elo'!$A$7:$O$22,5)) -> 110422 | D7: =IF($B7="","",VLOOKUP($B7,'A-VI.kcs-U16-F elo'!$A$7:$O$22,15)) -> 0 | E7: =UPPER(IF($B7="","",VLOOKUP($B7,'A-VI.kcs-U16-F elo'!$A$7:$O$22,2))) -> SPITL | G7: =IF($B7="","",VLOOKUP($B7,'A-VI.kcs-U16-F elo'!$A$7:$O$22,3)) -> Tamás Bence | I7: =IF($B7="","",VLOOKUP($B7,'A-VI.kcs-U16-F elo'!$A$7:$O$22,4)) -> Pécsi Mezőszél Utcai Általános Iskola | K7: III. | L7: =IF(K7="","",CONCATENATE(VLOOKUP($Y$3,$AB$1:$AK$1,K7)," pont")) -> #N/A | O7: 3 FORDULÓ | P7: A - B | R7: 3 FORDULÓ | S7: D - E | AA7: V | AB7: 25 | AC7: 15 | AD7: 13 | AE7: 8 | AF7: 6 | AG7: 4 | AH7: 3 | AI7: 2 | AJ7: 1 | AK7: 0
AA8: VI | AB8: 15 | AC8: 10 | AD8: 7 | AE8: 5 | AF8: 4 | AG8: 3 | AH8: 2 | AI8: 1 | AJ8: 0 | AK8: 0
A9: B | B9: 3 | C9: =IF($B9="","",VLOOKUP($B9,'A-VI.kcs-U16-F elo'!$A$7:$O$22,5)) -> 1104160 | D9: =IF($B9="","",VLOOKUP($B9,'A-VI.kcs-U16-F elo'!$A$7:$O$22,15)) -> 156 | E9: =UPPER(IF($B9="","",VLOOKUP($B9,'A-VI.kcs-U16-F elo'!$A$7:$O$22,2))) -> GYENIS | G9: =IF($B9="","",VLOOKUP($B9,'A-VI.kcs-U16-F elo'!$A$7:$O$22,3)) -> Milán | I9: =IF($B9="","",VLOOKUP($B9,'A-VI.kcs-U16-F elo'!$A$7:$O$22,4)) -> Szent Mór Kat. Óvoda, Ált. Isk., AMI és Gim. | K9: - | L9: =IF(K9="","",CONCATENATE(VLOOKUP($Y$3,$AB$1:$AK$1,K9)," pont")) -> #N/A | AA9: VII | AB9: 10 | AC9: 6 | AD9: 4 | AE9: 2 | AF9: 1 | AG9: 0 | AH9: 0 | AI9: 0 | AJ9: 0 | AK9: 0
AA10: VIII | AB10: 6 | AC10: 3 | AD10: 2 | AE10: 1 | AF10: 0 | AG10: 0 | AH10: 0 | AI10: 0 | AJ10: 0 | AK10: 0
A11: C | B11: 2 | C11: =IF($B11="","",VLOOKUP($B11,'A-VI.kcs-U16-F elo'!$A$7:$O$22,5)) -> 100919 | D11: =IF($B11="","",VLOOKUP($B11,'A-VI.kcs-U16-F elo'!$A$7:$O$22,15)) -> 0 | E11: =UPPER(IF($B11="","",VLOOKUP($B11,'A-VI.kcs-U16-F elo'!$A$7:$O$22,2))) -> GÖMÖRY | G11: =IF($B11="","",VLOOKUP($B11,'A-VI.kcs-U16-F elo'!$A$7:$O$22,3)) -> Ádám | I11: =IF($B11="","",VLOOKUP($B11,'A-VI.kcs-U16-F elo'!$A$7:$O$22,4)) -> Szent Mór Kat. Óvoda, Ált. Isk., AMI és Gim. | K11: I. | L11: =IF(K11="","",CONCATENATE(VLOOKUP($Y$3,$AB$1:$AK$1,K11)," pont")) -> #N/A | AA11: W | AB11: 3 | AC11: 2 | AD11: 1 | AE11: 0 | AF11: 0 | AG11: 0 | AH11: 0 | AI11: 0 | AJ11: 0 | AK11: 0
AA12: X | AB12: 0 | AC12: 0 | AD12: 0 | AE12: 0 | AF12: 0 | AG12: 0 | AH12: 0 | AI12: 0 | AJ12: 0 | AK12: 0
A13: D | B13: 5 | C13: =IF($B13="","",VLOOKUP($B13,'A-VI.kcs-U16-F elo'!$A$7:$O$22,5)) -> 100615 | D13: =IF($B13="","",VLOOKUP($B13,'A-VI.kcs-U16-F elo'!$A$7:$O$22,15)) -> 11 | E13: =UPPER(IF($B13="","",VLOOKUP($B13,'A-VI.kcs-U16-F elo'!$A$7:$O$22,2))) -> VARGA | G13: =IF($B13="","",VLOOKUP($B13,'A-VI.kcs-U16-F elo'!$A$7:$O$22,3)) -> Barna | I13: =IF($B13="","",VLOOKUP($B13,'A-VI.kcs-U16-F elo'!$A$7:$O$22,4)) -> PTE Gyakorló Ált. Isk., Gimn. és Óvoda | K13: II. | L13: =IF(K13="","",CONCATENATE(VLOOKUP($Y$3,$AB$1:$AK$1,K13)," pont")) -> #N/A | AA13: XI | AB13: 0 | AC13: 0 | AD13: 0 | AE13: 0 | AF13: 0 | AG13: 0 | AH13: 0 | AI13: 0 | AJ13: 0 | AK13: 0
A15: E | B15: 1 | C15: =IF($B15="","",VLOOKUP($B15,'A-VI.kcs-U16-F elo'!$A$7:$O$22,5)) -> 0 | D15: =IF($B15="","",VLOOKUP($B15,'A-VI.kcs-U16-F elo'!$A$7:$O$22,15)) -> 0 | E15: =UPPER(IF($B15="","",VLOOKUP($B15,'A-VI.kcs-U16-F elo'!$A$7:$O$22,2))) | G15: =IF($B15="","",VLOOKUP($B15,'A-VI.kcs-U16-F elo'!$A$7:$O$22,3)) -> 0 | I15: =IF($B15="","",VLOOKUP($B15,'A-VI.kcs-U16-F elo'!$A$7:$O$22,4)) -> 0 | K15: - | L15: =IF(K15="","",CONCATENATE(VLOOKUP($Y$3,$AB$1:$AK$1,K15)," pont")) -> #N/A
AA16: A | AB16: 300 | AC16: 250 | AD16: 220 | AE16: 180 | AF16: 160 | AG16: 150 | AH16: 140 | AI16: 130 | AJ16: 120 | AK16: 110
A17: F | B17: 4 | C17: =IF($B17="","",VLOOKUP($B17,'A-VI.kcs-U16-F elo'!$A$7:$O$22,5)) -> 100908 | D17: =IF($B17="","",VLOOKUP($B17,'A-VI.kcs-U16-F elo'!$A$7:$O$22,15)) -> 0 | E17: =UPPER(IF($B17="","",VLOOKUP($B17,'A-VI.kcs-U16-F elo'!$A$7:$O$22,2))) -> MAYER | G17: =IF($B17="","",VLOOKUP($B17,'A-VI.kcs-U16-F elo'!$A$7:$O$22,3)) -> Iván | I17: =IF($B17="","",VLOOKUP($B17,'A-VI.kcs-U16-F elo'!$A$7:$O$22,4)) -> Siklósi Táncsics M. Gimn. és Ált.Isk. | K17: 4. | L17: =IF(K17="","",CONCATENATE(VLOOKUP($Y$3,$AB$1:$AK$1,K17)," pont")) -> #N/A | AA17: I | AB17: 250 | AC17: 200 | AD17: 160 | AE17: 140 | AF17: 120 | AG17: 110 | AH17: 100 | AI17: 90 | AJ17: 80 | AK17: 70
AA18: II | AB18: 200 | AC18: 150 | AD18: 130 | AE18: 110 | AF18: 95 | AG18: 80 | AH18: 70 | AI18: 60 | AJ18: 55 | AK18: 50
AA19: III | AB19: 150 | AC19: 120 | AD19: 100 | AE19: 80 | AF19: 70 | AG19: 60 | AH19: 55 | AI19: 50 | AJ19: 45 | AK19: 40
AA20: IV | AB20: 120 | AC20: 90 | AD20: 65 | AE20: 55 | AF20: 50 | AG20: 45 | AH20: 40 | AI20: 35 | AJ20: 25 | AK20: 20
AA21: V | AB21: 90 | AC21: 60 | AD21: 45 | AE21: 34 | AF21: 27 | AG21: 22 | AH21: 18 | AI21: 15 | AJ21: 12 | AK21: 9
D22: =E7 -> SPITL | F22: =E9 -> GYENIS | H22: =E11 -> GÖMÖRY | M22: Helyezés | AA22: VI | AB22: 60 | AC22: 40 | AD22: 30 | AE22: 20 | AF22: 18 | AG22: 15 | AH22: 12 | AI22: 10 | AJ22: 8 | AK22: 6
A23: A | B23: =E7 -> SPITL | F23: jn. | H23: 35 24 | M23: 2 | AA23: VII | AB23: 40 | AC23: 25 | AD23: 18 | AE23: 13 | AF23: 8 | AG23: 7 | AH23: 6 | AI23: 5 | AJ23: 4 | AK23: 3
A24: B | B24: =E9 -> GYENIS | D24: - | H24: - | AA24: VIII | AB24: 25 | AC24: 15 | AD24: 13 | AE24: 7 | AF24: 6 | AG24: 5 | AH24: 4 | AI24: 3 | AJ24: 2 | AK24: 1
A25: C | B25: =E11 -> GÖMÖRY | D25: 53 42 | F25: jn. | M25: 1 | AA25: W | AB25: 15 | AC25: 10 | AD25: 8 | AE25: 4 | AF25: 3 | AG25: 2 | AH25: 1 | AI25: 0 | AJ25: 0 | AK25: 0
AA26: X | AB26: 10 | AC26: 6 | AD26: 4 | AE26: 2 | AF26: 1 | AG26: 0 | AH26: 0 | AI26: 0 | AJ26: 0 | AK26: 0
D27: =E13 -> VARGA | F27: 0 | H27: =E17 -> MAYER | AA27: XI | AB27: 3 | AC27: 2 | AD27: 1 | AE27: 0 | AF27: 0 | AG27: 0 | AH27: 0 | AI27: 0 | AJ27: 0 | AK27: 0
A28: D | B28: =E13 -> VARGA | F28: - | H28: 42 53 | M28: 1
A29: E | B29: 0 | D29: - | H29: -
A30: F | B30: =E17 -> MAYER | D30: 24 35 | F30: - | M30: 2
A32: Döntő | C32: =IF(M23=1,B23,IF(M24=1,B24,IF(M25=1,B25,""))) -> GÖMÖRY | E32: vs. | F32: =IF(M28=1,B28,IF(M29=1,B29,IF(M30=1,B30,""))) -> VARGA | I32: jn.
A34: 3. hely | C34: =IF(M23=2,B23,IF(M24=2,B24,IF(M25=2,B25,""))) -> SPITL | E34: vs. | F34: =IF(M28=2,B28,IF(M29=2,B29,IF(M30=2,B30,""))) -> MAYER | I34: jn.
A36: 5. hely | C36: =IF(M23=3,B23,IF(M24=3,B24,IF(M25=3,B25,""))) | E36: vs. | F36: =IF(M28=3,B28,IF(M29=3,B29,IF(M30=3,B30,"")))
A39: Rangsor | D39: # | E39: Kiemeltek | G39: # | H39: Szerencés Vesztes | J39: Helyettesíti | K39: Sorsolás időpontja
A40: Dátuma | G40: 1 | K40: Utolsó elfogadott játékos
A41: Utolsó DA | G41: 2
G42: 3 | K42: Sorsoló játékosok
G43: 4
G44: 5
G45: 6 | K45: Versenybíró aláírása
G46: 7
G47: 8 | K47: =L4 -> Nagyistók-Nádasi Judit | R47: =MIN(4,'A-VI.kcs-U16-F elo'!Q5) -> 4

Sheet A-VII.kcs-U18-F elo
A1: =Altalanos!$A$6 -> Baranya Vármegyei Tenisz DO A kategória | E1: Egyéni főtábla
B2: Versenyszám: | C2: =Altalanos!$B$8 -> A-VII.kcs-U18-F | E2: ELŐKÉSZÍTŐ LISTA
A3: NE TÖRÖLD KI EZT AZ OLDALT! | N3: Versenybíró aláírása
A4: Dátum | C4: Város | D4: Kategória | H4: Versenybíró
A5: =Altalanos!$A$10 -> 2026.05.14-15. | C5: =Altalanos!$C$10 -> Pécs | D5: =Altalanos!$D$10 | H5: =Altalanos!$E$10 -> Nagyistók-Nádasi Judit
A6: Sor | B6: Családi név | C6: Keresztnév | D6: Egyesület | E6: Kódszám | F6: Nevezett Igen | G6: Aláírás | H6: Nevezési rangsor | J6: NatSort if not Seed | K6: NatSort | L6: Seed Sort | M6: AccBasic | N6: Elfogadási státusz | O6: Sorsolási rangsor | P6: AccSort | Q6: Kiemelés
A7: 1 | B7: Bányai | C7: Zalán | D7: PTE Gyakorló Ált. Isk., Gimn. és Óvoda | E7: 090723 | O7: 75
A8: 2 | B8: Berta | C8: Botond | D8: PTE Gyakorló Ált. Isk., Gimn. és Óvoda | E8: 090803 | O8: -
A9: 3 | B9: Elekes | C9: Lőrinc Mihály | D9: Cserepka J. M-A Két Tan.Ny.Baptista Sportisk.,Ált.Isk. és Gimn. | E9: 0903070 | O9: 63
A10: 4 | B10: Simon | C10: István | D10: Cserepka J. M-A Két Tan.Ny.Baptista Sportisk.,Ált.Isk. és Gimn. | E10: 080806 | O10: 29
A11: 5
A12: 6
A13: 7
A14: 8
A15: 9
A16: 10 | D16: elo
A17: 11
A18: 12
A19: 13
A20: 14
A21: 15
A22: 16
A23: 17
A24: 18
A25: 19
A26: 20
A27: 21
A28: 22
... A39: 33
A40: 34 | J40: =IF(AND(Q40="",#REF!>0,#REF!<5),K40,) -> #REF! | K40: =IF(D40="","ZZZ9",IF(AND(#REF!>0,#REF!<5),D40&#REF!,D40&"9")) -> ZZZ9 | L40: =IF(Q40="",999,Q40) -> 999 | M40: =IF(P40=999,999,1) -> 999 | P40: =IF(N40="DA",1,IF(N40="WC",2,IF(N40="SE",3,IF(N40="Q",4,IF(N40="LL",5,999))))) -> 999
A41: 35 | J41: =IF(AND(Q41="",#REF!>0,#REF!<5),K41,) -> #REF! | K41: =IF(D41="","ZZZ9",IF(AND(#REF!>0,#REF!<5),D41&#REF!,D41&"9")) -> ZZZ9 | L41: =IF(Q41="",999,Q41) -> 999 | M41: =IF(P41=999,999,1) -> 999 | P41: =IF(N41="DA",1,IF(N41="WC",2,IF(N41="SE",3,IF(N41="Q",4,IF(N41="LL",5,999))))) -> 999
A42: 36 | J42: =IF(AND(Q42="",#REF!>0,#REF!<5),K42,) -> #REF! | K42: =IF(D42="","ZZZ9",IF(AND(#REF!>0,#REF!<5),D42&#REF!,D42&"9")) -> ZZZ9 | L42: =IF(Q42="",999,Q42) -> 999 | M42: =IF(P42=999,999,1) -> 999 | P42: =IF(N42="DA",1,IF(N42="WC",2,IF(N42="SE",3,IF(N42="Q",4,IF(N42="LL",5,999))))) -> 999
A43: 37 | J43: =IF(AND(Q43="",#REF!>0,#REF!<5),K43,) -> #REF! | K43: =IF(D43="","ZZZ9",IF(AND(#REF!>0,#REF!<5),D43&#REF!,D43&"9")) -> ZZZ9 | L43: =IF(Q43="",999,Q43) -> 999 | M43: =IF(P43=999,999,1) -> 999 | P43: =IF(N43="DA",1,IF(N43="WC",2,IF(N43="SE",3,IF(N43="Q",4,IF(N43="LL",5,999))))) -> 999
A44: 38 | J44: =IF(AND(Q44="",#REF!>0,#REF!<5),K44,) -> #REF! | K44: =IF(D44="","ZZZ9",IF(AND(#REF!>0,#REF!<5),D44&#REF!,D44&"9")) -> ZZZ9 | L44: =IF(Q44="",999,Q44) -> 999 | M44: =IF(P44=999,999,1) -> 999 | P44: =IF(N44="DA",1,IF(N44="WC",2,IF(N44="SE",3,IF(N44="Q",4,IF(N44="LL",5,999))))) -> 999
A45: 39 | J45: =IF(AND(Q45="",#REF!>0,#REF!<5),K45,) -> #REF! | K45: =IF(D45="","ZZZ9",IF(AND(#REF!>0,#REF!<5),D45&#REF!,D45&"9")) -> ZZZ9 | L45: =IF(Q45="",999,Q45) -> 999 | M45: =IF(P45=999,999,1) -> 999 | P45: =IF(N45="DA",1,IF(N45="WC",2,IF(N45="SE",3,IF(N45="Q",4,IF(N45="LL",5,999))))) -> 999
A46: 40 | J46: =IF(AND(Q46="",#REF!>0,#REF!<5),K46,) -> #REF! | K46: =IF(D46="","ZZZ9",IF(AND(#REF!>0,#REF!<5),D46&#REF!,D46&"9")) -> ZZZ9 | L46: =IF(Q46="",999,Q46) -> 999 | M46: =IF(P46=999,999,1) -> 999 | P46: =IF(N46="DA",1,IF(N46="WC",2,IF(N46="SE",3,IF(N46="Q",4,IF(N46="LL",5,999))))) -> 999
A47: 41 | J47: =IF(AND(Q47="",#REF!>0,#REF!<5),K47,) -> #REF! | K47: =IF(D47="","ZZZ9",IF(AND(#REF!>0,#REF!<5),D47&#REF!,D47&"9")) -> ZZZ9 | L47: =IF(Q47="",999,Q47) -> 999 | M47: =IF(P47=999,999,1) -> 999 | P47: =IF(N47="DA",1,IF(N47="WC",2,IF(N47="SE",3,IF(N47="Q",4,IF(N47="LL",5,999))))) -> 999
A48: 42 | J48: =IF(AND(Q48="",#REF!>0,#REF!<5),K48,) -> #REF! | K48: =IF(D48="","ZZZ9",IF(AND(#REF!>0,#REF!<5),D48&#REF!,D48&"9")) -> ZZZ9 | L48: =IF(Q48="",999,Q48) -> 999 | M48: =IF(P48=999,999,1) -> 999 | P48: =IF(N48="DA",1,IF(N48="WC",2,IF(N48="SE",3,IF(N48="Q",4,IF(N48="LL",5,999))))) -> 999
A49: 43 | J49: =IF(AND(Q49="",#REF!>0,#REF!<5),K49,) -> #REF! | K49: =IF(D49="","ZZZ9",IF(AND(#REF!>0,#REF!<5),D49&#REF!,D49&"9")) -> ZZZ9 | L49: =IF(Q49="",999,Q49) -> 999 | M49: =IF(P49=999,999,1) -> 999 | P49: =IF(N49="DA",1,IF(N49="WC",2,IF(N49="SE",3,IF(N49="Q",4,IF(N49="LL",5,999))))) -> 999
A50: 44 | J50: =IF(AND(Q50="",#REF!>0,#REF!<5),K50,) -> #REF! | K50: =IF(D50="","ZZZ9",IF(AND(#REF!>0,#REF!<5),D50&#REF!,D50&"9")) -> ZZZ9 | L50: =IF(Q50="",999,Q50) -> 999 | M50: =IF(P50=999,999,1) -> 999 | P50: =IF(N50="DA",1,IF(N50="WC",2,IF(N50="SE",3,IF(N50="Q",4,IF(N50="LL",5,999))))) -> 999
A51: 45 | J51: =IF(AND(Q51="",#REF!>0,#REF!<5),K51,) -> #REF! | K51: =IF(D51="","ZZZ9",IF(AND(#REF!>0,#REF!<5),D51&#REF!,D51&"9")) -> ZZZ9 | L51: =IF(Q51="",999,Q51) -> 999 | M51: =IF(P51=999,999,1) -> 999 | P51: =IF(N51="DA",1,IF(N51="WC",2,IF(N51="SE",3,IF(N51="Q",4,IF(N51="LL",5,999))))) -> 999
... A156: 150 | J156: =IF(AND(Q156="",#REF!>0,#REF!<5),K156,) -> #REF! | K156: =IF(D156="","ZZZ9",IF(AND(#REF!>0,#REF!<5),D156&#REF!,D156&"9")) -> ZZZ9 | L156: =IF(Q156="",999,Q156) -> 999 | M156: =IF(P156=999,999,1) -> 999 | P156: =IF(N156="DA",1,IF(N156="WC",2,IF(N156="SE",3,IF(N156="Q",4,IF(N156="LL",5,999))))) -> 999

Sheet A-VII.kcs-U18-F
A1: =Altalanos!$A$6 -> Baranya Vármegyei Tenisz DO A kategória | H1: Egyéni főtábla | AB1: =IF(Y5=1,CONCATENATE(VLOOKUP(Y3,AA16:AH27,2)),CONCATENATE(VLOOKUP(Y3,AA2:AK13,2))) -> #N/A | AC1: =IF(Y5=1,CONCATENATE(VLOOKUP(Y3,AA16:AK27,3)),CONCATENATE(VLOOKUP(Y3,AA2:AK13,3))) -> #N/A | AD1: =IF(Y5=1,CONCATENATE(VLOOKUP(Y3,AA16:AK27,4)),CONCATENATE(VLOOKUP(Y3,AA2:AK13,4))) -> #N/A | AE1: =IF(Y5=1,CONCATENATE(VLOOKUP(Y3,AA16:AK27,5)),CONCATENATE(VLOOKUP(Y3,AA2:AK13,5))) -> #N/A | AF1: =IF(Y5=1,CONCATENATE(VLOOKUP(Y3,AA16:AK27,6)),CONCATENATE(VLOOKUP(Y3,AA2:AK13,6))) -> #N/A | AG1: =IF(Y5=1,CONCATENATE(VLOOKUP(Y3,AA16:AK27,7)),CONCATENATE(VLOOKUP(Y3,AA2:AK13,7))) -> #N/A | AH1: =IF(Y5=1,CONCATENATE(VLOOKUP(Y3,AA16:AK27,8)),CONCATENATE(VLOOKUP(Y3,AA2:AK13,8))) -> #N/A | AI1: =IF(Y5=1,CONCATENATE(VLOOKUP(Y3,AA16:AK27,9)),CONCATENATE(VLOOKUP(Y3,AA2:AK13,9))) -> #N/A | AJ1: =IF(Y5=1,CONCATENATE(VLOOKUP(Y3,AA16:AK27,10)),CONCATENATE(VLOOKUP(Y3,AA2:AK13,10))) -> #N/A | AK1: =IF(Y5=1,CONCATENATE(VLOOKUP(Y3,AA16:AK27,11)),CONCATENATE(VLOOKUP(Y3,AA2:AK13,11))) -> #N/A
A2: Versenyszám: | E2: =Altalanos!$B$8 -> A-VII.kcs-U18-F | AA2: A | AB2: 150 | AC2: 120 | AD2: 100 | AE2: 80 | AF2: 70 | AG2: 60 | AH2: 55 | AI2: 50 | AJ2: 45 | AK2: 40
A3: Dátum | E3: Város | H3: Kategória | M3: Versenybíró | Q3: 1 FORDULÓ | R3: B - C | S3: A -D | Y3: =IF(H4="OB","A",IF(H4="IX","W",H4)) -> 0 | AA3: I | AB3: 120 | AC3: 90 | AD3: 65 | AE3: 55 | AF3: 50 | AG3: 45 | AH3: 40 | AI3: 35 | AJ3: 25 | AK3: 20
A4: =Altalanos!$A$10 -> 2026.05.14-15. | E4: =Altalanos!$C$10 -> Pécs | M4: =Altalanos!$E$10 -> Nagyistók-Nádasi Judit | Q4: 2 FORDULÓ | R4: C - A | S4: D - B | AA4: II | AB4: 90 | AC4: 60 | AD4: 45 | AE4: 34 | AF4: 27 | AG4: 22 | AH4: 18 | AI4: 15 | AJ4: 12 | AK4: 9
B5: kiem | C5: kódszám | D5: Rangsor | E5: Vezetéknév | G5: Keresztnév | I5: Egyesület | K5: Helyezés | L5: Pontszám | M5: Bónusz | Q5: 3 FORDULÓ | R5: A - B | S5: C - D | Y5: =IF(OR(Altalanos!$A$8="F1",Altalanos!$A$8="F2",Altalanos!$A$8="N1",Altalanos!$A$8="N2"),1,2) -> 2 | AA5: III | AB5: 60 | AC5: 40 | AD5: 30 | AE5: 20 | AF5: 18 | AG5: 15 | AH5: 12 | AI5: 10 | AJ5: 8 | AK5: 6
AA6: IV | AB6: 40 | AC6: 25 | AD6: 18 | AE6: 13 | AF6: 10 | AG6: 8 | AH6: 6 | AI6: 5 | AJ6: 4 | AK6: 3
A7: A | B7: 3 | C7: =IF($B7="","",VLOOKUP($B7,'A-VII.kcs-U18-F elo'!$A$7:$O$22,5)) -> 0903070 | D7: =IF($B7="","",VLOOKUP($B7,'A-VII.kcs-U18-F elo'!$A$7:$O$22,15)) -> 63 | E7: =UPPER(IF($B7="","",VLOOKUP($B7,'A-VII.kcs-U18-F elo'!$A$7:$O$22,2))) -> ELEKES | G7: =IF($B7="","",VLOOKUP($B7,'A-VII.kcs-U18-F elo'!$A$7:$O$22,3)) -> Lőrinc Mihály | I7: =IF($B7="","",VLOOKUP($B7,'A-VII.kcs-U18-F elo'!$A$7:$O$22,4)) -> Cserepka J. M-A Két Tan.Ny.Baptista Sportisk.,Ált.Isk. és Gimn. | K7: II. | AA7: V | AB7: 25 | AC7: 15 | AD7: 13 | AE7: 8 | AF7: 6 | AG7: 4 | AH7: 3 | AI7: 2 | AJ7: 1 | AK7: 0
AA8: VI | AB8: 15 | AC8: 10 | AD8: 7 | AE8: 5 | AF8: 4 | AG8: 3 | AH8: 2 | AI8: 1 | AJ8: 0 | AK8: 0
A9: B | B9: 1 | C9: =IF($B9="","",VLOOKUP($B9,'A-VII.kcs-U18-F elo'!$A$7:$O$22,5)) -> 090723 | D9: =IF($B9="","",VLOOKUP($B9,'A-VII.kcs-U18-F elo'!$A$7:$O$22,15)) -> 75 | E9: =UPPER(IF($B9="","",VLOOKUP($B9,'A-VII.kcs-U18-F elo'!$A$7:$O$22,2))) -> BÁNYAI | G9: =IF($B9="","",VLOOKUP($B9,'A-VII.kcs-U18-F elo'!$A$7:$O$22,3)) -> Zalán | I9: =IF($B9="","",VLOOKUP($B9,'A-VII.kcs-U18-F elo'!$A$7:$O$22,4)) -> PTE Gyakorló Ált. Isk., Gimn. és Óvoda | K9: III. | AA9: VII | AB9: 10 | AC9: 6 | AD9: 4 | AE9: 2 | AF9: 1 | AG9: 0 | AH9: 0 | AI9: 0 | AJ9: 0 | AK9: 0
AA10: VIII | AB10: 6 | AC10: 3 | AD10: 2 | AE10: 1 | AF10: 0 | AG10: 0 | AH10: 0 | AI10: 0 | AJ10: 0 | AK10: 0
A11: C | B11: 2 | C11: =IF($B11="","",VLOOKUP($B11,'A-VII.kcs-U18-F elo'!$A$7:$O$22,5)) -> 090803 | D11: =IF($B11="","",VLOOKUP($B11,'A-VII.kcs-U18-F elo'!$A$7:$O$22,15)) -> - | E11: =UPPER(IF($B11="","",VLOOKUP($B11,'A-VII.kcs-U18-F elo'!$A$7:$O$22,2))) -> BERTA | G11: =IF($B11="","",VLOOKUP($B11,'A-VII.kcs-U18-F elo'!$A$7:$O$22,3)) -> Botond | I11: =IF($B11="","",VLOOKUP($B11,'A-VII.kcs-U18-F elo'!$A$7:$O$22,4)) -> PTE Gyakorló Ált. Isk., Gimn. és Óvoda | K11: 4. | AA11: W | AB11: 3 | AC11: 2 | AD11: 1 | AE11: 0 | AF11: 0 | AG11: 0 | AH11: 0 | AI11: 0 | AJ11: 0 | AK11: 0
AA12: X | AB12: 0 | AC12: 0 | AD12: 0 | AE12: 0 | AF12: 0 | AG12: 0 | AH12: 0 | AI12: 0 | AJ12: 0 | AK12: 0
A13: D | B13: 4 | C13: =IF($B13="","",VLOOKUP($B13,'A-VII.kcs-U18-F elo'!$A$7:$O$22,5)) -> 080806 | D13: =IF($B13="","",VLOOKUP($B13,'A-VII.kcs-U18-F elo'!$A$7:$O$22,15)) -> 29 | E13: =UPPER(IF($B13="","",VLOOKUP($B13,'A-VII.kcs-U18-F elo'!$A$7:$O$22,2))) -> SIMON | G13: =IF($B13="","",VLOOKUP($B13,'A-VII.kcs-U18-F elo'!$A$7:$O$22,3)) -> István | I13: =IF($B13="","",VLOOKUP($B13,'A-VII.kcs-U18-F elo'!$A$7:$O$22,4)) -> Cserepka J. M-A Két Tan.Ny.Baptista Sportisk.,Ált.Isk. és Gimn. | K13: I. | AA13: XI | AB13: 0 | AC13: 0 | AD13: 0 | AE13: 0 | AF13: 0 | AG13: 0 | AH13: 0 | AI13: 0 | AJ13: 0 | AK13: 0
AA16: A | AB16: 300 | AC16: 250 | AD16: 220 | AE16: 180 | AF16: 160 | AG16: 150 | AH16: 140 | AI16: 130 | AJ16: 120 | AK16: 110
AA17: I | AB17: 250 | AC17: 200 | AD17: 160 | AE17: 140 | AF17: 120 | AG17: 110 | AH17: 100 | AI17: 90 | AJ17: 80 | AK17: 70
D18: =E7 -> ELEKES | F18: =E9 -> BÁNYAI | H18: =E11 -> BERTA | J18: =E13 -> SIMON | AA18: II | AB18: 200 | AC18: 150 | AD18: 130 | AE18: 110 | AF18: 95 | AG18: 80 | AH18: 70 | AI18: 60 | AJ18: 55 | AK18: 50
A19: A | B19: =E7 -> ELEKES | F19: 54 42 | H19: 40 40 | J19: 14 14 | L19: 2 1 | AA19: III | AB19: 150 | AC19: 120 | AD19: 100 | AE19: 80 | AF19: 70 | AG19: 60 | AH19: 55 | AI19: 50 | AJ19: 45 | AK19: 40
A20: B | B20: =E9 -> BÁNYAI | D20: 45 24 | H20: 40 40 | J20: 24 14 | L20: 1 2 | AA20: IV | AB20: 120 | AC20: 90 | AD20: 65 | AE20: 55 | AF20: 50 | AG20: 45 | AH20: 40 | AI20: 35 | AJ20: 25 | AK20: 20
A21: C | B21: =E11 -> BERTA | D21: 04 04 | F21: 04 04 | J21: 14 04 | L21: - 3 | AA21: V | AB21: 90 | AC21: 60 | AD21: 45 | AE21: 34 | AF21: 27 | AG21: 22 | AH21: 18 | AI21: 15 | AJ21: 12 | AK21: 9
A22: D | B22: =E13 -> SIMON | D22: 41 41 | F22: 42 41 | H22: 41 40 | L22: 3 - | AA22: VI | AB22: 60 | AC22: 40 | AD22: 30 | AE22: 20 | AF22: 18 | AG22: 15 | AH22: 12 | AI22: 10 | AJ22: 8 | AK22: 6
AA23: VII | AB23: 40 | AC23: 25 | AD23: 18 | AE23: 13 | AF23: 8 | AG23: 7 | AH23: 6 | AI23: 5 | AJ23: 4 | AK23: 3
AA24: VIII | AB24: 25 | AC24: 15 | AD24: 13 | AE24: 7 | AF24: 6 | AG24: 5 | AH24: 4 | AI24: 3 | AJ24: 2 | AK24: 1
AA25: W | AB25: 15 | AC25: 10 | AD25: 8 | AE25: 4 | AF25: 3 | AG25: 2 | AH25: 1 | AI25: 0 | AJ25: 0 | AK25: 0
AA26: X | AB26: 10 | AC26: 6 | AD26: 4 | AE26: 2 | AF26: 1 | AG26: 0 | AH26: 0 | AI26: 0 | AJ26: 0 | AK26: 0
AA27: XI | AB27: 3 | AC27: 2 | AD27: 1 | AE27: 0 | AF27: 0 | AG27: 0 | AH27: 0 | AI27: 0 | AJ27: 0 | AK27: 0
A33: Rangsor | D33: # | E33: Kiemeltek | G33: # | H33: Szerencés Vesztes | J33: Helyettesíti | K33: Sorsolás időpontja
A34: Dátuma | G34: 1 | K34: Utolsó elfogadott játékos
A35: Utolsó DA | G35: 2
G36: 3 | K36: Sorsoló játékosok
G37: 4
G38: 5
G39: 6 | K39: Versenybíró aláírása
G40: 7
G41: 8 | K41: =M4 -> Nagyistók-Nádasi Judit

Sheet B-I.kcs-U8-P-F elo
A1: =[3]Altalanos!$A$6 -> #REF! | E1: Egyéni főtábla
B2: Versenyszám: | C2: =[3]Altalanos!$A$8 -> #REF! | E2: ELŐKÉSZÍTŐ LISTA
A3: NE TÖRÖLD KI EZT AZ OLDALT! | N3: Versenybíró aláírása
A4: Dátum | C4: Város | D4: Kategória | H4: Versenybíró
A5: =[3]Altalanos!$A$10 -> #REF! | C5: =[3]Altalanos!$C$10 -> #REF! | D5: =[3]Altalanos!$D$10 -> #REF! | H5: =[3]Altalanos!$E$10 -> #REF!
A6: Sor | B6: Családi név | C6: Keresztnév | D6: Egyesület | E6: Kódszám | F6: Nevezett Igen | G6: Aláírás | H6: Nevezési rangsor | J6: NatSort if not Seed | K6: NatSort | L6: Seed Sort | M6: AccBasic | N6: Elfogadási státusz | O6: Sorsolási rangsor | P6: AccSort | Q6: Kiemelés
A7: 1 | B7: Békési | C7: Ádám | D7: Bólyi Általános Iskola és AMI | E7: 181220
A8: 2 | B8: Schneider | C8: Lóránt | D8: Bólyi Általános Iskola és AMI | E8: 180706
A9: 3
A10: 4
A11: 5
A12: 6
A13: 7
A14: 8
A15: 9
A16: 10
A17: 11
A18: 12
A19: 13
A20: 14
... A39: 33
A40: 34 | J40: =IF(AND(Q40="",#REF!>0,#REF!<5),K40,) -> #REF! | K40: =IF(D40="","ZZZ9",IF(AND(#REF!>0,#REF!<5),D40&#REF!,D40&"9")) -> ZZZ9 | L40: =IF(Q40="",999,Q40) -> 999 | M40: =IF(P40=999,999,1) -> 999 | P40: =IF(N40="DA",1,IF(N40="WC",2,IF(N40="SE",3,IF(N40="Q",4,IF(N40="LL",5,999))))) -> 999
A41: 35 | J41: =IF(AND(Q41="",#REF!>0,#REF!<5),K41,) -> #REF! | K41: =IF(D41="","ZZZ9",IF(AND(#REF!>0,#REF!<5),D41&#REF!,D41&"9")) -> ZZZ9 | L41: =IF(Q41="",999,Q41) -> 999 | M41: =IF(P41=999,999,1) -> 999 | P41: =IF(N41="DA",1,IF(N41="WC",2,IF(N41="SE",3,IF(N41="Q",4,IF(N41="LL",5,999))))) -> 999
A42: 36 | J42: =IF(AND(Q42="",#REF!>0,#REF!<5),K42,) -> #REF! | K42: =IF(D42="","ZZZ9",IF(AND(#REF!>0,#REF!<5),D42&#REF!,D42&"9")) -> ZZZ9 | L42: =IF(Q42="",999,Q42) -> 999 | M42: =IF(P42=999,999,1) -> 999 | P42: =IF(N42="DA",1,IF(N42="WC",2,IF(N42="SE",3,IF(N42="Q",4,IF(N42="LL",5,999))))) -> 999
A43: 37 | J43: =IF(AND(Q43="",#REF!>0,#REF!<5),K43,) -> #REF! | K43: =IF(D43="","ZZZ9",IF(AND(#REF!>0,#REF!<5),D43&#REF!,D43&"9")) -> ZZZ9 | L43: =IF(Q43="",999,Q43) -> 999 | M43: =IF(P43=999,999,1) -> 999 | P43: =IF(N43="DA",1,IF(N43="WC",2,IF(N43="SE",3,IF(N43="Q",4,IF(N43="LL",5,999))))) -> 999
A44: 38 | J44: =IF(AND(Q44="",#REF!>0,#REF!<5),K44,) -> #REF! | K44: =IF(D44="","ZZZ9",IF(AND(#REF!>0,#REF!<5),D44&#REF!,D44&"9")) -> ZZZ9 | L44: =IF(Q44="",999,Q44) -> 999 | M44: =IF(P44=999,999,1) -> 999 | P44: =IF(N44="DA",1,IF(N44="WC",2,IF(N44="SE",3,IF(N44="Q",4,IF(N44="LL",5,999))))) -> 999
A45: 39 | J45: =IF(AND(Q45="",#REF!>0,#REF!<5),K45,) -> #REF! | K45: =IF(D45="","ZZZ9",IF(AND(#REF!>0,#REF!<5),D45&#REF!,D45&"9")) -> ZZZ9 | L45: =IF(Q45="",999,Q45) -> 999 | M45: =IF(P45=999,999,1) -> 999 | P45: =IF(N45="DA",1,IF(N45="WC",2,IF(N45="SE",3,IF(N45="Q",4,IF(N45="LL",5,999))))) -> 999
A46: 40 | J46: =IF(AND(Q46="",#REF!>0,#REF!<5),K46,) -> #REF! | K46: =IF(D46="","ZZZ9",IF(AND(#REF!>0,#REF!<5),D46&#REF!,D46&"9")) -> ZZZ9 | L46: =IF(Q46="",999,Q46) -> 999 | M46: =IF(P46=999,999,1) -> 999 | P46: =IF(N46="DA",1,IF(N46="WC",2,IF(N46="SE",3,IF(N46="Q",4,IF(N46="LL",5,999))))) -> 999
A47: 41 | J47: =IF(AND(Q47="",#REF!>0,#REF!<5),K47,) -> #REF! | K47: =IF(D47="","ZZZ9",IF(AND(#REF!>0,#REF!<5),D47&#REF!,D47&"9")) -> ZZZ9 | L47: =IF(Q47="",999,Q47) -> 999 | M47: =IF(P47=999,999,1) -> 999 | P47: =IF(N47="DA",1,IF(N47="WC",2,IF(N47="SE",3,IF(N47="Q",4,IF(N47="LL",5,999))))) -> 999
A48: 42 | J48: =IF(AND(Q48="",#REF!>0,#REF!<5),K48,) -> #REF! | K48: =IF(D48="","ZZZ9",IF(AND(#REF!>0,#REF!<5),D48&#REF!,D48&"9")) -> ZZZ9 | L48: =IF(Q48="",999,Q48) -> 999 | M48: =IF(P48=999,999,1) -> 999 | P48: =IF(N48="DA",1,IF(N48="WC",2,IF(N48="SE",3,IF(N48="Q",4,IF(N48="LL",5,999))))) -> 999
A49: 43 | J49: =IF(AND(Q49="",#REF!>0,#REF!<5),K49,) -> #REF! | K49: =IF(D49="","ZZZ9",IF(AND(#REF!>0,#REF!<5),D49&#REF!,D49&"9")) -> ZZZ9 | L49: =IF(Q49="",999,Q49) -> 999 | M49: =IF(P49=999,999,1) -> 999 | P49: =IF(N49="DA",1,IF(N49="WC",2,IF(N49="SE",3,IF(N49="Q",4,IF(N49="LL",5,999))))) -> 999
A50: 44 | J50: =IF(AND(Q50="",#REF!>0,#REF!<5),K50,) -> #REF! | K50: =IF(D50="","ZZZ9",IF(AND(#REF!>0,#REF!<5),D50&#REF!,D50&"9")) -> ZZZ9 | L50: =IF(Q50="",999,Q50) -> 999 | M50: =IF(P50=999,999,1) -> 999 | P50: =IF(N50="DA",1,IF(N50="WC",2,IF(N50="SE",3,IF(N50="Q",4,IF(N50="LL",5,999))))) -> 999
A51: 45 | J51: =IF(AND(Q51="",#REF!>0,#REF!<5),K51,) -> #REF! | K51: =IF(D51="","ZZZ9",IF(AND(#REF!>0,#REF!<5),D51&#REF!,D51&"9")) -> ZZZ9 | L51: =IF(Q51="",999,Q51) -> 999 | M51: =IF(P51=999,999,1) -> 999 | P51: =IF(N51="DA",1,IF(N51="WC",2,IF(N51="SE",3,IF(N51="Q",4,IF(N51="LL",5,999))))) -> 999
... A156: 150 | J156: =IF(AND(Q156="",#REF!>0,#REF!<5),K156,) -> #REF! | K156: =IF(D156="","ZZZ9",IF(AND(#REF!>0,#REF!<5),D156&#REF!,D156&"9")) -> ZZZ9 | L156: =IF(Q156="",999,Q156) -> 999 | M156: =IF(P156=999,999,1) -> 999 | P156: =IF(N156="DA",1,IF(N156="WC",2,IF(N156="SE",3,IF(N156="Q",4,IF(N156="LL",5,999))))) -> 999

Sheet B-I.kcs-U8-P-F
A1: =[3]Altalanos!$A$6 -> #REF! | H1: Egyéni főtábla | AB1: =IF(Y5=1,CONCATENATE(VLOOKUP(Y3,AA16:AH27,2)),CONCATENATE(VLOOKUP(Y3,AA2:AK13,2))) -> #REF! | AC1: =IF(Y5=1,CONCATENATE(VLOOKUP(Y3,AA16:AK27,3)),CONCATENATE(VLOOKUP(Y3,AA2:AK13,3))) -> #REF! | AD1: =IF(Y5=1,CONCATENATE(VLOOKUP(Y3,AA16:AK27,4)),CONCATENATE(VLOOKUP(Y3,AA2:AK13,4))) -> #REF! | AE1: =IF(Y5=1,CONCATENATE(VLOOKUP(Y3,AA16:AK27,5)),CONCATENATE(VLOOKUP(Y3,AA2:AK13,5))) -> #REF! | AF1: =IF(Y5=1,CONCATENATE(VLOOKUP(Y3,AA16:AK27,6)),CONCATENATE(VLOOKUP(Y3,AA2:AK13,6))) -> #REF! | AG1: =IF(Y5=1,CONCATENATE(VLOOKUP(Y3,AA16:AK27,7)),CONCATENATE(VLOOKUP(Y3,AA2:AK13,7))) -> #REF! | AH1: =IF(Y5=1,CONCATENATE(VLOOKUP(Y3,AA16:AK27,8)),CONCATENATE(VLOOKUP(Y3,AA2:AK13,8))) -> #REF! | AI1: =IF(Y5=1,CONCATENATE(VLOOKUP(Y3,AA16:AK27,9)),CONCATENATE(VLOOKUP(Y3,AA2:AK13,9))) -> #REF! | AJ1: =IF(Y5=1,CONCATENATE(VLOOKUP(Y3,AA16:AK27,10)),CONCATENATE(VLOOKUP(Y3,AA2:AK13,10))) -> #REF! | AK1: =IF(Y5=1,CONCATENATE(VLOOKUP(Y3,AA16:AK27,11)),CONCATENATE(VLOOKUP(Y3,AA2:AK13,11))) -> #REF!
A2: Versenyszám: | E2: =[3]Altalanos!$A$8 -> #REF! | AA2: A | AB2: 150 | AC2: 120 | AD2: 100 | AE2: 80 | AF2: 70 | AG2: 60 | AH2: 55 | AI2: 50 | AJ2: 45 | AK2: 40
A3: Dátum | E3: Város | H3: Kategória | L3: Versenybíró | Q3: 1 FORDULÓ | R3: B - C | Y3: =IF(H4="OB","A",IF(H4="IX","W",H4)) -> 0 | AA3: I | AB3: 120 | AC3: 90 | AD3: 65 | AE3: 55 | AF3: 50 | AG3: 45 | AH3: 40 | AI3: 35 | AJ3: 25 | AK3: 20
A4: =[3]Altalanos!$A$10 -> #REF! | E4: =[3]Altalanos!$C$10 -> #REF! | L4: =[3]Altalanos!$E$10 -> #REF! | Q4: 2 FORDULÓ | R4: C - A | AA4: II | AB4: 90 | AC4: 60 | AD4: 45 | AE4: 34 | AF4: 27 | AG4: 22 | AH4: 18 | AI4: 15 | AJ4: 12 | AK4: 9
B5: kiem | C5: kódszám | D5: Rangsor | E5: Vezetéknév | G5: Keresztnév | I5: Egyesület | K5: Helyezés | L5: Pontszám | M5: Bónusz | Q5: 3 FORDULÓ | R5: A - B | Y5: =IF(OR([3]Altalanos!$A$8="F1",[3]Altalanos!$A$8="F2",[3]Altalanos!$A$8="N1",[3]Altalanos!$A$8="N2"),1,2) -> #REF! | AA5: III | AB5: 60 | AC5: 40 | AD5: 30 | AE5: 20 | AF5: 18 | AG5: 15 | AH5: 12 | AI5: 10 | AJ5: 8 | AK5: 6
AA6: IV | AB6: 40 | AC6: 25 | AD6: 18 | AE6: 13 | AF6: 10 | AG6: 8 | AH6: 6 | AI6: 5 | AJ6: 4 | AK6: 3
A7: A | C7: =IF($B7="","",VLOOKUP($B7,'B-I.kcs-U8-P-F elo'!$A$7:$O$22,5)) | D7: =IF($B7="","",VLOOKUP($B7,'B-I.kcs-U8-P-F elo'!$A$7:$O$22,15)) | E7: =UPPER(IF($B7="","",VLOOKUP($B7,'B-I.kcs-U8-P-F elo'!$A$7:$O$22,2))) | G7: =IF($B7="","",VLOOKUP($B7,'B-I.kcs-U8-P-F elo'!$A$7:$O$22,3)) | I7: =IF($B7="","",VLOOKUP($B7,'B-I.kcs-U8-P-F elo'!$A$7:$O$22,4)) | L7: =IF(K7="","",CONCATENATE(VLOOKUP($Y$3,$AB$1:$AK$1,K7)," pont")) | AA7: V | AB7: 25 | AC7: 15 | AD7: 13 | AE7: 8 | AF7: 6 | AG7: 4 | AH7: 3 | AI7: 2 | AJ7: 1 | AK7: 0
AA8: VI | AB8: 15 | AC8: 10 | AD8: 7 | AE8: 5 | AF8: 4 | AG8: 3 | AH8: 2 | AI8: 1 | AJ8: 0 | AK8: 0
A9: B | B9: 1 | C9: =IF($B9="","",VLOOKUP($B9,'B-I.kcs-U8-P-F elo'!$A$7:$O$22,5)) -> 181220 | D9: =IF($B9="","",VLOOKUP($B9,'B-I.kcs-U8-P-F elo'!$A$7:$O$22,15)) -> 0 | E9: =UPPER(IF($B9="","",VLOOKUP($B9,'B-I.kcs-U8-P-F elo'!$A$7:$O$22,2))) -> BÉKÉSI | G9: =IF($B9="","",VLOOKUP($B9,'B-I.kcs-U8-P-F elo'!$A$7:$O$22,3)) -> Ádám | I9: =IF($B9="","",VLOOKUP($B9,'B-I.kcs-U8-P-F elo'!$A$7:$O$22,4)) -> Bólyi Általános Iskola és AMI | K9: II. | AA9: VII | AB9: 10 | AC9: 6 | AD9: 4 | AE9: 2 | AF9: 1 | AG9: 0 | AH9: 0 | AI9: 0 | AJ9: 0 | AK9: 0
AA10: VIII | AB10: 6 | AC10: 3 | AD10: 2 | AE10: 1 | AF10: 0 | AG10: 0 | AH10: 0 | AI10: 0 | AJ10: 0 | AK10: 0
A11: C | B11: 2 | C11: =IF($B11="","",VLOOKUP($B11,'B-I.kcs-U8-P-F elo'!$A$7:$O$22,5)) -> 180706 | D11: =IF($B11="","",VLOOKUP($B11,'B-I.kcs-U8-P-F elo'!$A$7:$O$22,15)) -> 0 | E11: =UPPER(IF($B11="","",VLOOKUP($B11,'B-I.kcs-U8-P-F elo'!$A$7:$O$22,2))) -> SCHNEIDER | G11: =IF($B11="","",VLOOKUP($B11,'B-I.kcs-U8-P-F elo'!$A$7:$O$22,3)) -> Lóránt | I11: =IF($B11="","",VLOOKUP($B11,'B-I.kcs-U8-P-F elo'!$A$7:$O$22,4)) -> Bólyi Általános Iskola és AMI | K11: I. | AA11: W | AB11: 3 | AC11: 2 | AD11: 1 | AE11: 0 | AF11: 0 | AG11: 0 | AH11: 0 | AI11: 0 | AJ11: 0 | AK11: 0
AA12: X | AB12: 0 | AC12: 0 | AD12: 0 | AE12: 0 | AF12: 0 | AG12: 0 | AH12: 0 | AI12: 0 | AJ12: 0 | AK12: 0
AA13: XI | AB13: 0 | AC13: 0 | AD13: 0 | AE13: 0 | AF13: 0 | AG13: 0 | AH13: 0 | AI13: 0 | AJ13: 0 | AK13: 0
AA16: A | AB16: 300 | AC16: 250 | AD16: 220 | AE16: 180 | AF16: 160 | AG16: 150 | AH16: 140 | AI16: 130 | AJ16: 120 | AK16: 110
AA17: I | AB17: 250 | AC17: 200 | AD17: 160 | AE17: 140 | AF17: 120 | AG17: 110 | AH17: 100 | AI17: 90 | AJ17: 80 | AK17: 70
D18: =E7 | F18: =E9 -> BÉKÉSI | H18: =E11 -> SCHNEIDER | AA18: II | AB18: 200 | AC18: 150 | AD18: 130 | AE18: 110 | AF18: 95 | AG18: 80 | AH18: 70 | AI18: 60 | AJ18: 55 | AK18: 50
A19: A | B19: =E7 | AA19: III | AB19: 150 | AC19: 120 | AD19: 100 | AE19: 80 | AF19: 70 | AG19: 60 | AH19: 55 | AI19: 50 | AJ19: 45 | AK19: 40
A20: B | B20: =E9 -> BÉKÉSI | H20: 4/15 | AA20: IV | AB20: 120 | AC20: 90 | AD20: 65 | AE20: 55 | AF20: 50 | AG20: 45 | AH20: 40 | AI20: 35 | AJ20: 25 | AK20: 20
A21: C | B21: =E11 -> SCHNEIDER | F21: 15/4 | AA21: V | AB21: 90 | AC21: 60 | AD21: 45 | AE21: 34 | AF21: 27 | AG21: 22 | AH21: 18 | AI21: 15 | AJ21: 12 | AK21: 9
AA22: VI | AB22: 60 | AC22: 40 | AD22: 30 | AE22: 20 | AF22: 18 | AG22: 15 | AH22: 12 | AI22: 10 | AJ22: 8 | AK22: 6
AA23: VII | AB23: 40 | AC23: 25 | AD23: 18 | AE23: 13 | AF23: 8 | AG23: 7 | AH23: 6 | AI23: 5 | AJ23: 4 | AK23: 3
AA24: VIII | AB24: 25 | AC24: 15 | AD24: 13 | AE24: 7 | AF24: 6 | AG24: 5 | AH24: 4 | AI24: 3 | AJ24: 2 | AK24: 1
AA25: W | AB25: 15 | AC25: 10 | AD25: 8 | AE25: 4 | AF25: 3 | AG25: 2 | AH25: 1 | AI25: 0 | AJ25: 0 | AK25: 0
AA26: X | AB26: 10 | AC26: 6 | AD26: 4 | AE26: 2 | AF26: 1 | AG26: 0 | AH26: 0 | AI26: 0 | AJ26: 0 | AK26: 0
AA27: XI | AB27: 3 | AC27: 2 | AD27: 1 | AE27: 0 | AF27: 0 | AG27: 0 | AH27: 0 | AI27: 0 | AJ27: 0 | AK27: 0
A33: Rangsor | D33: # | E33: Kiemeltek | G33: # | H33: Szerencés Vesztes | J33: Helyettesíti | K33: Sorsolás időpontja
A34: Dátuma | G34: 1 | K34: Utolsó elfogadott játékos
A35: Utolsó DA | G35: 2
G36: 3 | K36: Sorsoló játékosok
G37: 4
G38: 5
G39: 6 | K39: Versenybíró aláírása
G40: 7
G41: 8 | K41: =L4 -> #REF!

Sheet B-I.kcs-U8-P-L elo
A1: =[3]Altalanos!$A$6 -> #REF! | E1: Egyéni főtábla
B2: Versenyszám: | C2: =[3]Altalanos!$B$8 -> #REF! | E2: ELŐKÉSZÍTŐ LISTA
A3: NE TÖRÖLD KI EZT AZ OLDALT! | N3: Versenybíró aláírása
A4: Dátum | C4: Város | D4: Kategória | H4: Versenybíró
A5: =[3]Altalanos!$A$10 -> #REF! | C5: =[3]Altalanos!$C$10 -> #REF! | D5: =[3]Altalanos!$D$10 -> #REF! | H5: =[3]Altalanos!$E$10 -> #REF!
A6: Sor | B6: Családi név | C6: Keresztnév | D6: Egyesület | E6: Kódszám | F6: Nevezett Igen | G6: Aláírás | H6: Nevezési rangsor | J6: NatSort if not Seed | K6: NatSort | L6: Seed Sort | M6: AccBasic | N6: Elfogadási státusz | O6: Sorsolási rangsor | P6: AccSort | Q6: Kiemelés
A7: 1 | B7: Arnold | C7: Johanna | D7: Bólyi Általános Iskola és AMI | E7: 180906
A8: 2 | B8: Fabó | C8: Emma | D8: Koch V.Gimn.,Ált.Isk.,Óvoda és Koll. | E8: 180720
A9: 3 | B9: Li Wu | C9: Abigél | D9: Pécsi Jókai Mór Ált.Isk. | E9: 180717
A10: 4
A11: 5
A12: 6
A13: 7
A14: 8
A15: 9
A16: 10
A17: 11
A18: 12
A19: 13
A20: 14
A21: 15
... A39: 33
A40: 34 | J40: =IF(AND(Q40="",#REF!>0,#REF!<5),K40,) -> #REF! | K40: =IF(D40="","ZZZ9",IF(AND(#REF!>0,#REF!<5),D40&#REF!,D40&"9")) -> ZZZ9 | L40: =IF(Q40="",999,Q40) -> 999 | M40: =IF(P40=999,999,1) -> 999 | P40: =IF(N40="DA",1,IF(N40="WC",2,IF(N40="SE",3,IF(N40="Q",4,IF(N40="LL",5,999))))) -> 999
A41: 35 | J41: =IF(AND(Q41="",#REF!>0,#REF!<5),K41,) -> #REF! | K41: =IF(D41="","ZZZ9",IF(AND(#REF!>0,#REF!<5),D41&#REF!,D41&"9")) -> ZZZ9 | L41: =IF(Q41="",999,Q41) -> 999 | M41: =IF(P41=999,999,1) -> 999 | P41: =IF(N41="DA",1,IF(N41="WC",2,IF(N41="SE",3,IF(N41="Q",4,IF(N41="LL",5,999))))) -> 999
A42: 36 | J42: =IF(AND(Q42="",#REF!>0,#REF!<5),K42,) -> #REF! | K42: =IF(D42="","ZZZ9",IF(AND(#REF!>0,#REF!<5),D42&#REF!,D42&"9")) -> ZZZ9 | L42: =IF(Q42="",999,Q42) -> 999 | M42: =IF(P42=999,999,1) -> 999 | P42: =IF(N42="DA",1,IF(N42="WC",2,IF(N42="SE",3,IF(N42="Q",4,IF(N42="LL",5,999))))) -> 999
A43: 37 | J43: =IF(AND(Q43="",#REF!>0,#REF!<5),K43,) -> #REF! | K43: =IF(D43="","ZZZ9",IF(AND(#REF!>0,#REF!<5),D43&#REF!,D43&"9")) -> ZZZ9 | L43: =IF(Q43="",999,Q43) -> 999 | M43: =IF(P43=999,999,1) -> 999 | P43: =IF(N43="DA",1,IF(N43="WC",2,IF(N43="SE",3,IF(N43="Q",4,IF(N43="LL",5,999))))) -> 999
A44: 38 | J44: =IF(AND(Q44="",#REF!>0,#REF!<5),K44,) -> #REF! | K44: =IF(D44="","ZZZ9",IF(AND(#REF!>0,#REF!<5),D44&#REF!,D44&"9")) -> ZZZ9 | L44: =IF(Q44="",999,Q44) -> 999 | M44: =IF(P44=999,999,1) -> 999 | P44: =IF(N44="DA",1,IF(N44="WC",2,IF(N44="SE",3,IF(N44="Q",4,IF(N44="LL",5,999))))) -> 999
A45: 39 | J45: =IF(AND(Q45="",#REF!>0,#REF!<5),K45,) -> #REF! | K45: =IF(D45="","ZZZ9",IF(AND(#REF!>0,#REF!<5),D45&#REF!,D45&"9")) -> ZZZ9 | L45: =IF(Q45="",999,Q45) -> 999 | M45: =IF(P45=999,999,1) -> 999 | P45: =IF(N45="DA",1,IF(N45="WC",2,IF(N45="SE",3,IF(N45="Q",4,IF(N45="LL",5,999))))) -> 999
A46: 40 | J46: =IF(AND(Q46="",#REF!>0,#REF!<5),K46,) -> #REF! | K46: =IF(D46="","ZZZ9",IF(AND(#REF!>0,#REF!<5),D46&#REF!,D46&"9")) -> ZZZ9 | L46: =IF(Q46="",999,Q46) -> 999 | M46: =IF(P46=999,999,1) -> 999 | P46: =IF(N46="DA",1,IF(N46="WC",2,IF(N46="SE",3,IF(N46="Q",4,IF(N46="LL",5,999))))) -> 999
A47: 41 | J47: =IF(AND(Q47="",#REF!>0,#REF!<5),K47,) -> #REF! | K47: =IF(D47="","ZZZ9",IF(AND(#REF!>0,#REF!<5),D47&#REF!,D47&"9")) -> ZZZ9 | L47: =IF(Q47="",999,Q47) -> 999 | M47: =IF(P47=999,999,1) -> 999 | P47: =IF(N47="DA",1,IF(N47="WC",2,IF(N47="SE",3,IF(N47="Q",4,IF(N47="LL",5,999))))) -> 999
A48: 42 | J48: =IF(AND(Q48="",#REF!>0,#REF!<5),K48,) -> #REF! | K48: =IF(D48="","ZZZ9",IF(AND(#REF!>0,#REF!<5),D48&#REF!,D48&"9")) -> ZZZ9 | L48: =IF(Q48="",999,Q48) -> 999 | M48: =IF(P48=999,999,1) -> 999 | P48: =IF(N48="DA",1,IF(N48="WC",2,IF(N48="SE",3,IF(N48="Q",4,IF(N48="LL",5,999))))) -> 999
A49: 43 | J49: =IF(AND(Q49="",#REF!>0,#REF!<5),K49,) -> #REF! | K49: =IF(D49="","ZZZ9",IF(AND(#REF!>0,#REF!<5),D49&#REF!,D49&"9")) -> ZZZ9 | L49: =IF(Q49="",999,Q49) -> 999 | M49: =IF(P49=999,999,1) -> 999 | P49: =IF(N49="DA",1,IF(N49="WC",2,IF(N49="SE",3,IF(N49="Q",4,IF(N49="LL",5,999))))) -> 999
A50: 44 | J50: =IF(AND(Q50="",#REF!>0,#REF!<5),K50,) -> #REF! | K50: =IF(D50="","ZZZ9",IF(AND(#REF!>0,#REF!<5),D50&#REF!,D50&"9")) -> ZZZ9 | L50: =IF(Q50="",999,Q50) -> 999 | M50: =IF(P50=999,999,1) -> 999 | P50: =IF(N50="DA",1,IF(N50="WC",2,IF(N50="SE",3,IF(N50="Q",4,IF(N50="LL",5,999))))) -> 999
A51: 45 | J51: =IF(AND(Q51="",#REF!>0,#REF!<5),K51,) -> #REF! | K51: =IF(D51="","ZZZ9",IF(AND(#REF!>0,#REF!<5),D51&#REF!,D51&"9")) -> ZZZ9 | L51: =IF(Q51="",999,Q51) -> 999 | M51: =IF(P51=999,999,1) -> 999 | P51: =IF(N51="DA",1,IF(N51="WC",2,IF(N51="SE",3,IF(N51="Q",4,IF(N51="LL",5,999))))) -> 999
... A156: 150 | J156: =IF(AND(Q156="",#REF!>0,#REF!<5),K156,) -> #REF! | K156: =IF(D156="","ZZZ9",IF(AND(#REF!>0,#REF!<5),D156&#REF!,D156&"9")) -> ZZZ9 | L156: =IF(Q156="",999,Q156) -> 999 | M156: =IF(P156=999,999,1) -> 999 | P156: =IF(N156="DA",1,IF(N156="WC",2,IF(N156="SE",3,IF(N156="Q",4,IF(N156="LL",5,999))))) -> 999

Sheet B-I.kcs-U8-P-L
A1: =[3]Altalanos!$A$6 -> #REF! | H1: Egyéni főtábla | AB1: =IF(Y5=1,CONCATENATE(VLOOKUP(Y3,AA16:AH27,2)),CONCATENATE(VLOOKUP(Y3,AA2:AK13,2))) -> #REF! | AC1: =IF(Y5=1,CONCATENATE(VLOOKUP(Y3,AA16:AK27,3)),CONCATENATE(VLOOKUP(Y3,AA2:AK13,3))) -> #REF! | AD1: =IF(Y5=1,CONCATENATE(VLOOKUP(Y3,AA16:AK27,4)),CONCATENATE(VLOOKUP(Y3,AA2:AK13,4))) -> #REF! | AE1: =IF(Y5=1,CONCATENATE(VLOOKUP(Y3,AA16:AK27,5)),CONCATENATE(VLOOKUP(Y3,AA2:AK13,5))) -> #REF! | AF1: =IF(Y5=1,CONCATENATE(VLOOKUP(Y3,AA16:AK27,6)),CONCATENATE(VLOOKUP(Y3,AA2:AK13,6))) -> #REF! | AG1: =IF(Y5=1,CONCATENATE(VLOOKUP(Y3,AA16:AK27,7)),CONCATENATE(VLOOKUP(Y3,AA2:AK13,7))) -> #REF! | AH1: =IF(Y5=1,CONCATENATE(VLOOKUP(Y3,AA16:AK27,8)),CONCATENATE(VLOOKUP(Y3,AA2:AK13,8))) -> #REF! | AI1: =IF(Y5=1,CONCATENATE(VLOOKUP(Y3,AA16:AK27,9)),CONCATENATE(VLOOKUP(Y3,AA2:AK13,9))) -> #REF! | AJ1: =IF(Y5=1,CONCATENATE(VLOOKUP(Y3,AA16:AK27,10)),CONCATENATE(VLOOKUP(Y3,AA2:AK13,10))) -> #REF! | AK1: =IF(Y5=1,CONCATENATE(VLOOKUP(Y3,AA16:AK27,11)),CONCATENATE(VLOOKUP(Y3,AA2:AK13,11))) -> #REF!
A2: Versenyszám: | E2: =[3]Altalanos!$B$8 -> #REF! | AA2: A | AB2: 150 | AC2: 120 | AD2: 100 | AE2: 80 | AF2: 70 | AG2: 60 | AH2: 55 | AI2: 50 | AJ2: 45 | AK2: 40
A3: Dátum | E3: Város | H3: Kategória | L3: Versenybíró | Q3: 1 FORDULÓ | R3: B - C | Y3: =IF(H4="OB","A",IF(H4="IX","W",H4)) -> 0 | AA3: I | AB3: 120 | AC3: 90 | AD3: 65 | AE3: 55 | AF3: 50 | AG3: 45 | AH3: 40 | AI3: 35 | AJ3: 25 | AK3: 20
A4: =[3]Altalanos!$A$10 -> #REF! | E4: =[3]Altalanos!$C$10 -> #REF! | L4: =[3]Altalanos!$E$10 -> #REF! | Q4: 2 FORDULÓ | R4: C - A | AA4: II | AB4: 90 | AC4: 60 | AD4: 45 | AE4: 34 | AF4: 27 | AG4: 22 | AH4: 18 | AI4: 15 | AJ4: 12 | AK4: 9
B5: kiem | C5: kódszám | D5: Rangsor | E5: Vezetéknév | G5: Keresztnév | I5: Egyesület | K5: Helyezés | L5: Pontszám | M5: Bónusz | Q5: 3 FORDULÓ | R5: A - B | Y5: =IF(OR([3]Altalanos!$A$8="F1",[3]Altalanos!$A$8="F2",[3]Altalanos!$A$8="N1",[3]Altalanos!$A$8="N2"),1,2) -> #REF! | AA5: III | AB5: 60 | AC5: 40 | AD5: 30 | AE5: 20 | AF5: 18 | AG5: 15 | AH5: 12 | AI5: 10 | AJ5: 8 | AK5: 6
AA6: IV | AB6: 40 | AC6: 25 | AD6: 18 | AE6: 13 | AF6: 10 | AG6: 8 | AH6: 6 | AI6: 5 | AJ6: 4 | AK6: 3
A7: A | B7: 1 | C7: =IF($B7="","",VLOOKUP($B7,'B-I.kcs-U8-P-L elo'!$A$7:$O$22,5)) -> 180906 | D7: =IF($B7="","",VLOOKUP($B7,'B-I.kcs-U8-P-L elo'!$A$7:$O$22,15)) -> 0 | E7: =UPPER(IF($B7="","",VLOOKUP($B7,'B-I.kcs-U8-P-L elo'!$A$7:$O$22,2))) -> ARNOLD | G7: =IF($B7="","",VLOOKUP($B7,'B-I.kcs-U8-P-L elo'!$A$7:$O$22,3)) -> Johanna | I7: =IF($B7="","",VLOOKUP($B7,'B-I.kcs-U8-P-L elo'!$A$7:$O$22,4)) -> Bólyi Általános Iskola és AMI | K7: II. | AA7: V | AB7: 25 | AC7: 15 | AD7: 13 | AE7: 8 | AF7: 6 | AG7: 4 | AH7: 3 | AI7: 2 | AJ7: 1 | AK7: 0
AA8: VI | AB8: 15 | AC8: 10 | AD8: 7 | AE8: 5 | AF8: 4 | AG8: 3 | AH8: 2 | AI8: 1 | AJ8: 0 | AK8: 0
A9: B | B9: 2 | C9: =IF($B9="","",VLOOKUP($B9,'B-I.kcs-U8-P-L elo'!$A$7:$O$22,5)) -> 180720 | D9: =IF($B9="","",VLOOKUP($B9,'B-I.kcs-U8-P-L elo'!$A$7:$O$22,15)) -> 0 | E9: =UPPER(IF($B9="","",VLOOKUP($B9,'B-I.kcs-U8-P-L elo'!$A$7:$O$22,2))) -> FABÓ | G9: =IF($B9="","",VLOOKUP($B9,'B-I.kcs-U8-P-L elo'!$A$7:$O$22,3)) -> Emma | I9: =IF($B9="","",VLOOKUP($B9,'B-I.kcs-U8-P-L elo'!$A$7:$O$22,4)) -> Koch V.Gimn.,Ált.Isk.,Óvoda és Koll. | K9: I. | AA9: VII | AB9: 10 | AC9: 6 | AD9: 4 | AE9: 2 | AF9: 1 | AG9: 0 | AH9: 0 | AI9: 0 | AJ9: 0 | AK9: 0
AA10: VIII | AB10: 6 | AC10: 3 | AD10: 2 | AE10: 1 | AF10: 0 | AG10: 0 | AH10: 0 | AI10: 0 | AJ10: 0 | AK10: 0
A11: C | B11: 3 | C11: =IF($B11="","",VLOOKUP($B11,'B-I.kcs-U8-P-L elo'!$A$7:$O$22,5)) -> 180717 | D11: =IF($B11="","",VLOOKUP($B11,'B-I.kcs-U8-P-L elo'!$A$7:$O$22,15)) -> 0 | E11: =UPPER(IF($B11="","",VLOOKUP($B11,'B-I.kcs-U8-P-L elo'!$A$7:$O$22,2))) -> LI WU | G11: =IF($B11="","",VLOOKUP($B11,'B-I.kcs-U8-P-L elo'!$A$7:$O$22,3)) -> Abigél | I11: =IF($B11="","",VLOOKUP($B11,'B-I.kcs-U8-P-L elo'!$A$7:$O$22,4)) -> Pécsi Jókai Mór Ált.Isk. | K11: - | AA11: W | AB11: 3 | AC11: 2 | AD11: 1 | AE11: 0 | AF11: 0 | AG11: 0 | AH11: 0 | AI11: 0 | AJ11: 0 | AK11: 0
AA12: X | AB12: 0 | AC12: 0 | AD12: 0 | AE12: 0 | AF12: 0 | AG12: 0 | AH12: 0 | AI12: 0 | AJ12: 0 | AK12: 0
AA13: XI | AB13: 0 | AC13: 0 | AD13: 0 | AE13: 0 | AF13: 0 | AG13: 0 | AH13: 0 | AI13: 0 | AJ13: 0 | AK13: 0
AA16: A | AB16: 300 | AC16: 250 | AD16: 220 | AE16: 180 | AF16: 160 | AG16: 150 | AH16: 140 | AI16: 130 | AJ16: 120 | AK16: 110
AA17: I | AB17: 250 | AC17: 200 | AD17: 160 | AE17: 140 | AF17: 120 | AG17: 110 | AH17: 100 | AI17: 90 | AJ17: 80 | AK17: 70
D18: =E7 -> ARNOLD | F18: =E9 -> FABÓ | H18: =E11 -> LI WU | AA18: II | AB18: 200 | AC18: 150 | AD18: 130 | AE18: 110 | AF18: 95 | AG18: 80 | AH18: 70 | AI18: 60 | AJ18: 55 | AK18: 50
A19: A | B19: =E7 -> ARNOLD | F19: 3/15 | H19: jn. | AA19: III | AB19: 150 | AC19: 120 | AD19: 100 | AE19: 80 | AF19: 70 | AG19: 60 | AH19: 55 | AI19: 50 | AJ19: 45 | AK19: 40
A20: B | B20: =E9 -> FABÓ | D20: 15/3 | H20: jn. | AA20: IV | AB20: 120 | AC20: 90 | AD20: 65 | AE20: 55 | AF20: 50 | AG20: 45 | AH20: 40 | AI20: 35 | AJ20: 25 | AK20: 20
A21: C | B21: =E11 -> LI WU | D21: - | F21: - | AA21: V | AB21: 90 | AC21: 60 | AD21: 45 | AE21: 34 | AF21: 27 | AG21: 22 | AH21: 18 | AI21: 15 | AJ21: 12 | AK21: 9
AA22: VI | AB22: 60 | AC22: 40 | AD22: 30 | AE22: 20 | AF22: 18 | AG22: 15 | AH22: 12 | AI22: 10 | AJ22: 8 | AK22: 6
AA23: VII | AB23: 40 | AC23: 25 | AD23: 18 | AE23: 13 | AF23: 8 | AG23: 7 | AH23: 6 | AI23: 5 | AJ23: 4 | AK23: 3
AA24: VIII | AB24: 25 | AC24: 15 | AD24: 13 | AE24: 7 | AF24: 6 | AG24: 5 | AH24: 4 | AI24: 3 | AJ24: 2 | AK24: 1
AA25: W | AB25: 15 | AC25: 10 | AD25: 8 | AE25: 4 | AF25: 3 | AG25: 2 | AH25: 1 | AI25: 0 | AJ25: 0 | AK25: 0
AA26: X | AB26: 10 | AC26: 6 | AD26: 4 | AE26: 2 | AF26: 1 | AG26: 0 | AH26: 0 | AI26: 0 | AJ26: 0 | AK26: 0
AA27: XI | AB27: 3 | AC27: 2 | AD27: 1 | AE27: 0 | AF27: 0 | AG27: 0 | AH27: 0 | AI27: 0 | AJ27: 0 | AK27: 0
A33: Rangsor | D33: # | E33: Kiemeltek | G33: # | H33: Szerencés Vesztes | J33: Helyettesíti | K33: Sorsolás időpontja
A34: Dátuma | G34: 1 | K34: Utolsó elfogadott játékos
A35: Utolsó DA | G35: 2
G36: 3 | K36: Sorsoló játékosok
G37: 4
G38: 5
G39: 6 | K39: Versenybíró aláírása
G40: 7
G41: 8 | K41: =L4 -> #REF!

Sheet B-II.kcs-U10-N-F elo
A1: =[3]Altalanos!$A$6 -> #REF! | E1: Egyéni főtábla
B2: Versenyszám: | C2: =[3]Altalanos!$C$8 -> #REF! | E2: ELŐKÉSZÍTŐ LISTA
A3: NE TÖRÖLD KI EZT AZ OLDALT! | N3: Versenybíró aláírása
A4: Dátum | C4: Város | D4: Kategória | H4: Versenybíró
A5: =[3]Altalanos!$A$10 -> #REF! | C5: =[3]Altalanos!$C$10 -> #REF! | D5: =[3]Altalanos!$D$10 -> #REF! | H5: =[3]Altalanos!$E$10 -> #REF!
A6: Sor | B6: Családi név | C6: Keresztnév | D6: Egyesület | E6: Kódszám | F6: Nevezett Igen | G6: Aláírás | H6: Nevezési rangsor | J6: NatSort if not Seed | K6: NatSort | L6: Seed Sort | M6: AccBasic | N6: Elfogadási státusz | O6: Sorsolási rangsor | P6: AccSort | Q6: Kiemelés
A7: 1 | B7: Papp-Hoffer | C7: Bence | D7: Koch V. Gimn., Ált. Isk., Óvoda és Koll. | E7: 170522
A8: 2 | B8: Pongrácz | C8: Nándor | D8: Bólyi Általános Iskola és AMI | E8: 170708
A9: 3 | B9: Reisz | C9: Kende | D9: Bólyi Általános Iskola és AMI | E9: 171026
A10: 4 | B10: Szebényi | C10: Alexander | D10: Koch V. Gimn., Ált. Isk., Óvoda és Koll. | E10: 161002
A11: 5 | B11: Zámbó | C11: Zénó | D11: Koch V. Gimn., Ált. Isk., Óvoda és Koll. | E11: 161102
A12: 6
A13: 7
A14: 8
A15: 9
A16: 10
A17: 11
A18: 12
A19: 13
A20: 14
A21: 15
A22: 16
A23: 17
... A39: 33
A40: 34 | J40: =IF(AND(Q40="",#REF!>0,#REF!<5),K40,) -> #REF! | K40: =IF(D40="","ZZZ9",IF(AND(#REF!>0,#REF!<5),D40&#REF!,D40&"9")) -> ZZZ9 | L40: =IF(Q40="",999,Q40) -> 999 | M40: =IF(P40=999,999,1) -> 999 | P40: =IF(N40="DA",1,IF(N40="WC",2,IF(N40="SE",3,IF(N40="Q",4,IF(N40="LL",5,999))))) -> 999
A41: 35 | J41: =IF(AND(Q41="",#REF!>0,#REF!<5),K41,) -> #REF! | K41: =IF(D41="","ZZZ9",IF(AND(#REF!>0,#REF!<5),D41&#REF!,D41&"9")) -> ZZZ9 | L41: =IF(Q41="",999,Q41) -> 999 | M41: =IF(P41=999,999,1) -> 999 | P41: =IF(N41="DA",1,IF(N41="WC",2,IF(N41="SE",3,IF(N41="Q",4,IF(N41="LL",5,999))))) -> 999
A42: 36 | J42: =IF(AND(Q42="",#REF!>0,#REF!<5),K42,) -> #REF! | K42: =IF(D42="","ZZZ9",IF(AND(#REF!>0,#REF!<5),D42&#REF!,D42&"9")) -> ZZZ9 | L42: =IF(Q42="",999,Q42) -> 999 | M42: =IF(P42=999,999,1) -> 999 | P42: =IF(N42="DA",1,IF(N42="WC",2,IF(N42="SE",3,IF(N42="Q",4,IF(N42="LL",5,999))))) -> 999
A43: 37 | J43: =IF(AND(Q43="",#REF!>0,#REF!<5),K43,) -> #REF! | K43: =IF(D43="","ZZZ9",IF(AND(#REF!>0,#REF!<5),D43&#REF!,D43&"9")) -> ZZZ9 | L43: =IF(Q43="",999,Q43) -> 999 | M43: =IF(P43=999,999,1) -> 999 | P43: =IF(N43="DA",1,IF(N43="WC",2,IF(N43="SE",3,IF(N43="Q",4,IF(N43="LL",5,999))))) -> 999
A44: 38 | J44: =IF(AND(Q44="",#REF!>0,#REF!<5),K44,) -> #REF! | K44: =IF(D44="","ZZZ9",IF(AND(#REF!>0,#REF!<5),D44&#REF!,D44&"9")) -> ZZZ9 | L44: =IF(Q44="",999,Q44) -> 999 | M44: =IF(P44=999,999,1) -> 999 | P44: =IF(N44="DA",1,IF(N44="WC",2,IF(N44="SE",3,IF(N44="Q",4,IF(N44="LL",5,999))))) -> 999
A45: 39 | J45: =IF(AND(Q45="",#REF!>0,#REF!<5),K45,) -> #REF! | K45: =IF(D45="","ZZZ9",IF(AND(#REF!>0,#REF!<5),D45&#REF!,D45&"9")) -> ZZZ9 | L45: =IF(Q45="",999,Q45) -> 999 | M45: =IF(P45=999,999,1) -> 999 | P45: =IF(N45="DA",1,IF(N45="WC",2,IF(N45="SE",3,IF(N45="Q",4,IF(N45="LL",5,999))))) -> 999
A46: 40 | J46: =IF(AND(Q46="",#REF!>0,#REF!<5),K46,) -> #REF! | K46: =IF(D46="","ZZZ9",IF(AND(#REF!>0,#REF!<5),D46&#REF!,D46&"9")) -> ZZZ9 | L46: =IF(Q46="",999,Q46) -> 999 | M46: =IF(P46=999,999,1) -> 999 | P46: =IF(N46="DA",1,IF(N46="WC",2,IF(N46="SE",3,IF(N46="Q",4,IF(N46="LL",5,999))))) -> 999
A47: 41 | J47: =IF(AND(Q47="",#REF!>0,#REF!<5),K47,) -> #REF! | K47: =IF(D47="","ZZZ9",IF(AND(#REF!>0,#REF!<5),D47&#REF!,D47&"9")) -> ZZZ9 | L47: =IF(Q47="",999,Q47) -> 999 | M47: =IF(P47=999,999,1) -> 999 | P47: =IF(N47="DA",1,IF(N47="WC",2,IF(N47="SE",3,IF(N47="Q",4,IF(N47="LL",5,999))))) -> 999
A48: 42 | J48: =IF(AND(Q48="",#REF!>0,#REF!<5),K48,) -> #REF! | K48: =IF(D48="","ZZZ9",IF(AND(#REF!>0,#REF!<5),D48&#REF!,D48&"9")) -> ZZZ9 | L48: =IF(Q48="",999,Q48) -> 999 | M48: =IF(P48=999,999,1) -> 999 | P48: =IF(N48="DA",1,IF(N48="WC",2,IF(N48="SE",3,IF(N48="Q",4,IF(N48="LL",5,999))))) -> 999
A49: 43 | J49: =IF(AND(Q49="",#REF!>0,#REF!<5),K49,) -> #REF! | K49: =IF(D49="","ZZZ9",IF(AND(#REF!>0,#REF!<5),D49&#REF!,D49&"9")) -> ZZZ9 | L49: =IF(Q49="",999,Q49) -> 999 | M49: =IF(P49=999,999,1) -> 999 | P49: =IF(N49="DA",1,IF(N49="WC",2,IF(N49="SE",3,IF(N49="Q",4,IF(N49="LL",5,999))))) -> 999
A50: 44 | J50: =IF(AND(Q50="",#REF!>0,#REF!<5),K50,) -> #REF! | K50: =IF(D50="","ZZZ9",IF(AND(#REF!>0,#REF!<5),D50&#REF!,D50&"9")) -> ZZZ9 | L50: =IF(Q50="",999,Q50) -> 999 | M50: =IF(P50=999,999,1) -> 999 | P50: =IF(N50="DA",1,IF(N50="WC",2,IF(N50="SE",3,IF(N50="Q",4,IF(N50="LL",5,999))))) -> 999
A51: 45 | J51: =IF(AND(Q51="",#REF!>0,#REF!<5),K51,) -> #REF! | K51: =IF(D51="","ZZZ9",IF(AND(#REF!>0,#REF!<5),D51&#REF!,D51&"9")) -> ZZZ9 | L51: =IF(Q51="",999,Q51) -> 999 | M51: =IF(P51=999,999,1) -> 999 | P51: =IF(N51="DA",1,IF(N51="WC",2,IF(N51="SE",3,IF(N51="Q",4,IF(N51="LL",5,999))))) -> 999
... A156: 150 | J156: =IF(AND(Q156="",#REF!>0,#REF!<5),K156,) -> #REF! | K156: =IF(D156="","ZZZ9",IF(AND(#REF!>0,#REF!<5),D156&#REF!,D156&"9")) -> ZZZ9 | L156: =IF(Q156="",999,Q156) -> 999 | M156: =IF(P156=999,999,1) -> 999 | P156: =IF(N156="DA",1,IF(N156="WC",2,IF(N156="SE",3,IF(N156="Q",4,IF(N156="LL",5,999))))) -> 999

Sheet B-II.kcs-U10-N-F
A1: =[3]Altalanos!$A$6 -> #REF! | H1: Egyéni főtábla | AB1: =IF(Y5=1,CONCATENATE(VLOOKUP(Y3,AA16:AH24,2)),CONCATENATE(VLOOKUP(Y3,AA2:AK13,2))) -> #REF! | AC1: =IF(Y5=1,CONCATENATE(VLOOKUP(Y3,AA16:AK24,3)),CONCATENATE(VLOOKUP(Y3,AA2:AK13,3))) -> #REF! | AD1: =IF(Y5=1,CONCATENATE(VLOOKUP(Y3,AA16:AK24,4)),CONCATENATE(VLOOKUP(Y3,AA2:AK13,4))) -> #REF! | AE1: =IF(Y5=1,CONCATENATE(VLOOKUP(Y3,AA16:AK24,5)),CONCATENATE(VLOOKUP(Y3,AA2:AK13,5))) -> #REF! | AF1: =IF(Y5=1,CONCATENATE(VLOOKUP(Y3,AA16:AK24,6)),CONCATENATE(VLOOKUP(Y3,AA2:AK13,6))) -> #REF! | AG1: =IF(Y5=1,CONCATENATE(VLOOKUP(Y3,AA16:AK24,7)),CONCATENATE(VLOOKUP(Y3,AA2:AK13,7))) -> #REF! | AH1: =IF(Y5=1,CONCATENATE(VLOOKUP(Y3,AA16:AK24,8)),CONCATENATE(VLOOKUP(Y3,AA2:AK13,8))) -> #REF! | AI1: =IF(Y5=1,CONCATENATE(VLOOKUP(Y3,AA16:AK24,9)),CONCATENATE(VLOOKUP(Y3,AA2:AK13,9))) -> #REF! | AJ1: =IF(Y5=1,CONCATENATE(VLOOKUP(Y3,AA16:AK24,10)),CONCATENATE(VLOOKUP(Y3,AA2:AK13,10))) -> #REF! | AK1: =IF(Y5=1,CONCATENATE(VLOOKUP(Y3,AA16:AK24,11)),CONCATENATE(VLOOKUP(Y3,AA2:AK13,11))) -> #REF!
A2: Versenyszám: | E2: =[3]Altalanos!$C$8 -> #REF! | AA2: A | AB2: 150 | AC2: 120 | AD2: 100 | AE2: 80 | AF2: 70 | AG2: 60 | AH2: 55 | AI2: 50 | AJ2: 45 | AK2: 40
A3: Dátum | E3: Város | H3: Kategória | L3: Versenybíró | Y3: =IF(H4="OB","A",IF(H4="IX","W",H4)) -> 0 | AA3: I | AB3: 120 | AC3: 90 | AD3: 65 | AE3: 55 | AF3: 50 | AG3: 45 | AH3: 40 | AI3: 35 | AJ3: 25 | AK3: 20
A4: =[3]Altalanos!$A$10 -> #REF! | E4: =[3]Altalanos!$C$10 -> #REF! | L4: =[3]Altalanos!$E$10 -> #REF! | AA4: II | AB4: 90 | AC4: 60 | AD4: 45 | AE4: 34 | AF4: 27 | AG4: 22 | AH4: 18 | AI4: 15 | AJ4: 12 | AK4: 9
B5: kiem | C5: kódszám | D5: Rangsor | E5: Vezetéknév | G5: Keresztnév | I5: Egyesület | K5: Helyezés | L5: Pontszám | M5: Bónusz | Y5: =IF(OR([3]Altalanos!$A$8="F1",[3]Altalanos!$A$8="F2",[3]Altalanos!$A$8="N1",[3]Altalanos!$A$8="N2"),1,2) -> #REF! | AA5: III | AB5: 60 | AC5: 40 | AD5: 30 | AE5: 20 | AF5: 18 | AG5: 15 | AH5: 12 | AI5: 10 | AJ5: 8 | AK5: 6
AA6: IV | AB6: 40 | AC6: 25 | AD6: 18 | AE6: 13 | AF6: 10 | AG6: 8 | AH6: 6 | AI6: 5 | AJ6: 4 | AK6: 3
A7: A | B7: 2 | C7: =IF($B7="","",VLOOKUP($B7,'B-II.kcs-U10-N-F elo'!$A$7:$O$22,5)) -> 170708 | D7: =IF($B7="","",VLOOKUP($B7,'B-II.kcs-U10-N-F elo'!$A$7:$O$22,15)) -> 0 | E7: =UPPER(IF($B7="","",VLOOKUP($B7,'B-II.kcs-U10-N-F elo'!$A$7:$O$22,2))) -> PONGRÁCZ | G7: =IF($B7="","",VLOOKUP($B7,'B-II.kcs-U10-N-F elo'!$A$7:$O$22,3)) -> Nándor | I7: =IF($B7="","",VLOOKUP($B7,'B-II.kcs-U10-N-F elo'!$A$7:$O$22,4)) -> Bólyi Általános Iskola és AMI | K7: I. | O7: 1 FORDULÓ | P7: B - E | Q7: C - D | AA7: V | AB7: 25 | AC7: 15 | AD7: 13 | AE7: 8 | AF7: 6 | AG7: 4 | AH7: 3 | AI7: 2 | AJ7: 1 | AK7: 0
O8: 2 FORDULÓ | P8: D - B | Q8: E - A | AA8: VI | AB8: 15 | AC8: 10 | AD8: 7 | AE8: 5 | AF8: 4 | AG8: 3 | AH8: 2 | AI8: 1 | AJ8: 0 | AK8: 0
A9: B | B9: 1 | C9: =IF($B9="","",VLOOKUP($B9,'B-II.kcs-U10-N-F elo'!$A$7:$O$22,5)) -> 170522 | D9: =IF($B9="","",VLOOKUP($B9,'B-II.kcs-U10-N-F elo'!$A$7:$O$22,15)) -> 0 | E9: =UPPER(IF($B9="","",VLOOKUP($B9,'B-II.kcs-U10-N-F elo'!$A$7:$O$22,2))) -> PAPP-HOFFER | G9: =IF($B9="","",VLOOKUP($B9,'B-II.kcs-U10-N-F elo'!$A$7:$O$22,3)) -> Bence | I9: =IF($B9="","",VLOOKUP($B9,'B-II.kcs-U10-N-F elo'!$A$7:$O$22,4)) -> Koch V. Gimn., Ált. Isk., Óvoda és Koll. | K9: 5. | O9: 3 FORDULÓ | P9: A - D | Q9: B - C | AA9: VII | AB9: 10 | AC9: 6 | AD9: 4 | AE9: 2 | AF9: 1 | AG9: 0 | AH9: 0 | AI9: 0 | AJ9: 0 | AK9: 0
O10: 4 FORDULÓ | P10: C - A | Q10: D - E | AA10: VIII | AB10: 6 | AC10: 3 | AD10: 2 | AE10: 1 | AF10: 0 | AG10: 0 | AH10: 0 | AI10: 0 | AJ10: 0 | AK10: 0
A11: C | B11: 5 | C11: =IF($B11="","",VLOOKUP($B11,'B-II.kcs-U10-N-F elo'!$A$7:$O$22,5)) -> 161102 | D11: =IF($B11="","",VLOOKUP($B11,'B-II.kcs-U10-N-F elo'!$A$7:$O$22,15)) -> 0 | E11: =UPPER(IF($B11="","",VLOOKUP($B11,'B-II.kcs-U10-N-F elo'!$A$7:$O$22,2))) -> ZÁMBÓ | G11: =IF($B11="","",VLOOKUP($B11,'B-II.kcs-U10-N-F elo'!$A$7:$O$22,3)) -> Zénó | I11: =IF($B11="","",VLOOKUP($B11,'B-II.kcs-U10-N-F elo'!$A$7:$O$22,4)) -> Koch V. Gimn., Ált. Isk., Óvoda és Koll. | K11: 4. | O11: 5 FORDULÓ | P11: A - B | Q11: E - C | AA11: W | AB11: 3 | AC11: 2 | AD11: 1 | AE11: 0 | AF11: 0 | AG11: 0 | AH11: 0 | AI11: 0 | AJ11: 0 | AK11: 0
AA12: X | AB12: 0 | AC12: 0 | AD12: 0 | AE12: 0 | AF12: 0 | AG12: 0 | AH12: 0 | AI12: 0 | AJ12: 0 | AK12: 0
A13: D | B13: 3 | C13: =IF($B13="","",VLOOKUP($B13,'B-II.kcs-U10-N-F elo'!$A$7:$O$22,5)) -> 171026 | D13: =IF($B13="","",VLOOKUP($B13,'B-II.kcs-U10-N-F elo'!$A$7:$O$22,15)) -> 0 | E13: =UPPER(IF($B13="","",VLOOKUP($B13,'B-II.kcs-U10-N-F elo'!$A$7:$O$22,2))) -> REISZ | G13: =IF($B13="","",VLOOKUP($B13,'B-II.kcs-U10-N-F elo'!$A$7:$O$22,3)) -> Kende | I13: =IF($B13="","",VLOOKUP($B13,'B-II.kcs-U10-N-F elo'!$A$7:$O$22,4)) -> Bólyi Általános Iskola és AMI | K13: III. | AA13: XI | AB13: 0 | AC13: 0 | AD13: 0 | AE13: 0 | AF13: 0 | AG13: 0 | AH13: 0 | AI13: 0 | AJ13: 0 | AK13: 0
A15: E | B15: 4 | C15: =IF($B15="","",VLOOKUP($B15,'B-II.kcs-U10-N-F elo'!$A$7:$O$22,5)) -> 161002 | D15: =IF($B15="","",VLOOKUP($B15,'B-II.kcs-U10-N-F elo'!$A$7:$O$22,15)) -> 0 | E15: =UPPER(IF($B15="","",VLOOKUP($B15,'B-II.kcs-U10-N-F elo'!$A$7:$O$22,2))) -> SZEBÉNYI | G15: =IF($B15="","",VLOOKUP($B15,'B-II.kcs-U10-N-F elo'!$A$7:$O$22,3)) -> Alexander | I15: =IF($B15="","",VLOOKUP($B15,'B-II.kcs-U10-N-F elo'!$A$7:$O$22,4)) -> Koch V. Gimn., Ált. Isk., Óvoda és Koll. | K15: II.
AA16: A | AB16: 300 | AC16: 250 | AD16: 220 | AE16: 180 | AF16: 160 | AG16: 150 | AH16: 140 | AI16: 130 | AJ16: 120 | AK16: 110
AA17: II | AB17: 200 | AC17: 150 | AD17: 130 | AE17: 110 | AF17: 95 | AG17: 80 | AH17: 70 | AI17: 60 | AJ17: 55 | AK17: 50
AA18: III | AB18: 150 | AC18: 120 | AD18: 100 | AE18: 80 | AF18: 70 | AG18: 60 | AH18: 55 | AI18: 50 | AJ18: 45 | AK18: 40
AA19: IV | AB19: 120 | AC19: 90 | AD19: 65 | AE19: 55 | AF19: 50 | AG19: 45 | AH19: 40 | AI19: 35 | AJ19: 25 | AK19: 20
AA20: V | AB20: 90 | AC20: 60 | AD20: 45 | AE20: 34 | AF20: 27 | AG20: 22 | AH20: 18 | AI20: 15 | AJ20: 12 | AK20: 9
D21: =E7 -> PONGRÁCZ | F21: =E9 -> PAPP-HOFFER | H21: =E11 -> ZÁMBÓ | J21: REISZ | K21: SZEBÉNYI | M21: Helyezés | AA21: VI | AB21: 60 | AC21: 40 | AD21: 30 | AE21: 20 | AF21: 18 | AG21: 15 | AH21: 12 | AI21: 10 | AJ21: 8 | AK21: 6
A22: A | B22: =E7 -> PONGRÁCZ | F22: 73 71 | H22: 73 75 | J22: 47 70 53 | K22: 75 75 | AA22: VII | AB22: 40 | AC22: 25 | AD22: 18 | AE22: 13 | AF22: 8 | AG22: 7 | AH22: 6 | AI22: 5 | AJ22: 4 | AK22: 3
A23: B | B23: =E9 -> PAPP-HOFFER | D23: 37 17 | H23: 37 68 | J23: 57 71 53 | K23: 27 17 | AA23: VIII | AB23: 25 | AC23: 15 | AD23: 13 | AE23: 7 | AF23: 6 | AG23: 5 | AH23: 4 | AI23: 3 | AJ23: 2 | AK23: 1
A24: C | B24: =E11 -> ZÁMBÓ | D24: 37 57 | F24: 73 86 | J24: 57 75 45 | K24: 37 57 | AA24: W | AB24: 15 | AC24: 10 | AD24: 8 | AE24: 4 | AF24: 3 | AG24: 2 | AH24: 1 | AI24: 0 | AJ24: 0 | AK24: 0
A25: D | B25: =E13 -> REISZ | D25: 74 07 35 | F25: 75 17 35 | H25: 75 57 54 | K25: 17 27
A26: E | B26: =E15 -> SZEBÉNYI | D26: 57 57 | F26: 72 71 | H26: 73 75 | J26: 71 72
A35: Rangsor | D35: # | E35: Kiemeltek | G35: # | H35: Szerencés Vesztes | J35: Helyettesíti | K35: Sorsolás időpontja
A36: Dátuma | G36: 1 | K36: Utolsó elfogadott játékos
A37: Utolsó DA | G37: 2
G38: 3 | K38: Sorsoló játékosok
G39: 4
G40: 5 | R40: =MIN(4,'B-II.kcs-U10-N-F elo'!Q5) -> 4
G41: 6 | K41: Versenybíró aláírása
G42: 7
G43: 8 | K43: =L4 -> #REF!

Sheet B-II.kcs-U10-N-L elo
A1: =[3]Altalanos!$A$6 -> #REF! | E1: Egyéni főtábla
B2: Versenyszám: | C2: =[3]Altalanos!$D$8 -> #REF! | E2: ELŐKÉSZÍTŐ LISTA
A3: NE TÖRÖLD KI EZT AZ OLDALT! | N3: Versenybíró aláírása
A4: Dátum | C4: Város | D4: Kategória | H4: Versenybíró
A5: =[3]Altalanos!$A$10 -> #REF! | C5: =[3]Altalanos!$C$10 -> #REF! | D5: =[3]Altalanos!$D$10 -> #REF! | H5: =[3]Altalanos!$E$10 -> #REF!
A6: Sor | B6: Családi név | C6: Keresztnév | D6: Egyesület | E6: Kódszám | F6: Nevezett Igen | G6: Aláírás | H6: Nevezési rangsor | J6: NatSort if not Seed | K6: NatSort | L6: Seed Sort | M6: AccBasic | N6: Elfogadási státusz | O6: Sorsolási rangsor | P6: AccSort | Q6: Kiemelés
A7: 1 | B7: Ambrus | C7: Kíra Dóra | D7: Bólyi Általános Iskola és AMI | E7: 170420
A8: 2 | B8: Duga | C8: Milla Mici | D8: Koch V.Gimn., Ált.Isk., Óvoda és Koll. | E8: 170723
A9: 3 | B9: Jagic | C9: Hanna Mila | D9: Pécsi Jókai Mór Ált. Isk. | E9: 170319
A10: 4 | B10: Kottász | C10: Dalma | D10: PTE Gyakorló Ált.Isk.,Gimn. és Óvoda | E10: 160320
A11: 5
A12: 6
A13: 7
A14: 8
A15: 9
A16: 10
A17: 11
A18: 12
A19: 13
A20: 14
A21: 15
A22: 16
... A39: 33
A40: 34 | J40: =IF(AND(Q40="",#REF!>0,#REF!<5),K40,) -> #REF! | K40: =IF(D40="","ZZZ9",IF(AND(#REF!>0,#REF!<5),D40&#REF!,D40&"9")) -> ZZZ9 | L40: =IF(Q40="",999,Q40) -> 999 | M40: =IF(P40=999,999,1) -> 999 | P40: =IF(N40="DA",1,IF(N40="WC",2,IF(N40="SE",3,IF(N40="Q",4,IF(N40="LL",5,999))))) -> 999
A41: 35 | J41: =IF(AND(Q41="",#REF!>0,#REF!<5),K41,) -> #REF! | K41: =IF(D41="","ZZZ9",IF(AND(#REF!>0,#REF!<5),D41&#REF!,D41&"9")) -> ZZZ9 | L41: =IF(Q41="",999,Q41) -> 999 | M41: =IF(P41=999,999,1) -> 999 | P41: =IF(N41="DA",1,IF(N41="WC",2,IF(N41="SE",3,IF(N41="Q",4,IF(N41="LL",5,999))))) -> 999
A42: 36 | J42: =IF(AND(Q42="",#REF!>0,#REF!<5),K42,) -> #REF! | K42: =IF(D42="","ZZZ9",IF(AND(#REF!>0,#REF!<5),D42&#REF!,D42&"9")) -> ZZZ9 | L42: =IF(Q42="",999,Q42) -> 999 | M42: =IF(P42=999,999,1) -> 999 | P42: =IF(N42="DA",1,IF(N42="WC",2,IF(N42="SE",3,IF(N42="Q",4,IF(N42="LL",5,999))))) -> 999
A43: 37 | J43: =IF(AND(Q43="",#REF!>0,#REF!<5),K43,) -> #REF! | K43: =IF(D43="","ZZZ9",IF(AND(#REF!>0,#REF!<5),D43&#REF!,D43&"9")) -> ZZZ9 | L43: =IF(Q43="",999,Q43) -> 999 | M43: =IF(P43=999,999,1) -> 999 | P43: =IF(N43="DA",1,IF(N43="WC",2,IF(N43="SE",3,IF(N43="Q",4,IF(N43="LL",5,999))))) -> 999
A44: 38 | J44: =IF(AND(Q44="",#REF!>0,#REF!<5),K44,) -> #REF! | K44: =IF(D44="","ZZZ9",IF(AND(#REF!>0,#REF!<5),D44&#REF!,D44&"9")) -> ZZZ9 | L44: =IF(Q44="",999,Q44) -> 999 | M44: =IF(P44=999,999,1) -> 999 | P44: =IF(N44="DA",1,IF(N44="WC",2,IF(N44="SE",3,IF(N44="Q",4,IF(N44="LL",5,999))))) -> 999
A45: 39 | J45: =IF(AND(Q45="",#REF!>0,#REF!<5),K45,) -> #REF! | K45: =IF(D45="","ZZZ9",IF(AND(#REF!>0,#REF!<5),D45&#REF!,D45&"9")) -> ZZZ9 | L45: =IF(Q45="",999,Q45) -> 999 | M45: =IF(P45=999,999,1) -> 999 | P45: =IF(N45="DA",1,IF(N45="WC",2,IF(N45="SE",3,IF(N45="Q",4,IF(N45="LL",5,999))))) -> 999
A46: 40 | J46: =IF(AND(Q46="",#REF!>0,#REF!<5),K46,) -> #REF! | K46: =IF(D46="","ZZZ9",IF(AND(#REF!>0,#REF!<5),D46&#REF!,D46&"9")) -> ZZZ9 | L46: =IF(Q46="",999,Q46) -> 999 | M46: =IF(P46=999,999,1) -> 999 | P46: =IF(N46="DA",1,IF(N46="WC",2,IF(N46="SE",3,IF(N46="Q",4,IF(N46="LL",5,999))))) -> 999
A47: 41 | J47: =IF(AND(Q47="",#REF!>0,#REF!<5),K47,) -> #REF! | K47: =IF(D47="","ZZZ9",IF(AND(#REF!>0,#REF!<5),D47&#REF!,D47&"9")) -> ZZZ9 | L47: =IF(Q47="",999,Q47) -> 999 | M47: =IF(P47=999,999,1) -> 999 | P47: =IF(N47="DA",1,IF(N47="WC",2,IF(N47="SE",3,IF(N47="Q",4,IF(N47="LL",5,999))))) -> 999
A48: 42 | J48: =IF(AND(Q48="",#REF!>0,#REF!<5),K48,) -> #REF! | K48: =IF(D48="","ZZZ9",IF(AND(#REF!>0,#REF!<5),D48&#REF!,D48&"9")) -> ZZZ9 | L48: =IF(Q48="",999,Q48) -> 999 | M48: =IF(P48=999,999,1) -> 999 | P48: =IF(N48="DA",1,IF(N48="WC",2,IF(N48="SE",3,IF(N48="Q",4,IF(N48="LL",5,999))))) -> 999
A49: 43 | J49: =IF(AND(Q49="",#REF!>0,#REF!<5),K49,) -> #REF! | K49: =IF(D49="","ZZZ9",IF(AND(#REF!>0,#REF!<5),D49&#REF!,D49&"9")) -> ZZZ9 | L49: =IF(Q49="",999,Q49) -> 999 | M49: =IF(P49=999,999,1) -> 999 | P49: =IF(N49="DA",1,IF(N49="WC",2,IF(N49="SE",3,IF(N49="Q",4,IF(N49="LL",5,999))))) -> 999
A50: 44 | J50: =IF(AND(Q50="",#REF!>0,#REF!<5),K50,) -> #REF! | K50: =IF(D50="","ZZZ9",IF(AND(#REF!>0,#REF!<5),D50&#REF!,D50&"9")) -> ZZZ9 | L50: =IF(Q50="",999,Q50) -> 999 | M50: =IF(P50=999,999,1) -> 999 | P50: =IF(N50="DA",1,IF(N50="WC",2,IF(N50="SE",3,IF(N50="Q",4,IF(N50="LL",5,999))))) -> 999
A51: 45 | J51: =IF(AND(Q51="",#REF!>0,#REF!<5),K51,) -> #REF! | K51: =IF(D51="","ZZZ9",IF(AND(#REF!>0,#REF!<5),D51&#REF!,D51&"9")) -> ZZZ9 | L51: =IF(Q51="",999,Q51) -> 999 | M51: =IF(P51=999,999,1) -> 999 | P51: =IF(N51="DA",1,IF(N51="WC",2,IF(N51="SE",3,IF(N51="Q",4,IF(N51="LL",5,999))))) -> 999
... A156: 150 | J156: =IF(AND(Q156="",#REF!>0,#REF!<5),K156,) -> #REF! | K156: =IF(D156="","ZZZ9",IF(AND(#REF!>0,#REF!<5),D156&#REF!,D156&"9")) -> ZZZ9 | L156: =IF(Q156="",999,Q156) -> 999 | M156: =IF(P156=999,999,1) -> 999 | P156: =IF(N156="DA",1,IF(N156="WC",2,IF(N156="SE",3,IF(N156="Q",4,IF(N156="LL",5,999))))) -> 999

Sheet B-II.kcs-U10-N-L
A1: =[3]Altalanos!$A$6 -> #REF! | H1: Egyéni főtábla | AB1: =IF(Y5=1,CONCATENATE(VLOOKUP(Y3,AA16:AH27,2)),CONCATENATE(VLOOKUP(Y3,AA2:AK13,2))) -> #REF! | AC1: =IF(Y5=1,CONCATENATE(VLOOKUP(Y3,AA16:AK27,3)),CONCATENATE(VLOOKUP(Y3,AA2:AK13,3))) -> #REF! | AD1: =IF(Y5=1,CONCATENATE(VLOOKUP(Y3,AA16:AK27,4)),CONCATENATE(VLOOKUP(Y3,AA2:AK13,4))) -> #REF! | AE1: =IF(Y5=1,CONCATENATE(VLOOKUP(Y3,AA16:AK27,5)),CONCATENATE(VLOOKUP(Y3,AA2:AK13,5))) -> #REF! | AF1: =IF(Y5=1,CONCATENATE(VLOOKUP(Y3,AA16:AK27,6)),CONCATENATE(VLOOKUP(Y3,AA2:AK13,6))) -> #REF! | AG1: =IF(Y5=1,CONCATENATE(VLOOKUP(Y3,AA16:AK27,7)),CONCATENATE(VLOOKUP(Y3,AA2:AK13,7))) -> #REF! | AH1: =IF(Y5=1,CONCATENATE(VLOOKUP(Y3,AA16:AK27,8)),CONCATENATE(VLOOKUP(Y3,AA2:AK13,8))) -> #REF! | AI1: =IF(Y5=1,CONCATENATE(VLOOKUP(Y3,AA16:AK27,9)),CONCATENATE(VLOOKUP(Y3,AA2:AK13,9))) -> #REF! | AJ1: =IF(Y5=1,CONCATENATE(VLOOKUP(Y3,AA16:AK27,10)),CONCATENATE(VLOOKUP(Y3,AA2:AK13,10))) -> #REF! | AK1: =IF(Y5=1,CONCATENATE(VLOOKUP(Y3,AA16:AK27,11)),CONCATENATE(VLOOKUP(Y3,AA2:AK13,11))) -> #REF!
A2: Versenyszám: | E2: =[3]Altalanos!$D$8 -> #REF! | AA2: A | AB2: 150 | AC2: 120 | AD2: 100 | AE2: 80 | AF2: 70 | AG2: 60 | AH2: 55 | AI2: 50 | AJ2: 45 | AK2: 40
A3: Dátum | E3: Város | H3: Kategória | M3: Versenybíró | Q3: 1 FORDULÓ | R3: B - C | S3: A -D | Y3: =IF(H4="OB","A",IF(H4="IX","W",H4)) -> 0 | AA3: I | AB3: 120 | AC3: 90 | AD3: 65 | AE3: 55 | AF3: 50 | AG3: 45 | AH3: 40 | AI3: 35 | AJ3: 25 | AK3: 20
A4: =[3]Altalanos!$A$10 -> #REF! | E4: =[3]Altalanos!$C$10 -> #REF! | M4: =[3]Altalanos!$E$10 -> #REF! | Q4: 2 FORDULÓ | R4: C - A | S4: D - B | AA4: II | AB4: 90 | AC4: 60 | AD4: 45 | AE4: 34 | AF4: 27 | AG4: 22 | AH4: 18 | AI4: 15 | AJ4: 12 | AK4: 9
B5: kiem | C5: kódszám | D5: Rangsor | E5: Vezetéknév | G5: Keresztnév | I5: Egyesület | K5: Helyezés | L5: Pontszám | M5: Bónusz | Q5: 3 FORDULÓ | R5: A - B | S5: C - D | Y5: =IF(OR([3]Altalanos!$A$8="F1",[3]Altalanos!$A$8="F2",[3]Altalanos!$A$8="N1",[3]Altalanos!$A$8="N2"),1,2) -> #REF! | AA5: III | AB5: 60 | AC5: 40 | AD5: 30 | AE5: 20 | AF5: 18 | AG5: 15 | AH5: 12 | AI5: 10 | AJ5: 8 | AK5: 6
AA6: IV | AB6: 40 | AC6: 25 | AD6: 18 | AE6: 13 | AF6: 10 | AG6: 8 | AH6: 6 | AI6: 5 | AJ6: 4 | AK6: 3
A7: A | B7: 1 | C7: =IF($B7="","",VLOOKUP($B7,'B-II.kcs-U10-N-L elo'!$A$7:$O$22,5)) -> 170420 | D7: =IF($B7="","",VLOOKUP($B7,'B-II.kcs-U10-N-L elo'!$A$7:$O$22,15)) -> 0 | E7: =UPPER(IF($B7="","",VLOOKUP($B7,'B-II.kcs-U10-N-L elo'!$A$7:$O$22,2))) -> AMBRUS | G7: =IF($B7="","",VLOOKUP($B7,'B-II.kcs-U10-N-L elo'!$A$7:$O$22,3)) -> Kíra Dóra | I7: =IF($B7="","",VLOOKUP($B7,'B-II.kcs-U10-N-L elo'!$A$7:$O$22,4)) -> Bólyi Általános Iskola és AMI | K7: 4. | AA7: V | AB7: 25 | AC7: 15 | AD7: 13 | AE7: 8 | AF7: 6 | AG7: 4 | AH7: 3 | AI7: 2 | AJ7: 1 | AK7: 0
AA8: VI | AB8: 15 | AC8: 10 | AD8: 7 | AE8: 5 | AF8: 4 | AG8: 3 | AH8: 2 | AI8: 1 | AJ8: 0 | AK8: 0
A9: B | B9: 2 | C9: =IF($B9="","",VLOOKUP($B9,'B-II.kcs-U10-N-L elo'!$A$7:$O$22,5)) -> 170723 | D9: =IF($B9="","",VLOOKUP($B9,'B-II.kcs-U10-N-L elo'!$A$7:$O$22,15)) -> 0 | E9: =UPPER(IF($B9="","",VLOOKUP($B9,'B-II.kcs-U10-N-L elo'!$A$7:$O$22,2))) -> DUGA | G9: =IF($B9="","",VLOOKUP($B9,'B-II.kcs-U10-N-L elo'!$A$7:$O$22,3)) -> Milla Mici | I9: =IF($B9="","",VLOOKUP($B9,'B-II.kcs-U10-N-L elo'!$A$7:$O$22,4)) -> Koch V.Gimn., Ált.Isk., Óvoda és Koll. | K9: II. | AA9: VII | AB9: 10 | AC9: 6 | AD9: 4 | AE9: 2 | AF9: 1 | AG9: 0 | AH9: 0 | AI9: 0 | AJ9: 0 | AK9: 0
AA10: VIII | AB10: 6 | AC10: 3 | AD10: 2 | AE10: 1 | AF10: 0 | AG10: 0 | AH10: 0 | AI10: 0 | AJ10: 0 | AK10: 0
A11: C | B11: 3 | C11: =IF($B11="","",VLOOKUP($B11,'B-II.kcs-U10-N-L elo'!$A$7:$O$22,5)) -> 170319 | D11: =IF($B11="","",VLOOKUP($B11,'B-II.kcs-U10-N-L elo'!$A$7:$O$22,15)) -> 0 | E11: =UPPER(IF($B11="","",VLOOKUP($B11,'B-II.kcs-U10-N-L elo'!$A$7:$O$22,2))) -> JAGIC | G11: =IF($B11="","",VLOOKUP($B11,'B-II.kcs-U10-N-L elo'!$A$7:$O$22,3)) -> Hanna Mila | I11: =IF($B11="","",VLOOKUP($B11,'B-II.kcs-U10-N-L elo'!$A$7:$O$22,4)) -> Pécsi Jókai Mór Ált. Isk. | K11: III. | AA11: W | AB11: 3 | AC11: 2 | AD11: 1 | AE11: 0 | AF11: 0 | AG11: 0 | AH11: 0 | AI11: 0 | AJ11: 0 | AK11: 0
AA12: X | AB12: 0 | AC12: 0 | AD12: 0 | AE12: 0 | AF12: 0 | AG12: 0 | AH12: 0 | AI12: 0 | AJ12: 0 | AK12: 0
A13: D | B13: 4 | C13: =IF($B13="","",VLOOKUP($B13,'B-II.kcs-U10-N-L elo'!$A$7:$O$22,5)) -> 160320 | D13: =IF($B13="","",VLOOKUP($B13,'B-II.kcs-U10-N-L elo'!$A$7:$O$22,15)) -> 0 | E13: =UPPER(IF($B13="","",VLOOKUP($B13,'B-II.kcs-U10-N-L elo'!$A$7:$O$22,2))) -> KOTTÁSZ | G13: =IF($B13="","",VLOOKUP($B13,'B-II.kcs-U10-N-L elo'!$A$7:$O$22,3)) -> Dalma | I13: =IF($B13="","",VLOOKUP($B13,'B-II.kcs-U10-N-L elo'!$A$7:$O$22,4)) -> PTE Gyakorló Ált.Isk.,Gimn. és Óvoda | K13: I. | AA13: XI | AB13: 0 | AC13: 0 | AD13: 0 | AE13: 0 | AF13: 0 | AG13: 0 | AH13: 0 | AI13: 0 | AJ13: 0 | AK13: 0
AA16: A | AB16: 300 | AC16: 250 | AD16: 220 | AE16: 180 | AF16: 160 | AG16: 150 | AH16: 140 | AI16: 130 | AJ16: 120 | AK16: 110
AA17: I | AB17: 250 | AC17: 200 | AD17: 160 | AE17: 140 | AF17: 120 | AG17: 110 | AH17: 100 | AI17: 90 | AJ17: 80 | AK17: 70
D18: =E7 -> AMBRUS | F18: =E9 -> DUGA | H18: =E11 -> JAGIC | J18: =E13 -> KOTTÁSZ | AA18: II | AB18: 200 | AC18: 150 | AD18: 130 | AE18: 110 | AF18: 95 | AG18: 80 | AH18: 70 | AI18: 60 | AJ18: 55 | AK18: 50
A19: A | B19: =E7 -> AMBRUS | F19: 17 17 | H19: 37 17 | J19: 07 17 | AA19: III | AB19: 150 | AC19: 120 | AD19: 100 | AE19: 80 | AF19: 70 | AG19: 60 | AH19: 55 | AI19: 50 | AJ19: 45 | AK19: 40
A20: B | B20: =E9 -> DUGA | D20: 71 71 | H20: 70 71 | J20: 17 75 35 | AA20: IV | AB20: 120 | AC20: 90 | AD20: 65 | AE20: 55 | AF20: 50 | AG20: 45 | AH20: 40 | AI20: 35 | AJ20: 25 | AK20: 20
A21: C | B21: =E11 -> JAGIC | D21: 73 71 | F21: 07 17 | J21: 57 37 | AA21: V | AB21: 90 | AC21: 60 | AD21: 45 | AE21: 34 | AF21: 27 | AG21: 22 | AH21: 18 | AI21: 15 | AJ21: 12 | AK21: 9
A22: D | B22: =E13 -> KOTTÁSZ | D22: 70 71 | F22: 71 57 53 | H22: 75 73 | AA22: VI | AB22: 60 | AC22: 40 | AD22: 30 | AE22: 20 | AF22: 18 | AG22: 15 | AH22: 12 | AI22: 10 | AJ22: 8 | AK22: 6
AA23: VII | AB23: 40 | AC23: 25 | AD23: 18 | AE23: 13 | AF23: 8 | AG23: 7 | AH23: 6 | AI23: 5 | AJ23: 4 | AK23: 3
AA24: VIII | AB24: 25 | AC24: 15 | AD24: 13 | AE24: 7 | AF24: 6 | AG24: 5 | AH24: 4 | AI24: 3 | AJ24: 2 | AK24: 1
AA25: W | AB25: 15 | AC25: 10 | AD25: 8 | AE25: 4 | AF25: 3 | AG25: 2 | AH25: 1 | AI25: 0 | AJ25: 0 | AK25: 0
AA26: X | AB26: 10 | AC26: 6 | AD26: 4 | AE26: 2 | AF26: 1 | AG26: 0 | AH26: 0 | AI26: 0 | AJ26: 0 | AK26: 0
AA27: XI | AB27: 3 | AC27: 2 | AD27: 1 | AE27: 0 | AF27: 0 | AG27: 0 | AH27: 0 | AI27: 0 | AJ27: 0 | AK27: 0
A33: Rangsor | D33: # | E33: Kiemeltek | G33: # | H33: Szerencés Vesztes | J33: Helyettesíti | K33: Sorsolás időpontja
A34: Dátuma | G34: 1 | K34: Utolsó elfogadott játékos
A35: Utolsó DA | G35: 2
G36: 3 | K36: Sorsoló játékosok
G37: 4
G38: 5
G39: 6 | K39: Versenybíró aláírása
G40: 7
G41: 8 | K41: =M4 -> #REF!

Sheet B-III.kcs-U11-Z-F elo
A1: =[3]Altalanos!$A$6 -> #REF! | E1: Egyéni főtábla
B2: Versenyszám: | C2: =[3]Altalanos!$E$8 -> #REF! | E2: ELŐKÉSZÍTŐ LISTA
A3: NE TÖRÖLD KI EZT AZ OLDALT! | N3: Versenybíró aláírása
A4: Dátum | C4: Város | D4: Kategória | H4: Versenybíró
A5: =[3]Altalanos!$A$10 -> #REF! | C5: =[3]Altalanos!$C$10 -> #REF! | D5: =[3]Altalanos!$D$10 -> #REF! | H5: =[3]Altalanos!$E$10 -> #REF!
A6: Sor | B6: Családi név | C6: Keresztnév | D6: Egyesület | E6: Kódszám | F6: Nevezett Igen | G6: Aláírás | H6: Nevezési rangsor | J6: NatSort if not Seed | K6: NatSort | L6: Seed Sort | M6: AccBasic | N6: Elfogadási státusz | O6: Sorsolási rangsor | P6: AccSort | Q6: Kiemelés
A7: 1 | B7: Arnold | C7: Benedek | D7: Bólyi Általános Iskola és AMI | E7: 150524
A8: 2 | B8: Cziger | C8: Márton | D8: Koch V.Gimn.,Ált.Isk., Óvoda és Koll. | E8: 150908
A9: 3 | B9: Féth | C9: Péter | D9: Park Utcai Kat.Ált.Isk. és Óvoda, Mohács | E9: 151102
A10: 4 | B10: Gernedl | C10: Ádám Márk | D10: Koch V.Gimn.,Ált.Isk.,Óvoda és Koll. | E10: 151214
A11: 5 | B11: Hasanovic | C11: Ármin | D11: Mohács Térségi Ált.Isk. | E11: 150910
A12: 6 | B12: Rábai | C12: Nándor Áron | D12: Koch V.Gimn.,Ált.Isk.,Óvoda és Koll. | E12: 150807
A13: 7 | B13: Rutterschmidt | C13: Erik | D13: Boldog Gizella Kat.Ált Isk. és Óvoda Mohács | E13: 151122
A14: 8 | B14: Stivics-Nagy | C14: Milos | D14: Park Utcai Kat.Ált.Isk. és Óvoda, Mohács | E14: 150909
A15: 9 | B15: Szigeti-Kovács | C15: Mátyás József | D15: Park Utcai Kat.Ált.Isk. és Óvoda, Mohács | E15: 150217
A16: 10
A17: 11
A18: 12
A19: 13
A20: 14
A21: 15
A22: 16
A23: 17
A24: 18
A25: 19
A26: 20
A27: 21
... A39: 33
A40: 34 | J40: =IF(AND(Q40="",#REF!>0,#REF!<5),K40,) -> #REF! | K40: =IF(D40="","ZZZ9",IF(AND(#REF!>0,#REF!<5),D40&#REF!,D40&"9")) -> ZZZ9 | L40: =IF(Q40="",999,Q40) -> 999 | M40: =IF(P40=999,999,1) -> 999 | P40: =IF(N40="DA",1,IF(N40="WC",2,IF(N40="SE",3,IF(N40="Q",4,IF(N40="LL",5,999))))) -> 999
A41: 35 | J41: =IF(AND(Q41="",#REF!>0,#REF!<5),K41,) -> #REF! | K41: =IF(D41="","ZZZ9",IF(AND(#REF!>0,#REF!<5),D41&#REF!,D41&"9")) -> ZZZ9 | L41: =IF(Q41="",999,Q41) -> 999 | M41: =IF(P41=999,999,1) -> 999 | P41: =IF(N41="DA",1,IF(N41="WC",2,IF(N41="SE",3,IF(N41="Q",4,IF(N41="LL",5,999))))) -> 999
A42: 36 | J42: =IF(AND(Q42="",#REF!>0,#REF!<5),K42,) -> #REF! | K42: =IF(D42="","ZZZ9",IF(AND(#REF!>0,#REF!<5),D42&#REF!,D42&"9")) -> ZZZ9 | L42: =IF(Q42="",999,Q42) -> 999 | M42: =IF(P42=999,999,1) -> 999 | P42: =IF(N42="DA",1,IF(N42="WC",2,IF(N42="SE",3,IF(N42="Q",4,IF(N42="LL",5,999))))) -> 999
A43: 37 | J43: =IF(AND(Q43="",#REF!>0,#REF!<5),K43,) -> #REF! | K43: =IF(D43="","ZZZ9",IF(AND(#REF!>0,#REF!<5),D43&#REF!,D43&"9")) -> ZZZ9 | L43: =IF(Q43="",999,Q43) -> 999 | M43: =IF(P43=999,999,1) -> 999 | P43: =IF(N43="DA",1,IF(N43="WC",2,IF(N43="SE",3,IF(N43="Q",4,IF(N43="LL",5,999))))) -> 999
A44: 38 | J44: =IF(AND(Q44="",#REF!>0,#REF!<5),K44,) -> #REF! | K44: =IF(D44="","ZZZ9",IF(AND(#REF!>0,#REF!<5),D44&#REF!,D44&"9")) -> ZZZ9 | L44: =IF(Q44="",999,Q44) -> 999 | M44: =IF(P44=999,999,1) -> 999 | P44: =IF(N44="DA",1,IF(N44="WC",2,IF(N44="SE",3,IF(N44="Q",4,IF(N44="LL",5,999))))) -> 999
A45: 39 | J45: =IF(AND(Q45="",#REF!>0,#REF!<5),K45,) -> #REF! | K45: =IF(D45="","ZZZ9",IF(AND(#REF!>0,#REF!<5),D45&#REF!,D45&"9")) -> ZZZ9 | L45: =IF(Q45="",999,Q45) -> 999 | M45: =IF(P45=999,999,1) -> 999 | P45: =IF(N45="DA",1,IF(N45="WC",2,IF(N45="SE",3,IF(N45="Q",4,IF(N45="LL",5,999))))) -> 999
A46: 40 | J46: =IF(AND(Q46="",#REF!>0,#REF!<5),K46,) -> #REF! | K46: =IF(D46="","ZZZ9",IF(AND(#REF!>0,#REF!<5),D46&#REF!,D46&"9")) -> ZZZ9 | L46: =IF(Q46="",999,Q46) -> 999 | M46: =IF(P46=999,999,1) -> 999 | P46: =IF(N46="DA",1,IF(N46="WC",2,IF(N46="SE",3,IF(N46="Q",4,IF(N46="LL",5,999))))) -> 999
A47: 41 | J47: =IF(AND(Q47="",#REF!>0,#REF!<5),K47,) -> #REF! | K47: =IF(D47="","ZZZ9",IF(AND(#REF!>0,#REF!<5),D47&#REF!,D47&"9")) -> ZZZ9 | L47: =IF(Q47="",999,Q47) -> 999 | M47: =IF(P47=999,999,1) -> 999 | P47: =IF(N47="DA",1,IF(N47="WC",2,IF(N47="SE",3,IF(N47="Q",4,IF(N47="LL",5,999))))) -> 999
A48: 42 | J48: =IF(AND(Q48="",#REF!>0,#REF!<5),K48,) -> #REF! | K48: =IF(D48="","ZZZ9",IF(AND(#REF!>0,#REF!<5),D48&#REF!,D48&"9")) -> ZZZ9 | L48: =IF(Q48="",999,Q48) -> 999 | M48: =IF(P48=999,999,1) -> 999 | P48: =IF(N48="DA",1,IF(N48="WC",2,IF(N48="SE",3,IF(N48="Q",4,IF(N48="LL",5,999))))) -> 999
A49: 43 | J49: =IF(AND(Q49="",#REF!>0,#REF!<5),K49,) -> #REF! | K49: =IF(D49="","ZZZ9",IF(AND(#REF!>0,#REF!<5),D49&#REF!,D49&"9")) -> ZZZ9 | L49: =IF(Q49="",999,Q49) -> 999 | M49: =IF(P49=999,999,1) -> 999 | P49: =IF(N49="DA",1,IF(N49="WC",2,IF(N49="SE",3,IF(N49="Q",4,IF(N49="LL",5,999))))) -> 999
A50: 44 | J50: =IF(AND(Q50="",#REF!>0,#REF!<5),K50,) -> #REF! | K50: =IF(D50="","ZZZ9",IF(AND(#REF!>0,#REF!<5),D50&#REF!,D50&"9")) -> ZZZ9 | L50: =IF(Q50="",999,Q50) -> 999 | M50: =IF(P50=999,999,1) -> 999 | P50: =IF(N50="DA",1,IF(N50="WC",2,IF(N50="SE",3,IF(N50="Q",4,IF(N50="LL",5,999))))) -> 999
A51: 45 | J51: =IF(AND(Q51="",#REF!>0,#REF!<5),K51,) -> #REF! | K51: =IF(D51="","ZZZ9",IF(AND(#REF!>0,#REF!<5),D51&#REF!,D51&"9")) -> ZZZ9 | L51: =IF(Q51="",999,Q51) -> 999 | M51: =IF(P51=999,999,1) -> 999 | P51: =IF(N51="DA",1,IF(N51="WC",2,IF(N51="SE",3,IF(N51="Q",4,IF(N51="LL",5,999))))) -> 999
... A156: 150 | J156: =IF(AND(Q156="",#REF!>0,#REF!<5),K156,) -> #REF! | K156: =IF(D156="","ZZZ9",IF(AND(#REF!>0,#REF!<5),D156&#REF!,D156&"9")) -> ZZZ9 | L156: =IF(Q156="",999,Q156) -> 999 | M156: =IF(P156=999,999,1) -> 999 | P156: =IF(N156="DA",1,IF(N156="WC",2,IF(N156="SE",3,IF(N156="Q",4,IF(N156="LL",5,999))))) -> 999

Sheet B-III.kcs-U11-Z-F-1.csop
A1: =[3]Altalanos!$A$6 -> #REF! | H1: Egyéni főtábla | AB1: =IF(Y5=1,CONCATENATE(VLOOKUP(Y3,AA16:AH27,2)),CONCATENATE(VLOOKUP(Y3,AA2:AK13,2))) -> #REF! | AC1: =IF(Y5=1,CONCATENATE(VLOOKUP(Y3,AA16:AK27,3)),CONCATENATE(VLOOKUP(Y3,AA2:AK13,3))) -> #REF! | AD1: =IF(Y5=1,CONCATENATE(VLOOKUP(Y3,AA16:AK27,4)),CONCATENATE(VLOOKUP(Y3,AA2:AK13,4))) -> #REF! | AE1: =IF(Y5=1,CONCATENATE(VLOOKUP(Y3,AA16:AK27,5)),CONCATENATE(VLOOKUP(Y3,AA2:AK13,5))) -> #REF! | AF1: =IF(Y5=1,CONCATENATE(VLOOKUP(Y3,AA16:AK27,6)),CONCATENATE(VLOOKUP(Y3,AA2:AK13,6))) -> #REF! | AG1: =IF(Y5=1,CONCATENATE(VLOOKUP(Y3,AA16:AK27,7)),CONCATENATE(VLOOKUP(Y3,AA2:AK13,7))) -> #REF! | AH1: =IF(Y5=1,CONCATENATE(VLOOKUP(Y3,AA16:AK27,8)),CONCATENATE(VLOOKUP(Y3,AA2:AK13,8))) -> #REF! | AI1: =IF(Y5=1,CONCATENATE(VLOOKUP(Y3,AA16:AK27,9)),CONCATENATE(VLOOKUP(Y3,AA2:AK13,9))) -> #REF! | AJ1: =IF(Y5=1,CONCATENATE(VLOOKUP(Y3,AA16:AK27,10)),CONCATENATE(VLOOKUP(Y3,AA2:AK13,10))) -> #REF! | AK1: =IF(Y5=1,CONCATENATE(VLOOKUP(Y3,AA16:AK27,11)),CONCATENATE(VLOOKUP(Y3,AA2:AK13,11))) -> #REF!
A2: Versenyszám: | E2: =[3]Altalanos!$E$8 -> #REF! | H2: 1.csoport | AA2: A | AB2: 150 | AC2: 120 | AD2: 100 | AE2: 80 | AF2: 70 | AG2: 60 | AH2: 55 | AI2: 50 | AJ2: 45 | AK2: 40
A3: Dátum | E3: Város | H3: Kategória | L3: Versenybíró | Q3: 1 FORDULÓ | R3: B - C | Y3: =IF(H4="OB","A",IF(H4="IX","W",H4)) -> 0 | AA3: I | AB3: 120 | AC3: 90 | AD3: 65 | AE3: 55 | AF3: 50 | AG3: 45 | AH3: 40 | AI3: 35 | AJ3: 25 | AK3: 20
A4: =[3]Altalanos!$A$10 -> #REF! | E4: =[3]Altalanos!$C$10 -> #REF! | L4: =[3]Altalanos!$E$10 -> #REF! | Q4: 2 FORDULÓ | R4: C - A | AA4: II | AB4: 90 | AC4: 60 | AD4: 45 | AE4: 34 | AF4: 27 | AG4: 22 | AH4: 18 | AI4: 15 | AJ4: 12 | AK4: 9
B5: kiem | C5: kódszám | D5: Rangsor | E5: Vezetéknév | G5: Keresztnév | I5: Egyesület | K5: Helyezés | L5: Pontszám | M5: Bónusz | Q5: 3 FORDULÓ | R5: A - B | Y5: =IF(OR([3]Altalanos!$A$8="F1",[3]Altalanos!$A$8="F2",[3]Altalanos!$A$8="N1",[3]Altalanos!$A$8="N2"),1,2) -> #REF! | AA5: III | AB5: 60 | AC5: 40 | AD5: 30 | AE5: 20 | AF5: 18 | AG5: 15 | AH5: 12 | AI5: 10 | AJ5: 8 | AK5: 6
AA6: IV | AB6: 40 | AC6: 25 | AD6: 18 | AE6: 13 | AF6: 10 | AG6: 8 | AH6: 6 | AI6: 5 | AJ6: 4 | AK6: 3
A7: A | B7: 1 | C7: =IF($B7="","",VLOOKUP($B7,'B-III.kcs-U11-Z-F elo'!$A$7:$O$22,5)) -> 150524 | D7: =IF($B7="","",VLOOKUP($B7,'B-III.kcs-U11-Z-F elo'!$A$7:$O$22,15)) -> 0 | E7: =UPPER(IF($B7="","",VLOOKUP($B7,'B-III.kcs-U11-Z-F elo'!$A$7:$O$22,2))) -> ARNOLD | G7: =IF($B7="","",VLOOKUP($B7,'B-III.kcs-U11-Z-F elo'!$A$7:$O$22,3)) -> Benedek | I7: =IF($B7="","",VLOOKUP($B7,'B-III.kcs-U11-Z-F elo'!$A$7:$O$22,4)) -> Bólyi Általános Iskola és AMI | L7: =IF(K7="","",CONCATENATE(VLOOKUP($Y$3,$AB$1:$AK$1,K7)," pont")) | AA7: V | AB7: 25 | AC7: 15 | AD7: 13 | AE7: 8 | AF7: 6 | AG7: 4 | AH7: 3 | AI7: 2 | AJ7: 1 | AK7: 0
AA8: VI | AB8: 15 | AC8: 10 | AD8: 7 | AE8: 5 | AF8: 4 | AG8: 3 | AH8: 2 | AI8: 1 | AJ8: 0 | AK8: 0
A9: B | B9: 2 | C9: =IF($B9="","",VLOOKUP($B9,'B-III.kcs-U11-Z-F elo'!$A$7:$O$22,5)) -> 150908 | D9: =IF($B9="","",VLOOKUP($B9,'B-III.kcs-U11-Z-F elo'!$A$7:$O$22,15)) -> 0 | E9: =UPPER(IF($B9="","",VLOOKUP($B9,'B-III.kcs-U11-Z-F elo'!$A$7:$O$22,2))) -> CZIGER | G9: =IF($B9="","",VLOOKUP($B9,'B-III.kcs-U11-Z-F elo'!$A$7:$O$22,3)) -> Márton | I9: =IF($B9="","",VLOOKUP($B9,'B-III.kcs-U11-Z-F elo'!$A$7:$O$22,4)) -> Koch V.Gimn.,Ált.Isk., Óvoda és Koll. | L9: =IF(K9="","",CONCATENATE(VLOOKUP($Y$3,$AB$1:$AK$1,K9)," pont")) | AA9: VII | AB9: 10 | AC9: 6 | AD9: 4 | AE9: 2 | AF9: 1 | AG9: 0 | AH9: 0 | AI9: 0 | AJ9: 0 | AK9: 0
AA10: VIII | AB10: 6 | AC10: 3 | AD10: 2 | AE10: 1 | AF10: 0 | AG10: 0 | AH10: 0 | AI10: 0 | AJ10: 0 | AK10: 0
A11: C | B11: 8 | C11: =IF($B11="","",VLOOKUP($B11,'B-III.kcs-U11-Z-F elo'!$A$7:$O$22,5)) -> 150909 | D11: =IF($B11="","",VLOOKUP($B11,'B-III.kcs-U11-Z-F elo'!$A$7:$O$22,15)) -> 0 | E11: =UPPER(IF($B11="","",VLOOKUP($B11,'B-III.kcs-U11-Z-F elo'!$A$7:$O$22,2))) -> STIVICS-NAGY | G11: =IF($B11="","",VLOOKUP($B11,'B-III.kcs-U11-Z-F elo'!$A$7:$O$22,3)) -> Milos | I11: =IF($B11="","",VLOOKUP($B11,'B-III.kcs-U11-Z-F elo'!$A$7:$O$22,4)) -> Park Utcai Kat.Ált.Isk. és Óvoda, Mohács | L11: =IF(K11="","",CONCATENATE(VLOOKUP($Y$3,$AB$1:$AK$1,K11)," pont")) | AA11: W | AB11: 3 | AC11: 2 | AD11: 1 | AE11: 0 | AF11: 0 | AG11: 0 | AH11: 0 | AI11: 0 | AJ11: 0 | AK11: 0
AA12: X | AB12: 0 | AC12: 0 | AD12: 0 | AE12: 0 | AF12: 0 | AG12: 0 | AH12: 0 | AI12: 0 | AJ12: 0 | AK12: 0
AA13: XI | AB13: 0 | AC13: 0 | AD13: 0 | AE13: 0 | AF13: 0 | AG13: 0 | AH13: 0 | AI13: 0 | AJ13: 0 | AK13: 0
AA16: A | AB16: 300 | AC16: 250 | AD16: 220 | AE16: 180 | AF16: 160 | AG16: 150 | AH16: 140 | AI16: 130 | AJ16: 120 | AK16: 110
AA17: I | AB17: 250 | AC17: 200 | AD17: 160 | AE17: 140 | AF17: 120 | AG17: 110 | AH17: 100 | AI17: 90 | AJ17: 80 | AK17: 70
D18: =E7 -> ARNOLD | F18: =E9 -> CZIGER | H18: =E11 -> STIVICS-NAGY | K18: Helyezés | AA18: II | AB18: 200 | AC18: 150 | AD18: 130 | AE18: 110 | AF18: 95 | AG18: 80 | AH18: 70 | AI18: 60 | AJ18: 55 | AK18: 50
A19: A | B19: =E7 -> ARNOLD | F19: 41 | H19: 41 | K19: I. | P19: . | AA19: III | AB19: 150 | AC19: 120 | AD19: 100 | AE19: 80 | AF19: 70 | AG19: 60 | AH19: 55 | AI19: 50 | AJ19: 45 | AK19: 40
A20: B | B20: =E9 -> CZIGER | D20: 14 | H20: 40 | K20: II. | AA20: IV | AB20: 120 | AC20: 90 | AD20: 65 | AE20: 55 | AF20: 50 | AG20: 45 | AH20: 40 | AI20: 35 | AJ20: 25 | AK20: 20
A21: C | B21: =E11 -> STIVICS-NAGY | D21: 14 | F21: 04 | K21: III. | AA21: V | AB21: 90 | AC21: 60 | AD21: 45 | AE21: 34 | AF21: 27 | AG21: 22 | AH21: 18 | AI21: 15 | AJ21: 12 | AK21: 9
AA22: VI | AB22: 60 | AC22: 40 | AD22: 30 | AE22: 20 | AF22: 18 | AG22: 15 | AH22: 12 | AI22: 10 | AJ22: 8 | AK22: 6
AA23: VII | AB23: 40 | AC23: 25 | AD23: 18 | AE23: 13 | AF23: 8 | AG23: 7 | AH23: 6 | AI23: 5 | AJ23: 4 | AK23: 3
AA24: VIII | AB24: 25 | AC24: 15 | AD24: 13 | AE24: 7 | AF24: 6 | AG24: 5 | AH24: 4 | AI24: 3 | AJ24: 2 | AK24: 1
AA25: W | AB25: 15 | AC25: 10 | AD25: 8 | AE25: 4 | AF25: 3 | AG25: 2 | AH25: 1 | AI25: 0 | AJ25: 0 | AK25: 0
AA26: X | AB26: 10 | AC26: 6 | AD26: 4 | AE26: 2 | AF26: 1 | AG26: 0 | AH26: 0 | AI26: 0 | AJ26: 0 | AK26: 0
AA27: XI | AB27: 3 | AC27: 2 | AD27: 1 | AE27: 0 | AF27: 0 | AG27: 0 | AH27: 0 | AI27: 0 | AJ27: 0 | AK27: 0
A33: Rangsor | D33: # | E33: Kiemeltek | G33: # | H33: Szerencés Vesztes | J33: Helyettesíti | K33: Sorsolás időpontja
A34: Dátuma | G34: 1 | K34: Utolsó elfogadott játékos
A35: Utolsó DA | G35: 2
G36: 3 | K36: Sorsoló játékosok
G37: 4
G38: 5
G39: 6 | K39: Versenybíró aláírása
G40: 7
G41: 8 | K41: =L4 -> #REF!

Sheet B-III.kcs-U11-Z-F-2-3.csop.
A1: =[3]Altalanos!$A$6 -> #REF! | H1: Egyéni főtábla | AB1: =IF(Y5=1,CONCATENATE(VLOOKUP(Y3,AA16:AH27,2)),CONCATENATE(VLOOKUP(Y3,AA2:AK13,2))) -> #REF! | AC1: =IF(Y5=1,CONCATENATE(VLOOKUP(Y3,AA16:AK27,3)),CONCATENATE(VLOOKUP(Y3,AA2:AK13,3))) -> #REF! | AD1: =IF(Y5=1,CONCATENATE(VLOOKUP(Y3,AA16:AK27,4)),CONCATENATE(VLOOKUP(Y3,AA2:AK13,4))) -> #REF! | AE1: =IF(Y5=1,CONCATENATE(VLOOKUP(Y3,AA16:AK27,5)),CONCATENATE(VLOOKUP(Y3,AA2:AK13,5))) -> #REF! | AF1: =IF(Y5=1,CONCATENATE(VLOOKUP(Y3,AA16:AK27,6)),CONCATENATE(VLOOKUP(Y3,AA2:AK13,6))) -> #REF! | AG1: =IF(Y5=1,CONCATENATE(VLOOKUP(Y3,AA16:AK27,7)),CONCATENATE(VLOOKUP(Y3,AA2:AK13,7))) -> #REF! | AH1: =IF(Y5=1,CONCATENATE(VLOOKUP(Y3,AA16:AK27,8)),CONCATENATE(VLOOKUP(Y3,AA2:AK13,8))) -> #REF! | AI1: =IF(Y5=1,CONCATENATE(VLOOKUP(Y3,AA16:AK27,9)),CONCATENATE(VLOOKUP(Y3,AA2:AK13,9))) -> #REF! | AJ1: =IF(Y5=1,CONCATENATE(VLOOKUP(Y3,AA16:AK27,10)),CONCATENATE(VLOOKUP(Y3,AA2:AK13,10))) -> #REF! | AK1: =IF(Y5=1,CONCATENATE(VLOOKUP(Y3,AA16:AK27,11)),CONCATENATE(VLOOKUP(Y3,AA2:AK13,11))) -> #REF!
A2: Versenyszám: | E2: =[3]Altalanos!$E$8 -> #REF! | H2: 2-3. csoport | AA2: A | AB2: 150 | AC2: 120 | AD2: 100 | AE2: 80 | AF2: 70 | AG2: 60 | AH2: 55 | AI2: 50 | AJ2: 45 | AK2: 40
A3: Dátum | E3: Város | H3: Kategória | L3: Versenybíró | Y3: =IF(H4="OB","A",IF(H4="IX","W",H4)) -> 0 | AA3: I | AB3: 120 | AC3: 90 | AD3: 65 | AE3: 55 | AF3: 50 | AG3: 45 | AH3: 40 | AI3: 35 | AJ3: 25 | AK3: 20
A4: =[3]Altalanos!$A$10 -> #REF! | E4: =[3]Altalanos!$C$10 -> #REF! | L4: =[3]Altalanos!$E$10 -> #REF! | AA4: II | AB4: 90 | AC4: 60 | AD4: 45 | AE4: 34 | AF4: 27 | AG4: 22 | AH4: 18 | AI4: 15 | AJ4: 12 | AK4: 9
B5: kiem | C5: kódszám | D5: Rangsor | E5: Vezetéknév | G5: Keresztnév | I5: Egyesület | K5: Helyezés | L5: Pontszám | M5: Bónusz | O5: 1 FORDULÓ | P5: B - C | R5: 1 FORDULÓ | S5: E - F | Y5: =IF(OR([3]Altalanos!$A$8="F1",[3]Altalanos!$A$8="F2",[3]Altalanos!$A$8="N1",[3]Altalanos!$A$8="N2"),1,2) -> #REF! | AA5: III | AB5: 60 | AC5: 40 | AD5: 30 | AE5: 20 | AF5: 18 | AG5: 15 | AH5: 12 | AI5: 10 | AJ5: 8 | AK5: 6
O6: 2 FORDULÓ | P6: C - A | R6: 2 FORDULÓ | S6: F - D | AA6: IV | AB6: 40 | AC6: 25 | AD6: 18 | AE6: 13 | AF6: 10 | AG6: 8 | AH6: 6 | AI6: 5 | AJ6: 4 | AK6: 3
A7: A | B7: 3 | C7: =IF($B7="","",VLOOKUP($B7,'B-III.kcs-U11-Z-F elo'!$A$7:$O$22,5)) -> 151102 | D7: =IF($B7="","",VLOOKUP($B7,'B-III.kcs-U11-Z-F elo'!$A$7:$O$22,15)) -> 0 | E7: =UPPER(IF($B7="","",VLOOKUP($B7,'B-III.kcs-U11-Z-F elo'!$A$7:$O$22,2))) -> FÉTH | G7: =IF($B7="","",VLOOKUP($B7,'B-III.kcs-U11-Z-F elo'!$A$7:$O$22,3)) -> Péter | I7: =IF($B7="","",VLOOKUP($B7,'B-III.kcs-U11-Z-F elo'!$A$7:$O$22,4)) -> Park Utcai Kat.Ált.Isk. és Óvoda, Mohács | L7: =IF(K7="","",CONCATENATE(VLOOKUP($Y$3,$AB$1:$AK$1,K7)," pont")) | O7: 3 FORDULÓ | P7: A - B | R7: 3 FORDULÓ | S7: D - E | AA7: V | AB7: 25 | AC7: 15 | AD7: 13 | AE7: 8 | AF7: 6 | AG7: 4 | AH7: 3 | AI7: 2 | AJ7: 1 | AK7: 0
AA8: VI | AB8: 15 | AC8: 10 | AD8: 7 | AE8: 5 | AF8: 4 | AG8: 3 | AH8: 2 | AI8: 1 | AJ8: 0 | AK8: 0
A9: B | B9: 4 | C9: =IF($B9="","",VLOOKUP($B9,'B-III.kcs-U11-Z-F elo'!$A$7:$O$22,5)) -> 151214 | D9: =IF($B9="","",VLOOKUP($B9,'B-III.kcs-U11-Z-F elo'!$A$7:$O$22,15)) -> 0 | E9: =UPPER(IF($B9="","",VLOOKUP($B9,'B-III.kcs-U11-Z-F elo'!$A$7:$O$22,2))) -> GERNEDL | G9: =IF($B9="","",VLOOKUP($B9,'B-III.kcs-U11-Z-F elo'!$A$7:$O$22,3)) -> Ádám Márk | I9: =IF($B9="","",VLOOKUP($B9,'B-III.kcs-U11-Z-F elo'!$A$7:$O$22,4)) -> Koch V.Gimn.,Ált.Isk.,Óvoda és Koll. | L9: =IF(K9="","",CONCATENATE(VLOOKUP($Y$3,$AB$1:$AK$1,K9)," pont")) | AA9: VII | AB9: 10 | AC9: 6 | AD9: 4 | AE9: 2 | AF9: 1 | AG9: 0 | AH9: 0 | AI9: 0 | AJ9: 0 | AK9: 0
AA10: VIII | AB10: 6 | AC10: 3 | AD10: 2 | AE10: 1 | AF10: 0 | AG10: 0 | AH10: 0 | AI10: 0 | AJ10: 0 | AK10: 0
A11: C | B11: 7 | C11: =IF($B11="","",VLOOKUP($B11,'B-III.kcs-U11-Z-F elo'!$A$7:$O$22,5)) -> 151122 | D11: =IF($B11="","",VLOOKUP($B11,'B-III.kcs-U11-Z-F elo'!$A$7:$O$22,15)) -> 0 | E11: =UPPER(IF($B11="","",VLOOKUP($B11,'B-III.kcs-U11-Z-F elo'!$A$7:$O$22,2))) -> RUTTERSCHMIDT | G11: =IF($B11="","",VLOOKUP($B11,'B-III.kcs-U11-Z-F elo'!$A$7:$O$22,3)) -> Erik | I11: =IF($B11="","",VLOOKUP($B11,'B-III.kcs-U11-Z-F elo'!$A$7:$O$22,4)) -> Boldog Gizella Kat.Ált Isk. és Óvoda Mohács | L11: =IF(K11="","",CONCATENATE(VLOOKUP($Y$3,$AB$1:$AK$1,K11)," pont")) | AA11: W | AB11: 3 | AC11: 2 | AD11: 1 | AE11: 0 | AF11: 0 | AG11: 0 | AH11: 0 | AI11: 0 | AJ11: 0 | AK11: 0
AA12: X | AB12: 0 | AC12: 0 | AD12: 0 | AE12: 0 | AF12: 0 | AG12: 0 | AH12: 0 | AI12: 0 | AJ12: 0 | AK12: 0
A13: D | B13: 6 | C13: =IF($B13="","",VLOOKUP($B13,'B-III.kcs-U11-Z-F elo'!$A$7:$O$22,5)) -> 150807 | D13: =IF($B13="","",VLOOKUP($B13,'B-III.kcs-U11-Z-F elo'!$A$7:$O$22,15)) -> 0 | E13: =UPPER(IF($B13="","",VLOOKUP($B13,'B-III.kcs-U11-Z-F elo'!$A$7:$O$22,2))) -> RÁBAI | G13: =IF($B13="","",VLOOKUP($B13,'B-III.kcs-U11-Z-F elo'!$A$7:$O$22,3)) -> Nándor Áron | I13: =IF($B13="","",VLOOKUP($B13,'B-III.kcs-U11-Z-F elo'!$A$7:$O$22,4)) -> Koch V.Gimn.,Ált.Isk.,Óvoda és Koll. | L13: =IF(K13="","",CONCATENATE(VLOOKUP($Y$3,$AB$1:$AK$1,K13)," pont")) | AA13: XI | AB13: 0 | AC13: 0 | AD13: 0 | AE13: 0 | AF13: 0 | AG13: 0 | AH13: 0 | AI13: 0 | AJ13: 0 | AK13: 0
A15: E | B15: 5 | C15: =IF($B15="","",VLOOKUP($B15,'B-III.kcs-U11-Z-F elo'!$A$7:$O$22,5)) -> 150910 | D15: =IF($B15="","",VLOOKUP($B15,'B-III.kcs-U11-Z-F elo'!$A$7:$O$22,15)) -> 0 | E15: =UPPER(IF($B15="","",VLOOKUP($B15,'B-III.kcs-U11-Z-F elo'!$A$7:$O$22,2))) -> HASANOVIC | G15: =IF($B15="","",VLOOKUP($B15,'B-III.kcs-U11-Z-F elo'!$A$7:$O$22,3)) -> Ármin | I15: =IF($B15="","",VLOOKUP($B15,'B-III.kcs-U11-Z-F elo'!$A$7:$O$22,4)) -> Mohács Térségi Ált.Isk. | L15: =IF(K15="","",CONCATENATE(VLOOKUP($Y$3,$AB$1:$AK$1,K15)," pont"))
AA16: A | AB16: 300 | AC16: 250 | AD16: 220 | AE16: 180 | AF16: 160 | AG16: 150 | AH16: 140 | AI16: 130 | AJ16: 120 | AK16: 110
A17: F | B17: 9 | C17: =IF($B17="","",VLOOKUP($B17,'B-III.kcs-U11-Z-F elo'!$A$7:$O$22,5)) -> 150217 | D17: =IF($B17="","",VLOOKUP($B17,'B-III.kcs-U11-Z-F elo'!$A$7:$O$22,15)) -> 0 | E17: =UPPER(IF($B17="","",VLOOKUP($B17,'B-III.kcs-U11-Z-F elo'!$A$7:$O$22,2))) -> SZIGETI-KOVÁCS | G17: =IF($B17="","",VLOOKUP($B17,'B-III.kcs-U11-Z-F elo'!$A$7:$O$22,3)) -> Mátyás József | I17: =IF($B17="","",VLOOKUP($B17,'B-III.kcs-U11-Z-F elo'!$A$7:$O$22,4)) -> Park Utcai Kat.Ált.Isk. és Óvoda, Mohács | L17: =IF(K17="","",CONCATENATE(VLOOKUP($Y$3,$AB$1:$AK$1,K17)," pont")) | AA17: I | AB17: 250 | AC17: 200 | AD17: 160 | AE17: 140 | AF17: 120 | AG17: 110 | AH17: 100 | AI17: 90 | AJ17: 80 | AK17: 70
AA18: II | AB18: 200 | AC18: 150 | AD18: 130 | AE18: 110 | AF18: 95 | AG18: 80 | AH18: 70 | AI18: 60 | AJ18: 55 | AK18: 50
AA19: III | AB19: 150 | AC19: 120 | AD19: 100 | AE19: 80 | AF19: 70 | AG19: 60 | AH19: 55 | AI19: 50 | AJ19: 45 | AK19: 40
AA20: IV | AB20: 120 | AC20: 90 | AD20: 65 | AE20: 55 | AF20: 50 | AG20: 45 | AH20: 40 | AI20: 35 | AJ20: 25 | AK20: 20
AA21: V | AB21: 90 | AC21: 60 | AD21: 45 | AE21: 34 | AF21: 27 | AG21: 22 | AH21: 18 | AI21: 15 | AJ21: 12 | AK21: 9
D22: =E7 -> FÉTH | F22: =E9 -> GERNEDL | H22: =E11 -> RUTTERSCHMIDT | M22: Helyezés | AA22: VI | AB22: 60 | AC22: 40 | AD22: 30 | AE22: 20 | AF22: 18 | AG22: 15 | AH22: 12 | AI22: 10 | AJ22: 8 | AK22: 6
A23: A | B23: =E7 -> FÉTH | F23: 40 | H23: 40 | M23: I. | AA23: VII | AB23: 40 | AC23: 25 | AD23: 18 | AE23: 13 | AF23: 8 | AG23: 7 | AH23: 6 | AI23: 5 | AJ23: 4 | AK23: 3
A24: B | B24: =E9 -> GERNEDL | D24: 04 | H24: 54(5) | M24: II. | AA24: VIII | AB24: 25 | AC24: 15 | AD24: 13 | AE24: 7 | AF24: 6 | AG24: 5 | AH24: 4 | AI24: 3 | AJ24: 2 | AK24: 1
A25: C | B25: =E11 -> RUTTERSCHMIDT | D25: 04 | F25: 45 | M25: III. | AA25: W | AB25: 15 | AC25: 10 | AD25: 8 | AE25: 4 | AF25: 3 | AG25: 2 | AH25: 1 | AI25: 0 | AJ25: 0 | AK25: 0
AA26: X | AB26: 10 | AC26: 6 | AD26: 4 | AE26: 2 | AF26: 1 | AG26: 0 | AH26: 0 | AI26: 0 | AJ26: 0 | AK26: 0
D27: =E13 -> RÁBAI | F27: =E15 -> HASANOVIC | H27: =E17 -> SZIGETI-KOVÁCS | AA27: XI | AB27: 3 | AC27: 2 | AD27: 1 | AE27: 0 | AF27: 0 | AG27: 0 | AH27: 0 | AI27: 0 | AJ27: 0 | AK27: 0
A28: D | B28: =E13 -> RÁBAI | F28: 04 | H28: 42 | M28: II.
A29: E | B29: =E15 -> HASANOVIC | D29: 40 | H29: 41 | M29: I.
A30: F | B30: =E17 -> SZIGETI-KOVÁCS | D30: 24 | F30: 14 | M30: III.
A32: Döntő | C32: =IF(M23=1,B23,IF(M24=1,B24,IF(M25=1,B25,""))) | E32: vs. | F32: =IF(M28=1,B28,IF(M29=1,B29,IF(M30=1,B30,"")))
A34: 3. hely | C34: =IF(M23=2,B23,IF(M24=2,B24,IF(M25=2,B25,""))) | E34: vs. | F34: =IF(M28=2,B28,IF(M29=2,B29,IF(M30=2,B30,"")))
A36: 5. hely | C36: =IF(M23=3,B23,IF(M24=3,B24,IF(M25=3,B25,""))) | E36: vs. | F36: =IF(M28=3,B28,IF(M29=3,B29,IF(M30=3,B30,"")))
A39: Rangsor | D39: # | E39: Kiemeltek | G39: # | H39: Szerencés Vesztes | J39: Helyettesíti | K39: Sorsolás időpontja
A40: Dátuma | G40: 1 | K40: Utolsó elfogadott játékos
A41: Utolsó DA | G41: 2
G42: 3 | K42: Sorsoló játékosok
G43: 4
G44: 5
G45: 6 | K45: Versenybíró aláírása
G46: 7
G47: 8 | K47: =L4 -> #REF! | R47: =MIN(4,'B-III.kcs-U11-Z-F elo'!Q5) -> 4

Sheet B-III.kcs-U11-Z-F-Döntő
A1: =[3]Altalanos!$A$6 -> #REF! | H1: Egyéni főtábla | AB1: =IF(Y5=1,CONCATENATE(VLOOKUP(Y3,AA14:AH24,2)),CONCATENATE(VLOOKUP(Y3,AA2:AK11,2))) -> #REF! | AC1: =IF(Y5=1,CONCATENATE(VLOOKUP(Y3,AA14:AK24,3)),CONCATENATE(VLOOKUP(Y3,AA2:AK11,3))) -> #REF! | AD1: =IF(Y5=1,CONCATENATE(VLOOKUP(Y3,AA14:AK24,4)),CONCATENATE(VLOOKUP(Y3,AA2:AK11,4))) -> #REF! | AE1: =IF(Y5=1,CONCATENATE(VLOOKUP(Y3,AA14:AK24,5)),CONCATENATE(VLOOKUP(Y3,AA2:AK11,5))) -> #REF! | AF1: =IF(Y5=1,CONCATENATE(VLOOKUP(Y3,AA14:AK24,6)),CONCATENATE(VLOOKUP(Y3,AA2:AK11,6))) -> #REF! | AG1: =IF(Y5=1,CONCATENATE(VLOOKUP(Y3,AA14:AK24,7)),CONCATENATE(VLOOKUP(Y3,AA2:AK11,7))) -> #REF! | AH1: =IF(Y5=1,CONCATENATE(VLOOKUP(Y3,AA14:AK24,8)),CONCATENATE(VLOOKUP(Y3,AA2:AK11,8))) -> #REF! | AI1: =IF(Y5=1,CONCATENATE(VLOOKUP(Y3,AA14:AK24,9)),CONCATENATE(VLOOKUP(Y3,AA2:AK11,9))) -> #REF! | AJ1: =IF(Y5=1,CONCATENATE(VLOOKUP(Y3,AA14:AK24,10)),CONCATENATE(VLOOKUP(Y3,AA2:AK11,10))) -> #REF! | AK1: =IF(Y5=1,CONCATENATE(VLOOKUP(Y3,AA14:AK24,11)),CONCATENATE(VLOOKUP(Y3,AA2:AK11,11))) -> #REF!
A2: Versenyszám: | E2: =[3]Altalanos!$E$8 -> #REF! | H2: Döntő | AA2: A | AB2: 150 | AC2: 120 | AD2: 100 | AE2: 80 | AF2: 70 | AG2: 60 | AH2: 55 | AI2: 50 | AJ2: 45 | AK2: 40
A3: Dátum | E3: Város | H3: Kategória | M3: Versenybíró | Q3: 1 FORDULÓ | R3: B - C | S3: A -D | Y3: =IF(H4="OB","A",IF(H4="IX","W",H4)) -> 0 | AA3: I | AB3: 120 | AC3: 90 | AD3: 65 | AE3: 55 | AF3: 50 | AG3: 45 | AH3: 40 | AI3: 35 | AJ3: 25 | AK3: 20
A4: =[3]Altalanos!$A$10 -> #REF! | E4: =[3]Altalanos!$C$10 -> #REF! | M4: =[3]Altalanos!$E$10 -> #REF! | Q4: 2 FORDULÓ | R4: C - A | S4: D - B | AA4: II | AB4: 90 | AC4: 60 | AD4: 45 | AE4: 34 | AF4: 27 | AG4: 22 | AH4: 18 | AI4: 15 | AJ4: 12 | AK4: 9
B5: kiem | C5: kódszám | D5: Rangsor | E5: Vezetéknév | G5: Keresztnév | I5: Egyesület | K5: Helyezés | L5: Pontszám | M5: Bónusz | Q5: 3 FORDULÓ | R5: A - B | S5: C - D | Y5: =IF(OR([3]Altalanos!$A$8="F1",[3]Altalanos!$A$8="F2",[3]Altalanos!$A$8="N1",[3]Altalanos!$A$8="N2"),1,2) -> #REF! | AA5: III | AB5: 60 | AC5: 40 | AD5: 30 | AE5: 20 | AF5: 18 | AG5: 15 | AH5: 12 | AI5: 10 | AJ5: 8 | AK5: 6
AA6: IV | AB6: 40 | AC6: 25 | AD6: 18 | AE6: 13 | AF6: 10 | AG6: 8 | AH6: 6 | AI6: 5 | AJ6: 4 | AK6: 3
A7: A | B7: 1 | C7: =IF($B7="","",VLOOKUP($B7,'B-III.kcs-U11-Z-F elo'!$A$7:$O$22,5)) -> 150524 | D7: =IF($B7="","",VLOOKUP($B7,'B-III.kcs-U11-Z-F elo'!$A$7:$O$22,15)) -> 0 | E7: =UPPER(IF($B7="","",VLOOKUP($B7,'B-III.kcs-U11-Z-F elo'!$A$7:$O$22,2))) -> ARNOLD | G7: =IF($B7="","",VLOOKUP($B7,'B-III.kcs-U11-Z-F elo'!$A$7:$O$22,3)) -> Benedek | I7: =IF($B7="","",VLOOKUP($B7,'B-III.kcs-U11-Z-F elo'!$A$7:$O$22,4)) -> Bólyi Általános Iskola és AMI | K7: II. | AA7: V | AB7: 25 | AC7: 15 | AD7: 13 | AE7: 8 | AF7: 6 | AG7: 4 | AH7: 3 | AI7: 2 | AJ7: 1 | AK7: 0
AA8: VI | AB8: 15 | AC8: 10 | AD8: 7 | AE8: 5 | AF8: 4 | AG8: 3 | AH8: 2 | AI8: 1 | AJ8: 0 | AK8: 0
A9: B | B9: 3 | C9: =IF($B9="","",VLOOKUP($B9,'B-III.kcs-U11-Z-F elo'!$A$7:$O$22,5)) -> 151102 | D9: =IF($B9="","",VLOOKUP($B9,'B-III.kcs-U11-Z-F elo'!$A$7:$O$22,15)) -> 0 | E9: =UPPER(IF($B9="","",VLOOKUP($B9,'B-III.kcs-U11-Z-F elo'!$A$7:$O$22,2))) -> FÉTH | G9: =IF($B9="","",VLOOKUP($B9,'B-III.kcs-U11-Z-F elo'!$A$7:$O$22,3)) -> Péter | I9: =IF($B9="","",VLOOKUP($B9,'B-III.kcs-U11-Z-F elo'!$A$7:$O$22,4)) -> Park Utcai Kat.Ált.Isk. és Óvoda, Mohács | K9: I. | AA9: VII | AB9: 10 | AC9: 6 | AD9: 4 | AE9: 2 | AF9: 1 | AG9: 0 | AH9: 0 | AI9: 0 | AJ9: 0 | AK9: 0
AA10: VIII | AB10: 6 | AC10: 3 | AD10: 2 | AE10: 1 | AF10: 0 | AG10: 0 | AH10: 0 | AI10: 0 | AJ10: 0 | AK10: 0
A11: C | B11: 5 | C11: =IF($B11="","",VLOOKUP($B11,'B-III.kcs-U11-Z-F elo'!$A$7:$O$22,5)) -> 150910 | D11: =IF($B11="","",VLOOKUP($B11,'B-III.kcs-U11-Z-F elo'!$A$7:$O$22,15)) -> 0 | E11: =UPPER(IF($B11="","",VLOOKUP($B11,'B-III.kcs-U11-Z-F elo'!$A$7:$O$22,2))) -> HASANOVIC | G11: =IF($B11="","",VLOOKUP($B11,'B-III.kcs-U11-Z-F elo'!$A$7:$O$22,3)) -> Ármin | I11: =IF($B11="","",VLOOKUP($B11,'B-III.kcs-U11-Z-F elo'!$A$7:$O$22,4)) -> Mohács Térségi Ált.Isk. | K11: III. | AA11: W | AB11: 3 | AC11: 2 | AD11: 1 | AE11: 0 | AF11: 0 | AG11: 0 | AH11: 0 | AI11: 0 | AJ11: 0 | AK11: 0
AA14: A | AB14: 300 | AC14: 250 | AD14: 220 | AE14: 180 | AF14: 160 | AG14: 150 | AH14: 140 | AI14: 130 | AJ14: 120 | AK14: 110
AA15: I | AB15: 250 | AC15: 200 | AD15: 160 | AE15: 140 | AF15: 120 | AG15: 110 | AH15: 100 | AI15: 90 | AJ15: 80 | AK15: 70
D16: =E7 -> ARNOLD | F16: =E9 -> FÉTH | H16: =E11 -> HASANOVIC | Y16: II | Z16: 200 | AA16: 150 | AB16: 130 | AC16: 110 | AD16: 95 | AE16: 80 | AF16: 70 | AG16: 60 | AH16: 55 | AI16: 50
A17: A | B17: =E7 -> ARNOLD | F17: 14 | H17: 42 | Y17: III | Z17: 150 | AA17: 120 | AB17: 100 | AC17: 80 | AD17: 70 | AE17: 60 | AF17: 55 | AG17: 50 | AH17: 45 | AI17: 40
A18: B | B18: =E9 -> FÉTH | D18: 41 | H18: 41 | Y18: IV | Z18: 120 | AA18: 90 | AB18: 65 | AC18: 55 | AD18: 50 | AE18: 45 | AF18: 40 | AG18: 35 | AH18: 25 | AI18: 20
A19: C | B19: =E11 -> HASANOVIC | D19: 24 | F19: 14 | Y19: V | Z19: 90 | AA19: 60 | AB19: 45 | AC19: 34 | AD19: 27 | AE19: 22 | AF19: 18 | AG19: 15 | AH19: 12 | AI19: 9
AA20: VII | AB20: 40 | AC20: 25 | AD20: 18 | AE20: 13 | AF20: 8 | AG20: 7 | AH20: 6 | AI20: 5 | AJ20: 4 | AK20: 3
AA21: VIII | AB21: 25 | AC21: 15 | AD21: 13 | AE21: 7 | AF21: 6 | AG21: 5 | AH21: 4 | AI21: 3 | AJ21: 2 | AK21: 1
AA22: W | AB22: 15 | AC22: 10 | AD22: 8 | AE22: 4 | AF22: 3 | AG22: 2 | AH22: 1 | AI22: 0 | AJ22: 0 | AK22: 0
AA23: X | AB23: 10 | AC23: 6 | AD23: 4 | AE23: 2 | AF23: 1 | AG23: 0 | AH23: 0 | AI23: 0 | AJ23: 0 | AK23: 0
AA24: XI | AB24: 3 | AC24: 2 | AD24: 1 | AE24: 0 | AF24: 0 | AG24: 0 | AH24: 0 | AI24: 0 | AJ24: 0 | AK24: 0
A30: Rangsor | D30: # | E30: Kiemeltek | G30: # | H30: Szerencés Vesztes | J30: Helyettesíti | K30: Sorsolás időpontja
A31: Dátuma | G31: 1 | K31: Utolsó elfogadott játékos
A32: Utolsó DA | G32: 2
G33: 3 | K33: Sorsoló játékosok
G34: 4
G35: 5
G36: 6 | K36: Versenybíró aláírása
G37: 7
G38: 8 | K38: =M4 -> #REF!

Sheet B-III.kcs-U11-Z-L elo
A1: =[1]Altalanos!$A$6 -> #REF! | E1: Egyéni főtábla
B2: Versenyszám: | C2: =[1]Altalanos!$A$8 -> #REF! | E2: ELŐKÉSZÍTŐ LISTA
A3: NE TÖRÖLD KI EZT AZ OLDALT! | N3: Versenybíró aláírása
A4: Dátum | C4: Város | D4: Kategória | H4: Versenybíró
A5: =[1]Altalanos!$A$10 -> #REF! | C5: =[1]Altalanos!$C$10 -> #REF! | D5: =[1]Altalanos!$D$10 -> #REF! | H5: =[1]Altalanos!$E$10 -> #REF!
A6: Sor | B6: Családi név | C6: Keresztnév | D6: Egyesület | E6: Kódszám | F6: Nevezett Igen | G6: Aláírás | H6: Nevezési rangsor | J6: NatSort if not Seed | K6: NatSort | L6: Seed Sort | M6: AccBasic | N6: Elfogadási státusz | O6: Sorsolási rangsor | P6: AccSort | Q6: Kiemelés
A7: 1 | B7: Eckert | C7: Édua | D7: Park Utcai Kat.Ált.Isk. és Óvoda, Mohács | E7: 150813
A8: 2 | B8: Hottó | C8: Olivia Hannah | D8: Koch V. Gimn.,Ált.Isk.,Óvoda és Koll. | E8: 150625
A9: 3 | B9: Lindenlaub | C9: Anna | D9: Park Utcai Kat.Ált.Isk. és Óvoda | E9: 150401
A10: 4
A11: 5
A12: 6
A13: 7
A14: 8
A15: 9
A16: 10
A17: 11
A18: 12
A19: 13
A20: 14
A21: 15
... A39: 33
A40: 34 | J40: =IF(AND(Q40="",#REF!>0,#REF!<5),K40,) -> #REF! | K40: =IF(D40="","ZZZ9",IF(AND(#REF!>0,#REF!<5),D40&#REF!,D40&"9")) -> ZZZ9 | L40: =IF(Q40="",999,Q40) -> 999 | M40: =IF(P40=999,999,1) -> 999 | P40: =IF(N40="DA",1,IF(N40="WC",2,IF(N40="SE",3,IF(N40="Q",4,IF(N40="LL",5,999))))) -> 999
A41: 35 | J41: =IF(AND(Q41="",#REF!>0,#REF!<5),K41,) -> #REF! | K41: =IF(D41="","ZZZ9",IF(AND(#REF!>0,#REF!<5),D41&#REF!,D41&"9")) -> ZZZ9 | L41: =IF(Q41="",999,Q41) -> 999 | M41: =IF(P41=999,999,1) -> 999 | P41: =IF(N41="DA",1,IF(N41="WC",2,IF(N41="SE",3,IF(N41="Q",4,IF(N41="LL",5,999))))) -> 999
A42: 36 | J42: =IF(AND(Q42="",#REF!>0,#REF!<5),K42,) -> #REF! | K42: =IF(D42="","ZZZ9",IF(AND(#REF!>0,#REF!<5),D42&#REF!,D42&"9")) -> ZZZ9 | L42: =IF(Q42="",999,Q42) -> 999 | M42: =IF(P42=999,999,1) -> 999 | P42: =IF(N42="DA",1,IF(N42="WC",2,IF(N42="SE",3,IF(N42="Q",4,IF(N42="LL",5,999))))) -> 999
A43: 37 | J43: =IF(AND(Q43="",#REF!>0,#REF!<5),K43,) -> #REF! | K43: =IF(D43="","ZZZ9",IF(AND(#REF!>0,#REF!<5),D43&#REF!,D43&"9")) -> ZZZ9 | L43: =IF(Q43="",999,Q43) -> 999 | M43: =IF(P43=999,999,1) -> 999 | P43: =IF(N43="DA",1,IF(N43="WC",2,IF(N43="SE",3,IF(N43="Q",4,IF(N43="LL",5,999))))) -> 999
A44: 38 | J44: =IF(AND(Q44="",#REF!>0,#REF!<5),K44,) -> #REF! | K44: =IF(D44="","ZZZ9",IF(AND(#REF!>0,#REF!<5),D44&#REF!,D44&"9")) -> ZZZ9 | L44: =IF(Q44="",999,Q44) -> 999 | M44: =IF(P44=999,999,1) -> 999 | P44: =IF(N44="DA",1,IF(N44="WC",2,IF(N44="SE",3,IF(N44="Q",4,IF(N44="LL",5,999))))) -> 999
A45: 39 | J45: =IF(AND(Q45="",#REF!>0,#REF!<5),K45,) -> #REF! | K45: =IF(D45="","ZZZ9",IF(AND(#REF!>0,#REF!<5),D45&#REF!,D45&"9")) -> ZZZ9 | L45: =IF(Q45="",999,Q45) -> 999 | M45: =IF(P45=999,999,1) -> 999 | P45: =IF(N45="DA",1,IF(N45="WC",2,IF(N45="SE",3,IF(N45="Q",4,IF(N45="LL",5,999))))) -> 999
A46: 40 | J46: =IF(AND(Q46="",#REF!>0,#REF!<5),K46,) -> #REF! | K46: =IF(D46="","ZZZ9",IF(AND(#REF!>0,#REF!<5),D46&#REF!,D46&"9")) -> ZZZ9 | L46: =IF(Q46="",999,Q46) -> 999 | M46: =IF(P46=999,999,1) -> 999 | P46: =IF(N46="DA",1,IF(N46="WC",2,IF(N46="SE",3,IF(N46="Q",4,IF(N46="LL",5,999))))) -> 999
A47: 41 | J47: =IF(AND(Q47="",#REF!>0,#REF!<5),K47,) -> #REF! | K47: =IF(D47="","ZZZ9",IF(AND(#REF!>0,#REF!<5),D47&#REF!,D47&"9")) -> ZZZ9 | L47: =IF(Q47="",999,Q47) -> 999 | M47: =IF(P47=999,999,1) -> 999 | P47: =IF(N47="DA",1,IF(N47="WC",2,IF(N47="SE",3,IF(N47="Q",4,IF(N47="LL",5,999))))) -> 999
A48: 42 | J48: =IF(AND(Q48="",#REF!>0,#REF!<5),K48,) -> #REF! | K48: =IF(D48="","ZZZ9",IF(AND(#REF!>0,#REF!<5),D48&#REF!,D48&"9")) -> ZZZ9 | L48: =IF(Q48="",999,Q48) -> 999 | M48: =IF(P48=999,999,1) -> 999 | P48: =IF(N48="DA",1,IF(N48="WC",2,IF(N48="SE",3,IF(N48="Q",4,IF(N48="LL",5,999))))) -> 999
A49: 43 | J49: =IF(AND(Q49="",#REF!>0,#REF!<5),K49,) -> #REF! | K49: =IF(D49="","ZZZ9",IF(AND(#REF!>0,#REF!<5),D49&#REF!,D49&"9")) -> ZZZ9 | L49: =IF(Q49="",999,Q49) -> 999 | M49: =IF(P49=999,999,1) -> 999 | P49: =IF(N49="DA",1,IF(N49="WC",2,IF(N49="SE",3,IF(N49="Q",4,IF(N49="LL",5,999))))) -> 999
A50: 44 | J50: =IF(AND(Q50="",#REF!>0,#REF!<5),K50,) -> #REF! | K50: =IF(D50="","ZZZ9",IF(AND(#REF!>0,#REF!<5),D50&#REF!,D50&"9")) -> ZZZ9 | L50: =IF(Q50="",999,Q50) -> 999 | M50: =IF(P50=999,999,1) -> 999 | P50: =IF(N50="DA",1,IF(N50="WC",2,IF(N50="SE",3,IF(N50="Q",4,IF(N50="LL",5,999))))) -> 999
A51: 45 | J51: =IF(AND(Q51="",#REF!>0,#REF!<5),K51,) -> #REF! | K51: =IF(D51="","ZZZ9",IF(AND(#REF!>0,#REF!<5),D51&#REF!,D51&"9")) -> ZZZ9 | L51: =IF(Q51="",999,Q51) -> 999 | M51: =IF(P51=999,999,1) -> 999 | P51: =IF(N51="DA",1,IF(N51="WC",2,IF(N51="SE",3,IF(N51="Q",4,IF(N51="LL",5,999))))) -> 999
... A156: 150 | J156: =IF(AND(Q156="",#REF!>0,#REF!<5),K156,) -> #REF! | K156: =IF(D156="","ZZZ9",IF(AND(#REF!>0,#REF!<5),D156&#REF!,D156&"9")) -> ZZZ9 | L156: =IF(Q156="",999,Q156) -> 999 | M156: =IF(P156=999,999,1) -> 999 | P156: =IF(N156="DA",1,IF(N156="WC",2,IF(N156="SE",3,IF(N156="Q",4,IF(N156="LL",5,999))))) -> 999

Sheet B-III.kcs-U11-Z-L
A1: =[1]Altalanos!$A$6 -> #REF! | H1: Egyéni főtábla | AB1: =IF(Y5=1,CONCATENATE(VLOOKUP(Y3,AA16:AH27,2)),CONCATENATE(VLOOKUP(Y3,AA2:AK13,2))) -> #REF! | AC1: =IF(Y5=1,CONCATENATE(VLOOKUP(Y3,AA16:AK27,3)),CONCATENATE(VLOOKUP(Y3,AA2:AK13,3))) -> #REF! | AD1: =IF(Y5=1,CONCATENATE(VLOOKUP(Y3,AA16:AK27,4)),CONCATENATE(VLOOKUP(Y3,AA2:AK13,4))) -> #REF! | AE1: =IF(Y5=1,CONCATENATE(VLOOKUP(Y3,AA16:AK27,5)),CONCATENATE(VLOOKUP(Y3,AA2:AK13,5))) -> #REF! | AF1: =IF(Y5=1,CONCATENATE(VLOOKUP(Y3,AA16:AK27,6)),CONCATENATE(VLOOKUP(Y3,AA2:AK13,6))) -> #REF! | AG1: =IF(Y5=1,CONCATENATE(VLOOKUP(Y3,AA16:AK27,7)),CONCATENATE(VLOOKUP(Y3,AA2:AK13,7))) -> #REF! | AH1: =IF(Y5=1,CONCATENATE(VLOOKUP(Y3,AA16:AK27,8)),CONCATENATE(VLOOKUP(Y3,AA2:AK13,8))) -> #REF! | AI1: =IF(Y5=1,CONCATENATE(VLOOKUP(Y3,AA16:AK27,9)),CONCATENATE(VLOOKUP(Y3,AA2:AK13,9))) -> #REF! | AJ1: =IF(Y5=1,CONCATENATE(VLOOKUP(Y3,AA16:AK27,10)),CONCATENATE(VLOOKUP(Y3,AA2:AK13,10))) -> #REF! | AK1: =IF(Y5=1,CONCATENATE(VLOOKUP(Y3,AA16:AK27,11)),CONCATENATE(VLOOKUP(Y3,AA2:AK13,11))) -> #REF!
A2: Versenyszám: | E2: =[1]Altalanos!$A$8 -> #REF! | AA2: A | AB2: 150 | AC2: 120 | AD2: 100 | AE2: 80 | AF2: 70 | AG2: 60 | AH2: 55 | AI2: 50 | AJ2: 45 | AK2: 40
A3: Dátum | E3: Város | H3: Kategória | L3: Versenybíró | Q3: 1 FORDULÓ | R3: B - C | Y3: =IF(H4="OB","A",IF(H4="IX","W",H4)) -> 0 | AA3: I | AB3: 120 | AC3: 90 | AD3: 65 | AE3: 55 | AF3: 50 | AG3: 45 | AH3: 40 | AI3: 35 | AJ3: 25 | AK3: 20
A4: =[1]Altalanos!$A$10 -> #REF! | E4: =[1]Altalanos!$C$10 -> #REF! | L4: =[1]Altalanos!$E$10 -> #REF! | Q4: 2 FORDULÓ | R4: C - A | AA4: II | AB4: 90 | AC4: 60 | AD4: 45 | AE4: 34 | AF4: 27 | AG4: 22 | AH4: 18 | AI4: 15 | AJ4: 12 | AK4: 9
B5: kiem | C5: kódszám | D5: Rangsor | E5: Vezetéknév | G5: Keresztnév | I5: Egyesület | K5: Helyezés | L5: Pontszám | M5: Bónusz | Q5: 3 FORDULÓ | R5: A - B | Y5: =IF(OR([1]Altalanos!$A$8="F1",[1]Altalanos!$A$8="F2",[1]Altalanos!$A$8="N1",[1]Altalanos!$A$8="N2"),1,2) -> #REF! | AA5: III | AB5: 60 | AC5: 40 | AD5: 30 | AE5: 20 | AF5: 18 | AG5: 15 | AH5: 12 | AI5: 10 | AJ5: 8 | AK5: 6
AA6: IV | AB6: 40 | AC6: 25 | AD6: 18 | AE6: 13 | AF6: 10 | AG6: 8 | AH6: 6 | AI6: 5 | AJ6: 4 | AK6: 3
A7: A | B7: 2 | C7: =IF($B7="","",VLOOKUP($B7,'B-III.kcs-U11-Z-L elo'!$A$7:$O$22,5)) -> 150625 | D7: =IF($B7="","",VLOOKUP($B7,'B-III.kcs-U11-Z-L elo'!$A$7:$O$22,15)) -> 0 | E7: =UPPER(IF($B7="","",VLOOKUP($B7,'B-III.kcs-U11-Z-L elo'!$A$7:$O$22,2))) -> HOTTÓ | G7: =IF($B7="","",VLOOKUP($B7,'B-III.kcs-U11-Z-L elo'!$A$7:$O$22,3)) -> Olivia Hannah | I7: =IF($B7="","",VLOOKUP($B7,'B-III.kcs-U11-Z-L elo'!$A$7:$O$22,4)) -> Koch V. Gimn.,Ált.Isk.,Óvoda és Koll. | K7: I. | AA7: V | AB7: 25 | AC7: 15 | AD7: 13 | AE7: 8 | AF7: 6 | AG7: 4 | AH7: 3 | AI7: 2 | AJ7: 1 | AK7: 0
AA8: VI | AB8: 15 | AC8: 10 | AD8: 7 | AE8: 5 | AF8: 4 | AG8: 3 | AH8: 2 | AI8: 1 | AJ8: 0 | AK8: 0
A9: B | B9: 1 | C9: =IF($B9="","",VLOOKUP($B9,'B-III.kcs-U11-Z-L elo'!$A$7:$O$22,5)) -> 150813 | D9: =IF($B9="","",VLOOKUP($B9,'B-III.kcs-U11-Z-L elo'!$A$7:$O$22,15)) -> 0 | E9: =UPPER(IF($B9="","",VLOOKUP($B9,'B-III.kcs-U11-Z-L elo'!$A$7:$O$22,2))) -> ECKERT | G9: =IF($B9="","",VLOOKUP($B9,'B-III.kcs-U11-Z-L elo'!$A$7:$O$22,3)) -> Édua | I9: =IF($B9="","",VLOOKUP($B9,'B-III.kcs-U11-Z-L elo'!$A$7:$O$22,4)) -> Park Utcai Kat.Ált.Isk. és Óvoda, Mohács | K9: III. | AA9: VII | AB9: 10 | AC9: 6 | AD9: 4 | AE9: 2 | AF9: 1 | AG9: 0 | AH9: 0 | AI9: 0 | AJ9: 0 | AK9: 0
AA10: VIII | AB10: 6 | AC10: 3 | AD10: 2 | AE10: 1 | AF10: 0 | AG10: 0 | AH10: 0 | AI10: 0 | AJ10: 0 | AK10: 0
A11: C | B11: 3 | C11: =IF($B11="","",VLOOKUP($B11,'B-III.kcs-U11-Z-L elo'!$A$7:$O$22,5)) -> 150401 | D11: =IF($B11="","",VLOOKUP($B11,'B-III.kcs-U11-Z-L elo'!$A$7:$O$22,15)) -> 0 | E11: =UPPER(IF($B11="","",VLOOKUP($B11,'B-III.kcs-U11-Z-L elo'!$A$7:$O$22,2))) -> LINDENLAUB | G11: =IF($B11="","",VLOOKUP($B11,'B-III.kcs-U11-Z-L elo'!$A$7:$O$22,3)) -> Anna | I11: =IF($B11="","",VLOOKUP($B11,'B-III.kcs-U11-Z-L elo'!$A$7:$O$22,4)) -> Park Utcai Kat.Ált.Isk. és Óvoda | K11: II. | AA11: W | AB11: 3 | AC11: 2 | AD11: 1 | AE11: 0 | AF11: 0 | AG11: 0 | AH11: 0 | AI11: 0 | AJ11: 0 | AK11: 0
AA12: X | AB12: 0 | AC12: 0 | AD12: 0 | AE12: 0 | AF12: 0 | AG12: 0 | AH12: 0 | AI12: 0 | AJ12: 0 | AK12: 0
AA13: XI | AB13: 0 | AC13: 0 | AD13: 0 | AE13: 0 | AF13: 0 | AG13: 0 | AH13: 0 | AI13: 0 | AJ13: 0 | AK13: 0
AA16: A | AB16: 300 | AC16: 250 | AD16: 220 | AE16: 180 | AF16: 160 | AG16: 150 | AH16: 140 | AI16: 130 | AJ16: 120 | AK16: 110
AA17: I | AB17: 250 | AC17: 200 | AD17: 160 | AE17: 140 | AF17: 120 | AG17: 110 | AH17: 100 | AI17: 90 | AJ17: 80 | AK17: 70
D18: =E7 -> HOTTÓ | F18: =E9 -> ECKERT | H18: =E11 -> LINDENLAUB | AA18: II | AB18: 200 | AC18: 150 | AD18: 130 | AE18: 110 | AF18: 95 | AG18: 80 | AH18: 70 | AI18: 60 | AJ18: 55 | AK18: 50
A19: A | B19: =E7 -> HOTTÓ | F19: 42 | H19: 53 | AA19: III | AB19: 150 | AC19: 120 | AD19: 100 | AE19: 80 | AF19: 70 | AG19: 60 | AH19: 55 | AI19: 50 | AJ19: 45 | AK19: 40
A20: B | B20: =E9 -> ECKERT | D20: 24 | H20: 45 | AA20: IV | AB20: 120 | AC20: 90 | AD20: 65 | AE20: 55 | AF20: 50 | AG20: 45 | AH20: 40 | AI20: 35 | AJ20: 25 | AK20: 20
A21: C | B21: =E11 -> LINDENLAUB | D21: 35 | F21: 54(4) | AA21: V | AB21: 90 | AC21: 60 | AD21: 45 | AE21: 34 | AF21: 27 | AG21: 22 | AH21: 18 | AI21: 15 | AJ21: 12 | AK21: 9
AA22: VI | AB22: 60 | AC22: 40 | AD22: 30 | AE22: 20 | AF22: 18 | AG22: 15 | AH22: 12 | AI22: 10 | AJ22: 8 | AK22: 6
AA23: VII | AB23: 40 | AC23: 25 | AD23: 18 | AE23: 13 | AF23: 8 | AG23: 7 | AH23: 6 | AI23: 5 | AJ23: 4 | AK23: 3
AA24: VIII | AB24: 25 | AC24: 15 | AD24: 13 | AE24: 7 | AF24: 6 | AG24: 5 | AH24: 4 | AI24: 3 | AJ24: 2 | AK24: 1
AA25: W | AB25: 15 | AC25: 10 | AD25: 8 | AE25: 4 | AF25: 3 | AG25: 2 | AH25: 1 | AI25: 0 | AJ25: 0 | AK25: 0
AA26: X | AB26: 10 | AC26: 6 | AD26: 4 | AE26: 2 | AF26: 1 | AG26: 0 | AH26: 0 | AI26: 0 | AJ26: 0 | AK26: 0
AA27: XI | AB27: 3 | AC27: 2 | AD27: 1 | AE27: 0 | AF27: 0 | AG27: 0 | AH27: 0 | AI27: 0 | AJ27: 0 | AK27: 0
A33: Rangsor | D33: # | E33: Kiemeltek | G33: # | H33: Szerencés Vesztes | J33: Helyettesíti | K33: Sorsolás időpontja
A34: Dátuma | G34: 1 | K34: Utolsó elfogadott játékos
A35: Utolsó DA | G35: 2
G36: 3 | K36: Sorsoló játékosok
G37: 4
G38: 5
G39: 6 | K39: Versenybíró aláírása
G40: 7
G41: 8 | K41: =L4 -> #REF!

Sheet B-IV.kcs-U12-F elo
A1: =[1]Altalanos!$A$6 -> #REF! | E1: Egyéni főtábla
B2: Versenyszám: | C2: =[1]Altalanos!$B$8 -> #REF! | E2: ELŐKÉSZÍTŐ LISTA
A3: NE TÖRÖLD KI EZT AZ OLDALT! | N3: Versenybíró aláírása
A4: Dátum | C4: Város | D4: Kategória | H4: Versenybíró
A5: =[1]Altalanos!$A$10 -> #REF! | C5: =[1]Altalanos!$C$10 -> #REF! | D5: =[1]Altalanos!$D$10 -> #REF! | H5: =[1]Altalanos!$E$10 -> #REF!
A6: Sor | B6: Családi név | C6: Keresztnév | D6: Egyesület | E6: Kódszám | F6: Nevezett Igen | G6: Aláírás | H6: Nevezési rangsor | J6: NatSort if not Seed | K6: NatSort | L6: Seed Sort | M6: AccBasic | N6: Elfogadási státusz | O6: Sorsolási rangsor | P6: AccSort | Q6: Kiemelés
A7: 1 | B7: Csere | C7: Vilmos Tamás | D7: Koch Valéria Gimn.,Ált.Isk.,Óvoda és Koll. | E7: 140526
A8: 2 | B8: Horvát | C8: Botond | D8: Bólyi Általános Iskola és AMI | E8: 140707
A9: 3 | B9: Magyarosi | C9: Krisztián | D9: Park Utcai Kat.Ált.Isk. és Óvoda, Mohács | E9: 140221
A10: 4 | B10: Polyák | C10: Marcell | D10: Park Utcai Kat.Ált.Isk. és Óvoda, Mohács | E10: 141117
A11: 5 | B11: Szomor | C11: Máté | D11: Pécsi Belvárosi Általános Iskola | E11: 140127
A12: 6
A13: 7
A14: 8
A15: 9 | E15: elo
A16: 10
A17: 11
A18: 12
A19: 13
A20: 14
A21: 15
A22: 16
A23: 17
A24: 18
A25: 19
A26: 20
A27: 21
... A39: 33
A40: 34 | J40: =IF(AND(Q40="",#REF!>0,#REF!<5),K40,) -> #REF! | K40: =IF(D40="","ZZZ9",IF(AND(#REF!>0,#REF!<5),D40&#REF!,D40&"9")) -> ZZZ9 | L40: =IF(Q40="",999,Q40) -> 999 | M40: =IF(P40=999,999,1) -> 999 | P40: =IF(N40="DA",1,IF(N40="WC",2,IF(N40="SE",3,IF(N40="Q",4,IF(N40="LL",5,999))))) -> 999
A41: 35 | J41: =IF(AND(Q41="",#REF!>0,#REF!<5),K41,) -> #REF! | K41: =IF(D41="","ZZZ9",IF(AND(#REF!>0,#REF!<5),D41&#REF!,D41&"9")) -> ZZZ9 | L41: =IF(Q41="",999,Q41) -> 999 | M41: =IF(P41=999,999,1) -> 999 | P41: =IF(N41="DA",1,IF(N41="WC",2,IF(N41="SE",3,IF(N41="Q",4,IF(N41="LL",5,999))))) -> 999
A42: 36 | J42: =IF(AND(Q42="",#REF!>0,#REF!<5),K42,) -> #REF! | K42: =IF(D42="","ZZZ9",IF(AND(#REF!>0,#REF!<5),D42&#REF!,D42&"9")) -> ZZZ9 | L42: =IF(Q42="",999,Q42) -> 999 | M42: =IF(P42=999,999,1) -> 999 | P42: =IF(N42="DA",1,IF(N42="WC",2,IF(N42="SE",3,IF(N42="Q",4,IF(N42="LL",5,999))))) -> 999
A43: 37 | J43: =IF(AND(Q43="",#REF!>0,#REF!<5),K43,) -> #REF! | K43: =IF(D43="","ZZZ9",IF(AND(#REF!>0,#REF!<5),D43&#REF!,D43&"9")) -> ZZZ9 | L43: =IF(Q43="",999,Q43) -> 999 | M43: =IF(P43=999,999,1) -> 999 | P43: =IF(N43="DA",1,IF(N43="WC",2,IF(N43="SE",3,IF(N43="Q",4,IF(N43="LL",5,999))))) -> 999
A44: 38 | J44: =IF(AND(Q44="",#REF!>0,#REF!<5),K44,) -> #REF! | K44: =IF(D44="","ZZZ9",IF(AND(#REF!>0,#REF!<5),D44&#REF!,D44&"9")) -> ZZZ9 | L44: =IF(Q44="",999,Q44) -> 999 | M44: =IF(P44=999,999,1) -> 999 | P44: =IF(N44="DA",1,IF(N44="WC",2,IF(N44="SE",3,IF(N44="Q",4,IF(N44="LL",5,999))))) -> 999
A45: 39 | J45: =IF(AND(Q45="",#REF!>0,#REF!<5),K45,) -> #REF! | K45: =IF(D45="","ZZZ9",IF(AND(#REF!>0,#REF!<5),D45&#REF!,D45&"9")) -> ZZZ9 | L45: =IF(Q45="",999,Q45) -> 999 | M45: =IF(P45=999,999,1) -> 999 | P45: =IF(N45="DA",1,IF(N45="WC",2,IF(N45="SE",3,IF(N45="Q",4,IF(N45="LL",5,999))))) -> 999
A46: 40 | J46: =IF(AND(Q46="",#REF!>0,#REF!<5),K46,) -> #REF! | K46: =IF(D46="","ZZZ9",IF(AND(#REF!>0,#REF!<5),D46&#REF!,D46&"9")) -> ZZZ9 | L46: =IF(Q46="",999,Q46) -> 999 | M46: =IF(P46=999,999,1) -> 999 | P46: =IF(N46="DA",1,IF(N46="WC",2,IF(N46="SE",3,IF(N46="Q",4,IF(N46="LL",5,999))))) -> 999
A47: 41 | J47: =IF(AND(Q47="",#REF!>0,#REF!<5),K47,) -> #REF! | K47: =IF(D47="","ZZZ9",IF(AND(#REF!>0,#REF!<5),D47&#REF!,D47&"9")) -> ZZZ9 | L47: =IF(Q47="",999,Q47) -> 999 | M47: =IF(P47=999,999,1) -> 999 | P47: =IF(N47="DA",1,IF(N47="WC",2,IF(N47="SE",3,IF(N47="Q",4,IF(N47="LL",5,999))))) -> 999
A48: 42 | J48: =IF(AND(Q48="",#REF!>0,#REF!<5),K48,) -> #REF! | K48: =IF(D48="","ZZZ9",IF(AND(#REF!>0,#REF!<5),D48&#REF!,D48&"9")) -> ZZZ9 | L48: =IF(Q48="",999,Q48) -> 999 | M48: =IF(P48=999,999,1) -> 999 | P48: =IF(N48="DA",1,IF(N48="WC",2,IF(N48="SE",3,IF(N48="Q",4,IF(N48="LL",5,999))))) -> 999
A49: 43 | J49: =IF(AND(Q49="",#REF!>0,#REF!<5),K49,) -> #REF! | K49: =IF(D49="","ZZZ9",IF(AND(#REF!>0,#REF!<5),D49&#REF!,D49&"9")) -> ZZZ9 | L49: =IF(Q49="",999,Q49) -> 999 | M49: =IF(P49=999,999,1) -> 999 | P49: =IF(N49="DA",1,IF(N49="WC",2,IF(N49="SE",3,IF(N49="Q",4,IF(N49="LL",5,999))))) -> 999
A50: 44 | J50: =IF(AND(Q50="",#REF!>0,#REF!<5),K50,) -> #REF! | K50: =IF(D50="","ZZZ9",IF(AND(#REF!>0,#REF!<5),D50&#REF!,D50&"9")) -> ZZZ9 | L50: =IF(Q50="",999,Q50) -> 999 | M50: =IF(P50=999,999,1) -> 999 | P50: =IF(N50="DA",1,IF(N50="WC",2,IF(N50="SE",3,IF(N50="Q",4,IF(N50="LL",5,999))))) -> 999
A51: 45 | J51: =IF(AND(Q51="",#REF!>0,#REF!<5),K51,) -> #REF! | K51: =IF(D51="","ZZZ9",IF(AND(#REF!>0,#REF!<5),D51&#REF!,D51&"9")) -> ZZZ9 | L51: =IF(Q51="",999,Q51) -> 999 | M51: =IF(P51=999,999,1) -> 999 | P51: =IF(N51="DA",1,IF(N51="WC",2,IF(N51="SE",3,IF(N51="Q",4,IF(N51="LL",5,999))))) -> 999
... A156: 150 | J156: =IF(AND(Q156="",#REF!>0,#REF!<5),K156,) -> #REF! | K156: =IF(D156="","ZZZ9",IF(AND(#REF!>0,#REF!<5),D156&#REF!,D156&"9")) -> ZZZ9 | L156: =IF(Q156="",999,Q156) -> 999 | M156: =IF(P156=999,999,1) -> 999 | P156: =IF(N156="DA",1,IF(N156="WC",2,IF(N156="SE",3,IF(N156="Q",4,IF(N156="LL",5,999))))) -> 999

Sheet B-IV.kcs-U12-F
A1: =[1]Altalanos!$A$6 -> #REF! | H1: Egyéni főtábla | AB1: =IF(Y5=1,CONCATENATE(VLOOKUP(Y3,AA16:AH27,2)),CONCATENATE(VLOOKUP(Y3,AA2:AK13,2))) -> #REF! | AC1: =IF(Y5=1,CONCATENATE(VLOOKUP(Y3,AA16:AK27,3)),CONCATENATE(VLOOKUP(Y3,AA2:AK13,3))) -> #REF! | AD1: =IF(Y5=1,CONCATENATE(VLOOKUP(Y3,AA16:AK27,4)),CONCATENATE(VLOOKUP(Y3,AA2:AK13,4))) -> #REF! | AE1: =IF(Y5=1,CONCATENATE(VLOOKUP(Y3,AA16:AK27,5)),CONCATENATE(VLOOKUP(Y3,AA2:AK13,5))) -> #REF! | AF1: =IF(Y5=1,CONCATENATE(VLOOKUP(Y3,AA16:AK27,6)),CONCATENATE(VLOOKUP(Y3,AA2:AK13,6))) -> #REF! | AG1: =IF(Y5=1,CONCATENATE(VLOOKUP(Y3,AA16:AK27,7)),CONCATENATE(VLOOKUP(Y3,AA2:AK13,7))) -> #REF! | AH1: =IF(Y5=1,CONCATENATE(VLOOKUP(Y3,AA16:AK27,8)),CONCATENATE(VLOOKUP(Y3,AA2:AK13,8))) -> #REF! | AI1: =IF(Y5=1,CONCATENATE(VLOOKUP(Y3,AA16:AK27,9)),CONCATENATE(VLOOKUP(Y3,AA2:AK13,9))) -> #REF! | AJ1: =IF(Y5=1,CONCATENATE(VLOOKUP(Y3,AA16:AK27,10)),CONCATENATE(VLOOKUP(Y3,AA2:AK13,10))) -> #REF! | AK1: =IF(Y5=1,CONCATENATE(VLOOKUP(Y3,AA16:AK27,11)),CONCATENATE(VLOOKUP(Y3,AA2:AK13,11))) -> #REF!
A2: Versenyszám: | E2: =[1]Altalanos!$B$8 -> #REF! | AA2: A | AB2: 150 | AC2: 120 | AD2: 100 | AE2: 80 | AF2: 70 | AG2: 60 | AH2: 55 | AI2: 50 | AJ2: 45 | AK2: 40
A3: Dátum | E3: Város | H3: Kategória | L3: Versenybíró | Y3: =IF(H4="OB","A",IF(H4="IX","W",H4)) -> 0 | AA3: I | AB3: 120 | AC3: 90 | AD3: 65 | AE3: 55 | AF3: 50 | AG3: 45 | AH3: 40 | AI3: 35 | AJ3: 25 | AK3: 20
A4: =[1]Altalanos!$A$10 -> #REF! | E4: =[1]Altalanos!$C$10 -> #REF! | L4: =[1]Altalanos!$E$10 -> #REF! | P4: 1 FORDULÓ | Q4: B - E | R4: C - D | AA4: II | AB4: 90 | AC4: 60 | AD4: 45 | AE4: 34 | AF4: 27 | AG4: 22 | AH4: 18 | AI4: 15 | AJ4: 12 | AK4: 9
B5: kiem | C5: kódszám | D5: Rangsor | E5: Vezetéknév | G5: Keresztnév | I5: Egyesület | K5: Helyezés | L5: Pontszám | M5: Bónusz | P5: 2 FORDULÓ | Q5: D - B | R5: E - A | Y5: =IF(OR([1]Altalanos!$A$8="F1",[1]Altalanos!$A$8="F2",[1]Altalanos!$A$8="N1",[1]Altalanos!$A$8="N2"),1,2) -> #REF! | AA5: III | AB5: 60 | AC5: 40 | AD5: 30 | AE5: 20 | AF5: 18 | AG5: 15 | AH5: 12 | AI5: 10 | AJ5: 8 | AK5: 6
P6: 3 FORDULÓ | Q6: A - D | R6: B - C | AA6: IV | AB6: 40 | AC6: 25 | AD6: 18 | AE6: 13 | AF6: 10 | AG6: 8 | AH6: 6 | AI6: 5 | AJ6: 4 | AK6: 3
A7: A | B7: 1 | C7: =IF($B7="","",VLOOKUP($B7,'B-IV.kcs-U12-F elo'!$A$7:$O$22,5)) -> 140526 | D7: =IF($B7="","",VLOOKUP($B7,'B-IV.kcs-U12-F elo'!$A$7:$O$22,15)) -> 0 | E7: =UPPER(IF($B7="","",VLOOKUP($B7,'B-IV.kcs-U12-F elo'!$A$7:$O$22,2))) -> CSERE | G7: =IF($B7="","",VLOOKUP($B7,'B-IV.kcs-U12-F elo'!$A$7:$O$22,3)) -> Vilmos Tamás | I7: =IF($B7="","",VLOOKUP($B7,'B-IV.kcs-U12-F elo'!$A$7:$O$22,4)) -> Koch Valéria Gimn.,Ált.Isk.,Óvoda és Koll. | K7: II. | P7: 4 FORDULÓ | Q7: C - A | R7: D - E | AA7: V | AB7: 25 | AC7: 15 | AD7: 13 | AE7: 8 | AF7: 6 | AG7: 4 | AH7: 3 | AI7: 2 | AJ7: 1 | AK7: 0
P8: 5 FORDULÓ | Q8: A - B | R8: E - C | AA8: VI | AB8: 15 | AC8: 10 | AD8: 7 | AE8: 5 | AF8: 4 | AG8: 3 | AH8: 2 | AI8: 1 | AJ8: 0 | AK8: 0
A9: B | B9: 3 | C9: =IF($B9="","",VLOOKUP($B9,'B-IV.kcs-U12-F elo'!$A$7:$O$22,5)) -> 140221 | D9: =IF($B9="","",VLOOKUP($B9,'B-IV.kcs-U12-F elo'!$A$7:$O$22,15)) -> 0 | E9: =UPPER(IF($B9="","",VLOOKUP($B9,'B-IV.kcs-U12-F elo'!$A$7:$O$22,2))) -> MAGYAROSI | G9: =IF($B9="","",VLOOKUP($B9,'B-IV.kcs-U12-F elo'!$A$7:$O$22,3)) -> Krisztián | I9: =IF($B9="","",VLOOKUP($B9,'B-IV.kcs-U12-F elo'!$A$7:$O$22,4)) -> Park Utcai Kat.Ált.Isk. és Óvoda, Mohács | K9: III. | AA9: VII | AB9: 10 | AC9: 6 | AD9: 4 | AE9: 2 | AF9: 1 | AG9: 0 | AH9: 0 | AI9: 0 | AJ9: 0 | AK9: 0
AA10: VIII | AB10: 6 | AC10: 3 | AD10: 2 | AE10: 1 | AF10: 0 | AG10: 0 | AH10: 0 | AI10: 0 | AJ10: 0 | AK10: 0
A11: C | B11: 2 | C11: =IF($B11="","",VLOOKUP($B11,'B-IV.kcs-U12-F elo'!$A$7:$O$22,5)) -> 140707 | D11: =IF($B11="","",VLOOKUP($B11,'B-IV.kcs-U12-F elo'!$A$7:$O$22,15)) -> 0 | E11: =UPPER(IF($B11="","",VLOOKUP($B11,'B-IV.kcs-U12-F elo'!$A$7:$O$22,2))) -> HORVÁT | G11: =IF($B11="","",VLOOKUP($B11,'B-IV.kcs-U12-F elo'!$A$7:$O$22,3)) -> Botond | I11: =IF($B11="","",VLOOKUP($B11,'B-IV.kcs-U12-F elo'!$A$7:$O$22,4)) -> Bólyi Általános Iskola és AMI | K11: 4-5. | AA11: W | AB11: 3 | AC11: 2 | AD11: 1 | AE11: 0 | AF11: 0 | AG11: 0 | AH11: 0 | AI11: 0 | AJ11: 0 | AK11: 0
AA12: X | AB12: 0 | AC12: 0 | AD12: 0 | AE12: 0 | AF12: 0 | AG12: 0 | AH12: 0 | AI12: 0 | AJ12: 0 | AK12: 0
A13: D | B13: 5 | C13: =IF($B13="","",VLOOKUP($B13,'B-IV.kcs-U12-F elo'!$A$7:$O$22,5)) -> 140127 | D13: =IF($B13="","",VLOOKUP($B13,'B-IV.kcs-U12-F elo'!$A$7:$O$22,15)) -> 0 | E13: =UPPER(IF($B13="","",VLOOKUP($B13,'B-IV.kcs-U12-F elo'!$A$7:$O$22,2))) -> SZOMOR | G13: =IF($B13="","",VLOOKUP($B13,'B-IV.kcs-U12-F elo'!$A$7:$O$22,3)) -> Máté | I13: =IF($B13="","",VLOOKUP($B13,'B-IV.kcs-U12-F elo'!$A$7:$O$22,4)) -> Pécsi Belvárosi Általános Iskola | K13: I. | AA13: XI | AB13: 0 | AC13: 0 | AD13: 0 | AE13: 0 | AF13: 0 | AG13: 0 | AH13: 0 | AI13: 0 | AJ13: 0 | AK13: 0
A15: E | B15: 4 | C15: =IF($B15="","",VLOOKUP($B15,'B-IV.kcs-U12-F elo'!$A$7:$O$22,5)) -> 141117 | D15: =IF($B15="","",VLOOKUP($B15,'B-IV.kcs-U12-F elo'!$A$7:$O$22,15)) -> 0 | E15: =UPPER(IF($B15="","",VLOOKUP($B15,'B-IV.kcs-U12-F elo'!$A$7:$O$22,2))) -> POLYÁK | G15: =IF($B15="","",VLOOKUP($B15,'B-IV.kcs-U12-F elo'!$A$7:$O$22,3)) -> Marcell | I15: =IF($B15="","",VLOOKUP($B15,'B-IV.kcs-U12-F elo'!$A$7:$O$22,4)) -> Park Utcai Kat.Ált.Isk. és Óvoda, Mohács | K15: 4-5.
AA16: A | AB16: 300 | AC16: 250 | AD16: 220 | AE16: 180 | AF16: 160 | AG16: 150 | AH16: 140 | AI16: 130 | AJ16: 120 | AK16: 110
AA17: I | AB17: 250 | AC17: 200 | AD17: 160 | AE17: 140 | AF17: 120 | AG17: 110 | AH17: 100 | AI17: 90 | AJ17: 80 | AK17: 70
D18: =E7 -> CSERE | F18: =E9 -> MAGYAROSI | H18: =E11 -> HORVÁT | J18: =E13 -> SZOMOR | L18: =E15 -> POLYÁK | AA18: II | AB18: 200 | AC18: 150 | AD18: 130 | AE18: 110 | AF18: 95 | AG18: 80 | AH18: 70 | AI18: 60 | AJ18: 55 | AK18: 50
A19: A | B19: =E7 -> CSERE | F19: 53 40 | H19: 40 41 | J19: 14 35 | L19: 40 42 | N19: 3 1 | AA19: III | AB19: 150 | AC19: 120 | AD19: 100 | AE19: 80 | AF19: 70 | AG19: 60 | AH19: 55 | AI19: 50 | AJ19: 45 | AK19: 40
A20: B | B20: =E9 -> MAGYAROSI | D20: 35 04 | H20: 42 42 | J20: 14 42 510 | L20: 53 42 | N20: 2 2 | AA20: IV | AB20: 120 | AC20: 90 | AD20: 65 | AE20: 55 | AF20: 50 | AG20: 45 | AH20: 40 | AI20: 35 | AJ20: 25 | AK20: 20
A21: C | B21: =E11 -> HORVÁT | D21: 04 14 | F21: 24 24 | J21: 04 04 | L21: - | N21: -3 | AA21: V | AB21: 90 | AC21: 60 | AD21: 45 | AE21: 34 | AF21: 27 | AG21: 22 | AH21: 18 | AI21: 15 | AJ21: 12 | AK21: 9
A22: D | B22: =E13 -> SZOMOR | D22: 41 53 | F22: 41 24 105 | H22: 40 40 | L22: 40 42 | N22: 4 - | AA22: VI | AB22: 60 | AC22: 40 | AD22: 30 | AE22: 20 | AF22: 18 | AG22: 15 | AH22: 12 | AI22: 10 | AJ22: 8 | AK22: 6
A23: E | B23: =E15 -> POLYÁK | D23: 04 24 | F23: 35 24 | H23: - | J23: 04 24 | N23: -3 | AA23: VII | AB23: 40 | AC23: 25 | AD23: 18 | AE23: 13 | AF23: 8 | AG23: 7 | AH23: 6 | AI23: 5 | AJ23: 4 | AK23: 3
AA24: VIII | AB24: 25 | AC24: 15 | AD24: 13 | AE24: 7 | AF24: 6 | AG24: 5 | AH24: 4 | AI24: 3 | AJ24: 2 | AK24: 1
AA25: W | AB25: 15 | AC25: 10 | AD25: 8 | AE25: 4 | AF25: 3 | AG25: 2 | AH25: 1 | AI25: 0 | AJ25: 0 | AK25: 0
AA26: X | AB26: 10 | AC26: 6 | AD26: 4 | AE26: 2 | AF26: 1 | AG26: 0 | AH26: 0 | AI26: 0 | AJ26: 0 | AK26: 0
AA27: XI | AB27: 3 | AC27: 2 | AD27: 1 | AE27: 0 | AF27: 0 | AG27: 0 | AH27: 0 | AI27: 0 | AJ27: 0 | AK27: 0
A33: Rangsor | D33: # | E33: Kiemeltek | G33: # | H33: Szerencés Vesztes | J33: Helyettesíti | K33: Sorsolás időpontja
A34: Dátuma | G34: 1 | K34: Utolsó elfogadott játékos
A35: Utolsó DA | G35: 2
G36: 3 | K36: Sorsoló játékosok
G37: 4
G38: 5
G39: 6 | K39: Versenybíró aláírása
G40: 7
G41: 8 | K41: =L4 -> #REF!

Sheet B-IV.kcs-U12-L elo
A1: =[1]Altalanos!$A$6 -> #REF! | E1: Egyéni főtábla
B2: Versenyszám: | C2: B-IV.kcs-U12-L | E2: ELŐKÉSZÍTŐ LISTA
A3: NE TÖRÖLD KI EZT AZ OLDALT! | N3: Versenybíró aláírása
A4: Dátum | C4: Város | D4: Kategória | H4: Versenybíró
A5: =[1]Altalanos!$A$10 -> #REF! | C5: =[1]Altalanos!$C$10 -> #REF! | D5: =[1]Altalanos!$D$10 -> #REF! | H5: =[1]Altalanos!$E$10 -> #REF!
A6: Sor | B6: Családi név | C6: Keresztnév | D6: Egyesület | E6: Kódszám | F6: Nevezett Igen | G6: Aláírás | H6: Nevezési rangsor | J6: NatSort if not Seed | K6: NatSort | L6: Seed Sort | M6: AccBasic | N6: Elfogadási státusz | O6: Sorsolási rangsor | P6: AccSort | Q6: Kiemelés
A7: 1 | B7: Reisz | C7: Inez | D7: Bólyi Általános Iskola és AMI | E7: 141105
A8: 2 | B8: Vilyevácz | C8: Alexandra | D8: Miroslav Krleža Horvát Ó,Ált.Isk.Gimn. és Koll. | E8: 140817
A9: 3
A10: 4
A11: 5
A12: 6
A13: 7
A14: 8
A15: 9
A16: 10
A17: 11
A18: 12
A19: 13
A20: 14
... A39: 33
A40: 34 | J40: =IF(AND(Q40="",#REF!>0,#REF!<5),K40,) -> #REF! | K40: =IF(D40="","ZZZ9",IF(AND(#REF!>0,#REF!<5),D40&#REF!,D40&"9")) -> ZZZ9 | L40: =IF(Q40="",999,Q40) -> 999 | M40: =IF(P40=999,999,1) -> 999 | P40: =IF(N40="DA",1,IF(N40="WC",2,IF(N40="SE",3,IF(N40="Q",4,IF(N40="LL",5,999))))) -> 999
A41: 35 | J41: =IF(AND(Q41="",#REF!>0,#REF!<5),K41,) -> #REF! | K41: =IF(D41="","ZZZ9",IF(AND(#REF!>0,#REF!<5),D41&#REF!,D41&"9")) -> ZZZ9 | L41: =IF(Q41="",999,Q41) -> 999 | M41: =IF(P41=999,999,1) -> 999 | P41: =IF(N41="DA",1,IF(N41="WC",2,IF(N41="SE",3,IF(N41="Q",4,IF(N41="LL",5,999))))) -> 999
A42: 36 | J42: =IF(AND(Q42="",#REF!>0,#REF!<5),K42,) -> #REF! | K42: =IF(D42="","ZZZ9",IF(AND(#REF!>0,#REF!<5),D42&#REF!,D42&"9")) -> ZZZ9 | L42: =IF(Q42="",999,Q42) -> 999 | M42: =IF(P42=999,999,1) -> 999 | P42: =IF(N42="DA",1,IF(N42="WC",2,IF(N42="SE",3,IF(N42="Q",4,IF(N42="LL",5,999))))) -> 999
A43: 37 | J43: =IF(AND(Q43="",#REF!>0,#REF!<5),K43,) -> #REF! | K43: =IF(D43="","ZZZ9",IF(AND(#REF!>0,#REF!<5),D43&#REF!,D43&"9")) -> ZZZ9 | L43: =IF(Q43="",999,Q43) -> 999 | M43: =IF(P43=999,999,1) -> 999 | P43: =IF(N43="DA",1,IF(N43="WC",2,IF(N43="SE",3,IF(N43="Q",4,IF(N43="LL",5,999))))) -> 999
A44: 38 | J44: =IF(AND(Q44="",#REF!>0,#REF!<5),K44,) -> #REF! | K44: =IF(D44="","ZZZ9",IF(AND(#REF!>0,#REF!<5),D44&#REF!,D44&"9")) -> ZZZ9 | L44: =IF(Q44="",999,Q44) -> 999 | M44: =IF(P44=999,999,1) -> 999 | P44: =IF(N44="DA",1,IF(N44="WC",2,IF(N44="SE",3,IF(N44="Q",4,IF(N44="LL",5,999))))) -> 999
A45: 39 | J45: =IF(AND(Q45="",#REF!>0,#REF!<5),K45,) -> #REF! | K45: =IF(D45="","ZZZ9",IF(AND(#REF!>0,#REF!<5),D45&#REF!,D45&"9")) -> ZZZ9 | L45: =IF(Q45="",999,Q45) -> 999 | M45: =IF(P45=999,999,1) -> 999 | P45: =IF(N45="DA",1,IF(N45="WC",2,IF(N45="SE",3,IF(N45="Q",4,IF(N45="LL",5,999))))) -> 999
A46: 40 | J46: =IF(AND(Q46="",#REF!>0,#REF!<5),K46,) -> #REF! | K46: =IF(D46="","ZZZ9",IF(AND(#REF!>0,#REF!<5),D46&#REF!,D46&"9")) -> ZZZ9 | L46: =IF(Q46="",999,Q46) -> 999 | M46: =IF(P46=999,999,1) -> 999 | P46: =IF(N46="DA",1,IF(N46="WC",2,IF(N46="SE",3,IF(N46="Q",4,IF(N46="LL",5,999))))) -> 999
A47: 41 | J47: =IF(AND(Q47="",#REF!>0,#REF!<5),K47,) -> #REF! | K47: =IF(D47="","ZZZ9",IF(AND(#REF!>0,#REF!<5),D47&#REF!,D47&"9")) -> ZZZ9 | L47: =IF(Q47="",999,Q47) -> 999 | M47: =IF(P47=999,999,1) -> 999 | P47: =IF(N47="DA",1,IF(N47="WC",2,IF(N47="SE",3,IF(N47="Q",4,IF(N47="LL",5,999))))) -> 999
A48: 42 | J48: =IF(AND(Q48="",#REF!>0,#REF!<5),K48,) -> #REF! | K48: =IF(D48="","ZZZ9",IF(AND(#REF!>0,#REF!<5),D48&#REF!,D48&"9")) -> ZZZ9 | L48: =IF(Q48="",999,Q48) -> 999 | M48: =IF(P48=999,999,1) -> 999 | P48: =IF(N48="DA",1,IF(N48="WC",2,IF(N48="SE",3,IF(N48="Q",4,IF(N48="LL",5,999))))) -> 999
A49: 43 | J49: =IF(AND(Q49="",#REF!>0,#REF!<5),K49,) -> #REF! | K49: =IF(D49="","ZZZ9",IF(AND(#REF!>0,#REF!<5),D49&#REF!,D49&"9")) -> ZZZ9 | L49: =IF(Q49="",999,Q49) -> 999 | M49: =IF(P49=999,999,1) -> 999 | P49: =IF(N49="DA",1,IF(N49="WC",2,IF(N49="SE",3,IF(N49="Q",4,IF(N49="LL",5,999))))) -> 999
A50: 44 | J50: =IF(AND(Q50="",#REF!>0,#REF!<5),K50,) -> #REF! | K50: =IF(D50="","ZZZ9",IF(AND(#REF!>0,#REF!<5),D50&#REF!,D50&"9")) -> ZZZ9 | L50: =IF(Q50="",999,Q50) -> 999 | M50: =IF(P50=999,999,1) -> 999 | P50: =IF(N50="DA",1,IF(N50="WC",2,IF(N50="SE",3,IF(N50="Q",4,IF(N50="LL",5,999))))) -> 999
A51: 45 | J51: =IF(AND(Q51="",#REF!>0,#REF!<5),K51,) -> #REF! | K51: =IF(D51="","ZZZ9",IF(AND(#REF!>0,#REF!<5),D51&#REF!,D51&"9")) -> ZZZ9 | L51: =IF(Q51="",999,Q51) -> 999 | M51: =IF(P51=999,999,1) -> 999 | P51: =IF(N51="DA",1,IF(N51="WC",2,IF(N51="SE",3,IF(N51="Q",4,IF(N51="LL",5,999))))) -> 999
... A156: 150 | J156: =IF(AND(Q156="",#REF!>0,#REF!<5),K156,) -> #REF! | K156: =IF(D156="","ZZZ9",IF(AND(#REF!>0,#REF!<5),D156&#REF!,D156&"9")) -> ZZZ9 | L156: =IF(Q156="",999,Q156) -> 999 | M156: =IF(P156=999,999,1) -> 999 | P156: =IF(N156="DA",1,IF(N156="WC",2,IF(N156="SE",3,IF(N156="Q",4,IF(N156="LL",5,999))))) -> 999

Sheet B-IV.kcs-U12-L
A1: =[1]Altalanos!$A$6 -> #REF! | H1: Egyéni főtábla | AB1: =IF(Y5=1,CONCATENATE(VLOOKUP(Y3,AA16:AH27,2)),CONCATENATE(VLOOKUP(Y3,AA2:AK13,2))) -> #REF! | AC1: =IF(Y5=1,CONCATENATE(VLOOKUP(Y3,AA16:AK27,3)),CONCATENATE(VLOOKUP(Y3,AA2:AK13,3))) -> #REF! | AD1: =IF(Y5=1,CONCATENATE(VLOOKUP(Y3,AA16:AK27,4)),CONCATENATE(VLOOKUP(Y3,AA2:AK13,4))) -> #REF! | AE1: =IF(Y5=1,CONCATENATE(VLOOKUP(Y3,AA16:AK27,5)),CONCATENATE(VLOOKUP(Y3,AA2:AK13,5))) -> #REF! | AF1: =IF(Y5=1,CONCATENATE(VLOOKUP(Y3,AA16:AK27,6)),CONCATENATE(VLOOKUP(Y3,AA2:AK13,6))) -> #REF! | AG1: =IF(Y5=1,CONCATENATE(VLOOKUP(Y3,AA16:AK27,7)),CONCATENATE(VLOOKUP(Y3,AA2:AK13,7))) -> #REF! | AH1: =IF(Y5=1,CONCATENATE(VLOOKUP(Y3,AA16:AK27,8)),CONCATENATE(VLOOKUP(Y3,AA2:AK13,8))) -> #REF! | AI1: =IF(Y5=1,CONCATENATE(VLOOKUP(Y3,AA16:AK27,9)),CONCATENATE(VLOOKUP(Y3,AA2:AK13,9))) -> #REF! | AJ1: =IF(Y5=1,CONCATENATE(VLOOKUP(Y3,AA16:AK27,10)),CONCATENATE(VLOOKUP(Y3,AA2:AK13,10))) -> #REF! | AK1: =IF(Y5=1,CONCATENATE(VLOOKUP(Y3,AA16:AK27,11)),CONCATENATE(VLOOKUP(Y3,AA2:AK13,11))) -> #REF!
A2: Versenyszám: | E2: B-IV.kcs-U12-L | AA2: A | AB2: 150 | AC2: 120 | AD2: 100 | AE2: 80 | AF2: 70 | AG2: 60 | AH2: 55 | AI2: 50 | AJ2: 45 | AK2: 40
A3: Dátum | E3: Város | H3: Kategória | L3: Versenybíró | Q3: 1 FORDULÓ | R3: B - C | Y3: =IF(H4="OB","A",IF(H4="IX","W",H4)) -> 0 | AA3: I | AB3: 120 | AC3: 90 | AD3: 65 | AE3: 55 | AF3: 50 | AG3: 45 | AH3: 40 | AI3: 35 | AJ3: 25 | AK3: 20
A4: =[1]Altalanos!$A$10 -> #REF! | E4: =[1]Altalanos!$C$10 -> #REF! | L4: =[1]Altalanos!$E$10 -> #REF! | Q4: 2 FORDULÓ | R4: C - A | AA4: II | AB4: 90 | AC4: 60 | AD4: 45 | AE4: 34 | AF4: 27 | AG4: 22 | AH4: 18 | AI4: 15 | AJ4: 12 | AK4: 9
B5: kiem | C5: kódszám | D5: Rangsor | E5: Vezetéknév | G5: Keresztnév | I5: Egyesület | K5: Helyezés | L5: Pontszám | M5: Bónusz | Q5: 3 FORDULÓ | R5: A - B | Y5: =IF(OR([1]Altalanos!$A$8="F1",[1]Altalanos!$A$8="F2",[1]Altalanos!$A$8="N1",[1]Altalanos!$A$8="N2"),1,2) -> #REF! | AA5: III | AB5: 60 | AC5: 40 | AD5: 30 | AE5: 20 | AF5: 18 | AG5: 15 | AH5: 12 | AI5: 10 | AJ5: 8 | AK5: 6
AA6: IV | AB6: 40 | AC6: 25 | AD6: 18 | AE6: 13 | AF6: 10 | AG6: 8 | AH6: 6 | AI6: 5 | AJ6: 4 | AK6: 3
A7: A | B7: 1 | C7: =IF($B7="","",VLOOKUP($B7,'B-IV.kcs-U12-L elo'!$A$7:$O$22,5)) -> 141105 | D7: =IF($B7="","",VLOOKUP($B7,'B-IV.kcs-U12-L elo'!$A$7:$O$22,15)) -> 0 | E7: =UPPER(IF($B7="","",VLOOKUP($B7,'B-IV.kcs-U12-L elo'!$A$7:$O$22,2))) -> REISZ | G7: =IF($B7="","",VLOOKUP($B7,'B-IV.kcs-U12-L elo'!$A$7:$O$22,3)) -> Inez | I7: =IF($B7="","",VLOOKUP($B7,'B-IV.kcs-U12-L elo'!$A$7:$O$22,4)) -> Bólyi Általános Iskola és AMI | K7: II. | AA7: V | AB7: 25 | AC7: 15 | AD7: 13 | AE7: 8 | AF7: 6 | AG7: 4 | AH7: 3 | AI7: 2 | AJ7: 1 | AK7: 0
AA8: VI | AB8: 15 | AC8: 10 | AD8: 7 | AE8: 5 | AF8: 4 | AG8: 3 | AH8: 2 | AI8: 1 | AJ8: 0 | AK8: 0
A9: B | B9: 2 | C9: =IF($B9="","",VLOOKUP($B9,'B-IV.kcs-U12-L elo'!$A$7:$O$22,5)) -> 140817 | D9: =IF($B9="","",VLOOKUP($B9,'B-IV.kcs-U12-L elo'!$A$7:$O$22,15)) -> 0 | E9: =UPPER(IF($B9="","",VLOOKUP($B9,'B-IV.kcs-U12-L elo'!$A$7:$O$22,2))) -> VILYEVÁCZ | G9: =IF($B9="","",VLOOKUP($B9,'B-IV.kcs-U12-L elo'!$A$7:$O$22,3)) -> Alexandra | I9: =IF($B9="","",VLOOKUP($B9,'B-IV.kcs-U12-L elo'!$A$7:$O$22,4)) -> Miroslav Krleža Horvát Ó,Ált.Isk.Gimn. és Koll. | K9: I. | AA9: VII | AB9: 10 | AC9: 6 | AD9: 4 | AE9: 2 | AF9: 1 | AG9: 0 | AH9: 0 | AI9: 0 | AJ9: 0 | AK9: 0
AA10: VIII | AB10: 6 | AC10: 3 | AD10: 2 | AE10: 1 | AF10: 0 | AG10: 0 | AH10: 0 | AI10: 0 | AJ10: 0 | AK10: 0
A11: C | C11: =IF($B11="","",VLOOKUP($B11,'B-IV.kcs-U12-L elo'!$A$7:$O$22,5)) | D11: =IF($B11="","",VLOOKUP($B11,'B-IV.kcs-U12-L elo'!$A$7:$O$22,15)) | E11: =UPPER(IF($B11="","",VLOOKUP($B11,'B-IV.kcs-U12-L elo'!$A$7:$O$22,2))) | G11: =IF($B11="","",VLOOKUP($B11,'B-IV.kcs-U12-L elo'!$A$7:$O$22,3)) | I11: =IF($B11="","",VLOOKUP($B11,'B-IV.kcs-U12-L elo'!$A$7:$O$22,4)) | L11: =IF(K11="","",CONCATENATE(VLOOKUP($Y$3,$AB$1:$AK$1,K11)," pont")) | AA11: W | AB11: 3 | AC11: 2 | AD11: 1 | AE11: 0 | AF11: 0 | AG11: 0 | AH11: 0 | AI11: 0 | AJ11: 0 | AK11: 0
AA12: X | AB12: 0 | AC12: 0 | AD12: 0 | AE12: 0 | AF12: 0 | AG12: 0 | AH12: 0 | AI12: 0 | AJ12: 0 | AK12: 0
AA13: XI | AB13: 0 | AC13: 0 | AD13: 0 | AE13: 0 | AF13: 0 | AG13: 0 | AH13: 0 | AI13: 0 | AJ13: 0 | AK13: 0
AA16: A | AB16: 300 | AC16: 250 | AD16: 220 | AE16: 180 | AF16: 160 | AG16: 150 | AH16: 140 | AI16: 130 | AJ16: 120 | AK16: 110
AA17: I | AB17: 250 | AC17: 200 | AD17: 160 | AE17: 140 | AF17: 120 | AG17: 110 | AH17: 100 | AI17: 90 | AJ17: 80 | AK17: 70
D18: =E7 -> REISZ | F18: =E9 -> VILYEVÁCZ | H18: =E11 | AA18: II | AB18: 200 | AC18: 150 | AD18: 130 | AE18: 110 | AF18: 95 | AG18: 80 | AH18: 70 | AI18: 60 | AJ18: 55 | AK18: 50
A19: A | B19: =E7 -> REISZ | F19: - | AA19: III | AB19: 150 | AC19: 120 | AD19: 100 | AE19: 80 | AF19: 70 | AG19: 60 | AH19: 55 | AI19: 50 | AJ19: 45 | AK19: 40
A20: B | B20: =E9 -> VILYEVÁCZ | D20: jn. | AA20: IV | AB20: 120 | AC20: 90 | AD20: 65 | AE20: 55 | AF20: 50 | AG20: 45 | AH20: 40 | AI20: 35 | AJ20: 25 | AK20: 20
A21: C | B21: =E11 | AA21: V | AB21: 90 | AC21: 60 | AD21: 45 | AE21: 34 | AF21: 27 | AG21: 22 | AH21: 18 | AI21: 15 | AJ21: 12 | AK21: 9
AA22: VI | AB22: 60 | AC22: 40 | AD22: 30 | AE22: 20 | AF22: 18 | AG22: 15 | AH22: 12 | AI22: 10 | AJ22: 8 | AK22: 6
AA23: VII | AB23: 40 | AC23: 25 | AD23: 18 | AE23: 13 | AF23: 8 | AG23: 7 | AH23: 6 | AI23: 5 | AJ23: 4 | AK23: 3
AA24: VIII | AB24: 25 | AC24: 15 | AD24: 13 | AE24: 7 | AF24: 6 | AG24: 5 | AH24: 4 | AI24: 3 | AJ24: 2 | AK24: 1
AA25: W | AB25: 15 | AC25: 10 | AD25: 8 | AE25: 4 | AF25: 3 | AG25: 2 | AH25: 1 | AI25: 0 | AJ25: 0 | AK25: 0
AA26: X | AB26: 10 | AC26: 6 | AD26: 4 | AE26: 2 | AF26: 1 | AG26: 0 | AH26: 0 | AI26: 0 | AJ26: 0 | AK26: 0
AA27: XI | AB27: 3 | AC27: 2 | AD27: 1 | AE27: 0 | AF27: 0 | AG27: 0 | AH27: 0 | AI27: 0 | AJ27: 0 | AK27: 0
A33: Rangsor | D33: # | E33: Kiemeltek | G33: # | H33: Szerencés Vesztes | J33: Helyettesíti | K33: Sorsolás időpontja
A34: Dátuma | G34: 1 | K34: Utolsó elfogadott játékos
A35: Utolsó DA | G35: 2
G36: 3 | K36: Sorsoló játékosok
G37: 4
G38: 5
G39: 6 | K39: Versenybíró aláírása
G40: 7
G41: 8 | K41: =L4 -> #REF!

Sheet B-V.kcs-U14-F elo
A1: =[1]Altalanos!$A$6 -> #REF! | E1: Egyéni főtábla
B2: Versenyszám: | C2: =[1]Altalanos!$D$8 -> #REF! | E2: ELŐKÉSZÍTŐ LISTA
A3: NE TÖRÖLD KI EZT AZ OLDALT! | N3: Versenybíró aláírása
A4: Dátum | C4: Város | D4: Kategória | H4: Versenybíró
A5: =[1]Altalanos!$A$10 -> #REF! | C5: =[1]Altalanos!$C$10 -> #REF! | D5: =[1]Altalanos!$D$10 -> #REF! | H5: =[1]Altalanos!$E$10 -> #REF!
A6: Sor | B6: Családi név | C6: Keresztnév | D6: Egyesület | E6: Kódszám | F6: Nevezett Igen | G6: Aláírás | H6: Nevezési rangsor | J6: NatSort if not Seed | K6: NatSort | L6: Seed Sort | M6: AccBasic | N6: Elfogadási státusz | O6: Sorsolási rangsor | P6: AccSort | Q6: Kiemelés
A7: 1 | B7: Czimmer | C7: Máté | D7: Bogádi Dr. Berze Nagy János Ált. Isk. | E7: 130818
A8: 2 | B8: Horváth | C8: Áron | D8: Koch V. Gimn.,Ált.Isk.,Óvoda és Koll. | E8: 120217
A9: 3 | B9: Li Yutian | C9: Benjamin | D9: Pécsi Jókai Mór Ált.Isk. | E9: 131223
A10: 4 | B10: Lindenlaub | C10: Péter | D10: Park U. Kat.Ált.Isk.és Óvoda, Mohács | E10: 130123
A11: 5 | B11: Pál | C11: Krisztián | D11: Pécsi Belvárosi Ált.Isk. | E11: 131023
A12: 6 | B12: Régaisz | C12: Viktor | D12: Park U. Kat.Ált.Isk. és Óvoda, Mohács | E12: 131018
A13: 7 | B13: Schmidt | C13: Róbert | D13: Bólyi Általános Iskola és AMI | E13: 121021
A14: 8 | B14: Szalai | C14: Benett | D14: Pécsi Bártfa Utcai Ált.Isk. | E14: 121120
A15: 9 | B15: Wimmert | C15: Robin | D15: Koch V.Gimn.Ált.Isk.,Óvoda és Koll. | E15: 120210
A16: 10
A17: 11
A18: 12
A19: 13
A20: 14
A21: 15
A22: 16
A23: 17
A24: 18
A25: 19
A26: 20
A27: 21
... A39: 33
A40: 34 | J40: =IF(AND(Q40="",#REF!>0,#REF!<5),K40,) -> #REF! | K40: =IF(D40="","ZZZ9",IF(AND(#REF!>0,#REF!<5),D40&#REF!,D40&"9")) -> ZZZ9 | L40: =IF(Q40="",999,Q40) -> 999 | M40: =IF(P40=999,999,1) -> 999 | P40: =IF(N40="DA",1,IF(N40="WC",2,IF(N40="SE",3,IF(N40="Q",4,IF(N40="LL",5,999))))) -> 999
A41: 35 | J41: =IF(AND(Q41="",#REF!>0,#REF!<5),K41,) -> #REF! | K41: =IF(D41="","ZZZ9",IF(AND(#REF!>0,#REF!<5),D41&#REF!,D41&"9")) -> ZZZ9 | L41: =IF(Q41="",999,Q41) -> 999 | M41: =IF(P41=999,999,1) -> 999 | P41: =IF(N41="DA",1,IF(N41="WC",2,IF(N41="SE",3,IF(N41="Q",4,IF(N41="LL",5,999))))) -> 999
A42: 36 | J42: =IF(AND(Q42="",#REF!>0,#REF!<5),K42,) -> #REF! | K42: =IF(D42="","ZZZ9",IF(AND(#REF!>0,#REF!<5),D42&#REF!,D42&"9")) -> ZZZ9 | L42: =IF(Q42="",999,Q42) -> 999 | M42: =IF(P42=999,999,1) -> 999 | P42: =IF(N42="DA",1,IF(N42="WC",2,IF(N42="SE",3,IF(N42="Q",4,IF(N42="LL",5,999))))) -> 999
A43: 37 | J43: =IF(AND(Q43="",#REF!>0,#REF!<5),K43,) -> #REF! | K43: =IF(D43="","ZZZ9",IF(AND(#REF!>0,#REF!<5),D43&#REF!,D43&"9")) -> ZZZ9 | L43: =IF(Q43="",999,Q43) -> 999 | M43: =IF(P43=999,999,1) -> 999 | P43: =IF(N43="DA",1,IF(N43="WC",2,IF(N43="SE",3,IF(N43="Q",4,IF(N43="LL",5,999))))) -> 999
A44: 38 | J44: =IF(AND(Q44="",#REF!>0,#REF!<5),K44,) -> #REF! | K44: =IF(D44="","ZZZ9",IF(AND(#REF!>0,#REF!<5),D44&#REF!,D44&"9")) -> ZZZ9 | L44: =IF(Q44="",999,Q44) -> 999 | M44: =IF(P44=999,999,1) -> 999 | P44: =IF(N44="DA",1,IF(N44="WC",2,IF(N44="SE",3,IF(N44="Q",4,IF(N44="LL",5,999))))) -> 999
A45: 39 | J45: =IF(AND(Q45="",#REF!>0,#REF!<5),K45,) -> #REF! | K45: =IF(D45="","ZZZ9",IF(AND(#REF!>0,#REF!<5),D45&#REF!,D45&"9")) -> ZZZ9 | L45: =IF(Q45="",999,Q45) -> 999 | M45: =IF(P45=999,999,1) -> 999 | P45: =IF(N45="DA",1,IF(N45="WC",2,IF(N45="SE",3,IF(N45="Q",4,IF(N45="LL",5,999))))) -> 999
A46: 40 | J46: =IF(AND(Q46="",#REF!>0,#REF!<5),K46,) -> #REF! | K46: =IF(D46="","ZZZ9",IF(AND(#REF!>0,#REF!<5),D46&#REF!,D46&"9")) -> ZZZ9 | L46: =IF(Q46="",999,Q46) -> 999 | M46: =IF(P46=999,999,1) -> 999 | P46: =IF(N46="DA",1,IF(N46="WC",2,IF(N46="SE",3,IF(N46="Q",4,IF(N46="LL",5,999))))) -> 999
A47: 41 | J47: =IF(AND(Q47="",#REF!>0,#REF!<5),K47,) -> #REF! | K47: =IF(D47="","ZZZ9",IF(AND(#REF!>0,#REF!<5),D47&#REF!,D47&"9")) -> ZZZ9 | L47: =IF(Q47="",999,Q47) -> 999 | M47: =IF(P47=999,999,1) -> 999 | P47: =IF(N47="DA",1,IF(N47="WC",2,IF(N47="SE",3,IF(N47="Q",4,IF(N47="LL",5,999))))) -> 999
A48: 42 | J48: =IF(AND(Q48="",#REF!>0,#REF!<5),K48,) -> #REF! | K48: =IF(D48="","ZZZ9",IF(AND(#REF!>0,#REF!<5),D48&#REF!,D48&"9")) -> ZZZ9 | L48: =IF(Q48="",999,Q48) -> 999 | M48: =IF(P48=999,999,1) -> 999 | P48: =IF(N48="DA",1,IF(N48="WC",2,IF(N48="SE",3,IF(N48="Q",4,IF(N48="LL",5,999))))) -> 999
A49: 43 | J49: =IF(AND(Q49="",#REF!>0,#REF!<5),K49,) -> #REF! | K49: =IF(D49="","ZZZ9",IF(AND(#REF!>0,#REF!<5),D49&#REF!,D49&"9")) -> ZZZ9 | L49: =IF(Q49="",999,Q49) -> 999 | M49: =IF(P49=999,999,1) -> 999 | P49: =IF(N49="DA",1,IF(N49="WC",2,IF(N49="SE",3,IF(N49="Q",4,IF(N49="LL",5,999))))) -> 999
A50: 44 | J50: =IF(AND(Q50="",#REF!>0,#REF!<5),K50,) -> #REF! | K50: =IF(D50="","ZZZ9",IF(AND(#REF!>0,#REF!<5),D50&#REF!,D50&"9")) -> ZZZ9 | L50: =IF(Q50="",999,Q50) -> 999 | M50: =IF(P50=999,999,1) -> 999 | P50: =IF(N50="DA",1,IF(N50="WC",2,IF(N50="SE",3,IF(N50="Q",4,IF(N50="LL",5,999))))) -> 999
A51: 45 | J51: =IF(AND(Q51="",#REF!>0,#REF!<5),K51,) -> #REF! | K51: =IF(D51="","ZZZ9",IF(AND(#REF!>0,#REF!<5),D51&#REF!,D51&"9")) -> ZZZ9 | L51: =IF(Q51="",999,Q51) -> 999 | M51: =IF(P51=999,999,1) -> 999 | P51: =IF(N51="DA",1,IF(N51="WC",2,IF(N51="SE",3,IF(N51="Q",4,IF(N51="LL",5,999))))) -> 999
... A156: 150 | J156: =IF(AND(Q156="",#REF!>0,#REF!<5),K156,) -> #REF! | K156: =IF(D156="","ZZZ9",IF(AND(#REF!>0,#REF!<5),D156&#REF!,D156&"9")) -> ZZZ9 | L156: =IF(Q156="",999,Q156) -> 999 | M156: =IF(P156=999,999,1) -> 999 | P156: =IF(N156="DA",1,IF(N156="WC",2,IF(N156="SE",3,IF(N156="Q",4,IF(N156="LL",5,999))))) -> 999

Sheet B-V.kcs-U14-F
A1: =[1]Altalanos!$A$6 -> #REF! | K1: Egyéni főtábla | O1: CU | AB1: =IF($Y$5=1,CONCATENATE(VLOOKUP($Y$3,$AA$2:$AH$14,2)),CONCATENATE(VLOOKUP($Y$3,$AA$16:$AH$25,2))) -> #REF! | AC1: =IF($Y$5=1,CONCATENATE(VLOOKUP($Y$3,$AA$2:$AH$14,3)),CONCATENATE(VLOOKUP($Y$3,$AA$16:$AH$25,3))) -> #REF! | AD1: =IF($Y$5=1,CONCATENATE(VLOOKUP($Y$3,$AA$2:$AH$14,4)),CONCATENATE(VLOOKUP($Y$3,$AA$16:$AH$25,4))) -> #REF! | AE1: =IF($Y$5=1,CONCATENATE(VLOOKUP($Y$3,$AA$2:$AH$14,5)),CONCATENATE(VLOOKUP($Y$3,$AA$16:$AH$25,5))) -> #REF! | AF1: =IF($Y$5=1,CONCATENATE(VLOOKUP($Y$3,$AA$2:$AH$14,6)),CONCATENATE(VLOOKUP($Y$3,$AA$16:$AH$25,6))) -> #REF! | AG1: =IF($Y$5=1,CONCATENATE(VLOOKUP($Y$3,$AA$2:$AH$14,7)),CONCATENATE(VLOOKUP($Y$3,$AA$16:$AH$25,7))) -> #REF! | AH1: =IF($Y$5=1,CONCATENATE(VLOOKUP($Y$3,$AA$2:$AH$14,8)),CONCATENATE(VLOOKUP($Y$3,$AA$16:$AH$25,8))) -> #REF!
A2: Versenyszám: | E2: =[1]Altalanos!$D$8 -> #REF! | AA2: A | AB2: 300 | AC2: 250 | AD2: 200 | AE2: 150 | AF2: 120 | AG2: 90 | AH2: 40
A3: Dátum | G3: Város | K3: Kategória | R3: Versenybíró | Y3: =IF(K4="OB","A",IF(K4="IX","W",IF(K4="","",K4))) | AA3: B | AB3: 280 | AC3: 230 | AD3: 180 | AE3: 140 | AF3: 80 | AG3: 0 | AH3: 0
A4: =[1]Altalanos!$A$10 -> #REF! | G4: =[1]Altalanos!$C$10 -> #REF! | R4: =[1]Altalanos!$E$10 -> #REF! | AA4: I | AB4: 250 | AC4: 200 | AD4: 150 | AE4: 120 | AF4: 90 | AG4: 60 | AH4: 25
B5: St. | C5: Rangsor | D5: kód | E5: Kiem | F5: Családi név | G5: Keresztnév | I5: Egyesület | K5: 2. forduló | M5: Elődöntők | O5: Döntő | Q5: Győztes | Y5: =IF(OR([1]Altalanos!$A$8="F1",[1]Altalanos!$A$8="F2",[1]Altalanos!$A$8="N1",[1]Altalanos!$A$8="N2"),1,2) -> #REF! | AA5: II | AB5: 200 | AC5: 150 | AD5: 120 | AE5: 90 | AF5: 60 | AG5: 40 | AH5: 15
F6: =IF(Y3="","",CONCATENATE(AH1," / ",VLOOKUP(Y3,AB1:AH1,5)," pont")) | K6: =IF(Y3="","",CONCATENATE(VLOOKUP(Y3,AB1:AH1,4)," pont")) | M6: =IF(Y3="","",CONCATENATE(VLOOKUP(Y3,AB1:AH1,3)," pont")) | O6: =IF(Y3="","",CONCATENATE(VLOOKUP(Y3,AB1:AH1,2)," pont")) | Q6: =IF(Y3="","",CONCATENATE(VLOOKUP(Y3,AB1:AH1,1)," pont")) | AA6: III | AB6: 150 | AC6: 120 | AD6: 90 | AE6: 60 | AF6: 40 | AG6: 25 | AH6: 10
A7: 1 | B7: =IF($E7="","",VLOOKUP($E7,'B-V.kcs-U14-F elo'!$A$7:$O$22,14)) -> 0 | C7: =IF($E7="","",VLOOKUP($E7,'B-V.kcs-U14-F elo'!$A$7:$O$22,15)) -> 0 | D7: =IF($E7="","",VLOOKUP($E7,'B-V.kcs-U14-F elo'!$A$7:$O$22,5)) -> 131018 | E7: 6 | F7: RÉGAISZ | G7: =IF($E7="","",VLOOKUP($E7,'B-V.kcs-U14-F elo'!$A$7:$O$22,3)) -> Viktor | I7: =IF($E7="","",VLOOKUP($E7,'B-V.kcs-U14-F elo'!$A$7:$O$22,4)) -> Park U. Kat.Ált.Isk. és Óvoda, Mohács | U7: =#REF! -> #REF! | AA7: IV | AB7: 120 | AC7: 90 | AD7: 60 | AE7: 40 | AF7: 25 | AG7: 10 | AH7: 5
I8: Umpire | J8: a | K8: RÉGAISZ | U8: =#REF! -> #REF! | AA8: V | AB8: 90 | AC8: 60 | AD8: 40 | AE8: 25 | AF8: 10 | AG8: 5 | AH8: 2
