Workbook

Sheet Altalanos
A1: Magyar verseny táblakészítő
A2: Ezt az oldalt soha ne töröld le !!!
A4: Töltsd ki a zöld mezőket!
A5: A verseny neve:
A6: Play & Stay Döntő
A7: Versenyszám 1 | B7: Versenyszám 2 | C7: Versenyszám 3 | D7: Versenyszám 4 | E7: Versenyszám 5
A8: lány döntő | B8: fiú döntő
A9: A verseny dátuma (éééé.hh.nn) | C9: Város | E9: Versenybíró:
A10: 46284 | C10: Budapest | E10: Rákóczi Andrea
C11: Orvos neve: | D11: Verseny rendezője: | E11: Versenyigazgató
D12: MTSZ | E12: Orbán-Sebestyén K.

Sheet Birók
A1: =Altalanos!$A$6 -> Play & Stay Döntő
B3: Közreműködő bírók
A4: Dátum | B4: Város
A5: =Altalanos!$A$10 -> 46284 | B5: =Altalanos!$C$10 -> Budapest
A6: Töltsd ki a táblázatot a játékvezetők nevével. Az első 8 neve fog megjelenni a táblákban lévő legördülő menükben
A20: Székbírók
A21: Családi név | B21: Keresztnév | P21: Bíró
P22: =LEFT(B22,1)&" "&A22
P23: =LEFT(B23,1)&" "&A23
P24: =LEFT(B24,1)&" "&A24
P25: =LEFT(B25,1)&" "&A25
P26: =LEFT(B26,1)&" "&A26
P27: =LEFT(B27,1)&" "&A27
P28: =LEFT(B28,1)&" "&A28
P29: =LEFT(B29,1)&" "&A29
P30: Egyik sem

Sheet Lány ELO
A1: =Altalanos!$A$6 -> Play & Stay Döntő | E1: Egyéni főtábla
B2: Versenyszám: | C2: =Altalanos!$A$8 -> lány döntő | E2: ELŐKÉSZÍTŐ LISTA
A3: NE TÖRÖLD KI EZT AZ OLDALT! | N3: Versenybíró aláírása
A4: Dátum | C4: Város | D4: Kategória | H4: Versenybíró
A5: =Altalanos!$A$10 -> 46284 | C5: =Altalanos!$C$10 -> Budapest | D5: =Altalanos!$D$10 | H5: =Altalanos!$E$10 -> Rákóczi Andrea
A6: Sor | B6: Családi név | C6: Keresztnév | D6: Egyesület | E6: Kódszám | F6: Nevezett Igen | G6: Aláírás | H6: Nevezési rangsor | J6: NatSort if not Seed | K6: NatSort | L6: Seed Sort | M6: AccBasic | N6: Elfogadási státusz | O6: Sorsolási rangsor | P6: AccSort | Q6: Kiemelés
A7: 1 | B7: ZTE Csajok 1
A8: 2 | B8: B.Honvéd "A"
A9: 3 | B9: PG Tenisz
A10: 4 | B10: MESE Piros
A11: 5
A12: 6
A13: 7
A14: 8
A15: 9
A16: 10
A17: 11
A18: 12
A19: 13
A20: 14
A21: 15
A22: 16
... A39: 33
A40: 34 | J40: =IF(AND(Q40="",#REF!>0,#REF!<5),K40,) -> #REF! | K40: =IF(D40="","ZZZ9",IF(AND(#REF!>0,#REF!<5),D40&#REF!,D40&"9")) -> ZZZ9 | L40: =IF(Q40="",999,Q40) -> 999 | M40: =IF(P40=999,999,1) -> 999 | P40: =IF(N40="DA",1,IF(N40="WC",2,IF(N40="SE",3,IF(N40="Q",4,IF(N40="LL",5,999))))) -> 999
A41: 35 | J41: =IF(AND(Q41="",#REF!>0,#REF!<5),K41,) -> #REF! | K41: =IF(D41="","ZZZ9",IF(AND(#REF!>0,#REF!<5),D41&#REF!,D41&"9")) -> ZZZ9 | L41: =IF(Q41="",999,Q41) -> 999 | M41: =IF(P41=999,999,1) -> 999 | P41: =IF(N41="DA",1,IF(N41="WC",2,IF(N41="SE",3,IF(N41="Q",4,IF(N41="LL",5,999))))) -> 999
A42: 36 | J42: =IF(AND(Q42="",#REF!>0,#REF!<5),K42,) -> #REF! | K42: =IF(D42="","ZZZ9",IF(AND(#REF!>0,#REF!<5),D42&#REF!,D42&"9")) -> ZZZ9 | L42: =IF(Q42="",999,Q42) -> 999 | M42: =IF(P42=999,999,1) -> 999 | P42: =IF(N42="DA",1,IF(N42="WC",2,IF(N42="SE",3,IF(N42="Q",4,IF(N42="LL",5,999))))) -> 999
A43: 37 | J43: =IF(AND(Q43="",#REF!>0,#REF!<5),K43,) -> #REF! | K43: =IF(D43="","ZZZ9",IF(AND(#REF!>0,#REF!<5),D43&#REF!,D43&"9")) -> ZZZ9 | L43: =IF(Q43="",999,Q43) -> 999 | M43: =IF(P43=999,999,1) -> 999 | P43: =IF(N43="DA",1,IF(N43="WC",2,IF(N43="SE",3,IF(N43="Q",4,IF(N43="LL",5,999))))) -> 999
A44: 38 | J44: =IF(AND(Q44="",#REF!>0,#REF!<5),K44,) -> #REF! | K44: =IF(D44="","ZZZ9",IF(AND(#REF!>0,#REF!<5),D44&#REF!,D44&"9")) -> ZZZ9 | L44: =IF(Q44="",999,Q44) -> 999 | M44: =IF(P44=999,999,1) -> 999 | P44: =IF(N44="DA",1,IF(N44="WC",2,IF(N44="SE",3,IF(N44="Q",4,IF(N44="LL",5,999))))) -> 999
A45: 39 | J45: =IF(AND(Q45="",#REF!>0,#REF!<5),K45,) -> #REF! | K45: =IF(D45="","ZZZ9",IF(AND(#REF!>0,#REF!<5),D45&#REF!,D45&"9")) -> ZZZ9 | L45: =IF(Q45="",999,Q45) -> 999 | M45: =IF(P45=999,999,1) -> 999 | P45: =IF(N45="DA",1,IF(N45="WC",2,IF(N45="SE",3,IF(N45="Q",4,IF(N45="LL",5,999))))) -> 999
A46: 40 | J46: =IF(AND(Q46="",#REF!>0,#REF!<5),K46,) -> #REF! | K46: =IF(D46="","ZZZ9",IF(AND(#REF!>0,#REF!<5),D46&#REF!,D46&"9")) -> ZZZ9 | L46: =IF(Q46="",999,Q46) -> 999 | M46: =IF(P46=999,999,1) -> 999 | P46: =IF(N46="DA",1,IF(N46="WC",2,IF(N46="SE",3,IF(N46="Q",4,IF(N46="LL",5,999))))) -> 999
A47: 41 | J47: =IF(AND(Q47="",#REF!>0,#REF!<5),K47,) -> #REF! | K47: =IF(D47="","ZZZ9",IF(AND(#REF!>0,#REF!<5),D47&#REF!,D47&"9")) -> ZZZ9 | L47: =IF(Q47="",999,Q47) -> 999 | M47: =IF(P47=999,999,1) -> 999 | P47: =IF(N47="DA",1,IF(N47="WC",2,IF(N47="SE",3,IF(N47="Q",4,IF(N47="LL",5,999))))) -> 999
A48: 42 | J48: =IF(AND(Q48="",#REF!>0,#REF!<5),K48,) -> #REF! | K48: =IF(D48="","ZZZ9",IF(AND(#REF!>0,#REF!<5),D48&#REF!,D48&"9")) -> ZZZ9 | L48: =IF(Q48="",999,Q48) -> 999 | M48: =IF(P48=999,999,1) -> 999 | P48: =IF(N48="DA",1,IF(N48="WC",2,IF(N48="SE",3,IF(N48="Q",4,IF(N48="LL",5,999))))) -> 999
A49: 43 | J49: =IF(AND(Q49="",#REF!>0,#REF!<5),K49,) -> #REF! | K49: =IF(D49="","ZZZ9",IF(AND(#REF!>0,#REF!<5),D49&#REF!,D49&"9")) -> ZZZ9 | L49: =IF(Q49="",999,Q49) -> 999 | M49: =IF(P49=999,999,1) -> 999 | P49: =IF(N49="DA",1,IF(N49="WC",2,IF(N49="SE",3,IF(N49="Q",4,IF(N49="LL",5,999))))) -> 999
A50: 44 | J50: =IF(AND(Q50="",#REF!>0,#REF!<5),K50,) -> #REF! | K50: =IF(D50="","ZZZ9",IF(AND(#REF!>0,#REF!<5),D50&#REF!,D50&"9")) -> ZZZ9 | L50: =IF(Q50="",999,Q50) -> 999 | M50: =IF(P50=999,999,1) -> 999 | P50: =IF(N50="DA",1,IF(N50="WC",2,IF(N50="SE",3,IF(N50="Q",4,IF(N50="LL",5,999))))) -> 999
A51: 45 | J51: =IF(AND(Q51="",#REF!>0,#REF!<5),K51,) -> #REF! | K51: =IF(D51="","ZZZ9",IF(AND(#REF!>0,#REF!<5),D51&#REF!,D51&"9")) -> ZZZ9 | L51: =IF(Q51="",999,Q51) -> 999 | M51: =IF(P51=999,999,1) -> 999 | P51: =IF(N51="DA",1,IF(N51="WC",2,IF(N51="SE",3,IF(N51="Q",4,IF(N51="LL",5,999))))) -> 999
... A156: 150 | J156: =IF(AND(Q156="",#REF!>0,#REF!<5),K156,) -> #REF! | K156: =IF(D156="","ZZZ9",IF(AND(#REF!>0,#REF!<5),D156&#REF!,D156&"9")) -> ZZZ9 | L156: =IF(Q156="",999,Q156) -> 999 | M156: =IF(P156=999,999,1) -> 999 | P156: =IF(N156="DA",1,IF(N156="WC",2,IF(N156="SE",3,IF(N156="Q",4,IF(N156="LL",5,999))))) -> 999

Sheet Lány döntő
A1: =Altalanos!$A$6 -> Play & Stay Döntő | H1: Egyéni főtábla | AB1: =IF(Y5=1,CONCATENATE(VLOOKUP(Y3,AA16:AH27,2)),CONCATENATE(VLOOKUP(Y3,AA2:AK13,2))) -> #N/A | AC1: =IF(Y5=1,CONCATENATE(VLOOKUP(Y3,AA16:AK27,3)),CONCATENATE(VLOOKUP(Y3,AA2:AK13,3))) -> #N/A | AD1: =IF(Y5=1,CONCATENATE(VLOOKUP(Y3,AA16:AK27,4)),CONCATENATE(VLOOKUP(Y3,AA2:AK13,4))) -> #N/A | AE1: =IF(Y5=1,CONCATENATE(VLOOKUP(Y3,AA16:AK27,5)),CONCATENATE(VLOOKUP(Y3,AA2:AK13,5))) -> #N/A | AF1: =IF(Y5=1,CONCATENATE(VLOOKUP(Y3,AA16:AK27,6)),CONCATENATE(VLOOKUP(Y3,AA2:AK13,6))) -> #N/A | AG1: =IF(Y5=1,CONCATENATE(VLOOKUP(Y3,AA16:AK27,7)),CONCATENATE(VLOOKUP(Y3,AA2:AK13,7))) -> #N/A | AH1: =IF(Y5=1,CONCATENATE(VLOOKUP(Y3,AA16:AK27,8)),CONCATENATE(VLOOKUP(Y3,AA2:AK13,8))) -> #N/A | AI1: =IF(Y5=1,CONCATENATE(VLOOKUP(Y3,AA16:AK27,9)),CONCATENATE(VLOOKUP(Y3,AA2:AK13,9))) -> #N/A | AJ1: =IF(Y5=1,CONCATENATE(VLOOKUP(Y3,AA16:AK27,10)),CONCATENATE(VLOOKUP(Y3,AA2:AK13,10))) -> #N/A | AK1: =IF(Y5=1,CONCATENATE(VLOOKUP(Y3,AA16:AK27,11)),CONCATENATE(VLOOKUP(Y3,AA2:AK13,11))) -> #N/A
A2: Versenyszám: | E2: =Altalanos!$A$8 -> lány döntő | AA2: A | AB2: 150 | AC2: 120 | AD2: 100 | AE2: 80 | AF2: 70 | AG2: 60 | AH2: 55 | AI2: 50 | AJ2: 45 | AK2: 40
A3: Dátum | E3: Város | H3: Kategória | M3: Versenybíró | Q3: 1 FORDULÓ | R3: B - C | S3: A -D | Y3: =IF(H4="OB","A",IF(H4="IX","W",H4)) -> 0 | AA3: I | AB3: 120 | AC3: 90 | AD3: 65 | AE3: 55 | AF3: 50 | AG3: 45 | AH3: 40 | AI3: 35 | AJ3: 25 | AK3: 20
A4: =Altalanos!$A$10 -> 46284 | E4: =Altalanos!$C$10 -> Budapest | M4: =Altalanos!$E$10 -> Rákóczi Andrea | Q4: 2 FORDULÓ | R4: C - A | S4: D - B | AA4: II | AB4: 90 | AC4: 60 | AD4: 45 | AE4: 34 | AF4: 27 | AG4: 22 | AH4: 18 | AI4: 15 | AJ4: 12 | AK4: 9
B5: kiem | C5: kódszám | D5: Rangsor | E5: Vezetéknév | G5: Keresztnév | I5: Egyesület | K5: Helyezés | L5: Pontszám | M5: Bónusz | Q5: 3 FORDULÓ | R5: A - B | S5: C - D | Y5: =IF(OR(Altalanos!$A$8="F1",Altalanos!$A$8="F2",Altalanos!$A$8="N1",Altalanos!$A$8="N2"),1,2) -> 2 | AA5: III | AB5: 60 | AC5: 40 | AD5: 30 | AE5: 20 | AF5: 18 | AG5: 15 | AH5: 12 | AI5: 10 | AJ5: 8 | AK5: 6
AA6: IV | AB6: 40 | AC6: 25 | AD6: 18 | AE6: 13 | AF6: 10 | AG6: 8 | AH6: 6 | AI6: 5 | AJ6: 4 | AK6: 3
A7: A | B7: 2 | C7: =IF($B7="","",VLOOKUP($B7,'Lány ELO'!$A$7:$O$22,5)) -> 0 | D7: =IF($B7="","",VLOOKUP($B7,'Lány ELO'!$A$7:$O$22,15)) -> 0 | E7: =UPPER(IF($B7="","",VLOOKUP($B7,'Lány ELO'!$A$7:$O$22,2))) -> B.HONVÉD "A" | G7: =IF($B7="","",VLOOKUP($B7,'Lány ELO'!$A$7:$O$22,3)) -> 0 | I7: =IF($B7="","",VLOOKUP($B7,'Lány ELO'!$A$7:$O$22,4)) -> 0 | K7: IV. | AA7: V | AB7: 25 | AC7: 15 | AD7: 13 | AE7: 8 | AF7: 6 | AG7: 4 | AH7: 3 | AI7: 2 | AJ7: 1 | AK7: 0
AA8: VI | AB8: 15 | AC8: 10 | AD8: 7 | AE8: 5 | AF8: 4 | AG8: 3 | AH8: 2 | AI8: 1 | AJ8: 0 | AK8: 0
A9: B | B9: 4 | C9: =IF($B9="","",VLOOKUP($B9,'Lány ELO'!$A$7:$O$22,5)) -> 0 | D9: =IF($B9="","",VLOOKUP($B9,'Lány ELO'!$A$7:$O$22,15)) -> 0 | E9: =UPPER(IF($B9="","",VLOOKUP($B9,'Lány ELO'!$A$7:$O$22,2))) -> MESE PIROS | G9: =IF($B9="","",VLOOKUP($B9,'Lány ELO'!$A$7:$O$22,3)) -> 0 | I9: =IF($B9="","",VLOOKUP($B9,'Lány ELO'!$A$7:$O$22,4)) -> 0 | K9: III. | AA9: VII | AB9: 10 | AC9: 6 | AD9: 4 | AE9: 2 | AF9: 1 | AG9: 0 | AH9: 0 | AI9: 0 | AJ9: 0 | AK9: 0
AA10: VIII | AB10: 6 | AC10: 3 | AD10: 2 | AE10: 1 | AF10: 0 | AG10: 0 | AH10: 0 | AI10: 0 | AJ10: 0 | AK10: 0
A11: C | B11: 1 | C11: =IF($B11="","",VLOOKUP($B11,'Lány ELO'!$A$7:$O$22,5)) -> 0 | D11: =IF($B11="","",VLOOKUP($B11,'Lány ELO'!$A$7:$O$22,15)) -> 0 | E11: =UPPER(IF($B11="","",VLOOKUP($B11,'Lány ELO'!$A$7:$O$22,2))) -> ZTE CSAJOK 1 | G11: =IF($B11="","",VLOOKUP($B11,'Lány ELO'!$A$7:$O$22,3)) -> 0 | I11: =IF($B11="","",VLOOKUP($B11,'Lány ELO'!$A$7:$O$22,4)) -> 0 | K11: II. | AA11: W | AB11: 3 | AC11: 2 | AD11: 1 | AE11: 0 | AF11: 0 | AG11: 0 | AH11: 0 | AI11: 0 | AJ11: 0 | AK11: 0
AA12: X | AB12: 0 | AC12: 0 | AD12: 0 | AE12: 0 | AF12: 0 | AG12: 0 | AH12: 0 | AI12: 0 | AJ12: 0 | AK12: 0
A13: D | B13: 3 | C13: =IF($B13="","",VLOOKUP($B13,'Lány ELO'!$A$7:$O$22,5)) -> 0 | D13: =IF($B13="","",VLOOKUP($B13,'Lány ELO'!$A$7:$O$22,15)) -> 0 | E13: =UPPER(IF($B13="","",VLOOKUP($B13,'Lány ELO'!$A$7:$O$22,2))) -> PG TENISZ | G13: =IF($B13="","",VLOOKUP($B13,'Lány ELO'!$A$7:$O$22,3)) -> 0 | I13: =IF($B13="","",VLOOKUP($B13,'Lány ELO'!$A$7:$O$22,4)) -> 0 | K13: I. | AA13: XI | AB13: 0 | AC13: 0 | AD13: 0 | AE13: 0 | AF13: 0 | AG13: 0 | AH13: 0 | AI13: 0 | AJ13: 0 | AK13: 0
AA16: A | AB16: 300 | AC16: 250 | AD16: 220 | AE16: 180 | AF16: 160 | AG16: 150 | AH16: 140 | AI16: 130 | AJ16: 120 | AK16: 110
AA17: I | AB17: 250 | AC17: 200 | AD17: 160 | AE17: 140 | AF17: 120 | AG17: 110 | AH17: 100 | AI17: 90 | AJ17: 80 | AK17: 70
D18: =E7 -> B.HONVÉD "A" | F18: =E9 -> MESE PIROS | H18: =E11 -> ZTE CSAJOK 1 | J18: =E13 -> PG TENISZ | AA18: II | AB18: 200 | AC18: 150 | AD18: 130 | AE18: 110 | AF18: 95 | AG18: 80 | AH18: 70 | AI18: 60 | AJ18: 55 | AK18: 50
A19: A | B19: =E7 -> B.HONVÉD "A" | F19: 1/2 | H19: 1/2 | J19: 0/3 | AA19: III | AB19: 150 | AC19: 120 | AD19: 100 | AE19: 80 | AF19: 70 | AG19: 60 | AH19: 55 | AI19: 50 | AJ19: 45 | AK19: 40
A20: B | B20: =E9 -> MESE PIROS | D20: 2/1 | H20: 1/2 | J20: 1/2 | AA20: IV | AB20: 120 | AC20: 90 | AD20: 65 | AE20: 55 | AF20: 50 | AG20: 45 | AH20: 40 | AI20: 35 | AJ20: 25 | AK20: 20
A21: C | B21: =E11 -> ZTE CSAJOK 1 | D21: 2/1 | F21: 2/1 | J21: 1/2 | AA21: V | AB21: 90 | AC21: 60 | AD21: 45 | AE21: 34 | AF21: 27 | AG21: 22 | AH21: 18 | AI21: 15 | AJ21: 12 | AK21: 9
A22: D | B22: =E13 -> PG TENISZ | D22: 3/0 | F22: 2/1 | H22: 2/1 | AA22: VI | AB22: 60 | AC22: 40 | AD22: 30 | AE22: 20 | AF22: 18 | AG22: 15 | AH22: 12 | AI22: 10 | AJ22: 8 | AK22: 6
AA23: VII | AB23: 40 | AC23: 25 | AD23: 18 | AE23: 13 | AF23: 8 | AG23: 7 | AH23: 6 | AI23: 5 | AJ23: 4 | AK23: 3
AA24: VIII | AB24: 25 | AC24: 15 | AD24: 13 | AE24: 7 | AF24: 6 | AG24: 5 | AH24: 4 | AI24: 3 | AJ24: 2 | AK24: 1
AA25: W | AB25: 15 | AC25: 10 | AD25: 8 | AE25: 4 | AF25: 3 | AG25: 2 | AH25: 1 | AI25: 0 | AJ25: 0 | AK25: 0
AA26: X | AB26: 10 | AC26: 6 | AD26: 4 | AE26: 2 | AF26: 1 | AG26: 0 | AH26: 0 | AI26: 0 | AJ26: 0 | AK26: 0
AA27: XI | AB27: 3 | AC27: 2 | AD27: 1 | AE27: 0 | AF27: 0 | AG27: 0 | AH27: 0 | AI27: 0 | AJ27: 0 | AK27: 0
A33: Rangsor | D33: # | E33: Kiemeltek | G33: # | H33: Szerencés Vesztes | J33: Helyettesíti | K33: Sorsolás időpontja
A34: Dátuma | G34: 1 | K34: Utolsó elfogadott játékos
A35: Utolsó DA | G35: 2
G36: 3 | K36: Sorsoló játékosok
G37: 4
G38: 5
G39: 6 | K39: Versenybíró aláírása
G40: 7
G41: 8 | K41: =M4 -> Rákóczi Andrea

Sheet Fiú ELO
A1: =Altalanos!$A$6 -> Play & Stay Döntő | E1: Egyéni főtábla
B2: Versenyszám: | C2: =Altalanos!$B$8 -> fiú döntő | E2: ELŐKÉSZÍTŐ LISTA
A3: NE TÖRÖLD KI EZT AZ OLDALT! | N3: Versenybíró aláírása
A4: Dátum | C4: Város | D4: Kategória | H4: Versenybíró
A5: =Altalanos!$A$10 -> 46284 | C5: =Altalanos!$C$10 -> Budapest | D5: =Altalanos!$D$10 | H5: =Altalanos!$E$10 -> Rákóczi Andrea
A6: Sor | B6: Családi név | C6: Keresztnév | D6: Egyesület | E6: Kódszám | F6: Nevezett Igen | G6: Aláírás | H6: Nevezési rangsor | J6: NatSort if not Seed | K6: NatSort | L6: Seed Sort | M6: AccBasic | N6: Elfogadási státusz | O6: Sorsolási rangsor | P6: AccSort | Q6: Kiemelés
A7: 1 | B7: Dunakeszi N.RF
A8: 2 | B8: ZTE Tesók
A9: 3 | B9: TSZSK Gyula
A10: 4 | B10: Pasarét TK 1
A11: 5 | B11: Tenisz Műhely
A12: 6 | B12: GYAC Fiúk
A13: 7 | B13: Volvex Athos
A14: 8
A15: 9
A16: 10
A17: 11
A18: 12
A19: 13
A20: 14
A21: 15
A22: 16
A23: 17
A24: 18
A25: 19
... A39: 33
A40: 34 | J40: =IF(AND(Q40="",#REF!>0,#REF!<5),K40,) -> #REF! | K40: =IF(D40="","ZZZ9",IF(AND(#REF!>0,#REF!<5),D40&#REF!,D40&"9")) -> ZZZ9 | L40: =IF(Q40="",999,Q40) -> 999 | M40: =IF(P40=999,999,1) -> 999 | P40: =IF(N40="DA",1,IF(N40="WC",2,IF(N40="SE",3,IF(N40="Q",4,IF(N40="LL",5,999))))) -> 999
A41: 35 | J41: =IF(AND(Q41="",#REF!>0,#REF!<5),K41,) -> #REF! | K41: =IF(D41="","ZZZ9",IF(AND(#REF!>0,#REF!<5),D41&#REF!,D41&"9")) -> ZZZ9 | L41: =IF(Q41="",999,Q41) -> 999 | M41: =IF(P41=999,999,1) -> 999 | P41: =IF(N41="DA",1,IF(N41="WC",2,IF(N41="SE",3,IF(N41="Q",4,IF(N41="LL",5,999))))) -> 999
A42: 36 | J42: =IF(AND(Q42="",#REF!>0,#REF!<5),K42,) -> #REF! | K42: =IF(D42="","ZZZ9",IF(AND(#REF!>0,#REF!<5),D42&#REF!,D42&"9")) -> ZZZ9 | L42: =IF(Q42="",999,Q42) -> 999 | M42: =IF(P42=999,999,1) -> 999 | P42: =IF(N42="DA",1,IF(N42="WC",2,IF(N42="SE",3,IF(N42="Q",4,IF(N42="LL",5,999))))) -> 999
A43: 37 | J43: =IF(AND(Q43="",#REF!>0,#REF!<5),K43,) -> #REF! | K43: =IF(D43="","ZZZ9",IF(AND(#REF!>0,#REF!<5),D43&#REF!,D43&"9")) -> ZZZ9 | L43: =IF(Q43="",999,Q43) -> 999 | M43: =IF(P43=999,999,1) -> 999 | P43: =IF(N43="DA",1,IF(N43="WC",2,IF(N43="SE",3,IF(N43="Q",4,IF(N43="LL",5,999))))) -> 999
A44: 38 | J44: =IF(AND(Q44="",#REF!>0,#REF!<5),K44,) -> #REF! | K44: =IF(D44="","ZZZ9",IF(AND(#REF!>0,#REF!<5),D44&#REF!,D44&"9")) -> ZZZ9 | L44: =IF(Q44="",999,Q44) -> 999 | M44: =IF(P44=999,999,1) -> 999 | P44: =IF(N44="DA",1,IF(N44="WC",2,IF(N44="SE",3,IF(N44="Q",4,IF(N44="LL",5,999))))) -> 999
A45: 39 | J45: =IF(AND(Q45="",#REF!>0,#REF!<5),K45,) -> #REF! | K45: =IF(D45="","ZZZ9",IF(AND(#REF!>0,#REF!<5),D45&#REF!,D45&"9")) -> ZZZ9 | L45: =IF(Q45="",999,Q45) -> 999 | M45: =IF(P45=999,999,1) -> 999 | P45: =IF(N45="DA",1,IF(N45="WC",2,IF(N45="SE",3,IF(N45="Q",4,IF(N45="LL",5,999))))) -> 999
A46: 40 | J46: =IF(AND(Q46="",#REF!>0,#REF!<5),K46,) -> #REF! | K46: =IF(D46="","ZZZ9",IF(AND(#REF!>0,#REF!<5),D46&#REF!,D46&"9")) -> ZZZ9 | L46: =IF(Q46="",999,Q46) -> 999 | M46: =IF(P46=999,999,1) -> 999 | P46: =IF(N46="DA",1,IF(N46="WC",2,IF(N46="SE",3,IF(N46="Q",4,IF(N46="LL",5,999))))) -> 999
A47: 41 | J47: =IF(AND(Q47="",#REF!>0,#REF!<5),K47,) -> #REF! | K47: =IF(D47="","ZZZ9",IF(AND(#REF!>0,#REF!<5),D47&#REF!,D47&"9")) -> ZZZ9 | L47: =IF(Q47="",999,Q47) -> 999 | M47: =IF(P47=999,999,1) -> 999 | P47: =IF(N47="DA",1,IF(N47="WC",2,IF(N47="SE",3,IF(N47="Q",4,IF(N47="LL",5,999))))) -> 999
A48: 42 | J48: =IF(AND(Q48="",#REF!>0,#REF!<5),K48,) -> #REF! | K48: =IF(D48="","ZZZ9",IF(AND(#REF!>0,#REF!<5),D48&#REF!,D48&"9")) -> ZZZ9 | L48: =IF(Q48="",999,Q48) -> 999 | M48: =IF(P48=999,999,1) -> 999 | P48: =IF(N48="DA",1,IF(N48="WC",2,IF(N48="SE",3,IF(N48="Q",4,IF(N48="LL",5,999))))) -> 999
A49: 43 | J49: =IF(AND(Q49="",#REF!>0,#REF!<5),K49,) -> #REF! | K49: =IF(D49="","ZZZ9",IF(AND(#REF!>0,#REF!<5),D49&#REF!,D49&"9")) -> ZZZ9 | L49: =IF(Q49="",999,Q49) -> 999 | M49: =IF(P49=999,999,1) -> 999 | P49: =IF(N49="DA",1,IF(N49="WC",2,IF(N49="SE",3,IF(N49="Q",4,IF(N49="LL",5,999))))) -> 999
A50: 44 | J50: =IF(AND(Q50="",#REF!>0,#REF!<5),K50,) -> #REF! | K50: =IF(D50="","ZZZ9",IF(AND(#REF!>0,#REF!<5),D50&#REF!,D50&"9")) -> ZZZ9 | L50: =IF(Q50="",999,Q50) -> 999 | M50: =IF(P50=999,999,1) -> 999 | P50: =IF(N50="DA",1,IF(N50="WC",2,IF(N50="SE",3,IF(N50="Q",4,IF(N50="LL",5,999))))) -> 999
A51: 45 | J51: =IF(AND(Q51="",#REF!>0,#REF!<5),K51,) -> #REF! | K51: =IF(D51="","ZZZ9",IF(AND(#REF!>0,#REF!<5),D51&#REF!,D51&"9")) -> ZZZ9 | L51: =IF(Q51="",999,Q51) -> 999 | M51: =IF(P51=999,999,1) -> 999 | P51: =IF(N51="DA",1,IF(N51="WC",2,IF(N51="SE",3,IF(N51="Q",4,IF(N51="LL",5,999))))) -> 999
... A156: 150 | J156: =IF(AND(Q156="",#REF!>0,#REF!<5),K156,) -> #REF! | K156: =IF(D156="","ZZZ9",IF(AND(#REF!>0,#REF!<5),D156&#REF!,D156&"9")) -> ZZZ9 | L156: =IF(Q156="",999,Q156) -> 999 | M156: =IF(P156=999,999,1) -> 999 | P156: =IF(N156="DA",1,IF(N156="WC",2,IF(N156="SE",3,IF(N156="Q",4,IF(N156="LL",5,999))))) -> 999

Sheet Fiú döntő
A1: =Altalanos!$A$6 -> Play & Stay Döntő | K1: Egyéni főtábla | AB1: =IF($Y$5=1,CONCATENATE(VLOOKUP($Y$3,$AA$2:$AH$14,2)),CONCATENATE(VLOOKUP($Y$3,$AA$16:$AH$25,2))) -> #N/A | AC1: =IF($Y$5=1,CONCATENATE(VLOOKUP($Y$3,$AA$2:$AH$14,3)),CONCATENATE(VLOOKUP($Y$3,$AA$16:$AH$25,3))) -> #N/A | AD1: =IF($Y$5=1,CONCATENATE(VLOOKUP($Y$3,$AA$2:$AH$14,4)),CONCATENATE(VLOOKUP($Y$3,$AA$16:$AH$25,4))) -> #N/A | AE1: =IF($Y$5=1,CONCATENATE(VLOOKUP($Y$3,$AA$2:$AH$14,5)),CONCATENATE(VLOOKUP($Y$3,$AA$16:$AH$25,5))) -> #N/A | AF1: =IF($Y$5=1,CONCATENATE(VLOOKUP($Y$3,$AA$2:$AH$14,6)),CONCATENATE(VLOOKUP($Y$3,$AA$16:$AH$25,6))) -> #N/A | AG1: =IF($Y$5=1,CONCATENATE(VLOOKUP($Y$3,$AA$2:$AH$14,7)),CONCATENATE(VLOOKUP($Y$3,$AA$16:$AH$25,7))) -> #N/A | AH1: =IF($Y$5=1,CONCATENATE(VLOOKUP($Y$3,$AA$2:$AH$14,8)),CONCATENATE(VLOOKUP($Y$3,$AA$16:$AH$25,8))) -> #N/A
A2: Versenyszám: | E2: =Altalanos!$B$8 -> fiú döntő | AA2: A | AB2: 300 | AC2: 250 | AD2: 200 | AE2: 150 | AF2: 120 | AG2: 90 | AH2: 40
A3: Dátum | G3: Város | K3: Kategória | R3: Versenybíró | Y3: =IF(K4="OB","A",IF(K4="IX","W",IF(K4="","",K4))) | AA3: B | AB3: 280 | AC3: 230 | AD3: 180 | AE3: 140 | AF3: 80 | AG3: 0 | AH3: 0
A4: =Altalanos!$A$10 -> 46284 | G4: =Altalanos!$C$10 -> Budapest | R4: =Altalanos!$E$10 -> Rákóczi Andrea | AA4: I | AB4: 250 | AC4: 200 | AD4: 150 | AE4: 120 | AF4: 90 | AG4: 60 | AH4: 25
B5: St. | C5: Rangsor | D5: kód | E5: Kiem | F5: Családi név | G5: Keresztnév | I5: Egyesület | K5: 2. forduló | M5: Döntő | O5: Győztes | Y5: =IF(OR(Altalanos!$A$8="F1",Altalanos!$A$8="F2",Altalanos!$A$8="N1",Altalanos!$A$8="N2"),1,2) -> 2 | AA5: II | AB5: 200 | AC5: 150 | AD5: 120 | AE5: 90 | AF5: 60 | AG5: 40 | AH5: 15
F6: =IF(Y3="","",CONCATENATE(VLOOKUP(Y3,AB1:AH1,4)," pont")) | K6: =IF(Y3="","",CONCATENATE(VLOOKUP(Y3,AB1:AH1,3)," pont")) | M6: =IF(Y3="","",CONCATENATE(VLOOKUP(Y3,AB1:AH1,2)," pont")) | O6: =IF(Y3="","",CONCATENATE(VLOOKUP(Y3,AB1:AH1,1)," pont")) | AA6: III | AB6: 150 | AC6: 120 | AD6: 90 | AE6: 60 | AF6: 40 | AG6: 25 | AH6: 10
A7: 1 | B7: =IF($E7="","",VLOOKUP($E7,'Fiú ELO'!$A$7:$O$22,14)) -> 0 | C7: =IF($E7="","",VLOOKUP($E7,'Fiú ELO'!$A$7:$O$22,15)) -> 0 | D7: =IF($E7="","",VLOOKUP($E7,'Fiú ELO'!$A$7:$O$22,5)) -> 0 | E7: 4 | F7: =UPPER(IF($E7="","",VLOOKUP($E7,'Fiú ELO'!$A$7:$O$22,2))) -> PASARÉT TK 1 | G7: =IF($E7="","",VLOOKUP($E7,'Fiú ELO'!$A$7:$O$22,3)) -> 0 | I7: =IF($E7="","",VLOOKUP($E7,'Fiú ELO'!$A$7:$O$22,4)) -> 0 | U7: =Birók!P21 -> Bíró | AA7: IV | AB7: 120 | AC7: 90 | AD7: 60 | AE7: 40 | AF7: 25 | AG7: 10 | AH7: 5
I8: Umpire | J8: b | K8: =UPPER(IF(OR(J8="a",J8="as"),F7,IF(OR(J8="b",J8="bs"),F9,))) -> TSZSK GYULA | U8: =Birók!P22 | AA8: V | AB8: 90 | AC8: 60 | AD8: 40 | AE8: 25 | AF8: 10 | AG8: 5 | AH8: 2
A9: 2 | B9: =IF($E9="","",VLOOKUP($E9,'Fiú ELO'!$A$7:$O$22,14)) -> 0 | C9: =IF($E9="","",VLOOKUP($E9,'Fiú ELO'!$A$7:$O$22,15)) -> 0 | D9: =IF($E9="","",VLOOKUP($E9,'Fiú ELO'!$A$7:$O$22,5)) -> 0 | E9: 3 | F9: =UPPER(IF($E9="","",VLOOKUP($E9,'Fiú ELO'!$A$7:$O$22,2))) -> TSZSK GYULA | G9: =IF($E9="","",VLOOKUP($E9,'Fiú ELO'!$A$7:$O$22,3)) -> 0 | I9: =IF($E9="","",VLOOKUP($E9,'Fiú ELO'!$A$7:$O$22,4)) -> 0 | K9: 2/1 | U9: =Birók!P23 | AA9: VI | AB9: 60 | AC9: 40 | AD9: 25 | AE9: 10 | AF9: 5 | AG9: 2 | AH9: 1
K10: Umpire | L10: b | M10: =UPPER(IF(OR(L10="a",L10="as"),K8,IF(OR(L10="b",L10="bs"),K12,))) -> GYAC FIÚK | U10: =Birók!P24 | AA10: VII | AB10: 40 | AC10: 25 | AD10: 15 | AE10: 7 | AF10: 4 | AG10: 1 | AH10: 0
A11: 3 | B11: =IF($E11="","",VLOOKUP($E11,'Fiú ELO'!$A$7:$O$22,14)) -> 0 | C11: =IF($E11="","",VLOOKUP($E11,'Fiú ELO'!$A$7:$O$22,15)) -> 0 | D11: =IF($E11="","",VLOOKUP($E11,'Fiú ELO'!$A$7:$O$22,5)) -> 0 | E11: 6 | F11: =UPPER(IF($E11="","",VLOOKUP($E11,'Fiú ELO'!$A$7:$O$22,2))) -> GYAC FIÚK | G11: =IF($E11="","",VLOOKUP($E11,'Fiú ELO'!$A$7:$O$22,3)) -> 0 | I11: =IF($E11="","",VLOOKUP($E11,'Fiú ELO'!$A$7:$O$22,4)) -> 0 | M11: 2/1 | U11: =Birók!P25 | AA11: VIII | AB11: 25 | AC11: 15 | AD11: 10 | AE11: 6 | AF11: 3 | AG11: 1 | AH11: 0
I12: Umpire | J12: a | K12: =UPPER(IF(OR(J12="a",J12="as"),F11,IF(OR(J12="b",J12="bs"),F13,))) -> GYAC FIÚK | U12: =Birók!P26 | AA12: W | AB12: 15 | AC12: 10 | AD12: 6 | AE12: 3 | AF12: 1 | AG12: 0 | AH12: 0
A13: 4 | B13: =IF($E13="","",VLOOKUP($E13,'Fiú ELO'!$A$7:$O$22,14)) -> 0 | C13: =IF($E13="","",VLOOKUP($E13,'Fiú ELO'!$A$7:$O$22,15)) -> 0 | D13: =IF($E13="","",VLOOKUP($E13,'Fiú ELO'!$A$7:$O$22,5)) -> 0 | E13: 5 | F13: TENISZ MŰHELY | G13: =IF($E13="","",VLOOKUP($E13,'Fiú ELO'!$A$7:$O$22,3)) -> 0 | I13: =IF($E13="","",VLOOKUP($E13,'Fiú ELO'!$A$7:$O$22,4)) -> 0 | K13: 3/0 | U13: =Birók!P27 | AA13: X | AB13: 10 | AC13: 6 | AD13: 3 | AE13: 1 | AF13: 0 | AG13: 0 | AH13: 0
M14: Umpire | N14: a | O14: =UPPER(IF(OR(N14="a",N14="as"),M10,IF(OR(N14="b",N14="bs"),M18,))) -> GYAC FIÚK | U14: =Birók!P28 | AA14: XI | AB14: 3 | AC14: 2 | AD14: 1 | AE14: 0 | AF14: 0 | AG14: 0 | AH14: 0
A15: 5 | B15: =IF($E15="","",VLOOKUP($E15,'Fiú ELO'!$A$7:$O$22,14)) -> 0 | C15: =IF($E15="","",VLOOKUP($E15,'Fiú ELO'!$A$7:$O$22,15)) -> 0 | D15: =IF($E15="","",VLOOKUP($E15,'Fiú ELO'!$A$7:$O$22,5)) -> 0 | E15: 1 | F15: X | G15: =IF($E15="","",VLOOKUP($E15,'Fiú ELO'!$A$7:$O$22,3)) -> 0 | I15: =IF($E15="","",VLOOKUP($E15,'Fiú ELO'!$A$7:$O$22,4)) -> 0 | O15: 2/1 | U15: =Birók!P29
I16: Umpire | J16: B | K16: =UPPER(IF(OR(J16="a",J16="as"),F15,IF(OR(J16="b",J16="bs"),F17,))) -> DUNAKESZI N.RF | U16: =Birók!P30 -> Egyik sem | AA16: A | AB16: 150 | AC16: 120 | AD16: 90 | AE16: 60 | AF16: 40 | AG16: 25 | AH16: 15
A17: 6 | B17: =IF($E17="","",VLOOKUP($E17,'Fiú ELO'!$A$7:$O$22,14)) -> 0 | C17: =IF($E17="","",VLOOKUP($E17,'Fiú ELO'!$A$7:$O$22,15)) -> 0 | D17: =IF($E17="","",VLOOKUP($E17,'Fiú ELO'!$A$7:$O$22,5)) -> 0 | E17: 1 | F17: =UPPER(IF($E17="","",VLOOKUP($E17,'Fiú ELO'!$A$7:$O$22,2))) -> DUNAKESZI N.RF | G17: =IF($E17="","",VLOOKUP($E17,'Fiú ELO'!$A$7:$O$22,3)) -> 0 | I17: =IF($E17="","",VLOOKUP($E17,'Fiú ELO'!$A$7:$O$22,4)) -> 0 | AA17: I | AB17: 120 | AC17: 90 | AD17: 60 | AE17: 40 | AF17: 25 | AG17: 15 | AH17: 8
K18: Umpire | L18: b | M18: =UPPER(IF(OR(L18="a",L18="as"),K16,IF(OR(L18="b",L18="bs"),K20,))) -> VOLVEX ATHOS | AA18: II | AB18: 90 | AC18: 60 | AD18: 40 | AE18: 25 | AF18: 15 | AG18: 8 | AH18: 4
A19: 7 | B19: =IF($E19="","",VLOOKUP($E19,'Fiú ELO'!$A$7:$O$22,14)) -> 0 | C19: =IF($E19="","",VLOOKUP($E19,'Fiú ELO'!$A$7:$O$22,15)) -> 0 | D19: =IF($E19="","",VLOOKUP($E19,'Fiú ELO'!$A$7:$O$22,5)) -> 0 | E19: 7 | F19: =UPPER(IF($E19="","",VLOOKUP($E19,'Fiú ELO'!$A$7:$O$22,2))) -> VOLVEX ATHOS | G19: =IF($E19="","",VLOOKUP($E19,'Fiú ELO'!$A$7:$O$22,3)) -> 0 | I19: =IF($E19="","",VLOOKUP($E19,'Fiú ELO'!$A$7:$O$22,4)) -> 0 | M19: 2/1 | AA19: III | AB19: 60 | AC19: 40 | AD19: 25 | AE19: 15 | AF19: 8 | AG19: 4 | AH19: 2
I20: Umpire | J20: a | K20: =UPPER(IF(OR(J20="a",J20="as"),F19,IF(OR(J20="b",J20="bs"),F21,))) -> VOLVEX ATHOS | AA20: IV | AB20: 40 | AC20: 25 | AD20: 15 | AE20: 8 | AF20: 4 | AG20: 2 | AH20: 1
A21: 8 | B21: =IF($E21="","",VLOOKUP($E21,'Fiú ELO'!$A$7:$O$22,14)) -> 0 | C21: =IF($E21="","",VLOOKUP($E21,'Fiú ELO'!$A$7:$O$22,15)) -> 0 | D21: =IF($E21="","",VLOOKUP($E21,'Fiú ELO'!$A$7:$O$22,5)) -> 0 | E21: 2 | F21: ZE-TE TESÓK | G21: =IF($E21="","",VLOOKUP($E21,'Fiú ELO'!$A$7:$O$22,3)) -> 0 | I21: =IF($E21="","",VLOOKUP($E21,'Fiú ELO'!$A$7:$O$22,4)) -> 0 | K21: 3/0 | AA21: V | AB21: 25 | AC21: 15 | AD21: 10 | AE21: 6 | AF21: 3 | AG21: 1 | AH21: 0
AA22: VI | AB22: 15 | AC22: 10 | AD22: 6 | AE22: 3 | AF22: 1 | AG22: 0 | AH22: 0
AA23: VII | AB23: 10 | AC23: 6 | AD23: 3 | AE23: 1 | AF23: 0 | AG23: 0 | AH23: 0
AA24: VIII | AB24: 6 | AC24: 3 | AD24: 1 | AE24: 0 | AF24: 0 | AG24: 0 | AH24: 0
AA25: W | AB25: 3 | AC25: 2 | AD25: 1 | AE25: 0 | AF25: 0 | AG25: 0 | AH25: 0
F29: 3.hely TSZSK GYULA- DUNAKESZI N. RF 2/1
F34: 5 hely TENISZ MŰHELY- ZE-TE TESÓK 2/1
F40: 7 HELYEZETT PASART TK 1.
A54: Rangsor | E54: # | F54: Kiemeltek | J54: # | K54: Szerencés Vesztes | M54: Helyettesíti | O54: Sorsolás időpontja
A55: Dátuma | E55: 1 | F55: =IF(E55>$R$62,,UPPER(VLOOKUP(E55,'Fiú ELO'!$A$7:$Q$134,2))) -> DUNAKESZI N.RF | J55: 1 | O55: Utolsó elfogadott játékos
A56: Utolsó DA | E56: 2 | F56: =IF(E56>$R$62,,UPPER(VLOOKUP(E56,'Fiú ELO'!$A$7:$Q$134,2))) -> ZTE TESÓK | J56: 2
J57: 3 | O57: Sorsoló játékosok
J58: 4
J59: 5
J60: 6 | O60: Versenybíró aláírása
J61: 7
J62: 8 | O62: =R4 -> Rákóczi Andrea | R62: =MIN(4,'Fiú ELO'!Q5) -> 4
